{"text_format":"1","workbook":"xlsx","n_sheets":26,"sheets":["TITLE PAGE","AGRIC RES","Sources","Appendix 1","Appendix 2","Appendix 3","Appendix 4","Appendix 5","Appendix 6","REGIONS","Final Demand","AGR","ITEMS_Tech","TS DTech","TS DMARK","TID DTech","ITEMS_Comm","TS BYDem","TS COMFR","TS COMFR_10","TS FTech","TID FTech","TS Emiss","TID Emiss","NameConv","AFA"],"not_rendered":{"charts":2,"images":96,"macros":1,"external_links":2,"defined_names":48,"comments":3,"pivot_tables":0},"unopened":[],"bounds":{"document_bytes":16777216,"sheet_cells":100000,"rows_first":2000,"rows_last":500,"rows_between":2000,"halvings":0,"cell_chars":16384,"cell_head_chars":4096},"cells_cut":0,"cells_raw":0,"read":"whole","date_system":"1900"}

{"sheet":"TITLE PAGE","index":0,"n_rows":11,"n_cols":2,"rows_kept":11,"cut":false,"hidden":false,"merged":[]}
["Project:","LTMS Up-date"]
[]
["Calculation:","Useful demand in the Agricultura sector"]
[]
[]
["Author:","Alfred Moyo"]
[null,"Energy Research Centre"]
[null,"University of Cape Town"]
[]
["Issue:","Draft 1"]
["Date:","2011-02-09"]

{"sheet":"AGRIC RES","index":1,"n_rows":29,"n_cols":15,"rows_kept":29,"cut":false,"hidden":false,"merged":[]}
["SECTOR: ","AGRICULTURE"]
[]
["Electricity","Diesel","Petrol","Coal","LPG","HFO","Parafin ",null,"Technology ",null,"Traction","Irrigation","Heating","Processing ","Other"]
[]
[]
[null,null,null,null,null,null,null,null,"Diesel Transport"]
[]
[null,null,null,null,null,null,null,null,"Petrol Transport"]
[]
[]
[null,null,null,null,null,null,null,null,"Electric Pumps"]
[]
[null,null,null,null,null,null,null,null,"Diesel Pumps"]
[]
[null,null,null,null,null,null,null,null,"Petrol Pumps"]
[]
[]
[null,null,null,null,null,null,null,null,"Coal heating"]
[]
[null,null,null,null,null,null,null,null,"LPG heating"]
[]
[null,null,null,null,null,null,null,null,"HFO heating"]
[]
[null,null,null,null,null,null,null,null,"Paraffin heating"]
[]
[]
[null,null,null,null,null,null,null,null,"Electric equipment"]
[]
[null,null,null,null,null,null,null,null,"Other Agriculture"]

{"sheet":"Sources","index":2,"n_rows":17,"n_cols":2,"rows_kept":17,"cut":false,"hidden":false,"merged":[]}
["External sources: "]
[]
[1,"Spreadsheet from previous LTMS, suppied by Alison. See Appendix 1  "]
[]
[2,"Results from the LEAP Model. See Appendix 2"]
[]
[3,"DME energy balance 2006. See Appendix 3"]
[]
[4,"SAPIA energy balances. See Appendix 4"]
[]
[5,"Shares used in the IEP. See Appendix 5"]
[]
[6,"Discussions with experts"]
[]
[7,"Experts contacted for advice. See Appendix 6"]
[]
[8,"Winkler, Harald et al 2006 \"Energy Policies for sustainable Development in South Africa - Options for the Future\", Energy Research Centre, University of Cape Town"]

{"sheet":"Appendix 1","index":3,"n_rows":69,"n_cols":8,"rows_kept":69,"cut":false,"hidden":false,"merged":[[43,0,43,7],[47,0,47,7],[53,0,53,7],[5,0,5,3],[11,0,11,3],[15,0,15,3],[21,0,21,3],[24,0,24,3],[40,0,40,7]]}
["Agriculture"]
[]
["Final Energy Demand 2001 (source: spreadsheets for source 3)"]
[null,null,"Fuel Use","Efficiency"]
[null,null,"[PJ]"]
["Irrigation"]
["Pumps"]
["Diesel",null,1,0.35]
["Electricity",null,6.3431536433609708,0.95]
["Petrol",null,1,0.25]
["Total",null,8.3431536433609708]
["Tractors, harvesters, transport"]
["Diesel ",null,41.502151914499997,0.35]
["Petrol",null,1.82,0.25]
["Total",null,43.322151914499997]
["Heat"]
["Coal",null,1.5,0.65]
["HFO",null,1.5663651328000001,0.7]
["LPG",null,0.1308070113,0.75]
["Paraffin",null,2.4,0.7]
["Total",null,5.5971721441]
["Processing and Handling"]
["Electricity",null,5.6869653354270779,null,"since this is only using electricity, the efficiency is assumed to be 100%"]
[]
["Other"]
["Electricity",null,9.8428246190084039]
[]
[]
[]
[null,null,"Fuel use [TJ]","(source: 3 pg 131)"]
["Fuels [TJ]",null,2001,"use",null,null,"PJ"]
["Coal",null,1500,"heat",null,null,{"$f":"C32/1000","v":1.5}]
["LPG",null,130.8070113,"heat",null,null,{"$f":"C33/1000","v":0.1308070113}]
["Petrol",null,2820,"tractors etc",null,null,2.82]
["Paraffin",null,2400,"heat",null,null,2.4]
["Diesel",null,42502.151914499998,"tractors etc",null,null,42.502151914499997]
["HFO",null,1566.3651328000001,"heat",null,null,1.5663651328000001]
["Electricity",null,21872.943597796453,"processing, other, irrigation",null,null,21.872943597796453]
["TOTAL",null,{"$f":"SUM(C32:C38)","v":72792.267656396449},null,null,"note: this has been cross checked with the Final Energy Demand table above and is good"]
[]
["Technology Information"]
["Fuel consumed","device","efficiency 2000","efficiency 2030","maximum potential improvement in energy efficiency","Investment cost","residual capacity","lifetime"]
[null,null,null,null,null,"[R/GJ] ","[TJ]","[years]"]
["Irrigation"]
["Diesel","Pumps",0.35,0.35,null,null,0.35,15]
["Electricity","Pumps",0.95,0.95,null,null,6.0259960000000001,15]
["Petrol","Pumps",0.25,0.25,null,null,0.25,15]
["Tractors, Harvesters, Transport"]
["Bio-diesel","THT",1,1,null,null,0,15]
["Bio-ethanol","THT",1,1,null,null,0,15]
["Diesel","THT",0.35,0.35,null,null,14.53,15]
["Petrol","THT",0.25,0.25,null,null,0.46,15]
[]
["Heat"]
["Coal","Heating",0.65,0.65,null,null,0.98,15]
["HFO","Heating",0.7,0.7,null,null,1.1000000000000001,15]
["LPG","Heating",0.75,0.75,null,null,0.1,15]
["Paraffin","Heating",0.7,0.7,null,null,1.68,15]
["Renewables","Heating",1,1,null,null,0,15]
[]
[]
["Time of Use"]
[null,null,"Processing","Irrigation","Other"]
["Intermediate day",null,0.26,0.25,0.25]
["Intermediate night",null,0.1,0.09,0.09]
["Summer day",null,0.3,0.28999999999999998,0.28000000000000003]
["Summer night",null,0.11,0.1,0.1]
["Winter day",null,0.17,0.2,0.21]
["Winter night",null,0.06,7.0000000000000007E-2,7.0000000000000007E-2]

{"sheet":"Appendix 2","index":4,"n_rows":18,"n_cols":9,"rows_kept":18,"cut":false,"hidden":false,"merged":[]}
[]
[]
[null,null,2000,2001,2002,2003,2004,2005,2006]
[null,"Heat Thermal\\Coal Bituminous",1.5,1.5,1.52,1.54,1.56,1.58,1.6]
[null,"Heat Thermal\\Fuel Oil",1.57,1.57,1.59,1.61,1.63,1.65,1.67]
[null,"Heat Thermal\\LPG",0.13,0.13,0.13,0.13,0.14000000000000001,0.14000000000000001,0.14000000000000001]
[null,"Heat Thermal\\Paraffin",2.4,2.4,2.4300000000000002,2.46,2.4900000000000002,2.52,2.56]
[null,"Heat Thermal\\Renewable biomass",0,0,0,0,0,0,0]
[null,"Irrigation\\Diesel",1,1,1.01,1.02,1.04,1.05,1.06]
[null,"Irrigation\\Elec",6.34,6.34,6.42,6.5,6.58,6.66,6.74]
[null,"Irrigation\\Petrol",1,1,1.01,1.02,1.04,1.05,1.06]
[null,"Other\\Elec",9.84,9.84,9.9600000000000009,10.09,10.210000000000001,10.34,10.47]
[null,"Processes all elec\\Elec",5.69,5.69,5.76,5.83,5.91,5.98,6.05]
[null,"Tractors harvestors transport\\Biofuel Diesel",0,0,0,0,0,0,0]
[null,"Tractors harvestors transport\\Biofuel Ethanol",0,0,0,0,0,0,0]
[null,"Tractors harvestors transport\\Diesel",41.5,41.5,42.02,42.54,43.08,43.62,44.16]
[null,"Tractors harvestors transport\\Petrol",1.82,1.82,1.84,1.87,1.89,1.91,1.94]
[null,"Total",72.790000000000006,72.790000000000006,73.7,74.62,75.55,76.5,77.45]

{"sheet":"Appendix 3","index":5,"n_rows":14,"n_cols":3,"rows_kept":14,"cut":false,"hidden":false,"merged":[]}
[]
[]
[]
[]
[null,"TJ","DME Energy Balances 2006"]
[null,"Agriculture"]
[null,"Butimous Coal",763.26300000000003]
[null,"LPG",1.3529157000000001]
[null,"Motor Gasoline",4964.1961086000001]
[null,"Other Kerosene",2509.7758600000002]
[null,"Gas Diesel",38226.119077199997]
[null,"HFO",1763.8130432]
[null,"Electricity",21029.392800000001]
[null,"TOTAL",{"$f":"SUM(C7:C13)","v":69257.912804699998}]

{"sheet":"Appendix 4","index":6,"n_rows":37,"n_cols":21,"rows_kept":37,"cut":false,"hidden":false,"merged":[]}
[null,null,"TJ","From: [SAPIA_EB_Comparison (version 1).xlsb]DieselComp'!D57",null,null,null,"TJ"]
[null,null,"SAPIA EB categories",null,null,null,null,"DME Energy Balances",null,null,null,null,"% difference (EB-SAPIA)/SAPIA",null,null,null,null,"Absolute difference (TJ)"]
[null,"Diesel",2003,2004,2005,2006,null,2003,2004,2005,2006,null,2003,2004,2005,2006,null,2003,2004,2005,2006]
[null,"Agriculture",42091.02995163,41345.548427991009,40059.446957400003,39927.450688500001,null,42091.025901599998,41345.996937000004,40054.4700687,38226.119077199997,null,-9.6220738821095608E-8,1.0847818593395786E-5,-1.242375788486072E-4,-4.2610574478526009E-2,null,-4.0500300019630231E-3,0.44850900899473345,-4.9768887000027462,-1701.3316113000037]
[null,"Construction",9298.8050259240008,8522.0823404850016,8546.9243082000012,8110.1326113000005,null,9299.4139005000015,8526.3211236000006,8545.7609628000009,7865.8203617999998,null,6.547879800722356E-5,4.9738819054367944E-4,-1.3611275331926187E-4,-3.0124322401287928E-2,null,0.60887457600074413,4.2387831149990234,-1.163345400000253,-244.31224950000069]
[null,"Road",185282.1850367049,203853.43063611304,226578.42501090001,248046.90293999997,null,185337.94952910001,204273.26879579999,226314.28521659999,239807.8881252,null,3.0097061076883591E-4,2.0595099056064381E-3,-1.1657764603462129E-3,-3.3215552047400121E-2,null,55.764492395101115,419.83815968694398,-264.13979430001928,-8239.0148147999716]
[null,"Commerce and Public Services",2370.0247875,1762.9768779000001,841.99289310000006,1746.0268356000001,null,2370.0247875,1766.7852015000001,841.95483120000006,1742.0246592000001,null,0,2.1601665045865026E-3,-4.520453831846627E-5,-2.2921620208802285E-3,null,0,3.8083235999999943,-3.8061900000002424E-2,-4.002176400000053]
[null,"Residential",2071.59384258,2022.0527631000002,1979.7318546000001,1809.9238122000002,null,2022.5421576000001,1979.8189130999999,1979.7318546000001,1776.3062772000001,null,-2.3678234590092218E-2,-2.088662114595452E-2,0,-1.8574005587084552E-2,null,-49.051684979999891,-42.233850000000302,0,-33.617535000000089]
[null,"Mining and Quarrying",26903.679314835004,27041.143336451998,28468.176134400001,29146.618033799998,null,26903.678653799998,27077.504912700002,28297.470570300004,28149.155919000001,null,-2.4570431356174538E-8,1.3446759922679519E-3,-5.9963646176026675E-3,-3.422222480986592E-2,null,-6.6103500648750924E-4,36.361576248003985,-170.70556409999699,-997.46211479999693]
[null,"Rail",8706.0246046800003,7631.3904255300004,2771.4467304,2941.3312394999998,null,8706.0224406000016,7726.9441472999997,2771.4467304000004,2765.2212666,null,-2.4857269498301804E-7,1.2521141815826198E-2,0,-5.9874240117864796E-2,null,-2.164079998692614E-3,95.553721769999356,0,-176.10997289999978]
[]
[null,"Gasoline",2003,2004,2005,2006,null,2003,2004,2005,2006,null,2003,2004,2005,2006,null,2003,2004,2005,2006]
[null,"Agriculture",5092.2816066000005,5052.7719540000007,5310.6144750000003,4964.196108600001,null,5092.2816065999996,5053.5936432000008,5310.6144750000003,4964.1961086000001,null,0,1.6262146945877909E-4,0,0,null,0,0.82168920000003709,0,0]
[null,"Construction",98.134403400000011,95.03068500000002,269.52705360000004,64.448361000000006,null,98.134403400000011,95.030685000000005,269.52705360000004,64.448361000000006,null,0,0,0,0,null,0,0,0,0]
[null,"Road",357159.4382034,368266.52541779994,374827.533138,379189.0153962,null,357205.2488298,378929.15261280001,374594.64704100002,379688.8396752,null,1.2826379902053375E-4,2.8953560693313785E-2,-6.2131534215292827E-4,1.3181401852522256E-3,null,45.810626399994362,10662.627195000066,-232.88609699998051,499.82427899999311]
[null,"Commerce and Public Services",804.87805320000007,654.31426320000003,265.44603600000005,237.1015548,null,804.87805320000007,658.16203680000001,265.44603599999999,237.1015548,null,0,5.8806200879406578E-3,0,0,null,0,3.8477735999999823,0,0]
[null,"Residential",1076.8117950000001,878.23161540000012,839.49936300000013,731.68369200000006,null,1046.7941472,858.45960360000004,836.61852599999997,672.96424139999999,null,-2.787641065911628E-2,-2.2513436607488502E-2,-3.4316130862867E-3,-8.0252506980844518E-2,null,-30.017647800000077,-19.772011800000087,-2.880837000000156,-58.719450600000073]
[null,"Mining and Quarrying",595.22849640000004,578.70114120000005,527.66287380000006,464.74475760000001,null,595.22849640000004,578.70114120000005,527.21820539999999,464.74479179999997,null,0,0,-8.4271306942207413E-4,7.3588780402644716E-8,null,0,0,-0.44466840000006869,3.4199999959128036E-5]
[null,"Rail",35.508868200000002,3.1876794000000004,7.3324800000000009E-2,0.27360000000000001,null,35.508868200000002,4.8384450000000001,7.3324800000000009E-2,0.27360000000000001,null,0,0.51785810078642136,0,0,null,0,1.6507655999999997,0,0]
[]
[null,"Paraffin",2003,2004,2005,2006,null,2003,2004,2005,2006,null,2003,2004,2005,2006,null,2003,2004,2005,2006]
[null,"Agriculture",3164.0995110000003,3166.7065310000003,2879.8418309999997,2509.6307829999996,null,3164.6642049999996,3167.5209749999999,2879.9720339999999,2509.7758600000002,null,1.784691025159546E-4,2.5718960441301064E-4,4.5211858025862028E-5,5.7808105073942073E-5,null,0.56469399999923553,0.81444399999963935,0.13020300000016505,0.14507700000058321]
[null,"Construction",140.82529299999999,121.343979,127.094667,101.22996500000001,null,149.68331499999999,126.88650499999999,131.96597600000001,102.31021699999999,null,6.2900788709880473E-2,4.567615176027795E-2,3.8328193581875558E-2,1.0671267149010566E-2,null,8.8580220000000054,5.542525999999981,4.8713090000000108,1.0802519999999873]
[null,"Road",277.33442500000001,208.442386,298.659671,271.08886200000001,null,279.63108899999997,209.85856099999998,299.12069099999997,271.16323199999999,null,8.2812077873128942E-3,6.7940836179067876E-3,1.5436299064293113E-3,2.7433808770793711E-4,null,2.2966639999999643,1.4161749999999813,0.46101999999996224,7.4369999999987613E-2]
[null,"Commerce and Public Services",102.833249,95.412788000000006,91.777056999999999,368.75635600000004,null,106.41884499999999,95.412788000000006,92.706718999999993,1007.333806,null,3.4868061010111528E-2,0,1.012956865679393E-2,1.7317056088926095,null,3.5855959999999953,0,0.92966199999999333,638.57745]
[null,"Residential",24180.516131,25356.067032999999,24251.678082999999,23565.245277000002,null,24201.346797999999,25387.318823999998,24267.581829999999,22930.938958999999,null,8.6146494504690807E-4,1.2325172890308433E-3,6.5577923909310165E-4,-2.6917025922878701E-2,null,20.830666999998357,31.251790999998775,15.903747000000294,-634.30631800000265]
[null,"Mining and Quarrying",552.74984500000005,511.55204700000002,518.50634500000001,496.51617199999998,null,552.79424499999993,515.30040599999995,518.50634500000001,496.51617199999998,null,8.0325667029201853E-5,7.3274244956740286E-3,0,0,null,4.4399999999882311E-2,3.7483589999999367,0,0]
[null,"Rail",3.0720360000000002,4.2538159999999996,4.6931909999999997,0.89244000000000001,null,3.0720360000000002,4.2538159999999996,4.6931909999999997,0.89244000000000001,null,0,0,0,0,null,0,0,0,0]
[]
[null,"LPG",2003,2004,2005,2006,null,2003,2004,2005,2006,null,2003,2004,2005,2006,null,2003,2004,2005,2006]
[null,"Agriculture",1.245288,1.8485210999999999,1.4765367,1.3529157000000001,null,1.2452880000000002,1.8485211000000001,1.4765367,1.3529157000000001,null,-8.0302644578367222E-7,-5.4097270441033629E-7,-6.7726005226198538E-7,-7.391438068271583E-7,null,0,0,0,0]
[null,"Construction",80.390709599999994,2.0260493999999998,178.2486126,3.8018396999999999,null,80.390709600000008,2.0260494000000002,178.2486126,3.8018396999999999,null,-1.2439247965012612E-8,-4.9357113707237943E-7,-5.6101417955645161E-9,-2.6303048417108954E-7,null,0,0,0,0]
[null,"Road",18.149271599999999,2.6165999999999998E-2,0,0,null,18.1100493,2.6166000000000002E-2,0,0,null,-2.1611499735807449E-3,-3.8216073680485962E-5,0,0,null,-3.9222299999998711E-2,0,0,0]
[null,"Commerce and Public Services",2694.2030159999999,1975.6574487,2222.5353941999997,2763.4135010999998,null,2694.5213601000005,1.29495,2222.5353942000002,0,null,1.181585418736919E-4,-0.99934454730490008,-4.4993631043155347E-10,-1,null,0.31834410000055868,-1974.3624987000001,0,-2763.4135010999998]
[null,"Residential",12167.790268305298,12878.9463222987,12099.604450199999,13373.267981999999,null,12167.470937400001,14854.473897900003,12099.6044502,13373.267981999999,null,-2.6244034309397257E-5,0.15339201864887575,-8.2647222399145903E-11,-7.4776074221460931E-11,null,-0.31933090529673791,1975.5275756013034,0,0]
[null,"Mining and Quarrying",222.5852175,188.48272259999999,183.10248569999999,6.1570199999999999E-2,null,222.5852175,188.48272260000002,183.10248570000002,6.1570199999999999E-2,null,-4.4926613540496874E-9,-5.3055259074952232E-9,-5.4614220923454582E-9,-1.6241359596658178E-5,null,0,0,0,0]
[null,"Rail",0,0,0,0]

{"sheet":"Appendix 5","index":7,"n_rows":50,"n_cols":32,"rows_kept":50,"cut":false,"hidden":false,"merged":[]}
["From: [ltms update_agriculture]Agric LEAP'!C36"]
["IEP"]
[]
["Irrigation"]
["Shares",null,2001,2002,2003,2004,2005,2006,2007,2008,2009,2010,2011,2012,2013,2014,2015,2016,2017,2018,2019,2020,2021,2022,2023,2024,2025,2026,2027,2028,2029,2030]
["Diesel","low",0.11990407673860912,0.11966824644549764,0.11943793911007027,0.12009237875288684,0.11986301369863014,0.11963882618510158,0.12013348164627365,0.11991199119911992,0.11956521739130437,0.120042872454448,0.11970338983050849,0.12016718913270637,0.11983471074380164,0.11950970377936668,0.11995967741935483,0.11952191235059761,0.11996066863323498,0.11953352769679298,0.11984659635666348,0.12015137180700096,0.11973807296538821,0.12003693444136655,0.11963470319634703,0.11992786293958523,0.12010676156583633,0.11961301671064206,0.11989574283231973,0.12006861063464837,0.11959287531806614,0.1196652719665272]
[null,"up",0.11990407673860912,0.11966824644549764,0.11943793911007027,0.12009237875288684,0.11986301369863014,0.11963882618510158,0.12013348164627365,0.11991199119911992,0.11956521739130437,0.120042872454448,0.11970338983050849,0.12016718913270637,0.11983471074380164,0.11950970377936668,0.11995967741935483,0.11952191235059761,0.11996066863323498,0.11953352769679298,0.11984659635666348,0.12015137180700096,0.11973807296538821,0.12003693444136655,0.11963470319634703,0.11992786293958523,0.12010676156583633,0.11961301671064206,0.11989574283231973,0.12006861063464837,0.11959287531806614,0.1196652719665272]
["Electricity","low",0.76019184652278182,0.76066350710900477,0.76112412177985955,0.75981524249422627,0.76027397260273977,0.76072234762979674,0.75973303670745274,0.76017601760176023,0.76086956521739135,0.75991425509110377,0.76059322033898324,0.75966562173458718,0.76033057851239672,0.76098059244126659,0.76008064516129037,0.76095617529880477,0.76007866273352986,0.76093294460641392,0.7603068072866731,0.75969725638599817,0.76052385406922374,0.75992613111726681,0.76073059360730588,0.76014427412082952,0.75978647686832745,0.76077396657871599,0.76020851433536074,0.75986277873070318,0.76081424936386766,0.76066945606694569]
[null,"up",0.76019184652278182,0.76066350710900477,0.76112412177985955,0.75981524249422627,0.76027397260273977,0.76072234762979674,0.75973303670745274,0.76017601760176023,0.76086956521739135,0.75991425509110377,0.76059322033898324,0.75966562173458718,0.76033057851239672,0.76098059244126659,0.76008064516129037,0.76095617529880477,0.76007866273352986,0.76093294460641392,0.7603068072866731,0.75969725638599817,0.76052385406922374,0.75992613111726681,0.76073059360730588,0.76014427412082952,0.75978647686832745,0.76077396657871599,0.76020851433536074,0.75986277873070318,0.76081424936386766,0.76066945606694569]
["Petrol","low",0.11990407673860912,0.11966824644549764,0.11943793911007027,0.12009237875288684,0.11986301369863014,0.11963882618510158,0.12013348164627365,0.11991199119911992,0.11956521739130437,0.120042872454448,0.11970338983050849,0.12016718913270637,0.11983471074380164,0.11950970377936668,0.11995967741935483,0.11952191235059761,0.11996066863323498,0.11953352769679298,0.11984659635666348,0.12015137180700096,0.11973807296538821,0.12003693444136655,0.11963470319634703,0.11992786293958523,0.12010676156583633,0.11961301671064206,0.11989574283231973,0.12006861063464837,0.11959287531806614,0.1196652719665272]
[null,"up",0.11990407673860912,0.11966824644549764,0.11943793911007027,0.12009237875288684,0.11986301369863014,0.11963882618510158,0.12013348164627365,0.11991199119911992,0.11956521739130437,0.120042872454448,0.11970338983050849,0.12016718913270637,0.11983471074380164,0.11950970377936668,0.11995967741935483,0.11952191235059761,0.11996066863323498,0.11953352769679298,0.11984659635666348,0.12015137180700096,0.11973807296538821,0.12003693444136655,0.11963470319634703,0.11992786293958523,0.12010676156583633,0.11961301671064206,0.11989574283231973,0.12006861063464837,0.11959287531806614,0.1196652719665272]
["Sum","low",1,1,1,0.99999999999999989,1,0.99999999999999989,1,1,1,0.99999999999999978,1.0000000000000002,1,1,0.99999999999999989,1,1,0.99999999999999978,1,1,1,1.0000000000000002,0.99999999999999989,1,1,1,1,1.0000000000000002,0.99999999999999989,1,1]
[null,"up",1,1,1,0.99999999999999989,1,0.99999999999999989,1,1,1,0.99999999999999978,1.0000000000000002,1,1,0.99999999999999989,1,1,0.99999999999999978,1,1,1,1.0000000000000002,0.99999999999999989,1,1,1,1,1.0000000000000002,0.99999999999999989,1,1]
[]
["Tractors, harvesters and transport"]
["Shares",null,2001,2002,2003,2004,2005,2006,2007,2008,2009,2010,2011,2012,2013,2014,2015,2016,2017,2018,2019,2020,2021,2022,2023,2024,2025,2026,2027,2028,2029,2030]
["Bio-Diesel","low",0,0,0,0,0,0,0,0,0,0,0,0,0,0,0,0,0,0,0,0,0,0,0,0,0,0,0,0,0,0]
[null,"up",0,0,0,0,0,0,0,0,0,0,0,0,0,0,0,0,0,0,0,0,0,0,0,0,0,0,0,0,0,0]
["Bio-Ethanol","low",0,0,0,0,0,0,0,0,0,0,0,0,0,0,0,0,0,0,0,0,0,0,0,0,0,0,0,0,0,0]
[null,"up",0,0,0,0,0,0,0,0,0,0,0,0,0,0,0,0,0,0,0,0,0,0,0,0,0,0,0,0,0,0]
["Diesel","low",0.95798707294552166,0.95804833561331504,0.95789236658410271,0.95797198132088057,0.95804963760158146,0.95791757049891546,0.95800299978572956,0.95789250952179428,0.95799373040752356,0.95789473684210524,0.95800203873598366,0.95792228709482574,0.95803500397772479,0.95797329143754906,0.95791311093871212,0.95803793830235684,0.95799432355723746,0.95795178471313769,0.95791805094130678,0.95806745670009119,0.95804825351098311,0.95802952160768273,0.95802599227256757,0.95802254986990454,0.95802638341613833,0.95803722504230127,0.95805481283422467,0.95792079207920799,0.95794621026894866,0.95798454603992278]
[null,"up",0.95798707294552166,0.95804833561331504,0.95789236658410271,0.95797198132088057,0.95804963760158146,0.95791757049891546,0.95800299978572956,0.95789250952179428,0.95799373040752356,0.95789473684210524,0.95800203873598366,0.95792228709482574,0.95803500397772479,0.95797329143754906,0.95791311093871212,0.95803793830235684,0.95799432355723746,0.95795178471313769,0.95791805094130678,0.95806745670009119,0.95804825351098311,0.95802952160768273,0.95802599227256757,0.95802254986990454,0.95802638341613833,0.95803722504230127,0.95805481283422467,0.95792079207920799,0.95794621026894866,0.95798454603992278]
["Petrol","low",4.2012927054478302E-2,4.1951664386684899E-2,4.2107633415897329E-2,4.2028018679119414E-2,4.1950362398418629E-2,4.2082429501084602E-2,4.1997000214270407E-2,4.2107490478205667E-2,4.2006269592476483E-2,4.2105263157894743E-2,4.1997961264016309E-2,4.2077712905174147E-2,4.1964996022275255E-2,4.2026708562450901E-2,4.2086889061287817E-2,4.196206169764323E-2,4.2005676442762541E-2,4.204821528686227E-2,4.2081949058693238E-2,4.1932543299908843E-2,4.1951746489016929E-2,4.1970478392317268E-2,4.1974007727432386E-2,4.1977450130095406E-2,4.1973616583861575E-2,4.1962774957698817E-2,4.1945187165775402E-2,4.2079207920792082E-2,4.2053789731051346E-2,4.2015453960077269E-2]
[null,"up",4.2012927054478302E-2,4.1951664386684899E-2,4.2107633415897329E-2,4.2028018679119414E-2,4.1950362398418629E-2,4.2082429501084602E-2,4.1997000214270407E-2,4.2107490478205667E-2,4.2006269592476483E-2,4.2105263157894743E-2,4.1997961264016309E-2,4.2077712905174147E-2,4.1964996022275255E-2,4.2026708562450901E-2,4.2086889061287817E-2,4.196206169764323E-2,4.2005676442762541E-2,4.204821528686227E-2,4.2081949058693238E-2,4.1932543299908843E-2,4.1951746489016929E-2,4.1970478392317268E-2,4.1974007727432386E-2,4.1977450130095406E-2,4.1973616583861575E-2,4.1962774957698817E-2,4.1945187165775402E-2,4.2079207920792082E-2,4.2053789731051346E-2,4.2015453960077269E-2]
["Sum","low",1,0.99999999999999989,1,1,1,1,1,1,1,1,1,0.99999999999999989,1,1,0.99999999999999989,1,1,1,1,1,1,1,1,1,0.99999999999999989,1,1,1,1,1]
[null,"up",1,0.99999999999999989,1,1,1,1,1,1,1,1,1,0.99999999999999989,1,1,0.99999999999999989,1,1,1,1,1,1,1,1,1,0.99999999999999989,1,1,1,1,1]
[]
["Heat"]
["Shares",null,2001,2002,2003,2004,2005,2006,2007,2008,2009,2010,2011,2012,2013,2014,2015,2016,2017,2018,2019,2020,2021,2022,2023,2024,2025,2026,2027,2028,2029,2030]
["Coal","low",0.26785714285714285,0.26807760141093473,0.26829268292682928,0.26804123711340205,0.26825127334465193,0.26800670016750416,0.26821192052980136,0.26841243862520459,0.26860841423948217,0.26794258373205743,0.26813880126182965,0.26791277258566976,0.26769230769230767,0.26788432267884321,0.2683658170914543,0.26814814814814814,0.26793557833089315,0.26734104046242774,0.26857142857142857,0.26798307475317346,0.26740947075208915,0.26822558459422285,0.26766304347826086,0.26809651474530832,0.2675496688741722,0.26797385620915037,0.26778783958602842,0.26819923371647508,0.26826196473551639,0.26774595267745949]
[null,"up",0.26785714285714285,0.26807760141093473,0.26829268292682928,0.26804123711340205,0.26825127334465193,0.26800670016750416,0.26821192052980136,0.26841243862520459,0.26860841423948217,0.26794258373205743,0.26813880126182965,0.26791277258566976,0.26769230769230767,0.26788432267884321,0.2683658170914543,0.26814814814814814,0.26793557833089315,0.26734104046242774,0.26857142857142857,0.26798307475317346,0.26740947075208915,0.26822558459422285,0.26766304347826086,0.26809651474530832,0.2675496688741722,0.26797385620915037,0.26778783958602842,0.26819923371647508,0.26826196473551639,0.26774595267745949]
["HFO","low",0.28035714285714286,0.28042328042328046,0.28048780487804881,0.28006872852233672,0.28013582342954158,0.27973199329983245,0.27980132450331124,0.27986906710310966,0.27993527508090615,0.27910685805422647,0.27917981072555204,0.28037383177570097,0.28000000000000003,0.28006088280060881,0.27886056971514245,0.27999999999999997,0.27964860907759881,0.28034682080924855,0.27999999999999997,0.27926657263751764,0.27994428969359331,0.27922971114167811,0.27989130434782611,0.28016085790884715,0.27947019867549666,0.27973856209150333,0.27943078913324709,0.27969348659003829,0.27959697732997485,0.28019925280199248]
[null,"up",0.28035714285714286,0.28042328042328046,0.28048780487804881,0.28006872852233672,0.28013582342954158,0.27973199329983245,0.27980132450331124,0.27986906710310966,0.27993527508090615,0.27910685805422647,0.27917981072555204,0.28037383177570097,0.28000000000000003,0.28006088280060881,0.27886056971514245,0.27999999999999997,0.27964860907759881,0.28034682080924855,0.27999999999999997,0.27926657263751764,0.27994428969359331,0.27922971114167811,0.27989130434782611,0.28016085790884715,0.27947019867549666,0.27973856209150333,0.27943078913324709,0.27969348659003829,0.27959697732997485,0.28019925280199248]
["LPG","low",2.3214285714285715E-2,2.2927689594356263E-2,2.2648083623693381E-2,2.4054982817869417E-2,2.3769100169779286E-2,2.3450586264656615E-2,2.3178807947019868E-2,2.2913256955810153E-2,2.2653721682847898E-2,2.3923444976076555E-2,2.365930599369085E-2,2.336448598130841E-2,2.3076923076923075E-2,2.2831050228310501E-2,2.3988005997001498E-2,2.3703703703703703E-2,2.3426061493411421E-2,2.3121387283236997E-2,2.2857142857142857E-2,2.3977433004231313E-2,2.3676880222841229E-2,2.3383768913342505E-2,2.3097826086956524E-2,2.2788203753351208E-2,2.3841059602649005E-2,2.3529411764705885E-2,2.3285899094437255E-2,2.2988505747126436E-2,2.3929471032745595E-2,2.36612702366127E-2]
[null,"up",2.3214285714285715E-2,2.2927689594356263E-2,2.2648083623693381E-2,2.4054982817869417E-2,2.3769100169779286E-2,2.3450586264656615E-2,2.3178807947019868E-2,2.2913256955810153E-2,2.2653721682847898E-2,2.3923444976076555E-2,2.365930599369085E-2,2.336448598130841E-2,2.3076923076923075E-2,2.2831050228310501E-2,2.3988005997001498E-2,2.3703703703703703E-2,2.3426061493411421E-2,2.3121387283236997E-2,2.2857142857142857E-2,2.3977433004231313E-2,2.3676880222841229E-2,2.3383768913342505E-2,2.3097826086956524E-2,2.2788203753351208E-2,2.3841059602649005E-2,2.3529411764705885E-2,2.3285899094437255E-2,2.2988505747126436E-2,2.3929471032745595E-2,2.36612702366127E-2]
["Paraffin","low",0.4285714285714286,0.4285714285714286,0.42857142857142855,0.42783505154639179,0.42784380305602715,0.42881072026800665,0.42880794701986752,0.42880523731587566,0.42880258899676377,0.42902711323763959,0.4290220820189275,0.42834890965732086,0.42923076923076925,0.42922374429223742,0.4287856071964018,0.42814814814814817,0.42898975109809667,0.42919075144508673,0.42857142857142855,0.42877291960507757,0.42896935933147634,0.42916093535075656,0.42934782608695654,0.42895442359249331,0.42913907284768216,0.42875816993464055,0.42949547218628714,0.42911877394636011,0.42821158690176325,0.42839352428393518]
[null,"up",0.4285714285714286,0.4285714285714286,0.42857142857142855,0.42783505154639179,0.42784380305602715,0.42881072026800665,0.42880794701986752,0.42880523731587566,0.42880258899676377,0.42902711323763959,0.4290220820189275,0.42834890965732086,0.42923076923076925,0.42922374429223742,0.4287856071964018,0.42814814814814817,0.42898975109809667,0.42919075144508673,0.42857142857142855,0.42877291960507757,0.42896935933147634,0.42916093535075656,0.42934782608695654,0.42895442359249331,0.42913907284768216,0.42875816993464055,0.42949547218628714,0.42911877394636011,0.42821158690176325,0.42839352428393518]
["Renewables","low",0,0,0,0,0,0,0,0,0,0,0,0,0,0,0,0,0,0,0,0,0,0,0,0,0,0,0,0,0,0]
[null,"up",0,0,0,0,0,0,0,0,0,0,0,0,0,0,0,0,0,0,0,0,0,0,0,0,0,0,0,0,0,0]
["Sum","low",1,1,1,1,1,0.99999999999999978,1,1,1,1,1,1,1,0.99999999999999989,1,0.99999999999999989,1,1,1,1,1,1,1,1,1,1,0.99999999999999989,0.99999999999999989,1,0.99999999999999989]
[null,"up",1,1,1,1,1,0.99999999999999978,1,1,1,1,1,1,1,0.99999999999999989,1,0.99999999999999989,1,1,1,1,1,1,1,1,1,1,0.99999999999999989,0.99999999999999989,1,0.99999999999999989]
[]
["See Appendix 2"]
["End use Demand, 2006","PJ","%"]
["Heating ",5.9700000000000006,7.7081988379599746]
["Irrigation ",8.8600000000000012,11.439638476436413]
["Other ",10.47,13.518398967075532]
["Processes ",6.05,7.8114912846998061]
["Tractors harvestors transport Demand",46.099999999999994,59.52227243382827]
["Total",77.45,100]

{"sheet":"Appendix 6","index":8,"n_rows":14,"n_cols":8,"rows_kept":14,"cut":false,"hidden":false,"merged":[]}
["DKIP"]
[]
["Interviewed","Company/Organisation","Name","Contact number","address","Email","website","progress"]
[null,"SABI"]
[null,"AGRICO (Pty) Ltd","Alfred Andrag","021 950 4111","P O Box 364, Bellville 7535","alfred.andrag@agrico.co.za","www.andragagrico.co.za"]
[null,"SABI-Central branch","Cobus","o124256300"]
[null,null,null,"o829202496"]
["Y","SENTER360","Theuns Dreyer","o184691331",null,null,"www.senter360.co.za","To send spreadsheet"]
[null,null,null,"o825645955"]
["Y","SABI-KZN","Rob","o333422491",null,null,null,"14h00"]
[null,null,"Tony","o437321927",null,null,null,"Monday"]
["Y","ARC-INSTITUTE OF AGRIC ENGINEERING","Felix","o128424000",null,null,null,"refered me to Neels"]
["Y","Eskom","Neels Bezuidenhout(refered by Felix)","o834400131",null,null,null,"To email info"]
[null,null,null,null,null,null,null,"On leave, going back on 14/02/2011"]

{"sheet":"REGIONS","index":9,"n_rows":1,"n_cols":2,"rows_kept":1,"cut":false,"hidden":false,"merged":[]}
["REGIONS","_GLOBAL,REGION1"]

{"sheet":"Final Demand","index":10,"n_rows":76,"n_cols":10,"rows_kept":76,"cut":false,"hidden":false,"merged":[]}
[]
[]
[]
["TJ","DME Energy Balances 2006 (Appendix 3)"]
["Agriculture"]
["Butimous Coal",763.26300000000003]
["LPG",1.3529157000000001]
["Motor Gasoline",4964.1961086000001]
["Other Kerosene",2509.7758600000002]
["Gas Diesel",38226.119077199997]
["HFO",1763.8130432]
["Electricity",21029.392800000001]
["TOTAL",{"$f":"SUM(B6:B12)","v":69257.912804699998}]
[]
[]
[null,"LEAP Energy demand 2006 (%)","Energy Balances DME 2006","Adjusting for heating"]
["Traction ",{"$f":"'Appendix 5'!C49","v":59.52227243382827},{"$f":"(B17/100)*$B$13","v":41223.88354159677},{"$f":"C17+C61","v":41298.966744373574}]
["Irrigation",{"$f":"'Appendix 5'!C46","v":11.439638476436413},7922.8548411832426,{"$f":"C18+C61","v":7997.9380439600473}]
["Heating ",{"$f":"'Appendix 5'!C45","v":7.7081988379599746},5338.5376300072176,{"$f":"B59","v":5038.2048188999997}]
["Processing",{"$f":"'Appendix 5'!C48","v":7.8114912846998061},5410.0758227041315,{"$f":"C20+C61","v":5485.1590254809362}]
["Other",{"$f":"'Appendix 5'!C47","v":13.518398967075532},9362.5609692086364,{"$f":"C21+C61","v":9437.6441719854411}]
["Total",{"$f":"SUM(B17:B21)","v":99.999999999999986},69257.912804699983,{"$f":"SUM(D17:D21)","v":69257.912804699998}]
[null,"See Appendix 2 for above",null,null,null,null,null,null,null,"Assumption Inputs"]
[]
[null,null,null,null,null,null,null,null,"Summary of Assumptions"]
[null,"Shares (2006)","Energy use 2006 (TJ)","Efficiency (See Appendix 1)","Lifetime"]
["Tractors harvestors transport\\Diesel5",0.95799999999999996,{"$f":"+B10-C29","v":37426.325272803995},0.35,15,null,null,null,"Step 0","Thermal fuel share is determined, allocated to 'Heating' and other shares adjusted by scaling 'LEAP Energy Demand 2006' shares"]
["Tractors harvestors transport\\Petrol5",0.42,{"$f":"+B8-C31","v":4644.2785868415986},0.25,15,{"$f":"SUM(C27:C28)","v":42070.603859645591},null,null,"Step 1","Irrigation share is then split into electricity, diesel and gasoline shares in an 86%, 10%, 4% split."]
["Irrigation\\Diesel6",0.1,{"$f":"B29*D18","v":799.79380439600482},0.35,{"$f":"+'Appendix 1'!H45","v":15},null,null,null,"Step 2","Remaining Diesel and Petrol is allocated to Traction"]
["Irrigation\\Elec6",0.86,{"$f":"B30*D18","v":6878.2267178056409},0.95,{"$f":"+'Appendix 1'!H46","v":15},null,null,null,"Step 3","All Processing assumed to be electricity. This is assumed to be 29% of all electricity as per IEP the sum of 10% 'Process' and 16% 'Materials Handling'"]
["Irrigation\\Petrol6",0.04,{"$f":"B31*D18","v":319.9175217584019},0.25,{"$f":"+'Appendix 1'!H47","v":15},{"$f":"SUM(C29:C31)","v":7997.9380439600473},null,null,"Step 4","All 'Other' assumed electrical. This would be lighting etc. Calculated as (Total - Irrigation - Processing) ie Balancing Item"]
["Heat Thermal\\Coal Bituminous",null,763.26300000000003,0.65,{"$f":"+'Appendix 1'!H55","v":15}]
["Heat Thermal\\Fuel Oil",null,1763.8130432,0.7,{"$f":"+'Appendix 1'!H56","v":15}]
["Heat Thermal\\LPG",null,1.3529157000000001,0.75,{"$f":"+'Appendix 1'!H57","v":15}]
["Heat Thermal\\Paraffin",null,2509.7758600000002,0.7,{"$f":"+'Appendix 1'!H58","v":15},{"$f":"SUM(C32:C35)","v":5038.2048188999997}]
["Processing \\Elec",null,{"$f":"D20","v":5485.1590254809362},{"$f":"1","v":1},15]
["Other\\Elec",null,{"$f":"+B12-C36-C30","v":8666.0070567134244},{"$f":"1","v":1},15,{"$f":"SUM(F28:F35)+C36+C37","v":69257.912804699998}]
["Total",null,{"$f":"SUM(C27:C37)","v":69257.912804699998}]
[]
[]
["End Use Shares"]
[null,{"$f":"+AGR!C5","v":"Coal"},{"$f":"+AGR!D5","v":"Oil Diesel"},{"$f":"+AGR!E5","v":"Electricity"},{"$f":"+AGR!#REF!","v":{"$error":"#REF!"}},{"$f":"+AGR!F5","v":"Oil Gasoline"},{"$f":"+AGR!G5","v":"Oil HFO"},{"$f":"+AGR!H5","v":"Oil Paraffin"},{"$f":"+AGR!I5","v":"Oil LPG"}]
["Heating",{"$f":"+C32/B6","v":1},null,null,null,null,{"$f":"+C33/B11","v":1},{"$f":"+C35/B9","v":1},{"$f":"+C34/B7","v":1}]
["Processing",null,null,{"$f":"+C36/B12","v":0.26083297209993317}]
["Traction",null,{"$f":"+C27/B10","v":0.97907729521846643},null,null,{"$f":"+C28/B8","v":0.93555501943120767}]
["Irrigation",null,{"$f":"+C29/B10","v":2.0922704781533592E-2},{"$f":"+C30/B12","v":0.32707681021611051},null,{"$f":"+C31/B8","v":6.4444980568792415E-2}]
["Other",null,null,{"$f":"+C37/B12","v":0.41209021768395632}]
[]
[]
[]
[]
[]
[]
[]
[]
[]
[]
[]
["Heat",{"$f":"SUM(C32:C35)","v":5038.2048188999997}]
[null,5338.5376300072176]
[null,{"$f":"B60-B59","v":300.33281110721782},{"$f":"B61/4","v":75.083202776804455}]
[]
[]
[null,"Useful Demand 2006 (TJ)"]
["Tractors harvestors transport\\Diesel",{"$f":"C27*D27","v":13099.213845481398}]
["Tractors harvestors transport\\Petrol",{"$f":"C28*D28","v":1161.0696467103996}]
["Irrigation\\Diesel",279.92783153860165]
["Irrigation\\Elec",6534.3153819153586]
["Irrigation\\Petrol",79.979380439600476]
["Heat Thermal\\Coal Bituminous",496.12095000000005]
["Heat Thermal\\Fuel Oil",1234.66913024]
["Heat Thermal\\LPG",1.0146867749999999]
["Heat Thermal\\Paraffin",1756.843102]
["Processing \\Elec",5485.1590254809362]
["Other\\Elec",8666.0070567134244]
["Total",{"$f":"SUM(B65:B75)","v":38794.320037294718}]

{"sheet":"AGR","index":11,"n_rows":72,"n_cols":26,"rows_kept":72,"cut":false,"hidden":false,"merged":[[0,1,0,3]]}
["South Africa","Base Year Energy Balance",null,null,"Commerce"]
[]
[null,null,"Base-year final energy aggregated by sector fuel",null,null,null,null,null,null,null,null,"Entry #"]
["Fuel #",{"$f":"COUNT(C4:L4)","v":7},1,{"$f":"C4+1","v":2},3,4,5,6,7]
["Agriculture","A","Coal","Oil Diesel","Electricity","Oil Gasoline","Oil HFO","Oil Paraffin","Oil LPG","Total","Check"]
["Sectoral Fuel Names","AGR",{"$f":"$B$6&VLOOKUP(C5,FuelNames,2,FALSE)","v":"AGRCOA"},"AGRODS","AGRELC","AGROGS","AGROHF","AGROKE","AGROLP"]
[null,"PJ",{"$f":"+'Final Demand'!C32/1000","v":0.76326300000000002},{"$f":"+'Final Demand'!B10/1000","v":38.226119077199996},{"$f":"+'Final Demand'!B12/1000","v":21.0293928},{"$f":"+'Final Demand'!B8/1000","v":4.9641961086000004},{"$f":"+'Final Demand'!B11/1000","v":1.7638130432000001},{"$f":"+'Final Demand'!B9/1000","v":2.5097758600000004},{"$f":"+'Final Demand'!C34/1000","v":1.3529157000000001E-3},{"$f":"SUM(C7:I7)","v":69.257912804700013},{"$f":"SUM(K55,K58,K63,K68,K71)","v":69.257912804699998}]
["Emission Factors","kt/PJ"]
["Carbon Dioxide","CO2",94.1,74.099999999999994,0,69.3,77.400000000000006,71.900000000000006,63.1,null,1]
["Methane","CH4",1E-3,3.0000000000000001E-3,0,3.0000000000000001E-3,3.0000000000000001E-3,3.0000000000000001E-3,1E-3,null,{"$f":"K9+1","v":2}]
["Nitrous Oxide","N2O",{"$f":"15/1000","v":1.4999999999999999E-2},5.9999999999999995E-4,0,5.9999999999999995E-4,5.9999999999999995E-4,5.9999999999999995E-4,1E-4,null,{"$f":"K10+1","v":3}]
["Sulphur Gases","SOX",0.45440000000000003,0.25290000000000001,0,4.6699999999999998E-2,1.5290999999999999,null,null,null,{"$f":"K11+1","v":4}]
["Nitrogen Gases","NOX",0.1,0.1,0,0.1,0.1,null,null,null,{"$f":"K12+1","v":5}]
[]
["Distribution Losses",null,0,0,0.1,0,0,0,0]
["Distribution Capacity (estimate)","PJa",{"$f":"SUMPRODUCT(--($C$50:$C$72=C6),$K$50:$K$72)^2/(SUMPRODUCT(--($C$50:$C$72=C6),$K$50:$K$72,$F$50:$F$72)+eps)","v":1.3844784724488592},49.172857137857498,24.079563879890596,6.3724400866372495,3.1993706240904332,4.5524684234737096,2.4540133526190413E-3]
[]
["End use demands","Demand"]
["Heating","H"," "]
["Processing","P"]
["Traction","T"]
["Irrigation","I"]
["Other","O"]
[]
[]
[null,null,"End-use Shares by Fuel - All sourced from Interim report (other than LPG)"]
["End-use Fractional Shares by Sub-sector","Demand ID",{"$f":"C5","v":"Coal"},"Oil Diesel","Electricity","Oil Gasoline","Oil HFO","Oil Paraffin","Oil LPG"]
[{"$f":"$A$5&\" - \"&A19","v":"Agriculture - Heating"},{"$f":"$B$5&B19","v":"AH"},{"$f":"+'Final Demand'!B43","v":1},{"$f":"+'Final Demand'!C43","v":0},{"$f":"+'Final Demand'!D43","v":0},{"$f":"+'Final Demand'!F43","v":0},{"$f":"+'Final Demand'!G43","v":1},{"$f":"+'Final Demand'!H43","v":1},{"$f":"+'Final Demand'!I43","v":1}]
[{"$f":"$A$5&\" - \"&A20","v":"Agriculture - Processing"},{"$f":"$B$5&B20","v":"AP"},{"$f":"+'Final Demand'!B44","v":0},{"$f":"+'Final Demand'!C44","v":0},{"$f":"+'Final Demand'!D44","v":0.26083297209993317},{"$f":"+'Final Demand'!F44","v":0},{"$f":"+'Final Demand'!G44","v":0},{"$f":"+'Final Demand'!H44","v":0},{"$f":"+'Final Demand'!I44","v":0}]
[{"$f":"$A$5&\" - \"&A21","v":"Agriculture - Traction"},{"$f":"$B$5&B21","v":"AT"},{"$f":"+'Final Demand'!B45","v":0},{"$f":"+'Final Demand'!C45","v":0.97907729521846643},{"$f":"+'Final Demand'!D45","v":0},{"$f":"+'Final Demand'!F45","v":0.93555501943120767},{"$f":"+'Final Demand'!G45","v":0},{"$f":"+'Final Demand'!H45","v":0},{"$f":"+'Final Demand'!I45","v":0}]
[{"$f":"$A$5&\" - \"&A22","v":"Agriculture - Irrigation"},{"$f":"$B$5&B22","v":"AI"},{"$f":"+'Final Demand'!B46","v":0},{"$f":"+'Final Demand'!C46","v":2.0922704781533592E-2},{"$f":"+'Final Demand'!D46","v":0.32707681021611051},{"$f":"+'Final Demand'!F46","v":6.4444980568792415E-2},{"$f":"+'Final Demand'!G46","v":0},{"$f":"+'Final Demand'!H46","v":0},{"$f":"+'Final Demand'!I46","v":0}]
[{"$f":"$A$5&\" - \"&A23","v":"Agriculture - Other"},{"$f":"$B$5&B23","v":"AO"},{"$f":"+'Final Demand'!B47","v":0},{"$f":"+'Final Demand'!C47","v":0},{"$f":"+'Final Demand'!D47","v":0.41209021768395632},{"$f":"+'Final Demand'!F47","v":0},{"$f":"+'Final Demand'!G47","v":0},{"$f":"+'Final Demand'!H47","v":0},{"$f":"+'Final Demand'!I47","v":0}]
["Total",null,{"$f":"SUM(C28:C32)","v":1},{"$f":"SUM(D28:D32)","v":1},1,1,1,1,1]
[]
["End-use Final Energy Consumption by Sub-sector (PJ)","Demand ID",{"$f":"C27","v":"Coal"},{"$f":"D27","v":"Oil Diesel"},"Electricity","Oil Gasoline","Oil HFO","Oil Paraffin","Oil LPG","Total"]
[{"$f":"A28","v":"Agriculture - Heating"},"AH",{"$f":"C28*C$7","v":0.76326300000000002},0,{"$f":"E28*E$7","v":0},0,1.7638130432000001,2.5097758600000004,1.3529157000000001E-3,{"$f":"SUM(C36:I36)","v":5.0382048189000006}]
["Agriculture - Processing","AP",0,0,{"$f":"E29*E$7","v":5.4851590254809359},0,0,0,0,{"$f":"SUM(C37:I37)","v":5.4851590254809359}]
["Agriculture - Traction","AT",0,37.426325272803993,{"$f":"E30*E$7","v":0},4.6442785868415992,0,0,0,{"$f":"SUM(C38:I38)","v":42.070603859645594}]
["Agriculture - Irrigation","AI",0,0.79979380439600478,6.8782267178056413,0.31991752175840193,0,0,0,{"$f":"SUM(C39:I39)","v":7.9979380439600485}]
["Agriculture - Other","AO",0,0,8.6660070567134238,0,0,0,0,{"$f":"SUM(C40:I40)","v":8.6660070567134238}]
[{"$f":"A33","v":"Total"},null,{"$f":"SUM(C36:C40)","v":0.76326300000000002},38.226119077199996,21.029392800000004,4.9641961086000013,1.7638130432000001,2.5097758600000004,1.3529157000000001E-3,69.257912804699998]
[null,null,null,null,null,null,null,null,null,null,null,null,null,null,2010,2030,2050,null,null,2010,2030,2050]
[null,null,null,null,null,null,null,null,null,null,null,null,"Default Upper Limits",null,0.05,0.25,0.5,"Default Lower Limits",null,0.5,0.25,0.05]
[null,null,null,"~FI_T",null,null,null,0.01]
["TechDesc","TechName","Comm-IN","Comm-Out","EFF","AFA","Life","STOCK"]
[" \\I:Technology Description","Technology Name","Input Commodity","Useful Energy Service","Efficiency","Utlisation","Lifetime","Existing Installed Cap.",null,"Base Year Technology Share","Final Energy","Useful Energy","Tech Data Source","Base Year Tech Share","Upper Limit","Upper Limit","Upper Limit",null,"Base Year Tech Share","Lower Limit","Lower Limit","Lower Limit","Row #"]
["\\I: Units",null,null,null,"(sum OUT/IN)","(Fraction)","(Years)","(PJa)",null,"(%)","(PJ)","(PJ)",null,2006,{"$f":"\"U\"&O$42","v":"U2010"},{"$f":"\"U\"&P$42","v":"U2030"},{"$f":"\"U\"&Q$42","v":"U2050"},null,2006,{"$f":"\"L\"&T$42","v":"L2010"},{"$f":"\"L\"&U$42","v":"L2030"},{"$f":"\"L\"&V$42","v":"L2050"}]
["\\I:",null,1,{"$f":"C48+1","v":2},{"$f":"D48+1","v":3},{"$f":"E48+1","v":4},{"$f":"F48+1","v":5},{"$f":"G48+1","v":6}]
[{"$f":"\"\\I:\"&A36","v":"\\I:Agriculture - Heating"}]
[{"$f":"A36&\"-\"&C5&\" - Existing\"","v":"Agriculture - Heating-Coal - Existing"},{"$f":"D50&RIGHT(C50,3)&\"-E\"","v":"AHCOA-E"},{"$f":"$C$6","v":"AGRCOA"},{"$f":"$B$36","v":"AH"},{"$f":"+'Final Demand'!D32","v":0.65},{"$f":"SUMIF(AFA!$B$3:$S$3,D50,AFA!$B$4:$F$4)","v":0.55130000000000001},15,{"$f":"L50/F50*(1+$H$44)","v":0.90891013876292404},null,{"$f":"SUMIF($C$6:$I$6,C50,$C$28:$I$28)","v":1},{"$f":"J50*SUMIF($C$6:$I$6,C50,$C$36:$I$36)","v":0.76326300000000002},{"$f":"K50*E50","v":0.49612095000000006},null,{"$f":"L50/SUMIF($D$50:$D$72,$D50,$L$50:$L$72)","v":0.14221009646928826},{"$f":"MIN(1,$N50+O$43)","v":0.19221009646928827},{"$f":"MIN(1,$N50+P$43)","v":0.39221009646928828},0.64221009646928828,null,{"$f":"N50","v":0.14221009646928826},{"$f":"$S50*T$43","v":7.1105048234644128E-2},{"$f":"$S50*U$43","v":3.5552524117322064E-2},7.1105048234644131E-3,1,null,null," "]
[{"$f":"A36&\" - \"&G5&\"- Existing\"","v":"Agriculture - Heating - Oil HFO- Existing"},{"$f":"D51&RIGHT(C51,3)&\"-E\"","v":"AHOHF-E"},{"$f":"+G6","v":"AGROHF"},{"$f":"$B$36","v":"AH"},{"$f":"+'Final Demand'!D33","v":0.7},{"$f":"SUMIF(AFA!$B$3:$S$3,D51,AFA!$B$4:$F$4)","v":0.55130000000000001},15,{"$f":"L51/F51*(1+$H$44)","v":2.2619550544937419},null,{"$f":"SUMIF($C$6:$I$6,C51,$C$28:$I$28)","v":1},{"$f":"J51*SUMIF($C$6:$I$6,C51,$C$36:$I$36)","v":1.7638130432000001},{"$f":"K51*E51","v":1.2346691302399999},null,{"$f":"L51/SUMIF($D$50:$D$72,$D51,$L$50:$L$72)","v":0.35391050532956242},{"$f":"MIN(1,$N51+O$43)","v":0.40391050532956241},0.60391050532956236,0.85391050532956236,null,{"$f":"N51","v":0.35391050532956242},{"$f":"$S51*T$43","v":0.17695525266478121},8.8477626332390605E-2,1.7695525266478121E-2,{"$f":"W50+1","v":2}]
[{"$f":"A36&\" - \"&H5&\"- Existing\"","v":"Agriculture - Heating - Oil Paraffin- Existing"},{"$f":"D52&RIGHT(C52,3)&\"-E\"","v":"AHOKE-E"},{"$f":"$H$6","v":"AGROKE"},{"$f":"$B$36","v":"AH"},{"$f":"+'Final Demand'!D35","v":0.7},{"$f":"SUMIF(AFA!$B$3:$S$3,D52,AFA!$B$4:$F$4)","v":0.55130000000000001},15,{"$f":"L52/F52*(1+$H$44)","v":3.2185951986577184},null,{"$f":"SUMIF($C$6:$I$6,C52,$C$28:$I$28)","v":1},{"$f":"J52*SUMIF($C$6:$I$6,C52,$C$36:$I$36)","v":2.5097758600000004},{"$f":"K52*E52","v":1.7568431020000002},null,{"$f":"L52/SUMIF($D$50:$D$72,$D52,$L$50:$L$72)","v":0.50358854431933098},{"$f":"MIN(1,$N52+O$43)","v":0.55358854431933102},0.75358854431933098,1,null,{"$f":"N52","v":0.50358854431933098},{"$f":"$S52*T$43","v":0.25179427215966549},0.12589713607983274,2.5179427215966551E-2,{"$f":"W51+1","v":3}]
[{"$f":"A36&\" - \"&I5&\"- Existing\"","v":"Agriculture - Heating - Oil LPG- Existing"},{"$f":"D53&RIGHT(C53,3)&\"-E\"","v":"AHOLP-E"},{"$f":"$I$6","v":"AGROLP"},{"$f":"$B$36","v":"AH"},{"$f":"'Final Demand'!D34","v":0.75},{"$f":"SUMIF(AFA!$B$3:$S$3,D53,AFA!$B$4:$F$4)","v":0.55130000000000001},15,{"$f":"L53/F53*(1+$H$44)","v":1.8589400376383095E-3},null,{"$f":"SUMIF($C$6:$I$6,C53,$C$28:$I$28)","v":1},{"$f":"J53*SUMIF($C$6:$I$6,C53,$C$36:$I$36)","v":1.3529157000000001E-3},{"$f":"K53*E53","v":1.014686775E-3},null,{"$f":"L53/SUMIF($D$50:$D$72,$D53,$L$50:$L$72)","v":2.9085388181825615E-4},{"$f":"MIN(1,$N53+O$43)","v":5.0290853881818261E-2},0.25029085388181826,{"$f":"MIN(1,$N53+Q$43)","v":0.50029085388181826},null,{"$f":"N53","v":2.9085388181825615E-4},{"$f":"$S53*T$43","v":1.4542694090912808E-4},7.2713470454564038E-5,1.4542694090912808E-5,{"$f":"W52+1","v":4}]
[{"$f":"A36&\" - Electricity - Room - Existing\"","v":"Agriculture - Heating - Electricity - Room - Existing"},{"$f":"D54&RIGHT(C54,3)&\"-E\"","v":"AHELC-E"},{"$f":"$E$6","v":"AGRELC"},{"$f":"$B$36","v":"AH"},{"$f":"+'Final Demand'!D34","v":0.75},{"$f":"SUMIF(AFA!$B$3:$S$3,D54,AFA!$B$4:$F$4)","v":0.55130000000000001},15,{"$f":"L54/F54*(1+$H$44)","v":0},null,1,{"$f":"J54*SUMIF($C$6:$I$6,C54,$C$36:$I$36)","v":0},{"$f":"K54*E54","v":0},null,{"$f":"L54/SUMIF($D$50:$D$72,$D54,$L$50:$L$72)","v":0},{"$f":"MIN(1,$N54+O$43)","v":0.05},0.25,{"$f":"MIN(1,$N54+Q$43)","v":0.5},null,{"$f":"N54","v":0},{"$f":"$S54*T$43","v":0},0,0,{"$f":"W53+1","v":5}]
["\\I: Share Check & sub-totals",null,null,null,null,null,null,null,null,null,{"$f":"SUM(K50:K54)","v":5.0382048189000006},{"$f":"SUM(L50:L54)","v":3.4886478690150002},null,null,null,null,null,null,null,null,null,null,6]
[{"$f":"\"\\I:\"&A37","v":"\\I:Agriculture - Processing"},null,null,null,null,null,null,null,null,null,null,null,null,null,null,null,null,null,null,null,null,null,7]
[{"$f":"A$37&\" - \"&VLOOKUP(RIGHT(C57,3),NameConv!$E$3:$F$16,2,FALSE)&\" - Existing\"","v":"Agriculture - Processing - Electricity - Existing"},{"$f":"D57&RIGHT(C57,3)&\"-E\"","v":"APELC-E"},{"$f":"$E$6","v":"AGRELC"},{"$f":"$B$37","v":"AP"},{"$f":"+'Final Demand'!D36","v":1},{"$f":"SUMIF(AFA!$B$3:$S$3,D57,AFA!$B$4:$F$4)","v":0.74760000000000004},15,{"$f":"L57/F57*(1+$H$44)","v":7.410394082043533},null,1,{"$f":"J57*SUMIF($C$6:$I$6,C57,$C$37:$I$37)","v":5.4851590254809359},{"$f":"K57*E57","v":5.4851590254809359},null,{"$f":"L57/SUMIF($D$50:$D$72,$D57,$L$50:$L$72)","v":1},{"$f":"MIN(1,$N57+O$43)","v":1},1,1,null,{"$f":"N57","v":1},{"$f":"$S57*T$43","v":0.5},0.25,0.05,8]
["\\I: Share Check & sub-totals",null,null,null,null,null,null,null,null,null,{"$f":"SUM(K57:K57)","v":5.4851590254809359},{"$f":"SUM(L57:L57)","v":5.4851590254809359},null,null,null,null,null,null,null,null,null,null,9]
[{"$f":"\"\\I:\"&A38","v":"\\I:Agriculture - Traction"},null,null,null,null,null,null,null,null,null,null,null,null,null,null,null,null,null,null,null,null,null,10]
[{"$f":"A$38&\" - \"&VLOOKUP(RIGHT(C60,3),NameConv!$E$3:$F$16,2,FALSE)&\" - Existing\"","v":"Agriculture - Traction - Oil Diesel - Existing"},{"$f":"D60&RIGHT(C60,3)&\"-E\"","v":"ATODS-E"},{"$f":"+D6","v":"AGRODS"},{"$f":"$B$38","v":"AT"},{"$f":"+'Final Demand'!D27","v":0.35},{"$f":"SUMIF(AFA!$B$3:$S$3,D60,AFA!$B$4:$F$4)","v":0.77659999999999996},15,{"$f":"L60/F60*(1+$H$44)","v":17.03606230226141},null,1,{"$f":"J60*SUMIF($C$6:$I$6,C60,$C$38:$I$38)","v":37.426325272803993},{"$f":"K60*E60","v":13.099213845481398},null,{"$f":"L60/SUMIF($D$50:$D$72,$D60,$L$50:$L$72)","v":0.9185801847946331},{"$f":"MIN(1,$N60+O$43)","v":0.96858018479463315},1,1,null,{"$f":"N60","v":0.9185801847946331},{"$f":"$S60*T$43","v":0.45929009239731655},0.22964504619865828,4.5929009239731658E-2,11]
[{"$f":"A$38&\" - \"&VLOOKUP(RIGHT(C61,3),NameConv!$E$3:$F$16,2,FALSE)&\" - Existing\"","v":"Agriculture - Traction - Electricity - Existing"},{"$f":"D61&RIGHT(C61,3)&\"-E\"","v":"ATELC-E"},{"$f":"+E6","v":"AGRELC"},{"$f":"$B$38","v":"AT"},{"$f":"+'Final Demand'!D30","v":0.95},{"$f":"SUMIF(AFA!$B$3:$S$3,D61,AFA!$B$4:$F$4)","v":0.77659999999999996},15,{"$f":"L61/F61*(1+$H$44)","v":0},null,1,{"$f":"J61*SUMIF($C$6:$I$6,C61,$C$38:$I$38)","v":0},{"$f":"K61*E61","v":0},null,{"$f":"L61/SUMIF($D$50:$D$72,$D61,$L$50:$L$72)","v":0},{"$f":"MIN(1,$N61+O$43)","v":0.05},0.25,0.5,null,{"$f":"N61","v":0},{"$f":"$S61*T$43","v":0},0,0,12]
[{"$f":"A$38&\" - \"&VLOOKUP(RIGHT(C62,3),NameConv!$E$3:$F$16,2,FALSE)&\" - Existing\"","v":"Agriculture - Traction - Oil Gasoline - Existing"},{"$f":"D62&RIGHT(C62,3)&\"-E\"","v":"ATOGS-E"},{"$f":"$F$6","v":"AGROGS"},{"$f":"$B$38","v":"AT"},{"$f":"+'Final Demand'!D28","v":0.25},{"$f":"SUMIF(AFA!$B$3:$S$3,D62,AFA!$B$4:$F$4)","v":0.77659999999999996},15,{"$f":"L62/F62*(1+$H$44)","v":1.5100184691958587},null,1,{"$f":"J62*SUMIF($C$6:$I$6,C62,$C$38:$I$38)","v":4.6442785868415992},{"$f":"K62*E62","v":1.1610696467103998},null,{"$f":"L62/SUMIF($D$50:$D$72,$D62,$L$50:$L$72)","v":8.1419815205366869E-2},{"$f":"MIN(1,$N62+O$43)","v":0.13141981520536689},0.3314198152053669,0.5814198152053669,null,{"$f":"N62","v":8.1419815205366869E-2},{"$f":"$S62*T$43","v":4.0709907602683434E-2},2.0354953801341717E-2,4.070990760268344E-3,13]
["\\I: Share Check & sub-totals",null,null,null,null,null,null,null,null,null,{"$f":"SUM(K60:K62)","v":42.070603859645594},{"$f":"SUM(L60:L62)","v":14.260283492191798},null,null,null,null,null,null,null,null,null,null,14]
[{"$f":"\"\\I:\"&A39","v":"\\I:Agriculture - Irrigation"},null,null,null,null,null,null,null,null,null,null,null,null,null,null,null,null,null,null,null,null,null,15]
[{"$f":"A$39&\" - \"&VLOOKUP(RIGHT(C65,3),NameConv!$E$3:$F$16,2,FALSE)&\" - Existing\"","v":"Agriculture - Irrigation - Oil Diesel - Existing"},{"$f":"D65&RIGHT(C65,3)&\"-E\"","v":"AIODS-E"},{"$f":"$D$6","v":"AGRODS"},{"$f":"$B$39","v":"AI"},{"$f":"+'Final Demand'!D29","v":0.35},{"$f":"SUMIF(AFA!$B$3:$S$3,D65,AFA!$B$4:$F$4)","v":0.81399999999999995},15,{"$f":"L65/F65*(1+$H$44)","v":0.34733060178622571},null,1,{"$f":"J65*SUMIF($C$6:$I$6,C65,$C$39:$I$39)","v":0.79979380439600478},{"$f":"K65*E65","v":0.27992783153860168},null,{"$f":"L65/SUMIF($D$50:$D$72,$D65,$L$50:$L$72)","v":4.0603248259860787E-2},{"$f":"MIN(1,$N65+O$43)","v":9.0603248259860797E-2},0.29060324825986078,0.54060324825986084,null,{"$f":"N65","v":4.0603248259860787E-2},{"$f":"$S65*T$43","v":2.0301624129930394E-2},1.0150812064965197E-2,2.0301624129930394E-3,16]
[{"$f":"A$39&\" - \"&VLOOKUP(RIGHT(C66,3),NameConv!$E$3:$F$16,2,FALSE)&\" - Existing\"","v":"Agriculture - Irrigation - Electricity - Existing"},{"$f":"D66&RIGHT(C66,3)&\"-E\"","v":"AIELC-E"},{"$f":"$E$6","v":"AGRELC"},{"$f":"$B$39","v":"AI"},{"$f":"+'Final Demand'!D30","v":0.95},{"$f":"SUMIF(AFA!$B$3:$S$3,D66,AFA!$B$4:$F$4)","v":0.81399999999999995},15,{"$f":"L66/F66*(1+$H$44)","v":8.1076886188384698},null,1,{"$f":"J66*SUMIF($C$6:$I$6,C66,$C$39:$I$39)","v":6.8782267178056413},{"$f":"K66*E66","v":6.5343153819153592},null,{"$f":"L66/SUMIF($D$50:$D$72,$D66,$L$50:$L$72)","v":0.94779582366589332},{"$f":"MIN(1,$N66+O$43)","v":0.99779582366589337},1,1,null,{"$f":"N66","v":0.94779582366589332},{"$f":"$S66*T$43","v":0.47389791183294666},0.23694895591647333,4.7389791183294672E-2,17]
[{"$f":"A$39&\" - \"&VLOOKUP(RIGHT(C67,3),NameConv!$E$3:$F$16,2,FALSE)&\" - Existing\"","v":"Agriculture - Irrigation - Oil Gasoline - Existing"},{"$f":"D67&RIGHT(C67,3)&\"-E\"","v":"AIOGS-E"},{"$f":"$F$6","v":"AGROGS"},{"$f":"$B$39","v":"AI"},{"$f":"+'Final Demand'!D31","v":0.25},{"$f":"SUMIF(AFA!$B$3:$S$3,D67,AFA!$B$4:$F$4)","v":0.81399999999999995},15,{"$f":"L67/F67*(1+$H$44)","v":9.9237314796064499E-2},null,1,{"$f":"J67*SUMIF($C$6:$I$6,C67,$C$39:$I$39)","v":0.31991752175840193},{"$f":"K67*E67","v":7.9979380439600484E-2},null,{"$f":"L67/SUMIF($D$50:$D$72,$D67,$L$50:$L$72)","v":1.1600928074245941E-2},{"$f":"MIN(1,$N67+O$43)","v":6.1600928074245942E-2},0.26160092807424595,0.51160092807424595,null,{"$f":"N67","v":1.1600928074245941E-2},{"$f":"$S67*T$43","v":5.8004640371229705E-3},2.9002320185614852E-3,5.8004640371229707E-4,18]
["\\I: Share Check & sub-totals",null,null,null,null,null,null,null,null,null,{"$f":"SUM(K65:K67)","v":7.9979380439600485},{"$f":"SUM(L65:L67)","v":6.8942225938935611},null,null,null,null,null,null,null,null,null,null,19]
[{"$f":"\"\\I:\"&A40","v":"\\I:Agriculture - Other"},null,null,null,null,null,null,null,null,null,null,null,null,null,null,null,null,null,null,null,null,null,20]
[{"$f":"A$40&\" - \"&VLOOKUP(RIGHT(C70,3),NameConv!$E$3:$F$16,2,FALSE)&\" - Existing\"","v":"Agriculture - Other - Electricity - Existing"},{"$f":"D70&RIGHT(C70,3)&\"-E\"","v":"AOELC-E"},{"$f":"$E$6","v":"AGRELC"},{"$f":"$B$40","v":"AO"},{"$f":"+'Final Demand'!D37","v":1},{"$f":"SUMIF(AFA!$B$3:$S$3,D70,AFA!$B$4:$F$4)","v":1},15,{"$f":"L70/F70*(1+$H$44)","v":8.7526671272805583},null,1,{"$f":"J70*SUMIF($C$6:$I$6,C70,$C$40:$I$40)","v":8.6660070567134238},{"$f":"K70*E70","v":8.6660070567134238},null,{"$f":"L70/SUMIF($D$50:$D$72,$D70,$L$50:$L$72)","v":1},{"$f":"MIN(1,$N70+O$43)","v":1},{"$f":"MIN(1,$N70+P$43)","v":1},{"$f":"MIN(1,$N70+Q$43)","v":1},null,{"$f":"N70","v":1},{"$f":"$S70*T$43","v":0.5},{"$f":"$S70*U$43","v":0.25},{"$f":"$S70*V$43","v":0.05},21]
["\\I: Share Check & sub-totals",null,null,null,null,null,null,null,null,null,{"$f":"SUM(K70)","v":8.6660070567134238},{"$f":"SUM(L70)","v":8.6660070567134238},null,null,null,null,null,null,null,null,null,null,22]
["\\I: Total number of tech entries",{"$f":"SUMPRODUCT(--(B50:B70<>\"\"))","v":13},null,null,null,null,null,null,null,null,null,null,{"$f":"ROW()-56","v":16},null,null,null,null,null,null,null,null,null,23]

{"sheet":"ITEMS_Tech","index":12,"n_rows":38,"n_cols":9,"rows_kept":38,"cut":false,"hidden":false,"merged":[]}
["ITEMS","REGION1",null,null,null,null,null,null,"* Fuel #"]
["*"]
["*"]
["*"]
["*"]
["*"]
["*","Comp","Name","Description","Unit(s)","Set Memberships","Comment"]
["*","Sector Fuels"]
[null,{"$f":"IF(A9=\"*\",\"\",\"T\")","v":"T"},{"$f":"\"X\"&OFFSET(AGR!$B$6,0,I9)","v":"XAGRCOA"},{"$f":"\"Agriculatural \"&OFFSET(AGR!$B$5,0,I9)","v":"Agriculatural Coal"},{"$f":"\"PJ,\"&IF(RIGHT(C9,3)=\"ELC\",\"GW\",\"PJa\")","v":"PJ,PJa"},{"$f":"\"PRC,PRE,\"&IF(RIGHT(C9,3)=\"ELC\",\"DAYNITE\",\"ANNUAL\")","v":"PRC,PRE,ANNUAL"},null,null,1]
[null,"T",{"$f":"\"X\"&OFFSET(AGR!$B$6,0,I10)","v":"XAGRODS"},{"$f":"\"Agriculatural \"&OFFSET(AGR!$B$5,0,I10)","v":"Agriculatural Oil Diesel"},{"$f":"\"PJ,\"&IF(RIGHT(C10,3)=\"ELC\",\"GW\",\"PJa\")","v":"PJ,PJa"},{"$f":"\"PRC,PRE,\"&IF(RIGHT(C10,3)=\"ELC\",\"DAYNITE\",\"ANNUAL\")","v":"PRC,PRE,ANNUAL"},null,null,{"$f":"I9+1","v":2}]
[null,"T",{"$f":"\"X\"&OFFSET(AGR!$B$6,0,I11)","v":"XAGRELC"},{"$f":"\"Agriculatural \"&OFFSET(AGR!$B$5,0,I11)","v":"Agriculatural Electricity"},"PJ,GW","PRC,PRE,DAYNITE",null,null,3]
[null,"T",{"$f":"\"X\"&OFFSET(AGR!$B$6,0,I12)","v":"XAGROGS"},{"$f":"\"Agriculatural \"&OFFSET(AGR!$B$5,0,I12)","v":"Agriculatural Oil Gasoline"},"PJ,PJa","PRC,PRE,ANNUAL",null,null,4]
[null,"T",{"$f":"\"X\"&OFFSET(AGR!$B$6,0,I13)","v":"XAGROHF"},{"$f":"\"Agriculatural \"&OFFSET(AGR!$B$5,0,I13)","v":"Agriculatural Oil HFO"},"PJ,PJa","PRC,PRE,ANNUAL",null,null,5]
[null,"T",{"$f":"\"X\"&OFFSET(AGR!$B$6,0,I14)","v":"XAGROKE"},{"$f":"\"Agriculatural \"&OFFSET(AGR!$B$5,0,I14)","v":"Agriculatural Oil Paraffin"},"PJ,PJa","PRC,PRE,ANNUAL",null,null,6]
[null,"T",{"$f":"\"X\"&OFFSET(AGR!$B$6,0,I15)","v":"XAGROLP"},{"$f":"\"Agriculatural \"&OFFSET(AGR!$B$5,0,I15)","v":"Agriculatural Oil LPG"},"PJ,PJa","PRC,PRE,ANNUAL",null,null,7]
["*","Demand Techs"]
[{"$f":"IF(LEFT(AGR!A50,2)=\"\\I\",\"*\",\"\")","v":""},{"$f":"IF(A17=\"*\",\"\",\"T\")","v":"T"},{"$f":"IF(A17=\"*\",\"\",AGR!B50)","v":"AHCOA-E"},{"$f":"IF(A17=\"*\",\"\",AGR!A50)","v":"Agriculture - Heating-Coal - Existing"},{"$f":"IF(A17=\"*\",\"\",\"PJ,PJa\")","v":"PJ,PJa"},{"$f":"IF(A17=\"*\",\"\",\"PRC,DMD,ANNUAL\")","v":"PRC,DMD,ANNUAL"}]
[{"$f":"IF(LEFT(AGR!A51,2)=\"\\I\",\"*\",\"\")","v":""},"T",{"$f":"IF(A18=\"*\",\"\",AGR!B51)","v":"AHOHF-E"},{"$f":"IF(A18=\"*\",\"\",AGR!A51)","v":"Agriculture - Heating - Oil HFO- Existing"},"PJ,PJa",{"$f":"IF(A18=\"*\",\"\",\"PRC,DMD,ANNUAL\")","v":"PRC,DMD,ANNUAL"}]
[{"$f":"IF(LEFT(AGR!A52,2)=\"\\I\",\"*\",\"\")","v":""},"T",{"$f":"IF(A19=\"*\",\"\",AGR!B52)","v":"AHOKE-E"},{"$f":"IF(A19=\"*\",\"\",AGR!A52)","v":"Agriculture - Heating - Oil Paraffin- Existing"},"PJ,PJa",{"$f":"IF(A19=\"*\",\"\",\"PRC,DMD,ANNUAL\")","v":"PRC,DMD,ANNUAL"}]
[{"$f":"IF(LEFT(AGR!A53,2)=\"\\I\",\"*\",\"\")","v":""},{"$f":"IF(A20=\"*\",\"\",\"T\")","v":"T"},{"$f":"IF(A20=\"*\",\"\",AGR!B53)","v":"AHOLP-E"},{"$f":"IF(A20=\"*\",\"\",AGR!A53)","v":"Agriculture - Heating - Oil LPG- Existing"},{"$f":"IF(A20=\"*\",\"\",\"PJ,PJa\")","v":"PJ,PJa"},{"$f":"IF(A20=\"*\",\"\",\"PRC,DMD,ANNUAL\")","v":"PRC,DMD,ANNUAL"}]
[{"$f":"IF(LEFT(AGR!A54,2)=\"\\I\",\"*\",\"\")","v":""},"T",{"$f":"IF(A21=\"*\",\"\",AGR!B54)","v":"AHELC-E"},{"$f":"IF(A21=\"*\",\"\",AGR!A54)","v":"Agriculture - Heating - Electricity - Room - Existing"},"PJ,PJa",{"$f":"IF(A21=\"*\",\"\",\"PRC,DMD,DAYNITE\")","v":"PRC,DMD,DAYNITE"}]
[{"$f":"IF(LEFT(AGR!A55,2)=\"\\I\",\"*\",\"\")","v":"*"},"",{"$f":"IF(A22=\"*\",\"\",AGR!B55)","v":""},{"$f":"IF(A22=\"*\",\"\",AGR!A55)","v":""},"",""]
[{"$f":"IF(LEFT(AGR!A56,2)=\"\\I\",\"*\",\"\")","v":"*"},"",{"$f":"IF(A23=\"*\",\"\",AGR!B56)","v":""},{"$f":"IF(A23=\"*\",\"\",AGR!A56)","v":""},"",""]
[{"$f":"IF(LEFT(AGR!A57,2)=\"\\I\",\"*\",\"\")","v":""},"T",{"$f":"IF(A24=\"*\",\"\",AGR!B57)","v":"APELC-E"},{"$f":"IF(A24=\"*\",\"\",AGR!A57)","v":"Agriculture - Processing - Electricity - Existing"},"PJ,PJa","PRC,DMD,DAYNITE"]
[{"$f":"IF(LEFT(AGR!A58,2)=\"\\I\",\"*\",\"\")","v":"*"},{"$f":"IF(A25=\"*\",\"\",\"T\")","v":""},{"$f":"IF(A25=\"*\",\"\",AGR!B58)","v":""},{"$f":"IF(A25=\"*\",\"\",AGR!A58)","v":""},{"$f":"IF(A25=\"*\",\"\",\"PJ,PJa\")","v":""},""]
[{"$f":"IF(LEFT(AGR!A59,2)=\"\\I\",\"*\",\"\")","v":"*"},{"$f":"IF(A26=\"*\",\"\",\"T\")","v":""},{"$f":"IF(A26=\"*\",\"\",AGR!B59)","v":""},{"$f":"IF(A26=\"*\",\"\",AGR!A59)","v":""},{"$f":"IF(A26=\"*\",\"\",\"PJ,PJa\")","v":""},""]
[{"$f":"IF(LEFT(AGR!A60,2)=\"\\I\",\"*\",\"\")","v":""},{"$f":"IF(A27=\"*\",\"\",\"T\")","v":"T"},{"$f":"IF(A27=\"*\",\"\",AGR!B60)","v":"ATODS-E"},{"$f":"IF(A27=\"*\",\"\",AGR!A60)","v":"Agriculture - Traction - Oil Diesel - Existing"},{"$f":"IF(A27=\"*\",\"\",\"PJ,PJa\")","v":"PJ,PJa"},{"$f":"IF(A27=\"*\",\"\",\"PRC,DMD,ANNUAL\")","v":"PRC,DMD,ANNUAL"}]
[{"$f":"IF(LEFT(AGR!A61,2)=\"\\I\",\"*\",\"\")","v":""},{"$f":"IF(A28=\"*\",\"\",\"T\")","v":"T"},{"$f":"IF(A28=\"*\",\"\",AGR!B61)","v":"ATELC-E"},{"$f":"IF(A28=\"*\",\"\",AGR!A61)","v":"Agriculture - Traction - Electricity - Existing"},{"$f":"IF(A28=\"*\",\"\",\"PJ,PJa\")","v":"PJ,PJa"},{"$f":"IF(A28=\"*\",\"\",\"PRC,DMD,DAYNITE\")","v":"PRC,DMD,DAYNITE"}]
[{"$f":"IF(LEFT(AGR!A62,2)=\"\\I\",\"*\",\"\")","v":""},"T",{"$f":"IF(A29=\"*\",\"\",AGR!B62)","v":"ATOGS-E"},{"$f":"IF(A29=\"*\",\"\",AGR!A62)","v":"Agriculture - Traction - Oil Gasoline - Existing"},"PJ,PJa",{"$f":"IF(A29=\"*\",\"\",\"PRC,DMD,ANNUAL\")","v":"PRC,DMD,ANNUAL"}]
[{"$f":"IF(LEFT(AGR!A63,2)=\"\\I\",\"*\",\"\")","v":"*"},"",{"$f":"IF(A30=\"*\",\"\",AGR!B63)","v":""},{"$f":"IF(A30=\"*\",\"\",AGR!A63)","v":""},"",""]
[{"$f":"IF(LEFT(AGR!A64,2)=\"\\I\",\"*\",\"\")","v":"*"},"",{"$f":"IF(A31=\"*\",\"\",AGR!B64)","v":""},{"$f":"IF(A31=\"*\",\"\",AGR!A64)","v":""},"",""]
[{"$f":"IF(LEFT(AGR!A65,2)=\"\\I\",\"*\",\"\")","v":""},"T",{"$f":"IF(A32=\"*\",\"\",AGR!B65)","v":"AIODS-E"},{"$f":"IF(A32=\"*\",\"\",AGR!A65)","v":"Agriculture - Irrigation - Oil Diesel - Existing"},"PJ,PJa","PRC,DMD,ANNUAL"]
[{"$f":"IF(LEFT(AGR!A66,2)=\"\\I\",\"*\",\"\")","v":""},"T",{"$f":"IF(A33=\"*\",\"\",AGR!B66)","v":"AIELC-E"},{"$f":"IF(A33=\"*\",\"\",AGR!A66)","v":"Agriculture - Irrigation - Electricity - Existing"},"PJ,PJa",{"$f":"IF(A33=\"*\",\"\",\"PRC,DMD,DAYNITE\")","v":"PRC,DMD,DAYNITE"}]
[{"$f":"IF(LEFT(AGR!A67,2)=\"\\I\",\"*\",\"\")","v":""},"T",{"$f":"IF(A34=\"*\",\"\",AGR!B67)","v":"AIOGS-E"},{"$f":"IF(A34=\"*\",\"\",AGR!A67)","v":"Agriculture - Irrigation - Oil Gasoline - Existing"},"PJ,PJa","PRC,DMD,ANNUAL"]
[{"$f":"IF(LEFT(AGR!A68,2)=\"\\I\",\"*\",\"\")","v":"*"},"",{"$f":"IF(A35=\"*\",\"\",AGR!B68)","v":""},{"$f":"IF(A35=\"*\",\"\",AGR!A68)","v":""},"",""]
[{"$f":"IF(LEFT(AGR!A69,2)=\"\\I\",\"*\",\"\")","v":"*"},"",{"$f":"IF(A36=\"*\",\"\",AGR!B69)","v":""},{"$f":"IF(A36=\"*\",\"\",AGR!A69)","v":""},"",""]
[{"$f":"IF(LEFT(AGR!A70,2)=\"\\I\",\"*\",\"\")","v":""},"T",{"$f":"IF(A37=\"*\",\"\",AGR!B70)","v":"AOELC-E"},{"$f":"IF(A37=\"*\",\"\",AGR!A70)","v":"Agriculture - Other - Electricity - Existing"},"PJ,PJa",{"$f":"IF(A37=\"*\",\"\",\"PRC,DMD,DAYNITE\")","v":"PRC,DMD,DAYNITE"}]
[{"$f":"IF(LEFT(AGR!A72,2)=\"\\I\",\"*\",\"\")","v":"*"},"",{"$f":"IF(A38=\"*\",\"\",AGR!B72)","v":""},{"$f":"IF(A38=\"*\",\"\",AGR!A72)","v":""},"",""]

{"sheet":"TS DTech","index":13,"n_rows":130,"n_cols":51,"rows_kept":130,"cut":false,"hidden":false,"merged":[]}
["TS DATA","REGION1",null,null,null,null,null,null,null,null,null,null,null,null,null,null,null,null,null,null,null,null,null,null,null,null,null,null,null,null,null,null,null,null,null,null,null,null,null,null,null,null,null,null,null,null,null,null,"*","*","*"]
["*",null,null,null,null,null,null,null,null,null,null,null,null,null,null,null,null,null,null,null,null,null,null,null,null,null,null,null,null,null,null,null,null,null,null,null,null,null,null,null,null,null,null,null,null,null,null,null,"Parameter #","row #","Col #"]
["*"]
["*"]
["*"]
["*"]
["*","Parameter","Arg1","Arg2","Arg3","Arg4","Arg5","Arg6","I/E Opt\nor Value",2006,{"$f":"J7+1","v":2007},{"$f":"K7+1","v":2008},2009,2010,2011,2012,2013,2014,2015,2016,2017,2018,2019,2020,2021,2022,2023,{"$f":"AA7+1","v":2024},2025,2026,2027,2028,2029,2030,{"$f":"AH7+1","v":2031},{"$f":"AI7+1","v":2032},{"$f":"AJ7+1","v":2033},{"$f":"AK7+1","v":2034},{"$f":"AL7+1","v":2035},{"$f":"AM7+1","v":2036},{"$f":"AN7+1","v":2037},{"$f":"AO7+1","v":2038},{"$f":"AP7+1","v":2039},{"$f":"AM7+5","v":2040},{"$f":"AR7+5","v":2045},{"$f":"AS7+5","v":2050},{"$f":"AT7+10","v":2060},2070]
["*"]
["*",1,2,3,4,5,6,7,8]
["*1","ACT_EFF","Process","-","ACTGRP","-","ANNUAL","-",0,null,null,null,null,null,null,null,null,null,null,null,null,null,null,null,null,null,null,null,null,null,null,null,null,null,null,null,null,null,null,null,null,null,null,null,null,null,null,null,null,null,{"$f":"AGR!$E$48","v":3}]
["*2","NCAP_AFA","Process","-","-","-","-","UP",0,null,null,null,null,null,null,null,null,null,null,null,null,null,null,null,null,null,null,null,null,null,null,null,null,null,null,null,null,null,null,null,null,null,null,null,null,null,null,null,null,null,{"$f":"AGR!$F$48","v":4}]
["*3","NCAP_BND","Process","-","-","-","-","UP",0,null,null,null,null,null,null,null,null,null,null,null,null,null,null,null,null,null,null,null,null,null,null,null,null,null,null,null,null,null,null,null,null,null,null,null,null,null,null,null,null,null,20]
["*4","NCAP_TLIFE","Process","-","-","-","-","-",0,null,null,null,null,null,null,null,null,null,null,null,null,null,null,null,null,null,null,null,null,null,null,null,null,null,null,null,null,null,null,null,null,null,null,null,null,null,null,null,null,null,{"$f":"AGR!$G$48","v":5}]
["*5","PRC_RESID","Process","-","-","-","-","-",0,null,null,null,null,null,null,null,null,null,null,null,null,null,null,null,null,null,null,null,null,null,null,null,null,null,null,null,null,null,null,null,null,null,null,null,null,null,null,null,null,null,{"$f":"AGR!$H$48","v":6}]
["*"]
[{"$f":"IF(LEFT(OFFSET(AGR!$A$49,AX16,0),2)=\"\\I\",\"*\",\"\")","v":""},{"$f":"IF(A16=\"*\",\"\",VLOOKUP(\"*\"&AW16,$A$9:$B$14,2,FALSE))","v":"ACT_EFF"},{"$f":"IF($A16=\"*\",\"\",OFFSET(AGR!$B$49,AX16,0))","v":"AHCOA-E"},{"$f":"IF($A16=\"*\",\"\",VLOOKUP($B16,$B$10:$I$14,D$9,FALSE))","v":"-"},{"$f":"IF($A16=\"*\",\"\",VLOOKUP($B16,$B$10:$I$14,E$9,FALSE))","v":"ACTGRP"},"-","ANNUAL","-",0,{"$f":"IF($A16=\"*\",\"\",OFFSET(AGR!$B$49,AX16,SUMIF($B$10:$B$14,B16,$AY$10:$AY$14)))","v":0.65},{"$f":"IF($B16<>\"PRC_RESID\",\"\",IF(K$7=2005+OFFSET(AGR!$B$49,$AX16,SUMIF($B$10:$B$14,\"NCAP_TLIFE\",$AY$10:$AY$14)),0,\"\"))","v":""},{"$f":"IF($B16<>\"PRC_RESID\",\"\",IF(L$7=2005+OFFSET(AGR!$B$49,$AX16,SUMIF($B$10:$B$14,\"NCAP_TLIFE\",$AY$10:$AY$14)),0,\"\"))","v":""},{"$f":"IF($B16<>\"PRC_RESID\",\"\",IF(M$7=2005+OFFSET(AGR!$B$49,$AX16,SUMIF($B$10:$B$14,\"NCAP_TLIFE\",$AY$10:$AY$14)),0,\"\"))","v":""},{"$f":"IF($B16<>\"PRC_RESID\",\"\",IF(N$7=2005+OFFSET(AGR!$B$49,$AX16,SUMIF($B$10:$B$14,\"NCAP_TLIFE\",$AY$10:$AY$14)),0,\"\"))","v":""},{"$f":"IF($B16<>\"PRC_RESID\",\"\",IF(O$7=2005+OFFSET(AGR!$B$49,$AX16,SUMIF($B$10:$B$14,\"NCAP_TLIFE\",$AY$10:$AY$14)),0,\"\"))","v":""},{"$f":"IF($B16<>\"PRC_RESID\",\"\",IF(P$7=2005+OFFSET(AGR!$B$49,$AX16,SUMIF($B$10:$B$14,\"NCAP_TLIFE\",$AY$10:$AY$14)),0,\"\"))","v":""},{"$f":"IF($B16<>\"PRC_RESID\",\"\",IF(Q$7=2005+OFFSET(AGR!$B$49,$AX16,SUMIF($B$10:$B$14,\"NCAP_TLIFE\",$AY$10:$AY$14)),0,\"\"))","v":""},{"$f":"IF($B16<>\"PRC_RESID\",\"\",IF(R$7=2005+OFFSET(AGR!$B$49,$AX16,SUMIF($B$10:$B$14,\"NCAP_TLIFE\",$AY$10:$AY$14)),0,\"\"))","v":""},{"$f":"IF($B16<>\"PRC_RESID\",\"\",IF(S$7=2005+OFFSET(AGR!$B$49,$AX16,SUMIF($B$10:$B$14,\"NCAP_TLIFE\",$AY$10:$AY$14)),0,\"\"))","v":""},{"$f":"IF($B16<>\"PRC_RESID\",\"\",IF(T$7=2005+OFFSET(AGR!$B$49,$AX16,SUMIF($B$10:$B$14,\"NCAP_TLIFE\",$AY$10:$AY$14)),0,\"\"))","v":""},{"$f":"IF($B16<>\"PRC_RESID\",\"\",IF(U$7=2005+OFFSET(AGR!$B$49,$AX16,SUMIF($B$10:$B$14,\"NCAP_TLIFE\",$AY$10:$AY$14)),0,\"\"))","v":""},{"$f":"IF($B16<>\"PRC_RESID\",\"\",IF(V$7=2005+OFFSET(AGR!$B$49,$AX16,SUMIF($B$10:$B$14,\"NCAP_TLIFE\",$AY$10:$AY$14)),0,\"\"))","v":""},{"$f":"IF($B16<>\"PRC_RESID\",\"\",IF(W$7=2005+OFFSET(AGR!$B$49,$AX16,SUMIF($B$10:$B$14,\"NCAP_TLIFE\",$AY$10:$AY$14)),0,\"\"))","v":""},{"$f":"IF($B16<>\"PRC_RESID\",\"\",IF(X$7=2005+OFFSET(AGR!$B$49,$AX16,SUMIF($B$10:$B$14,\"NCAP_TLIFE\",$AY$10:$AY$14)),0,\"\"))","v":""},{"$f":"IF($B16<>\"PRC_RESID\",\"\",IF(Y$7=2005+OFFSET(AGR!$B$49,$AX16,SUMIF($B$10:$B$14,\"NCAP_TLIFE\",$AY$10:$AY$14)),0,\"\"))","v":""},{"$f":"IF($B16<>\"PRC_RESID\",\"\",IF(Z$7=2005+OFFSET(AGR!$B$49,$AX16,SUMIF($B$10:$B$14,\"NCAP_TLIFE\",$AY$10:$AY$14)),0,\"\"))","v":""},{"$f":"IF($B16<>\"PRC_RESID\",\"\",IF(AA$7=2005+OFFSET(AGR!$B$49,$AX16,SUMIF($B$10:$B$14,\"NCAP_TLIFE\",$AY$10:$AY$14)),0,\"\"))","v":""},{"$f":"IF($B16<>\"PRC_RESID\",\"\",IF(AB$7=2005+OFFSET(AGR!$B$49,$AX16,SUMIF($B$10:$B$14,\"NCAP_TLIFE\",$AY$10:$AY$14)),0,\"\"))","v":""},{"$f":"IF($B16<>\"PRC_RESID\",\"\",IF(AC$7=2005+OFFSET(AGR!$B$49,$AX16,SUMIF($B$10:$B$14,\"NCAP_TLIFE\",$AY$10:$AY$14)),0,\"\"))","v":""},{"$f":"IF($B16<>\"PRC_RESID\",\"\",IF(AD$7=2005+OFFSET(AGR!$B$49,$AX16,SUMIF($B$10:$B$14,\"NCAP_TLIFE\",$AY$10:$AY$14)),0,\"\"))","v":""},{"$f":"IF($B16<>\"PRC_RESID\",\"\",IF(AE$7=2005+OFFSET(AGR!$B$49,$AX16,SUMIF($B$10:$B$14,\"NCAP_TLIFE\",$AY$10:$AY$14)),0,\"\"))","v":""},{"$f":"IF($B16<>\"PRC_RESID\",\"\",IF(AF$7=2005+OFFSET(AGR!$B$49,$AX16,SUMIF($B$10:$B$14,\"NCAP_TLIFE\",$AY$10:$AY$14)),0,\"\"))","v":""},{"$f":"IF($B16<>\"PRC_RESID\",\"\",IF(AG$7=2005+OFFSET(AGR!$B$49,$AX16,SUMIF($B$10:$B$14,\"NCAP_TLIFE\",$AY$10:$AY$14)),0,\"\"))","v":""},{"$f":"IF($B16<>\"PRC_RESID\",\"\",IF(AH$7=2005+OFFSET(AGR!$B$49,$AX16,SUMIF($B$10:$B$14,\"NCAP_TLIFE\",$AY$10:$AY$14)),0,\"\"))","v":""},null,null,null,null,{"$f":"IF($B16<>\"PRC_RESID\",\"\",IF(AM$7=2005+OFFSET(AGR!$B$49,$AX16,SUMIF($B$10:$B$14,\"NCAP_TLIFE\",$AY$10:$AY$14)),0,\"\"))","v":""},null,null,null,null,{"$f":"IF($B16<>\"PRC_RESID\",\"\",IF(AR$7=2005+OFFSET(AGR!$B$49,$AX16,SUMIF($B$10:$B$14,\"NCAP_TLIFE\",$AY$10:$AY$14)),0,\"\"))","v":""},{"$f":"IF($B16<>\"PRC_RESID\",\"\",IF(AS$7=2005+OFFSET(AGR!$B$49,$AX16,SUMIF($B$10:$B$14,\"NCAP_TLIFE\",$AY$10:$AY$14)),0,\"\"))","v":""},{"$f":"IF($B16<>\"PRC_RESID\",\"\",IF(AT$7=2005+OFFSET(AGR!$B$49,$AX16,SUMIF($B$10:$B$14,\"NCAP_TLIFE\",$AY$10:$AY$14)),0,\"\"))","v":""},{"$f":"IF($B16<>\"PRC_RESID\",\"\",IF(AU$7=2005+OFFSET(AGR!$B$49,$AX16,SUMIF($B$10:$B$14,\"NCAP_TLIFE\",$AY$10:$AY$14)),0,\"\"))","v":""},null,1,1]
[{"$f":"IF(LEFT(OFFSET(AGR!$A$49,AX17,0),2)=\"\\I\",\"*\",\"\")","v":""},"ACT_EFF",{"$f":"IF($A17=\"*\",\"\",OFFSET(AGR!$B$49,AX17,0))","v":"AHOHF-E"},{"$f":"IF($A17=\"*\",\"\",VLOOKUP($B17,$B$10:$I$14,D$9,FALSE))","v":"-"},"ACTGRP","-","ANNUAL","-",0,{"$f":"IF($A17=\"*\",\"\",OFFSET(AGR!$B$49,AX17,SUMIF($B$10:$B$14,B17,$AY$10:$AY$14)))","v":0.7},{"$f":"IF($B17<>\"PRC_RESID\",\"\",IF(K$7=2005+OFFSET(AGR!$B$49,$AX17,SUMIF($B$10:$B$14,\"NCAP_TLIFE\",$AY$10:$AY$14)),0,\"\"))","v":""},{"$f":"IF($B17<>\"PRC_RESID\",\"\",IF(L$7=2005+OFFSET(AGR!$B$49,$AX17,SUMIF($B$10:$B$14,\"NCAP_TLIFE\",$AY$10:$AY$14)),0,\"\"))","v":""},{"$f":"IF($B17<>\"PRC_RESID\",\"\",IF(M$7=2005+OFFSET(AGR!$B$49,$AX17,SUMIF($B$10:$B$14,\"NCAP_TLIFE\",$AY$10:$AY$14)),0,\"\"))","v":""},{"$f":"IF($B17<>\"PRC_RESID\",\"\",IF(N$7=2005+OFFSET(AGR!$B$49,$AX17,SUMIF($B$10:$B$14,\"NCAP_TLIFE\",$AY$10:$AY$14)),0,\"\"))","v":""},{"$f":"IF($B17<>\"PRC_RESID\",\"\",IF(O$7=2005+OFFSET(AGR!$B$49,$AX17,SUMIF($B$10:$B$14,\"NCAP_TLIFE\",$AY$10:$AY$14)),0,\"\"))","v":""},{"$f":"IF($B17<>\"PRC_RESID\",\"\",IF(P$7=2005+OFFSET(AGR!$B$49,$AX17,SUMIF($B$10:$B$14,\"NCAP_TLIFE\",$AY$10:$AY$14)),0,\"\"))","v":""},{"$f":"IF($B17<>\"PRC_RESID\",\"\",IF(Q$7=2005+OFFSET(AGR!$B$49,$AX17,SUMIF($B$10:$B$14,\"NCAP_TLIFE\",$AY$10:$AY$14)),0,\"\"))","v":""},{"$f":"IF($B17<>\"PRC_RESID\",\"\",IF(R$7=2005+OFFSET(AGR!$B$49,$AX17,SUMIF($B$10:$B$14,\"NCAP_TLIFE\",$AY$10:$AY$14)),0,\"\"))","v":""},{"$f":"IF($B17<>\"PRC_RESID\",\"\",IF(S$7=2005+OFFSET(AGR!$B$49,$AX17,SUMIF($B$10:$B$14,\"NCAP_TLIFE\",$AY$10:$AY$14)),0,\"\"))","v":""},{"$f":"IF($B17<>\"PRC_RESID\",\"\",IF(T$7=2005+OFFSET(AGR!$B$49,$AX17,SUMIF($B$10:$B$14,\"NCAP_TLIFE\",$AY$10:$AY$14)),0,\"\"))","v":""},{"$f":"IF($B17<>\"PRC_RESID\",\"\",IF(U$7=2005+OFFSET(AGR!$B$49,$AX17,SUMIF($B$10:$B$14,\"NCAP_TLIFE\",$AY$10:$AY$14)),0,\"\"))","v":""},{"$f":"IF($B17<>\"PRC_RESID\",\"\",IF(V$7=2005+OFFSET(AGR!$B$49,$AX17,SUMIF($B$10:$B$14,\"NCAP_TLIFE\",$AY$10:$AY$14)),0,\"\"))","v":""},{"$f":"IF($B17<>\"PRC_RESID\",\"\",IF(W$7=2005+OFFSET(AGR!$B$49,$AX17,SUMIF($B$10:$B$14,\"NCAP_TLIFE\",$AY$10:$AY$14)),0,\"\"))","v":""},{"$f":"IF($B17<>\"PRC_RESID\",\"\",IF(X$7=2005+OFFSET(AGR!$B$49,$AX17,SUMIF($B$10:$B$14,\"NCAP_TLIFE\",$AY$10:$AY$14)),0,\"\"))","v":""},{"$f":"IF($B17<>\"PRC_RESID\",\"\",IF(Y$7=2005+OFFSET(AGR!$B$49,$AX17,SUMIF($B$10:$B$14,\"NCAP_TLIFE\",$AY$10:$AY$14)),0,\"\"))","v":""},{"$f":"IF($B17<>\"PRC_RESID\",\"\",IF(Z$7=2005+OFFSET(AGR!$B$49,$AX17,SUMIF($B$10:$B$14,\"NCAP_TLIFE\",$AY$10:$AY$14)),0,\"\"))","v":""},{"$f":"IF($B17<>\"PRC_RESID\",\"\",IF(AA$7=2005+OFFSET(AGR!$B$49,$AX17,SUMIF($B$10:$B$14,\"NCAP_TLIFE\",$AY$10:$AY$14)),0,\"\"))","v":""},{"$f":"IF($B17<>\"PRC_RESID\",\"\",IF(AB$7=2005+OFFSET(AGR!$B$49,$AX17,SUMIF($B$10:$B$14,\"NCAP_TLIFE\",$AY$10:$AY$14)),0,\"\"))","v":""},{"$f":"IF($B17<>\"PRC_RESID\",\"\",IF(AC$7=2005+OFFSET(AGR!$B$49,$AX17,SUMIF($B$10:$B$14,\"NCAP_TLIFE\",$AY$10:$AY$14)),0,\"\"))","v":""},{"$f":"IF($B17<>\"PRC_RESID\",\"\",IF(AD$7=2005+OFFSET(AGR!$B$49,$AX17,SUMIF($B$10:$B$14,\"NCAP_TLIFE\",$AY$10:$AY$14)),0,\"\"))","v":""},{"$f":"IF($B17<>\"PRC_RESID\",\"\",IF(AE$7=2005+OFFSET(AGR!$B$49,$AX17,SUMIF($B$10:$B$14,\"NCAP_TLIFE\",$AY$10:$AY$14)),0,\"\"))","v":""},{"$f":"IF($B17<>\"PRC_RESID\",\"\",IF(AF$7=2005+OFFSET(AGR!$B$49,$AX17,SUMIF($B$10:$B$14,\"NCAP_TLIFE\",$AY$10:$AY$14)),0,\"\"))","v":""},{"$f":"IF($B17<>\"PRC_RESID\",\"\",IF(AG$7=2005+OFFSET(AGR!$B$49,$AX17,SUMIF($B$10:$B$14,\"NCAP_TLIFE\",$AY$10:$AY$14)),0,\"\"))","v":""},{"$f":"IF($B17<>\"PRC_RESID\",\"\",IF(AH$7=2005+OFFSET(AGR!$B$49,$AX17,SUMIF($B$10:$B$14,\"NCAP_TLIFE\",$AY$10:$AY$14)),0,\"\"))","v":""},null,null,null,null,{"$f":"IF($B17<>\"PRC_RESID\",\"\",IF(AM$7=2005+OFFSET(AGR!$B$49,$AX17,SUMIF($B$10:$B$14,\"NCAP_TLIFE\",$AY$10:$AY$14)),0,\"\"))","v":""},null,null,null,null,{"$f":"IF($B17<>\"PRC_RESID\",\"\",IF(AR$7=2005+OFFSET(AGR!$B$49,$AX17,SUMIF($B$10:$B$14,\"NCAP_TLIFE\",$AY$10:$AY$14)),0,\"\"))","v":""},{"$f":"IF($B17<>\"PRC_RESID\",\"\",IF(AS$7=2005+OFFSET(AGR!$B$49,$AX17,SUMIF($B$10:$B$14,\"NCAP_TLIFE\",$AY$10:$AY$14)),0,\"\"))","v":""},{"$f":"IF($B17<>\"PRC_RESID\",\"\",IF(AT$7=2005+OFFSET(AGR!$B$49,$AX17,SUMIF($B$10:$B$14,\"NCAP_TLIFE\",$AY$10:$AY$14)),0,\"\"))","v":""},{"$f":"IF($B17<>\"PRC_RESID\",\"\",IF(AU$7=2005+OFFSET(AGR!$B$49,$AX17,SUMIF($B$10:$B$14,\"NCAP_TLIFE\",$AY$10:$AY$14)),0,\"\"))","v":""},null,{"$f":"IF(AX16=AGR!$W$72,AW16+1,AW16)","v":1},{"$f":"IF(AW17=AW16,AX16+1,1)","v":2}]
[{"$f":"IF(LEFT(OFFSET(AGR!$A$49,AX18,0),2)=\"\\I\",\"*\",\"\")","v":""},"ACT_EFF",{"$f":"IF($A18=\"*\",\"\",OFFSET(AGR!$B$49,AX18,0))","v":"AHOKE-E"},"-","ACTGRP","-","ANNUAL","-",0,{"$f":"IF($A18=\"*\",\"\",OFFSET(AGR!$B$49,AX18,SUMIF($B$10:$B$14,B18,$AY$10:$AY$14)))","v":0.7},{"$f":"IF($B18<>\"PRC_RESID\",\"\",IF(K$7=2005+OFFSET(AGR!$B$49,$AX18,SUMIF($B$10:$B$14,\"NCAP_TLIFE\",$AY$10:$AY$14)),0,\"\"))","v":""},{"$f":"IF($B18<>\"PRC_RESID\",\"\",IF(L$7=2005+OFFSET(AGR!$B$49,$AX18,SUMIF($B$10:$B$14,\"NCAP_TLIFE\",$AY$10:$AY$14)),0,\"\"))","v":""},{"$f":"IF($B18<>\"PRC_RESID\",\"\",IF(M$7=2005+OFFSET(AGR!$B$49,$AX18,SUMIF($B$10:$B$14,\"NCAP_TLIFE\",$AY$10:$AY$14)),0,\"\"))","v":""},{"$f":"IF($B18<>\"PRC_RESID\",\"\",IF(N$7=2005+OFFSET(AGR!$B$49,$AX18,SUMIF($B$10:$B$14,\"NCAP_TLIFE\",$AY$10:$AY$14)),0,\"\"))","v":""},{"$f":"IF($B18<>\"PRC_RESID\",\"\",IF(O$7=2005+OFFSET(AGR!$B$49,$AX18,SUMIF($B$10:$B$14,\"NCAP_TLIFE\",$AY$10:$AY$14)),0,\"\"))","v":""},{"$f":"IF($B18<>\"PRC_RESID\",\"\",IF(P$7=2005+OFFSET(AGR!$B$49,$AX18,SUMIF($B$10:$B$14,\"NCAP_TLIFE\",$AY$10:$AY$14)),0,\"\"))","v":""},{"$f":"IF($B18<>\"PRC_RESID\",\"\",IF(Q$7=2005+OFFSET(AGR!$B$49,$AX18,SUMIF($B$10:$B$14,\"NCAP_TLIFE\",$AY$10:$AY$14)),0,\"\"))","v":""},{"$f":"IF($B18<>\"PRC_RESID\",\"\",IF(R$7=2005+OFFSET(AGR!$B$49,$AX18,SUMIF($B$10:$B$14,\"NCAP_TLIFE\",$AY$10:$AY$14)),0,\"\"))","v":""},{"$f":"IF($B18<>\"PRC_RESID\",\"\",IF(S$7=2005+OFFSET(AGR!$B$49,$AX18,SUMIF($B$10:$B$14,\"NCAP_TLIFE\",$AY$10:$AY$14)),0,\"\"))","v":""},{"$f":"IF($B18<>\"PRC_RESID\",\"\",IF(T$7=2005+OFFSET(AGR!$B$49,$AX18,SUMIF($B$10:$B$14,\"NCAP_TLIFE\",$AY$10:$AY$14)),0,\"\"))","v":""},{"$f":"IF($B18<>\"PRC_RESID\",\"\",IF(U$7=2005+OFFSET(AGR!$B$49,$AX18,SUMIF($B$10:$B$14,\"NCAP_TLIFE\",$AY$10:$AY$14)),0,\"\"))","v":""},{"$f":"IF($B18<>\"PRC_RESID\",\"\",IF(V$7=2005+OFFSET(AGR!$B$49,$AX18,SUMIF($B$10:$B$14,\"NCAP_TLIFE\",$AY$10:$AY$14)),0,\"\"))","v":""},{"$f":"IF($B18<>\"PRC_RESID\",\"\",IF(W$7=2005+OFFSET(AGR!$B$49,$AX18,SUMIF($B$10:$B$14,\"NCAP_TLIFE\",$AY$10:$AY$14)),0,\"\"))","v":""},{"$f":"IF($B18<>\"PRC_RESID\",\"\",IF(X$7=2005+OFFSET(AGR!$B$49,$AX18,SUMIF($B$10:$B$14,\"NCAP_TLIFE\",$AY$10:$AY$14)),0,\"\"))","v":""},{"$f":"IF($B18<>\"PRC_RESID\",\"\",IF(Y$7=2005+OFFSET(AGR!$B$49,$AX18,SUMIF($B$10:$B$14,\"NCAP_TLIFE\",$AY$10:$AY$14)),0,\"\"))","v":""},{"$f":"IF($B18<>\"PRC_RESID\",\"\",IF(Z$7=2005+OFFSET(AGR!$B$49,$AX18,SUMIF($B$10:$B$14,\"NCAP_TLIFE\",$AY$10:$AY$14)),0,\"\"))","v":""},{"$f":"IF($B18<>\"PRC_RESID\",\"\",IF(AA$7=2005+OFFSET(AGR!$B$49,$AX18,SUMIF($B$10:$B$14,\"NCAP_TLIFE\",$AY$10:$AY$14)),0,\"\"))","v":""},{"$f":"IF($B18<>\"PRC_RESID\",\"\",IF(AB$7=2005+OFFSET(AGR!$B$49,$AX18,SUMIF($B$10:$B$14,\"NCAP_TLIFE\",$AY$10:$AY$14)),0,\"\"))","v":""},{"$f":"IF($B18<>\"PRC_RESID\",\"\",IF(AC$7=2005+OFFSET(AGR!$B$49,$AX18,SUMIF($B$10:$B$14,\"NCAP_TLIFE\",$AY$10:$AY$14)),0,\"\"))","v":""},{"$f":"IF($B18<>\"PRC_RESID\",\"\",IF(AD$7=2005+OFFSET(AGR!$B$49,$AX18,SUMIF($B$10:$B$14,\"NCAP_TLIFE\",$AY$10:$AY$14)),0,\"\"))","v":""},{"$f":"IF($B18<>\"PRC_RESID\",\"\",IF(AE$7=2005+OFFSET(AGR!$B$49,$AX18,SUMIF($B$10:$B$14,\"NCAP_TLIFE\",$AY$10:$AY$14)),0,\"\"))","v":""},{"$f":"IF($B18<>\"PRC_RESID\",\"\",IF(AF$7=2005+OFFSET(AGR!$B$49,$AX18,SUMIF($B$10:$B$14,\"NCAP_TLIFE\",$AY$10:$AY$14)),0,\"\"))","v":""},{"$f":"IF($B18<>\"PRC_RESID\",\"\",IF(AG$7=2005+OFFSET(AGR!$B$49,$AX18,SUMIF($B$10:$B$14,\"NCAP_TLIFE\",$AY$10:$AY$14)),0,\"\"))","v":""},{"$f":"IF($B18<>\"PRC_RESID\",\"\",IF(AH$7=2005+OFFSET(AGR!$B$49,$AX18,SUMIF($B$10:$B$14,\"NCAP_TLIFE\",$AY$10:$AY$14)),0,\"\"))","v":""},null,null,null,null,{"$f":"IF($B18<>\"PRC_RESID\",\"\",IF(AM$7=2005+OFFSET(AGR!$B$49,$AX18,SUMIF($B$10:$B$14,\"NCAP_TLIFE\",$AY$10:$AY$14)),0,\"\"))","v":""},null,null,null,null,{"$f":"IF($B18<>\"PRC_RESID\",\"\",IF(AR$7=2005+OFFSET(AGR!$B$49,$AX18,SUMIF($B$10:$B$14,\"NCAP_TLIFE\",$AY$10:$AY$14)),0,\"\"))","v":""},{"$f":"IF($B18<>\"PRC_RESID\",\"\",IF(AS$7=2005+OFFSET(AGR!$B$49,$AX18,SUMIF($B$10:$B$14,\"NCAP_TLIFE\",$AY$10:$AY$14)),0,\"\"))","v":""},{"$f":"IF($B18<>\"PRC_RESID\",\"\",IF(AT$7=2005+OFFSET(AGR!$B$49,$AX18,SUMIF($B$10:$B$14,\"NCAP_TLIFE\",$AY$10:$AY$14)),0,\"\"))","v":""},{"$f":"IF($B18<>\"PRC_RESID\",\"\",IF(AU$7=2005+OFFSET(AGR!$B$49,$AX18,SUMIF($B$10:$B$14,\"NCAP_TLIFE\",$AY$10:$AY$14)),0,\"\"))","v":""},null,{"$f":"IF(AX17=AGR!$W$72,AW17+1,AW17)","v":1},{"$f":"IF(AW18=AW17,AX17+1,1)","v":3}]
[{"$f":"IF(LEFT(OFFSET(AGR!$A$49,AX19,0),2)=\"\\I\",\"*\",\"\")","v":""},"ACT_EFF",{"$f":"IF($A19=\"*\",\"\",OFFSET(AGR!$B$49,AX19,0))","v":"AHOLP-E"},"-","ACTGRP","-","ANNUAL","-",0,{"$f":"IF($A19=\"*\",\"\",OFFSET(AGR!$B$49,AX19,SUMIF($B$10:$B$14,B19,$AY$10:$AY$14)))","v":0.75},{"$f":"IF($B19<>\"PRC_RESID\",\"\",IF(K$7=2005+OFFSET(AGR!$B$49,$AX19,SUMIF($B$10:$B$14,\"NCAP_TLIFE\",$AY$10:$AY$14)),0,\"\"))","v":""},{"$f":"IF($B19<>\"PRC_RESID\",\"\",IF(L$7=2005+OFFSET(AGR!$B$49,$AX19,SUMIF($B$10:$B$14,\"NCAP_TLIFE\",$AY$10:$AY$14)),0,\"\"))","v":""},{"$f":"IF($B19<>\"PRC_RESID\",\"\",IF(M$7=2005+OFFSET(AGR!$B$49,$AX19,SUMIF($B$10:$B$14,\"NCAP_TLIFE\",$AY$10:$AY$14)),0,\"\"))","v":""},{"$f":"IF($B19<>\"PRC_RESID\",\"\",IF(N$7=2005+OFFSET(AGR!$B$49,$AX19,SUMIF($B$10:$B$14,\"NCAP_TLIFE\",$AY$10:$AY$14)),0,\"\"))","v":""},{"$f":"IF($B19<>\"PRC_RESID\",\"\",IF(O$7=2005+OFFSET(AGR!$B$49,$AX19,SUMIF($B$10:$B$14,\"NCAP_TLIFE\",$AY$10:$AY$14)),0,\"\"))","v":""},{"$f":"IF($B19<>\"PRC_RESID\",\"\",IF(P$7=2005+OFFSET(AGR!$B$49,$AX19,SUMIF($B$10:$B$14,\"NCAP_TLIFE\",$AY$10:$AY$14)),0,\"\"))","v":""},{"$f":"IF($B19<>\"PRC_RESID\",\"\",IF(Q$7=2005+OFFSET(AGR!$B$49,$AX19,SUMIF($B$10:$B$14,\"NCAP_TLIFE\",$AY$10:$AY$14)),0,\"\"))","v":""},{"$f":"IF($B19<>\"PRC_RESID\",\"\",IF(R$7=2005+OFFSET(AGR!$B$49,$AX19,SUMIF($B$10:$B$14,\"NCAP_TLIFE\",$AY$10:$AY$14)),0,\"\"))","v":""},{"$f":"IF($B19<>\"PRC_RESID\",\"\",IF(S$7=2005+OFFSET(AGR!$B$49,$AX19,SUMIF($B$10:$B$14,\"NCAP_TLIFE\",$AY$10:$AY$14)),0,\"\"))","v":""},{"$f":"IF($B19<>\"PRC_RESID\",\"\",IF(T$7=2005+OFFSET(AGR!$B$49,$AX19,SUMIF($B$10:$B$14,\"NCAP_TLIFE\",$AY$10:$AY$14)),0,\"\"))","v":""},{"$f":"IF($B19<>\"PRC_RESID\",\"\",IF(U$7=2005+OFFSET(AGR!$B$49,$AX19,SUMIF($B$10:$B$14,\"NCAP_TLIFE\",$AY$10:$AY$14)),0,\"\"))","v":""},{"$f":"IF($B19<>\"PRC_RESID\",\"\",IF(V$7=2005+OFFSET(AGR!$B$49,$AX19,SUMIF($B$10:$B$14,\"NCAP_TLIFE\",$AY$10:$AY$14)),0,\"\"))","v":""},{"$f":"IF($B19<>\"PRC_RESID\",\"\",IF(W$7=2005+OFFSET(AGR!$B$49,$AX19,SUMIF($B$10:$B$14,\"NCAP_TLIFE\",$AY$10:$AY$14)),0,\"\"))","v":""},{"$f":"IF($B19<>\"PRC_RESID\",\"\",IF(X$7=2005+OFFSET(AGR!$B$49,$AX19,SUMIF($B$10:$B$14,\"NCAP_TLIFE\",$AY$10:$AY$14)),0,\"\"))","v":""},{"$f":"IF($B19<>\"PRC_RESID\",\"\",IF(Y$7=2005+OFFSET(AGR!$B$49,$AX19,SUMIF($B$10:$B$14,\"NCAP_TLIFE\",$AY$10:$AY$14)),0,\"\"))","v":""},{"$f":"IF($B19<>\"PRC_RESID\",\"\",IF(Z$7=2005+OFFSET(AGR!$B$49,$AX19,SUMIF($B$10:$B$14,\"NCAP_TLIFE\",$AY$10:$AY$14)),0,\"\"))","v":""},{"$f":"IF($B19<>\"PRC_RESID\",\"\",IF(AA$7=2005+OFFSET(AGR!$B$49,$AX19,SUMIF($B$10:$B$14,\"NCAP_TLIFE\",$AY$10:$AY$14)),0,\"\"))","v":""},{"$f":"IF($B19<>\"PRC_RESID\",\"\",IF(AB$7=2005+OFFSET(AGR!$B$49,$AX19,SUMIF($B$10:$B$14,\"NCAP_TLIFE\",$AY$10:$AY$14)),0,\"\"))","v":""},{"$f":"IF($B19<>\"PRC_RESID\",\"\",IF(AC$7=2005+OFFSET(AGR!$B$49,$AX19,SUMIF($B$10:$B$14,\"NCAP_TLIFE\",$AY$10:$AY$14)),0,\"\"))","v":""},{"$f":"IF($B19<>\"PRC_RESID\",\"\",IF(AD$7=2005+OFFSET(AGR!$B$49,$AX19,SUMIF($B$10:$B$14,\"NCAP_TLIFE\",$AY$10:$AY$14)),0,\"\"))","v":""},{"$f":"IF($B19<>\"PRC_RESID\",\"\",IF(AE$7=2005+OFFSET(AGR!$B$49,$AX19,SUMIF($B$10:$B$14,\"NCAP_TLIFE\",$AY$10:$AY$14)),0,\"\"))","v":""},{"$f":"IF($B19<>\"PRC_RESID\",\"\",IF(AF$7=2005+OFFSET(AGR!$B$49,$AX19,SUMIF($B$10:$B$14,\"NCAP_TLIFE\",$AY$10:$AY$14)),0,\"\"))","v":""},{"$f":"IF($B19<>\"PRC_RESID\",\"\",IF(AG$7=2005+OFFSET(AGR!$B$49,$AX19,SUMIF($B$10:$B$14,\"NCAP_TLIFE\",$AY$10:$AY$14)),0,\"\"))","v":""},{"$f":"IF($B19<>\"PRC_RESID\",\"\",IF(AH$7=2005+OFFSET(AGR!$B$49,$AX19,SUMIF($B$10:$B$14,\"NCAP_TLIFE\",$AY$10:$AY$14)),0,\"\"))","v":""},null,null,null,null,{"$f":"IF($B19<>\"PRC_RESID\",\"\",IF(AM$7=2005+OFFSET(AGR!$B$49,$AX19,SUMIF($B$10:$B$14,\"NCAP_TLIFE\",$AY$10:$AY$14)),0,\"\"))","v":""},null,null,null,null,{"$f":"IF($B19<>\"PRC_RESID\",\"\",IF(AR$7=2005+OFFSET(AGR!$B$49,$AX19,SUMIF($B$10:$B$14,\"NCAP_TLIFE\",$AY$10:$AY$14)),0,\"\"))","v":""},{"$f":"IF($B19<>\"PRC_RESID\",\"\",IF(AS$7=2005+OFFSET(AGR!$B$49,$AX19,SUMIF($B$10:$B$14,\"NCAP_TLIFE\",$AY$10:$AY$14)),0,\"\"))","v":""},{"$f":"IF($B19<>\"PRC_RESID\",\"\",IF(AT$7=2005+OFFSET(AGR!$B$49,$AX19,SUMIF($B$10:$B$14,\"NCAP_TLIFE\",$AY$10:$AY$14)),0,\"\"))","v":""},{"$f":"IF($B19<>\"PRC_RESID\",\"\",IF(AU$7=2005+OFFSET(AGR!$B$49,$AX19,SUMIF($B$10:$B$14,\"NCAP_TLIFE\",$AY$10:$AY$14)),0,\"\"))","v":""},null,{"$f":"IF(AX18=AGR!$W$72,AW18+1,AW18)","v":1},4]
[{"$f":"IF(LEFT(OFFSET(AGR!$A$49,AX20,0),2)=\"\\I\",\"*\",\"\")","v":""},"ACT_EFF",{"$f":"IF($A20=\"*\",\"\",OFFSET(AGR!$B$49,AX20,0))","v":"AHELC-E"},"-","ACTGRP","-","ANNUAL","-",0,{"$f":"IF($A20=\"*\",\"\",OFFSET(AGR!$B$49,AX20,SUMIF($B$10:$B$14,B20,$AY$10:$AY$14)))","v":0.75},{"$f":"IF($B20<>\"PRC_RESID\",\"\",IF(K$7=2005+OFFSET(AGR!$B$49,$AX20,SUMIF($B$10:$B$14,\"NCAP_TLIFE\",$AY$10:$AY$14)),0,\"\"))","v":""},{"$f":"IF($B20<>\"PRC_RESID\",\"\",IF(L$7=2005+OFFSET(AGR!$B$49,$AX20,SUMIF($B$10:$B$14,\"NCAP_TLIFE\",$AY$10:$AY$14)),0,\"\"))","v":""},{"$f":"IF($B20<>\"PRC_RESID\",\"\",IF(M$7=2005+OFFSET(AGR!$B$49,$AX20,SUMIF($B$10:$B$14,\"NCAP_TLIFE\",$AY$10:$AY$14)),0,\"\"))","v":""},{"$f":"IF($B20<>\"PRC_RESID\",\"\",IF(N$7=2005+OFFSET(AGR!$B$49,$AX20,SUMIF($B$10:$B$14,\"NCAP_TLIFE\",$AY$10:$AY$14)),0,\"\"))","v":""},{"$f":"IF($B20<>\"PRC_RESID\",\"\",IF(O$7=2005+OFFSET(AGR!$B$49,$AX20,SUMIF($B$10:$B$14,\"NCAP_TLIFE\",$AY$10:$AY$14)),0,\"\"))","v":""},{"$f":"IF($B20<>\"PRC_RESID\",\"\",IF(P$7=2005+OFFSET(AGR!$B$49,$AX20,SUMIF($B$10:$B$14,\"NCAP_TLIFE\",$AY$10:$AY$14)),0,\"\"))","v":""},{"$f":"IF($B20<>\"PRC_RESID\",\"\",IF(Q$7=2005+OFFSET(AGR!$B$49,$AX20,SUMIF($B$10:$B$14,\"NCAP_TLIFE\",$AY$10:$AY$14)),0,\"\"))","v":""},{"$f":"IF($B20<>\"PRC_RESID\",\"\",IF(R$7=2005+OFFSET(AGR!$B$49,$AX20,SUMIF($B$10:$B$14,\"NCAP_TLIFE\",$AY$10:$AY$14)),0,\"\"))","v":""},{"$f":"IF($B20<>\"PRC_RESID\",\"\",IF(S$7=2005+OFFSET(AGR!$B$49,$AX20,SUMIF($B$10:$B$14,\"NCAP_TLIFE\",$AY$10:$AY$14)),0,\"\"))","v":""},{"$f":"IF($B20<>\"PRC_RESID\",\"\",IF(T$7=2005+OFFSET(AGR!$B$49,$AX20,SUMIF($B$10:$B$14,\"NCAP_TLIFE\",$AY$10:$AY$14)),0,\"\"))","v":""},{"$f":"IF($B20<>\"PRC_RESID\",\"\",IF(U$7=2005+OFFSET(AGR!$B$49,$AX20,SUMIF($B$10:$B$14,\"NCAP_TLIFE\",$AY$10:$AY$14)),0,\"\"))","v":""},{"$f":"IF($B20<>\"PRC_RESID\",\"\",IF(V$7=2005+OFFSET(AGR!$B$49,$AX20,SUMIF($B$10:$B$14,\"NCAP_TLIFE\",$AY$10:$AY$14)),0,\"\"))","v":""},{"$f":"IF($B20<>\"PRC_RESID\",\"\",IF(W$7=2005+OFFSET(AGR!$B$49,$AX20,SUMIF($B$10:$B$14,\"NCAP_TLIFE\",$AY$10:$AY$14)),0,\"\"))","v":""},{"$f":"IF($B20<>\"PRC_RESID\",\"\",IF(X$7=2005+OFFSET(AGR!$B$49,$AX20,SUMIF($B$10:$B$14,\"NCAP_TLIFE\",$AY$10:$AY$14)),0,\"\"))","v":""},{"$f":"IF($B20<>\"PRC_RESID\",\"\",IF(Y$7=2005+OFFSET(AGR!$B$49,$AX20,SUMIF($B$10:$B$14,\"NCAP_TLIFE\",$AY$10:$AY$14)),0,\"\"))","v":""},{"$f":"IF($B20<>\"PRC_RESID\",\"\",IF(Z$7=2005+OFFSET(AGR!$B$49,$AX20,SUMIF($B$10:$B$14,\"NCAP_TLIFE\",$AY$10:$AY$14)),0,\"\"))","v":""},{"$f":"IF($B20<>\"PRC_RESID\",\"\",IF(AA$7=2005+OFFSET(AGR!$B$49,$AX20,SUMIF($B$10:$B$14,\"NCAP_TLIFE\",$AY$10:$AY$14)),0,\"\"))","v":""},{"$f":"IF($B20<>\"PRC_RESID\",\"\",IF(AB$7=2005+OFFSET(AGR!$B$49,$AX20,SUMIF($B$10:$B$14,\"NCAP_TLIFE\",$AY$10:$AY$14)),0,\"\"))","v":""},{"$f":"IF($B20<>\"PRC_RESID\",\"\",IF(AC$7=2005+OFFSET(AGR!$B$49,$AX20,SUMIF($B$10:$B$14,\"NCAP_TLIFE\",$AY$10:$AY$14)),0,\"\"))","v":""},{"$f":"IF($B20<>\"PRC_RESID\",\"\",IF(AD$7=2005+OFFSET(AGR!$B$49,$AX20,SUMIF($B$10:$B$14,\"NCAP_TLIFE\",$AY$10:$AY$14)),0,\"\"))","v":""},{"$f":"IF($B20<>\"PRC_RESID\",\"\",IF(AE$7=2005+OFFSET(AGR!$B$49,$AX20,SUMIF($B$10:$B$14,\"NCAP_TLIFE\",$AY$10:$AY$14)),0,\"\"))","v":""},{"$f":"IF($B20<>\"PRC_RESID\",\"\",IF(AF$7=2005+OFFSET(AGR!$B$49,$AX20,SUMIF($B$10:$B$14,\"NCAP_TLIFE\",$AY$10:$AY$14)),0,\"\"))","v":""},{"$f":"IF($B20<>\"PRC_RESID\",\"\",IF(AG$7=2005+OFFSET(AGR!$B$49,$AX20,SUMIF($B$10:$B$14,\"NCAP_TLIFE\",$AY$10:$AY$14)),0,\"\"))","v":""},{"$f":"IF($B20<>\"PRC_RESID\",\"\",IF(AH$7=2005+OFFSET(AGR!$B$49,$AX20,SUMIF($B$10:$B$14,\"NCAP_TLIFE\",$AY$10:$AY$14)),0,\"\"))","v":""},null,null,null,null,{"$f":"IF($B20<>\"PRC_RESID\",\"\",IF(AM$7=2005+OFFSET(AGR!$B$49,$AX20,SUMIF($B$10:$B$14,\"NCAP_TLIFE\",$AY$10:$AY$14)),0,\"\"))","v":""},null,null,null,null,{"$f":"IF($B20<>\"PRC_RESID\",\"\",IF(AR$7=2005+OFFSET(AGR!$B$49,$AX20,SUMIF($B$10:$B$14,\"NCAP_TLIFE\",$AY$10:$AY$14)),0,\"\"))","v":""},{"$f":"IF($B20<>\"PRC_RESID\",\"\",IF(AS$7=2005+OFFSET(AGR!$B$49,$AX20,SUMIF($B$10:$B$14,\"NCAP_TLIFE\",$AY$10:$AY$14)),0,\"\"))","v":""},{"$f":"IF($B20<>\"PRC_RESID\",\"\",IF(AT$7=2005+OFFSET(AGR!$B$49,$AX20,SUMIF($B$10:$B$14,\"NCAP_TLIFE\",$AY$10:$AY$14)),0,\"\"))","v":""},{"$f":"IF($B20<>\"PRC_RESID\",\"\",IF(AU$7=2005+OFFSET(AGR!$B$49,$AX20,SUMIF($B$10:$B$14,\"NCAP_TLIFE\",$AY$10:$AY$14)),0,\"\"))","v":""},null,{"$f":"IF(AX19=AGR!$W$72,AW19+1,AW19)","v":1},5]
[{"$f":"IF(LEFT(OFFSET(AGR!$A$49,AX21,0),2)=\"\\I\",\"*\",\"\")","v":"*"},"",{"$f":"IF($A21=\"*\",\"\",OFFSET(AGR!$B$49,AX21,0))","v":""},"","","","","","",{"$f":"IF($A21=\"*\",\"\",OFFSET(AGR!$B$49,AX21,SUMIF($B$10:$B$14,B21,$AY$10:$AY$14)))","v":""},{"$f":"IF($B21<>\"PRC_RESID\",\"\",IF(K$7=2005+OFFSET(AGR!$B$49,$AX21,SUMIF($B$10:$B$14,\"NCAP_TLIFE\",$AY$10:$AY$14)),0,\"\"))","v":""},{"$f":"IF($B21<>\"PRC_RESID\",\"\",IF(L$7=2005+OFFSET(AGR!$B$49,$AX21,SUMIF($B$10:$B$14,\"NCAP_TLIFE\",$AY$10:$AY$14)),0,\"\"))","v":""},{"$f":"IF($B21<>\"PRC_RESID\",\"\",IF(M$7=2005+OFFSET(AGR!$B$49,$AX21,SUMIF($B$10:$B$14,\"NCAP_TLIFE\",$AY$10:$AY$14)),0,\"\"))","v":""},{"$f":"IF($B21<>\"PRC_RESID\",\"\",IF(N$7=2005+OFFSET(AGR!$B$49,$AX21,SUMIF($B$10:$B$14,\"NCAP_TLIFE\",$AY$10:$AY$14)),0,\"\"))","v":""},{"$f":"IF($B21<>\"PRC_RESID\",\"\",IF(O$7=2005+OFFSET(AGR!$B$49,$AX21,SUMIF($B$10:$B$14,\"NCAP_TLIFE\",$AY$10:$AY$14)),0,\"\"))","v":""},{"$f":"IF($B21<>\"PRC_RESID\",\"\",IF(P$7=2005+OFFSET(AGR!$B$49,$AX21,SUMIF($B$10:$B$14,\"NCAP_TLIFE\",$AY$10:$AY$14)),0,\"\"))","v":""},{"$f":"IF($B21<>\"PRC_RESID\",\"\",IF(Q$7=2005+OFFSET(AGR!$B$49,$AX21,SUMIF($B$10:$B$14,\"NCAP_TLIFE\",$AY$10:$AY$14)),0,\"\"))","v":""},{"$f":"IF($B21<>\"PRC_RESID\",\"\",IF(R$7=2005+OFFSET(AGR!$B$49,$AX21,SUMIF($B$10:$B$14,\"NCAP_TLIFE\",$AY$10:$AY$14)),0,\"\"))","v":""},{"$f":"IF($B21<>\"PRC_RESID\",\"\",IF(S$7=2005+OFFSET(AGR!$B$49,$AX21,SUMIF($B$10:$B$14,\"NCAP_TLIFE\",$AY$10:$AY$14)),0,\"\"))","v":""},{"$f":"IF($B21<>\"PRC_RESID\",\"\",IF(T$7=2005+OFFSET(AGR!$B$49,$AX21,SUMIF($B$10:$B$14,\"NCAP_TLIFE\",$AY$10:$AY$14)),0,\"\"))","v":""},{"$f":"IF($B21<>\"PRC_RESID\",\"\",IF(U$7=2005+OFFSET(AGR!$B$49,$AX21,SUMIF($B$10:$B$14,\"NCAP_TLIFE\",$AY$10:$AY$14)),0,\"\"))","v":""},{"$f":"IF($B21<>\"PRC_RESID\",\"\",IF(V$7=2005+OFFSET(AGR!$B$49,$AX21,SUMIF($B$10:$B$14,\"NCAP_TLIFE\",$AY$10:$AY$14)),0,\"\"))","v":""},{"$f":"IF($B21<>\"PRC_RESID\",\"\",IF(W$7=2005+OFFSET(AGR!$B$49,$AX21,SUMIF($B$10:$B$14,\"NCAP_TLIFE\",$AY$10:$AY$14)),0,\"\"))","v":""},{"$f":"IF($B21<>\"PRC_RESID\",\"\",IF(X$7=2005+OFFSET(AGR!$B$49,$AX21,SUMIF($B$10:$B$14,\"NCAP_TLIFE\",$AY$10:$AY$14)),0,\"\"))","v":""},{"$f":"IF($B21<>\"PRC_RESID\",\"\",IF(Y$7=2005+OFFSET(AGR!$B$49,$AX21,SUMIF($B$10:$B$14,\"NCAP_TLIFE\",$AY$10:$AY$14)),0,\"\"))","v":""},{"$f":"IF($B21<>\"PRC_RESID\",\"\",IF(Z$7=2005+OFFSET(AGR!$B$49,$AX21,SUMIF($B$10:$B$14,\"NCAP_TLIFE\",$AY$10:$AY$14)),0,\"\"))","v":""},{"$f":"IF($B21<>\"PRC_RESID\",\"\",IF(AA$7=2005+OFFSET(AGR!$B$49,$AX21,SUMIF($B$10:$B$14,\"NCAP_TLIFE\",$AY$10:$AY$14)),0,\"\"))","v":""},{"$f":"IF($B21<>\"PRC_RESID\",\"\",IF(AB$7=2005+OFFSET(AGR!$B$49,$AX21,SUMIF($B$10:$B$14,\"NCAP_TLIFE\",$AY$10:$AY$14)),0,\"\"))","v":""},{"$f":"IF($B21<>\"PRC_RESID\",\"\",IF(AC$7=2005+OFFSET(AGR!$B$49,$AX21,SUMIF($B$10:$B$14,\"NCAP_TLIFE\",$AY$10:$AY$14)),0,\"\"))","v":""},{"$f":"IF($B21<>\"PRC_RESID\",\"\",IF(AD$7=2005+OFFSET(AGR!$B$49,$AX21,SUMIF($B$10:$B$14,\"NCAP_TLIFE\",$AY$10:$AY$14)),0,\"\"))","v":""},{"$f":"IF($B21<>\"PRC_RESID\",\"\",IF(AE$7=2005+OFFSET(AGR!$B$49,$AX21,SUMIF($B$10:$B$14,\"NCAP_TLIFE\",$AY$10:$AY$14)),0,\"\"))","v":""},{"$f":"IF($B21<>\"PRC_RESID\",\"\",IF(AF$7=2005+OFFSET(AGR!$B$49,$AX21,SUMIF($B$10:$B$14,\"NCAP_TLIFE\",$AY$10:$AY$14)),0,\"\"))","v":""},{"$f":"IF($B21<>\"PRC_RESID\",\"\",IF(AG$7=2005+OFFSET(AGR!$B$49,$AX21,SUMIF($B$10:$B$14,\"NCAP_TLIFE\",$AY$10:$AY$14)),0,\"\"))","v":""},{"$f":"IF($B21<>\"PRC_RESID\",\"\",IF(AH$7=2005+OFFSET(AGR!$B$49,$AX21,SUMIF($B$10:$B$14,\"NCAP_TLIFE\",$AY$10:$AY$14)),0,\"\"))","v":""},null,null,null,null,{"$f":"IF($B21<>\"PRC_RESID\",\"\",IF(AM$7=2005+OFFSET(AGR!$B$49,$AX21,SUMIF($B$10:$B$14,\"NCAP_TLIFE\",$AY$10:$AY$14)),0,\"\"))","v":""},null,null,null,null,{"$f":"IF($B21<>\"PRC_RESID\",\"\",IF(AR$7=2005+OFFSET(AGR!$B$49,$AX21,SUMIF($B$10:$B$14,\"NCAP_TLIFE\",$AY$10:$AY$14)),0,\"\"))","v":""},{"$f":"IF($B21<>\"PRC_RESID\",\"\",IF(AS$7=2005+OFFSET(AGR!$B$49,$AX21,SUMIF($B$10:$B$14,\"NCAP_TLIFE\",$AY$10:$AY$14)),0,\"\"))","v":""},{"$f":"IF($B21<>\"PRC_RESID\",\"\",IF(AT$7=2005+OFFSET(AGR!$B$49,$AX21,SUMIF($B$10:$B$14,\"NCAP_TLIFE\",$AY$10:$AY$14)),0,\"\"))","v":""},{"$f":"IF($B21<>\"PRC_RESID\",\"\",IF(AU$7=2005+OFFSET(AGR!$B$49,$AX21,SUMIF($B$10:$B$14,\"NCAP_TLIFE\",$AY$10:$AY$14)),0,\"\"))","v":""},null,{"$f":"IF(AX20=AGR!$W$72,AW20+1,AW20)","v":1},6]
[{"$f":"IF(LEFT(OFFSET(AGR!$A$49,AX22,0),2)=\"\\I\",\"*\",\"\")","v":"*"},"",{"$f":"IF($A22=\"*\",\"\",OFFSET(AGR!$B$49,AX22,0))","v":""},"","","","","","",{"$f":"IF($A22=\"*\",\"\",OFFSET(AGR!$B$49,AX22,SUMIF($B$10:$B$14,B22,$AY$10:$AY$14)))","v":""},{"$f":"IF($B22<>\"PRC_RESID\",\"\",IF(K$7=2005+OFFSET(AGR!$B$49,$AX22,SUMIF($B$10:$B$14,\"NCAP_TLIFE\",$AY$10:$AY$14)),0,\"\"))","v":""},{"$f":"IF($B22<>\"PRC_RESID\",\"\",IF(L$7=2005+OFFSET(AGR!$B$49,$AX22,SUMIF($B$10:$B$14,\"NCAP_TLIFE\",$AY$10:$AY$14)),0,\"\"))","v":""},{"$f":"IF($B22<>\"PRC_RESID\",\"\",IF(M$7=2005+OFFSET(AGR!$B$49,$AX22,SUMIF($B$10:$B$14,\"NCAP_TLIFE\",$AY$10:$AY$14)),0,\"\"))","v":""},{"$f":"IF($B22<>\"PRC_RESID\",\"\",IF(N$7=2005+OFFSET(AGR!$B$49,$AX22,SUMIF($B$10:$B$14,\"NCAP_TLIFE\",$AY$10:$AY$14)),0,\"\"))","v":""},{"$f":"IF($B22<>\"PRC_RESID\",\"\",IF(O$7=2005+OFFSET(AGR!$B$49,$AX22,SUMIF($B$10:$B$14,\"NCAP_TLIFE\",$AY$10:$AY$14)),0,\"\"))","v":""},{"$f":"IF($B22<>\"PRC_RESID\",\"\",IF(P$7=2005+OFFSET(AGR!$B$49,$AX22,SUMIF($B$10:$B$14,\"NCAP_TLIFE\",$AY$10:$AY$14)),0,\"\"))","v":""},{"$f":"IF($B22<>\"PRC_RESID\",\"\",IF(Q$7=2005+OFFSET(AGR!$B$49,$AX22,SUMIF($B$10:$B$14,\"NCAP_TLIFE\",$AY$10:$AY$14)),0,\"\"))","v":""},{"$f":"IF($B22<>\"PRC_RESID\",\"\",IF(R$7=2005+OFFSET(AGR!$B$49,$AX22,SUMIF($B$10:$B$14,\"NCAP_TLIFE\",$AY$10:$AY$14)),0,\"\"))","v":""},{"$f":"IF($B22<>\"PRC_RESID\",\"\",IF(S$7=2005+OFFSET(AGR!$B$49,$AX22,SUMIF($B$10:$B$14,\"NCAP_TLIFE\",$AY$10:$AY$14)),0,\"\"))","v":""},{"$f":"IF($B22<>\"PRC_RESID\",\"\",IF(T$7=2005+OFFSET(AGR!$B$49,$AX22,SUMIF($B$10:$B$14,\"NCAP_TLIFE\",$AY$10:$AY$14)),0,\"\"))","v":""},{"$f":"IF($B22<>\"PRC_RESID\",\"\",IF(U$7=2005+OFFSET(AGR!$B$49,$AX22,SUMIF($B$10:$B$14,\"NCAP_TLIFE\",$AY$10:$AY$14)),0,\"\"))","v":""},{"$f":"IF($B22<>\"PRC_RESID\",\"\",IF(V$7=2005+OFFSET(AGR!$B$49,$AX22,SUMIF($B$10:$B$14,\"NCAP_TLIFE\",$AY$10:$AY$14)),0,\"\"))","v":""},{"$f":"IF($B22<>\"PRC_RESID\",\"\",IF(W$7=2005+OFFSET(AGR!$B$49,$AX22,SUMIF($B$10:$B$14,\"NCAP_TLIFE\",$AY$10:$AY$14)),0,\"\"))","v":""},{"$f":"IF($B22<>\"PRC_RESID\",\"\",IF(X$7=2005+OFFSET(AGR!$B$49,$AX22,SUMIF($B$10:$B$14,\"NCAP_TLIFE\",$AY$10:$AY$14)),0,\"\"))","v":""},{"$f":"IF($B22<>\"PRC_RESID\",\"\",IF(Y$7=2005+OFFSET(AGR!$B$49,$AX22,SUMIF($B$10:$B$14,\"NCAP_TLIFE\",$AY$10:$AY$14)),0,\"\"))","v":""},{"$f":"IF($B22<>\"PRC_RESID\",\"\",IF(Z$7=2005+OFFSET(AGR!$B$49,$AX22,SUMIF($B$10:$B$14,\"NCAP_TLIFE\",$AY$10:$AY$14)),0,\"\"))","v":""},{"$f":"IF($B22<>\"PRC_RESID\",\"\",IF(AA$7=2005+OFFSET(AGR!$B$49,$AX22,SUMIF($B$10:$B$14,\"NCAP_TLIFE\",$AY$10:$AY$14)),0,\"\"))","v":""},{"$f":"IF($B22<>\"PRC_RESID\",\"\",IF(AB$7=2005+OFFSET(AGR!$B$49,$AX22,SUMIF($B$10:$B$14,\"NCAP_TLIFE\",$AY$10:$AY$14)),0,\"\"))","v":""},{"$f":"IF($B22<>\"PRC_RESID\",\"\",IF(AC$7=2005+OFFSET(AGR!$B$49,$AX22,SUMIF($B$10:$B$14,\"NCAP_TLIFE\",$AY$10:$AY$14)),0,\"\"))","v":""},{"$f":"IF($B22<>\"PRC_RESID\",\"\",IF(AD$7=2005+OFFSET(AGR!$B$49,$AX22,SUMIF($B$10:$B$14,\"NCAP_TLIFE\",$AY$10:$AY$14)),0,\"\"))","v":""},{"$f":"IF($B22<>\"PRC_RESID\",\"\",IF(AE$7=2005+OFFSET(AGR!$B$49,$AX22,SUMIF($B$10:$B$14,\"NCAP_TLIFE\",$AY$10:$AY$14)),0,\"\"))","v":""},{"$f":"IF($B22<>\"PRC_RESID\",\"\",IF(AF$7=2005+OFFSET(AGR!$B$49,$AX22,SUMIF($B$10:$B$14,\"NCAP_TLIFE\",$AY$10:$AY$14)),0,\"\"))","v":""},{"$f":"IF($B22<>\"PRC_RESID\",\"\",IF(AG$7=2005+OFFSET(AGR!$B$49,$AX22,SUMIF($B$10:$B$14,\"NCAP_TLIFE\",$AY$10:$AY$14)),0,\"\"))","v":""},{"$f":"IF($B22<>\"PRC_RESID\",\"\",IF(AH$7=2005+OFFSET(AGR!$B$49,$AX22,SUMIF($B$10:$B$14,\"NCAP_TLIFE\",$AY$10:$AY$14)),0,\"\"))","v":""},null,null,null,null,{"$f":"IF($B22<>\"PRC_RESID\",\"\",IF(AM$7=2005+OFFSET(AGR!$B$49,$AX22,SUMIF($B$10:$B$14,\"NCAP_TLIFE\",$AY$10:$AY$14)),0,\"\"))","v":""},null,null,null,null,{"$f":"IF($B22<>\"PRC_RESID\",\"\",IF(AR$7=2005+OFFSET(AGR!$B$49,$AX22,SUMIF($B$10:$B$14,\"NCAP_TLIFE\",$AY$10:$AY$14)),0,\"\"))","v":""},{"$f":"IF($B22<>\"PRC_RESID\",\"\",IF(AS$7=2005+OFFSET(AGR!$B$49,$AX22,SUMIF($B$10:$B$14,\"NCAP_TLIFE\",$AY$10:$AY$14)),0,\"\"))","v":""},{"$f":"IF($B22<>\"PRC_RESID\",\"\",IF(AT$7=2005+OFFSET(AGR!$B$49,$AX22,SUMIF($B$10:$B$14,\"NCAP_TLIFE\",$AY$10:$AY$14)),0,\"\"))","v":""},{"$f":"IF($B22<>\"PRC_RESID\",\"\",IF(AU$7=2005+OFFSET(AGR!$B$49,$AX22,SUMIF($B$10:$B$14,\"NCAP_TLIFE\",$AY$10:$AY$14)),0,\"\"))","v":""},null,{"$f":"IF(AX21=AGR!$W$72,AW21+1,AW21)","v":1},7]
[{"$f":"IF(LEFT(OFFSET(AGR!$A$49,AX23,0),2)=\"\\I\",\"*\",\"\")","v":""},"ACT_EFF",{"$f":"IF($A23=\"*\",\"\",OFFSET(AGR!$B$49,AX23,0))","v":"APELC-E"},"-","ACTGRP","-","ANNUAL","-",0,{"$f":"IF($A23=\"*\",\"\",OFFSET(AGR!$B$49,AX23,SUMIF($B$10:$B$14,B23,$AY$10:$AY$14)))","v":1},{"$f":"IF($B23<>\"PRC_RESID\",\"\",IF(K$7=2005+OFFSET(AGR!$B$49,$AX23,SUMIF($B$10:$B$14,\"NCAP_TLIFE\",$AY$10:$AY$14)),0,\"\"))","v":""},{"$f":"IF($B23<>\"PRC_RESID\",\"\",IF(L$7=2005+OFFSET(AGR!$B$49,$AX23,SUMIF($B$10:$B$14,\"NCAP_TLIFE\",$AY$10:$AY$14)),0,\"\"))","v":""},{"$f":"IF($B23<>\"PRC_RESID\",\"\",IF(M$7=2005+OFFSET(AGR!$B$49,$AX23,SUMIF($B$10:$B$14,\"NCAP_TLIFE\",$AY$10:$AY$14)),0,\"\"))","v":""},{"$f":"IF($B23<>\"PRC_RESID\",\"\",IF(N$7=2005+OFFSET(AGR!$B$49,$AX23,SUMIF($B$10:$B$14,\"NCAP_TLIFE\",$AY$10:$AY$14)),0,\"\"))","v":""},{"$f":"IF($B23<>\"PRC_RESID\",\"\",IF(O$7=2005+OFFSET(AGR!$B$49,$AX23,SUMIF($B$10:$B$14,\"NCAP_TLIFE\",$AY$10:$AY$14)),0,\"\"))","v":""},{"$f":"IF($B23<>\"PRC_RESID\",\"\",IF(P$7=2005+OFFSET(AGR!$B$49,$AX23,SUMIF($B$10:$B$14,\"NCAP_TLIFE\",$AY$10:$AY$14)),0,\"\"))","v":""},{"$f":"IF($B23<>\"PRC_RESID\",\"\",IF(Q$7=2005+OFFSET(AGR!$B$49,$AX23,SUMIF($B$10:$B$14,\"NCAP_TLIFE\",$AY$10:$AY$14)),0,\"\"))","v":""},{"$f":"IF($B23<>\"PRC_RESID\",\"\",IF(R$7=2005+OFFSET(AGR!$B$49,$AX23,SUMIF($B$10:$B$14,\"NCAP_TLIFE\",$AY$10:$AY$14)),0,\"\"))","v":""},{"$f":"IF($B23<>\"PRC_RESID\",\"\",IF(S$7=2005+OFFSET(AGR!$B$49,$AX23,SUMIF($B$10:$B$14,\"NCAP_TLIFE\",$AY$10:$AY$14)),0,\"\"))","v":""},{"$f":"IF($B23<>\"PRC_RESID\",\"\",IF(T$7=2005+OFFSET(AGR!$B$49,$AX23,SUMIF($B$10:$B$14,\"NCAP_TLIFE\",$AY$10:$AY$14)),0,\"\"))","v":""},{"$f":"IF($B23<>\"PRC_RESID\",\"\",IF(U$7=2005+OFFSET(AGR!$B$49,$AX23,SUMIF($B$10:$B$14,\"NCAP_TLIFE\",$AY$10:$AY$14)),0,\"\"))","v":""},{"$f":"IF($B23<>\"PRC_RESID\",\"\",IF(V$7=2005+OFFSET(AGR!$B$49,$AX23,SUMIF($B$10:$B$14,\"NCAP_TLIFE\",$AY$10:$AY$14)),0,\"\"))","v":""},{"$f":"IF($B23<>\"PRC_RESID\",\"\",IF(W$7=2005+OFFSET(AGR!$B$49,$AX23,SUMIF($B$10:$B$14,\"NCAP_TLIFE\",$AY$10:$AY$14)),0,\"\"))","v":""},{"$f":"IF($B23<>\"PRC_RESID\",\"\",IF(X$7=2005+OFFSET(AGR!$B$49,$AX23,SUMIF($B$10:$B$14,\"NCAP_TLIFE\",$AY$10:$AY$14)),0,\"\"))","v":""},{"$f":"IF($B23<>\"PRC_RESID\",\"\",IF(Y$7=2005+OFFSET(AGR!$B$49,$AX23,SUMIF($B$10:$B$14,\"NCAP_TLIFE\",$AY$10:$AY$14)),0,\"\"))","v":""},{"$f":"IF($B23<>\"PRC_RESID\",\"\",IF(Z$7=2005+OFFSET(AGR!$B$49,$AX23,SUMIF($B$10:$B$14,\"NCAP_TLIFE\",$AY$10:$AY$14)),0,\"\"))","v":""},{"$f":"IF($B23<>\"PRC_RESID\",\"\",IF(AA$7=2005+OFFSET(AGR!$B$49,$AX23,SUMIF($B$10:$B$14,\"NCAP_TLIFE\",$AY$10:$AY$14)),0,\"\"))","v":""},{"$f":"IF($B23<>\"PRC_RESID\",\"\",IF(AB$7=2005+OFFSET(AGR!$B$49,$AX23,SUMIF($B$10:$B$14,\"NCAP_TLIFE\",$AY$10:$AY$14)),0,\"\"))","v":""},{"$f":"IF($B23<>\"PRC_RESID\",\"\",IF(AC$7=2005+OFFSET(AGR!$B$49,$AX23,SUMIF($B$10:$B$14,\"NCAP_TLIFE\",$AY$10:$AY$14)),0,\"\"))","v":""},{"$f":"IF($B23<>\"PRC_RESID\",\"\",IF(AD$7=2005+OFFSET(AGR!$B$49,$AX23,SUMIF($B$10:$B$14,\"NCAP_TLIFE\",$AY$10:$AY$14)),0,\"\"))","v":""},{"$f":"IF($B23<>\"PRC_RESID\",\"\",IF(AE$7=2005+OFFSET(AGR!$B$49,$AX23,SUMIF($B$10:$B$14,\"NCAP_TLIFE\",$AY$10:$AY$14)),0,\"\"))","v":""},{"$f":"IF($B23<>\"PRC_RESID\",\"\",IF(AF$7=2005+OFFSET(AGR!$B$49,$AX23,SUMIF($B$10:$B$14,\"NCAP_TLIFE\",$AY$10:$AY$14)),0,\"\"))","v":""},{"$f":"IF($B23<>\"PRC_RESID\",\"\",IF(AG$7=2005+OFFSET(AGR!$B$49,$AX23,SUMIF($B$10:$B$14,\"NCAP_TLIFE\",$AY$10:$AY$14)),0,\"\"))","v":""},{"$f":"IF($B23<>\"PRC_RESID\",\"\",IF(AH$7=2005+OFFSET(AGR!$B$49,$AX23,SUMIF($B$10:$B$14,\"NCAP_TLIFE\",$AY$10:$AY$14)),0,\"\"))","v":""},null,null,null,null,{"$f":"IF($B23<>\"PRC_RESID\",\"\",IF(AM$7=2005+OFFSET(AGR!$B$49,$AX23,SUMIF($B$10:$B$14,\"NCAP_TLIFE\",$AY$10:$AY$14)),0,\"\"))","v":""},null,null,null,null,{"$f":"IF($B23<>\"PRC_RESID\",\"\",IF(AR$7=2005+OFFSET(AGR!$B$49,$AX23,SUMIF($B$10:$B$14,\"NCAP_TLIFE\",$AY$10:$AY$14)),0,\"\"))","v":""},{"$f":"IF($B23<>\"PRC_RESID\",\"\",IF(AS$7=2005+OFFSET(AGR!$B$49,$AX23,SUMIF($B$10:$B$14,\"NCAP_TLIFE\",$AY$10:$AY$14)),0,\"\"))","v":""},{"$f":"IF($B23<>\"PRC_RESID\",\"\",IF(AT$7=2005+OFFSET(AGR!$B$49,$AX23,SUMIF($B$10:$B$14,\"NCAP_TLIFE\",$AY$10:$AY$14)),0,\"\"))","v":""},{"$f":"IF($B23<>\"PRC_RESID\",\"\",IF(AU$7=2005+OFFSET(AGR!$B$49,$AX23,SUMIF($B$10:$B$14,\"NCAP_TLIFE\",$AY$10:$AY$14)),0,\"\"))","v":""},null,{"$f":"IF(AX22=AGR!$W$72,AW22+1,AW22)","v":1},8]
[{"$f":"IF(LEFT(OFFSET(AGR!$A$49,AX24,0),2)=\"\\I\",\"*\",\"\")","v":"*"},"",{"$f":"IF($A24=\"*\",\"\",OFFSET(AGR!$B$49,AX24,0))","v":""},"","","","","","",{"$f":"IF($A24=\"*\",\"\",OFFSET(AGR!$B$49,AX24,SUMIF($B$10:$B$14,B24,$AY$10:$AY$14)))","v":""},{"$f":"IF($B24<>\"PRC_RESID\",\"\",IF(K$7=2005+OFFSET(AGR!$B$49,$AX24,SUMIF($B$10:$B$14,\"NCAP_TLIFE\",$AY$10:$AY$14)),0,\"\"))","v":""},{"$f":"IF($B24<>\"PRC_RESID\",\"\",IF(L$7=2005+OFFSET(AGR!$B$49,$AX24,SUMIF($B$10:$B$14,\"NCAP_TLIFE\",$AY$10:$AY$14)),0,\"\"))","v":""},{"$f":"IF($B24<>\"PRC_RESID\",\"\",IF(M$7=2005+OFFSET(AGR!$B$49,$AX24,SUMIF($B$10:$B$14,\"NCAP_TLIFE\",$AY$10:$AY$14)),0,\"\"))","v":""},{"$f":"IF($B24<>\"PRC_RESID\",\"\",IF(N$7=2005+OFFSET(AGR!$B$49,$AX24,SUMIF($B$10:$B$14,\"NCAP_TLIFE\",$AY$10:$AY$14)),0,\"\"))","v":""},{"$f":"IF($B24<>\"PRC_RESID\",\"\",IF(O$7=2005+OFFSET(AGR!$B$49,$AX24,SUMIF($B$10:$B$14,\"NCAP_TLIFE\",$AY$10:$AY$14)),0,\"\"))","v":""},{"$f":"IF($B24<>\"PRC_RESID\",\"\",IF(P$7=2005+OFFSET(AGR!$B$49,$AX24,SUMIF($B$10:$B$14,\"NCAP_TLIFE\",$AY$10:$AY$14)),0,\"\"))","v":""},{"$f":"IF($B24<>\"PRC_RESID\",\"\",IF(Q$7=2005+OFFSET(AGR!$B$49,$AX24,SUMIF($B$10:$B$14,\"NCAP_TLIFE\",$AY$10:$AY$14)),0,\"\"))","v":""},{"$f":"IF($B24<>\"PRC_RESID\",\"\",IF(R$7=2005+OFFSET(AGR!$B$49,$AX24,SUMIF($B$10:$B$14,\"NCAP_TLIFE\",$AY$10:$AY$14)),0,\"\"))","v":""},{"$f":"IF($B24<>\"PRC_RESID\",\"\",IF(S$7=2005+OFFSET(AGR!$B$49,$AX24,SUMIF($B$10:$B$14,\"NCAP_TLIFE\",$AY$10:$AY$14)),0,\"\"))","v":""},{"$f":"IF($B24<>\"PRC_RESID\",\"\",IF(T$7=2005+OFFSET(AGR!$B$49,$AX24,SUMIF($B$10:$B$14,\"NCAP_TLIFE\",$AY$10:$AY$14)),0,\"\"))","v":""},{"$f":"IF($B24<>\"PRC_RESID\",\"\",IF(U$7=2005+OFFSET(AGR!$B$49,$AX24,SUMIF($B$10:$B$14,\"NCAP_TLIFE\",$AY$10:$AY$14)),0,\"\"))","v":""},{"$f":"IF($B24<>\"PRC_RESID\",\"\",IF(V$7=2005+OFFSET(AGR!$B$49,$AX24,SUMIF($B$10:$B$14,\"NCAP_TLIFE\",$AY$10:$AY$14)),0,\"\"))","v":""},{"$f":"IF($B24<>\"PRC_RESID\",\"\",IF(W$7=2005+OFFSET(AGR!$B$49,$AX24,SUMIF($B$10:$B$14,\"NCAP_TLIFE\",$AY$10:$AY$14)),0,\"\"))","v":""},{"$f":"IF($B24<>\"PRC_RESID\",\"\",IF(X$7=2005+OFFSET(AGR!$B$49,$AX24,SUMIF($B$10:$B$14,\"NCAP_TLIFE\",$AY$10:$AY$14)),0,\"\"))","v":""},{"$f":"IF($B24<>\"PRC_RESID\",\"\",IF(Y$7=2005+OFFSET(AGR!$B$49,$AX24,SUMIF($B$10:$B$14,\"NCAP_TLIFE\",$AY$10:$AY$14)),0,\"\"))","v":""},{"$f":"IF($B24<>\"PRC_RESID\",\"\",IF(Z$7=2005+OFFSET(AGR!$B$49,$AX24,SUMIF($B$10:$B$14,\"NCAP_TLIFE\",$AY$10:$AY$14)),0,\"\"))","v":""},{"$f":"IF($B24<>\"PRC_RESID\",\"\",IF(AA$7=2005+OFFSET(AGR!$B$49,$AX24,SUMIF($B$10:$B$14,\"NCAP_TLIFE\",$AY$10:$AY$14)),0,\"\"))","v":""},{"$f":"IF($B24<>\"PRC_RESID\",\"\",IF(AB$7=2005+OFFSET(AGR!$B$49,$AX24,SUMIF($B$10:$B$14,\"NCAP_TLIFE\",$AY$10:$AY$14)),0,\"\"))","v":""},{"$f":"IF($B24<>\"PRC_RESID\",\"\",IF(AC$7=2005+OFFSET(AGR!$B$49,$AX24,SUMIF($B$10:$B$14,\"NCAP_TLIFE\",$AY$10:$AY$14)),0,\"\"))","v":""},{"$f":"IF($B24<>\"PRC_RESID\",\"\",IF(AD$7=2005+OFFSET(AGR!$B$49,$AX24,SUMIF($B$10:$B$14,\"NCAP_TLIFE\",$AY$10:$AY$14)),0,\"\"))","v":""},{"$f":"IF($B24<>\"PRC_RESID\",\"\",IF(AE$7=2005+OFFSET(AGR!$B$49,$AX24,SUMIF($B$10:$B$14,\"NCAP_TLIFE\",$AY$10:$AY$14)),0,\"\"))","v":""},{"$f":"IF($B24<>\"PRC_RESID\",\"\",IF(AF$7=2005+OFFSET(AGR!$B$49,$AX24,SUMIF($B$10:$B$14,\"NCAP_TLIFE\",$AY$10:$AY$14)),0,\"\"))","v":""},{"$f":"IF($B24<>\"PRC_RESID\",\"\",IF(AG$7=2005+OFFSET(AGR!$B$49,$AX24,SUMIF($B$10:$B$14,\"NCAP_TLIFE\",$AY$10:$AY$14)),0,\"\"))","v":""},{"$f":"IF($B24<>\"PRC_RESID\",\"\",IF(AH$7=2005+OFFSET(AGR!$B$49,$AX24,SUMIF($B$10:$B$14,\"NCAP_TLIFE\",$AY$10:$AY$14)),0,\"\"))","v":""},null,null,null,null,{"$f":"IF($B24<>\"PRC_RESID\",\"\",IF(AM$7=2005+OFFSET(AGR!$B$49,$AX24,SUMIF($B$10:$B$14,\"NCAP_TLIFE\",$AY$10:$AY$14)),0,\"\"))","v":""},null,null,null,null,{"$f":"IF($B24<>\"PRC_RESID\",\"\",IF(AR$7=2005+OFFSET(AGR!$B$49,$AX24,SUMIF($B$10:$B$14,\"NCAP_TLIFE\",$AY$10:$AY$14)),0,\"\"))","v":""},{"$f":"IF($B24<>\"PRC_RESID\",\"\",IF(AS$7=2005+OFFSET(AGR!$B$49,$AX24,SUMIF($B$10:$B$14,\"NCAP_TLIFE\",$AY$10:$AY$14)),0,\"\"))","v":""},{"$f":"IF($B24<>\"PRC_RESID\",\"\",IF(AT$7=2005+OFFSET(AGR!$B$49,$AX24,SUMIF($B$10:$B$14,\"NCAP_TLIFE\",$AY$10:$AY$14)),0,\"\"))","v":""},{"$f":"IF($B24<>\"PRC_RESID\",\"\",IF(AU$7=2005+OFFSET(AGR!$B$49,$AX24,SUMIF($B$10:$B$14,\"NCAP_TLIFE\",$AY$10:$AY$14)),0,\"\"))","v":""},null,{"$f":"IF(AX23=AGR!$W$72,AW23+1,AW23)","v":1},9]
[{"$f":"IF(LEFT(OFFSET(AGR!$A$49,AX25,0),2)=\"\\I\",\"*\",\"\")","v":"*"},"",{"$f":"IF($A25=\"*\",\"\",OFFSET(AGR!$B$49,AX25,0))","v":""},"","","","","","",{"$f":"IF($A25=\"*\",\"\",OFFSET(AGR!$B$49,AX25,SUMIF($B$10:$B$14,B25,$AY$10:$AY$14)))","v":""},{"$f":"IF($B25<>\"PRC_RESID\",\"\",IF(K$7=2005+OFFSET(AGR!$B$49,$AX25,SUMIF($B$10:$B$14,\"NCAP_TLIFE\",$AY$10:$AY$14)),0,\"\"))","v":""},{"$f":"IF($B25<>\"PRC_RESID\",\"\",IF(L$7=2005+OFFSET(AGR!$B$49,$AX25,SUMIF($B$10:$B$14,\"NCAP_TLIFE\",$AY$10:$AY$14)),0,\"\"))","v":""},{"$f":"IF($B25<>\"PRC_RESID\",\"\",IF(M$7=2005+OFFSET(AGR!$B$49,$AX25,SUMIF($B$10:$B$14,\"NCAP_TLIFE\",$AY$10:$AY$14)),0,\"\"))","v":""},{"$f":"IF($B25<>\"PRC_RESID\",\"\",IF(N$7=2005+OFFSET(AGR!$B$49,$AX25,SUMIF($B$10:$B$14,\"NCAP_TLIFE\",$AY$10:$AY$14)),0,\"\"))","v":""},{"$f":"IF($B25<>\"PRC_RESID\",\"\",IF(O$7=2005+OFFSET(AGR!$B$49,$AX25,SUMIF($B$10:$B$14,\"NCAP_TLIFE\",$AY$10:$AY$14)),0,\"\"))","v":""},{"$f":"IF($B25<>\"PRC_RESID\",\"\",IF(P$7=2005+OFFSET(AGR!$B$49,$AX25,SUMIF($B$10:$B$14,\"NCAP_TLIFE\",$AY$10:$AY$14)),0,\"\"))","v":""},{"$f":"IF($B25<>\"PRC_RESID\",\"\",IF(Q$7=2005+OFFSET(AGR!$B$49,$AX25,SUMIF($B$10:$B$14,\"NCAP_TLIFE\",$AY$10:$AY$14)),0,\"\"))","v":""},{"$f":"IF($B25<>\"PRC_RESID\",\"\",IF(R$7=2005+OFFSET(AGR!$B$49,$AX25,SUMIF($B$10:$B$14,\"NCAP_TLIFE\",$AY$10:$AY$14)),0,\"\"))","v":""},{"$f":"IF($B25<>\"PRC_RESID\",\"\",IF(S$7=2005+OFFSET(AGR!$B$49,$AX25,SUMIF($B$10:$B$14,\"NCAP_TLIFE\",$AY$10:$AY$14)),0,\"\"))","v":""},{"$f":"IF($B25<>\"PRC_RESID\",\"\",IF(T$7=2005+OFFSET(AGR!$B$49,$AX25,SUMIF($B$10:$B$14,\"NCAP_TLIFE\",$AY$10:$AY$14)),0,\"\"))","v":""},{"$f":"IF($B25<>\"PRC_RESID\",\"\",IF(U$7=2005+OFFSET(AGR!$B$49,$AX25,SUMIF($B$10:$B$14,\"NCAP_TLIFE\",$AY$10:$AY$14)),0,\"\"))","v":""},{"$f":"IF($B25<>\"PRC_RESID\",\"\",IF(V$7=2005+OFFSET(AGR!$B$49,$AX25,SUMIF($B$10:$B$14,\"NCAP_TLIFE\",$AY$10:$AY$14)),0,\"\"))","v":""},{"$f":"IF($B25<>\"PRC_RESID\",\"\",IF(W$7=2005+OFFSET(AGR!$B$49,$AX25,SUMIF($B$10:$B$14,\"NCAP_TLIFE\",$AY$10:$AY$14)),0,\"\"))","v":""},{"$f":"IF($B25<>\"PRC_RESID\",\"\",IF(X$7=2005+OFFSET(AGR!$B$49,$AX25,SUMIF($B$10:$B$14,\"NCAP_TLIFE\",$AY$10:$AY$14)),0,\"\"))","v":""},{"$f":"IF($B25<>\"PRC_RESID\",\"\",IF(Y$7=2005+OFFSET(AGR!$B$49,$AX25,SUMIF($B$10:$B$14,\"NCAP_TLIFE\",$AY$10:$AY$14)),0,\"\"))","v":""},{"$f":"IF($B25<>\"PRC_RESID\",\"\",IF(Z$7=2005+OFFSET(AGR!$B$49,$AX25,SUMIF($B$10:$B$14,\"NCAP_TLIFE\",$AY$10:$AY$14)),0,\"\"))","v":""},{"$f":"IF($B25<>\"PRC_RESID\",\"\",IF(AA$7=2005+OFFSET(AGR!$B$49,$AX25,SUMIF($B$10:$B$14,\"NCAP_TLIFE\",$AY$10:$AY$14)),0,\"\"))","v":""},{"$f":"IF($B25<>\"PRC_RESID\",\"\",IF(AB$7=2005+OFFSET(AGR!$B$49,$AX25,SUMIF($B$10:$B$14,\"NCAP_TLIFE\",$AY$10:$AY$14)),0,\"\"))","v":""},{"$f":"IF($B25<>\"PRC_RESID\",\"\",IF(AC$7=2005+OFFSET(AGR!$B$49,$AX25,SUMIF($B$10:$B$14,\"NCAP_TLIFE\",$AY$10:$AY$14)),0,\"\"))","v":""},{"$f":"IF($B25<>\"PRC_RESID\",\"\",IF(AD$7=2005+OFFSET(AGR!$B$49,$AX25,SUMIF($B$10:$B$14,\"NCAP_TLIFE\",$AY$10:$AY$14)),0,\"\"))","v":""},{"$f":"IF($B25<>\"PRC_RESID\",\"\",IF(AE$7=2005+OFFSET(AGR!$B$49,$AX25,SUMIF($B$10:$B$14,\"NCAP_TLIFE\",$AY$10:$AY$14)),0,\"\"))","v":""},{"$f":"IF($B25<>\"PRC_RESID\",\"\",IF(AF$7=2005+OFFSET(AGR!$B$49,$AX25,SUMIF($B$10:$B$14,\"NCAP_TLIFE\",$AY$10:$AY$14)),0,\"\"))","v":""},{"$f":"IF($B25<>\"PRC_RESID\",\"\",IF(AG$7=2005+OFFSET(AGR!$B$49,$AX25,SUMIF($B$10:$B$14,\"NCAP_TLIFE\",$AY$10:$AY$14)),0,\"\"))","v":""},{"$f":"IF($B25<>\"PRC_RESID\",\"\",IF(AH$7=2005+OFFSET(AGR!$B$49,$AX25,SUMIF($B$10:$B$14,\"NCAP_TLIFE\",$AY$10:$AY$14)),0,\"\"))","v":""},null,null,null,null,{"$f":"IF($B25<>\"PRC_RESID\",\"\",IF(AM$7=2005+OFFSET(AGR!$B$49,$AX25,SUMIF($B$10:$B$14,\"NCAP_TLIFE\",$AY$10:$AY$14)),0,\"\"))","v":""},null,null,null,null,{"$f":"IF($B25<>\"PRC_RESID\",\"\",IF(AR$7=2005+OFFSET(AGR!$B$49,$AX25,SUMIF($B$10:$B$14,\"NCAP_TLIFE\",$AY$10:$AY$14)),0,\"\"))","v":""},{"$f":"IF($B25<>\"PRC_RESID\",\"\",IF(AS$7=2005+OFFSET(AGR!$B$49,$AX25,SUMIF($B$10:$B$14,\"NCAP_TLIFE\",$AY$10:$AY$14)),0,\"\"))","v":""},{"$f":"IF($B25<>\"PRC_RESID\",\"\",IF(AT$7=2005+OFFSET(AGR!$B$49,$AX25,SUMIF($B$10:$B$14,\"NCAP_TLIFE\",$AY$10:$AY$14)),0,\"\"))","v":""},{"$f":"IF($B25<>\"PRC_RESID\",\"\",IF(AU$7=2005+OFFSET(AGR!$B$49,$AX25,SUMIF($B$10:$B$14,\"NCAP_TLIFE\",$AY$10:$AY$14)),0,\"\"))","v":""},null,{"$f":"IF(AX24=AGR!$W$72,AW24+1,AW24)","v":1},10]
[{"$f":"IF(LEFT(OFFSET(AGR!$A$49,AX26,0),2)=\"\\I\",\"*\",\"\")","v":""},"ACT_EFF",{"$f":"IF($A26=\"*\",\"\",OFFSET(AGR!$B$49,AX26,0))","v":"ATODS-E"},"-","ACTGRP","-","ANNUAL","-",0,{"$f":"IF($A26=\"*\",\"\",OFFSET(AGR!$B$49,AX26,SUMIF($B$10:$B$14,B26,$AY$10:$AY$14)))","v":0.35},{"$f":"IF($B26<>\"PRC_RESID\",\"\",IF(K$7=2005+OFFSET(AGR!$B$49,$AX26,SUMIF($B$10:$B$14,\"NCAP_TLIFE\",$AY$10:$AY$14)),0,\"\"))","v":""},{"$f":"IF($B26<>\"PRC_RESID\",\"\",IF(L$7=2005+OFFSET(AGR!$B$49,$AX26,SUMIF($B$10:$B$14,\"NCAP_TLIFE\",$AY$10:$AY$14)),0,\"\"))","v":""},{"$f":"IF($B26<>\"PRC_RESID\",\"\",IF(M$7=2005+OFFSET(AGR!$B$49,$AX26,SUMIF($B$10:$B$14,\"NCAP_TLIFE\",$AY$10:$AY$14)),0,\"\"))","v":""},{"$f":"IF($B26<>\"PRC_RESID\",\"\",IF(N$7=2005+OFFSET(AGR!$B$49,$AX26,SUMIF($B$10:$B$14,\"NCAP_TLIFE\",$AY$10:$AY$14)),0,\"\"))","v":""},{"$f":"IF($B26<>\"PRC_RESID\",\"\",IF(O$7=2005+OFFSET(AGR!$B$49,$AX26,SUMIF($B$10:$B$14,\"NCAP_TLIFE\",$AY$10:$AY$14)),0,\"\"))","v":""},{"$f":"IF($B26<>\"PRC_RESID\",\"\",IF(P$7=2005+OFFSET(AGR!$B$49,$AX26,SUMIF($B$10:$B$14,\"NCAP_TLIFE\",$AY$10:$AY$14)),0,\"\"))","v":""},{"$f":"IF($B26<>\"PRC_RESID\",\"\",IF(Q$7=2005+OFFSET(AGR!$B$49,$AX26,SUMIF($B$10:$B$14,\"NCAP_TLIFE\",$AY$10:$AY$14)),0,\"\"))","v":""},{"$f":"IF($B26<>\"PRC_RESID\",\"\",IF(R$7=2005+OFFSET(AGR!$B$49,$AX26,SUMIF($B$10:$B$14,\"NCAP_TLIFE\",$AY$10:$AY$14)),0,\"\"))","v":""},{"$f":"IF($B26<>\"PRC_RESID\",\"\",IF(S$7=2005+OFFSET(AGR!$B$49,$AX26,SUMIF($B$10:$B$14,\"NCAP_TLIFE\",$AY$10:$AY$14)),0,\"\"))","v":""},{"$f":"IF($B26<>\"PRC_RESID\",\"\",IF(T$7=2005+OFFSET(AGR!$B$49,$AX26,SUMIF($B$10:$B$14,\"NCAP_TLIFE\",$AY$10:$AY$14)),0,\"\"))","v":""},{"$f":"IF($B26<>\"PRC_RESID\",\"\",IF(U$7=2005+OFFSET(AGR!$B$49,$AX26,SUMIF($B$10:$B$14,\"NCAP_TLIFE\",$AY$10:$AY$14)),0,\"\"))","v":""},{"$f":"IF($B26<>\"PRC_RESID\",\"\",IF(V$7=2005+OFFSET(AGR!$B$49,$AX26,SUMIF($B$10:$B$14,\"NCAP_TLIFE\",$AY$10:$AY$14)),0,\"\"))","v":""},{"$f":"IF($B26<>\"PRC_RESID\",\"\",IF(W$7=2005+OFFSET(AGR!$B$49,$AX26,SUMIF($B$10:$B$14,\"NCAP_TLIFE\",$AY$10:$AY$14)),0,\"\"))","v":""},{"$f":"IF($B26<>\"PRC_RESID\",\"\",IF(X$7=2005+OFFSET(AGR!$B$49,$AX26,SUMIF($B$10:$B$14,\"NCAP_TLIFE\",$AY$10:$AY$14)),0,\"\"))","v":""},{"$f":"IF($B26<>\"PRC_RESID\",\"\",IF(Y$7=2005+OFFSET(AGR!$B$49,$AX26,SUMIF($B$10:$B$14,\"NCAP_TLIFE\",$AY$10:$AY$14)),0,\"\"))","v":""},{"$f":"IF($B26<>\"PRC_RESID\",\"\",IF(Z$7=2005+OFFSET(AGR!$B$49,$AX26,SUMIF($B$10:$B$14,\"NCAP_TLIFE\",$AY$10:$AY$14)),0,\"\"))","v":""},{"$f":"IF($B26<>\"PRC_RESID\",\"\",IF(AA$7=2005+OFFSET(AGR!$B$49,$AX26,SUMIF($B$10:$B$14,\"NCAP_TLIFE\",$AY$10:$AY$14)),0,\"\"))","v":""},{"$f":"IF($B26<>\"PRC_RESID\",\"\",IF(AB$7=2005+OFFSET(AGR!$B$49,$AX26,SUMIF($B$10:$B$14,\"NCAP_TLIFE\",$AY$10:$AY$14)),0,\"\"))","v":""},{"$f":"IF($B26<>\"PRC_RESID\",\"\",IF(AC$7=2005+OFFSET(AGR!$B$49,$AX26,SUMIF($B$10:$B$14,\"NCAP_TLIFE\",$AY$10:$AY$14)),0,\"\"))","v":""},{"$f":"IF($B26<>\"PRC_RESID\",\"\",IF(AD$7=2005+OFFSET(AGR!$B$49,$AX26,SUMIF($B$10:$B$14,\"NCAP_TLIFE\",$AY$10:$AY$14)),0,\"\"))","v":""},{"$f":"IF($B26<>\"PRC_RESID\",\"\",IF(AE$7=2005+OFFSET(AGR!$B$49,$AX26,SUMIF($B$10:$B$14,\"NCAP_TLIFE\",$AY$10:$AY$14)),0,\"\"))","v":""},{"$f":"IF($B26<>\"PRC_RESID\",\"\",IF(AF$7=2005+OFFSET(AGR!$B$49,$AX26,SUMIF($B$10:$B$14,\"NCAP_TLIFE\",$AY$10:$AY$14)),0,\"\"))","v":""},{"$f":"IF($B26<>\"PRC_RESID\",\"\",IF(AG$7=2005+OFFSET(AGR!$B$49,$AX26,SUMIF($B$10:$B$14,\"NCAP_TLIFE\",$AY$10:$AY$14)),0,\"\"))","v":""},{"$f":"IF($B26<>\"PRC_RESID\",\"\",IF(AH$7=2005+OFFSET(AGR!$B$49,$AX26,SUMIF($B$10:$B$14,\"NCAP_TLIFE\",$AY$10:$AY$14)),0,\"\"))","v":""},null,null,null,null,{"$f":"IF($B26<>\"PRC_RESID\",\"\",IF(AM$7=2005+OFFSET(AGR!$B$49,$AX26,SUMIF($B$10:$B$14,\"NCAP_TLIFE\",$AY$10:$AY$14)),0,\"\"))","v":""},null,null,null,null,{"$f":"IF($B26<>\"PRC_RESID\",\"\",IF(AR$7=2005+OFFSET(AGR!$B$49,$AX26,SUMIF($B$10:$B$14,\"NCAP_TLIFE\",$AY$10:$AY$14)),0,\"\"))","v":""},{"$f":"IF($B26<>\"PRC_RESID\",\"\",IF(AS$7=2005+OFFSET(AGR!$B$49,$AX26,SUMIF($B$10:$B$14,\"NCAP_TLIFE\",$AY$10:$AY$14)),0,\"\"))","v":""},{"$f":"IF($B26<>\"PRC_RESID\",\"\",IF(AT$7=2005+OFFSET(AGR!$B$49,$AX26,SUMIF($B$10:$B$14,\"NCAP_TLIFE\",$AY$10:$AY$14)),0,\"\"))","v":""},{"$f":"IF($B26<>\"PRC_RESID\",\"\",IF(AU$7=2005+OFFSET(AGR!$B$49,$AX26,SUMIF($B$10:$B$14,\"NCAP_TLIFE\",$AY$10:$AY$14)),0,\"\"))","v":""},null,{"$f":"IF(AX25=AGR!$W$72,AW25+1,AW25)","v":1},11]
[{"$f":"IF(LEFT(OFFSET(AGR!$A$49,AX27,0),2)=\"\\I\",\"*\",\"\")","v":""},"ACT_EFF",{"$f":"IF($A27=\"*\",\"\",OFFSET(AGR!$B$49,AX27,0))","v":"ATELC-E"},"-","ACTGRP","-","ANNUAL","-",0,{"$f":"IF($A27=\"*\",\"\",OFFSET(AGR!$B$49,AX27,SUMIF($B$10:$B$14,B27,$AY$10:$AY$14)))","v":0.95},{"$f":"IF($B27<>\"PRC_RESID\",\"\",IF(K$7=2005+OFFSET(AGR!$B$49,$AX27,SUMIF($B$10:$B$14,\"NCAP_TLIFE\",$AY$10:$AY$14)),0,\"\"))","v":""},{"$f":"IF($B27<>\"PRC_RESID\",\"\",IF(L$7=2005+OFFSET(AGR!$B$49,$AX27,SUMIF($B$10:$B$14,\"NCAP_TLIFE\",$AY$10:$AY$14)),0,\"\"))","v":""},{"$f":"IF($B27<>\"PRC_RESID\",\"\",IF(M$7=2005+OFFSET(AGR!$B$49,$AX27,SUMIF($B$10:$B$14,\"NCAP_TLIFE\",$AY$10:$AY$14)),0,\"\"))","v":""},{"$f":"IF($B27<>\"PRC_RESID\",\"\",IF(N$7=2005+OFFSET(AGR!$B$49,$AX27,SUMIF($B$10:$B$14,\"NCAP_TLIFE\",$AY$10:$AY$14)),0,\"\"))","v":""},{"$f":"IF($B27<>\"PRC_RESID\",\"\",IF(O$7=2005+OFFSET(AGR!$B$49,$AX27,SUMIF($B$10:$B$14,\"NCAP_TLIFE\",$AY$10:$AY$14)),0,\"\"))","v":""},{"$f":"IF($B27<>\"PRC_RESID\",\"\",IF(P$7=2005+OFFSET(AGR!$B$49,$AX27,SUMIF($B$10:$B$14,\"NCAP_TLIFE\",$AY$10:$AY$14)),0,\"\"))","v":""},{"$f":"IF($B27<>\"PRC_RESID\",\"\",IF(Q$7=2005+OFFSET(AGR!$B$49,$AX27,SUMIF($B$10:$B$14,\"NCAP_TLIFE\",$AY$10:$AY$14)),0,\"\"))","v":""},{"$f":"IF($B27<>\"PRC_RESID\",\"\",IF(R$7=2005+OFFSET(AGR!$B$49,$AX27,SUMIF($B$10:$B$14,\"NCAP_TLIFE\",$AY$10:$AY$14)),0,\"\"))","v":""},{"$f":"IF($B27<>\"PRC_RESID\",\"\",IF(S$7=2005+OFFSET(AGR!$B$49,$AX27,SUMIF($B$10:$B$14,\"NCAP_TLIFE\",$AY$10:$AY$14)),0,\"\"))","v":""},{"$f":"IF($B27<>\"PRC_RESID\",\"\",IF(T$7=2005+OFFSET(AGR!$B$49,$AX27,SUMIF($B$10:$B$14,\"NCAP_TLIFE\",$AY$10:$AY$14)),0,\"\"))","v":""},{"$f":"IF($B27<>\"PRC_RESID\",\"\",IF(U$7=2005+OFFSET(AGR!$B$49,$AX27,SUMIF($B$10:$B$14,\"NCAP_TLIFE\",$AY$10:$AY$14)),0,\"\"))","v":""},{"$f":"IF($B27<>\"PRC_RESID\",\"\",IF(V$7=2005+OFFSET(AGR!$B$49,$AX27,SUMIF($B$10:$B$14,\"NCAP_TLIFE\",$AY$10:$AY$14)),0,\"\"))","v":""},{"$f":"IF($B27<>\"PRC_RESID\",\"\",IF(W$7=2005+OFFSET(AGR!$B$49,$AX27,SUMIF($B$10:$B$14,\"NCAP_TLIFE\",$AY$10:$AY$14)),0,\"\"))","v":""},{"$f":"IF($B27<>\"PRC_RESID\",\"\",IF(X$7=2005+OFFSET(AGR!$B$49,$AX27,SUMIF($B$10:$B$14,\"NCAP_TLIFE\",$AY$10:$AY$14)),0,\"\"))","v":""},{"$f":"IF($B27<>\"PRC_RESID\",\"\",IF(Y$7=2005+OFFSET(AGR!$B$49,$AX27,SUMIF($B$10:$B$14,\"NCAP_TLIFE\",$AY$10:$AY$14)),0,\"\"))","v":""},{"$f":"IF($B27<>\"PRC_RESID\",\"\",IF(Z$7=2005+OFFSET(AGR!$B$49,$AX27,SUMIF($B$10:$B$14,\"NCAP_TLIFE\",$AY$10:$AY$14)),0,\"\"))","v":""},{"$f":"IF($B27<>\"PRC_RESID\",\"\",IF(AA$7=2005+OFFSET(AGR!$B$49,$AX27,SUMIF($B$10:$B$14,\"NCAP_TLIFE\",$AY$10:$AY$14)),0,\"\"))","v":""},{"$f":"IF($B27<>\"PRC_RESID\",\"\",IF(AB$7=2005+OFFSET(AGR!$B$49,$AX27,SUMIF($B$10:$B$14,\"NCAP_TLIFE\",$AY$10:$AY$14)),0,\"\"))","v":""},{"$f":"IF($B27<>\"PRC_RESID\",\"\",IF(AC$7=2005+OFFSET(AGR!$B$49,$AX27,SUMIF($B$10:$B$14,\"NCAP_TLIFE\",$AY$10:$AY$14)),0,\"\"))","v":""},{"$f":"IF($B27<>\"PRC_RESID\",\"\",IF(AD$7=2005+OFFSET(AGR!$B$49,$AX27,SUMIF($B$10:$B$14,\"NCAP_TLIFE\",$AY$10:$AY$14)),0,\"\"))","v":""},{"$f":"IF($B27<>\"PRC_RESID\",\"\",IF(AE$7=2005+OFFSET(AGR!$B$49,$AX27,SUMIF($B$10:$B$14,\"NCAP_TLIFE\",$AY$10:$AY$14)),0,\"\"))","v":""},{"$f":"IF($B27<>\"PRC_RESID\",\"\",IF(AF$7=2005+OFFSET(AGR!$B$49,$AX27,SUMIF($B$10:$B$14,\"NCAP_TLIFE\",$AY$10:$AY$14)),0,\"\"))","v":""},{"$f":"IF($B27<>\"PRC_RESID\",\"\",IF(AG$7=2005+OFFSET(AGR!$B$49,$AX27,SUMIF($B$10:$B$14,\"NCAP_TLIFE\",$AY$10:$AY$14)),0,\"\"))","v":""},{"$f":"IF($B27<>\"PRC_RESID\",\"\",IF(AH$7=2005+OFFSET(AGR!$B$49,$AX27,SUMIF($B$10:$B$14,\"NCAP_TLIFE\",$AY$10:$AY$14)),0,\"\"))","v":""},null,null,null,null,{"$f":"IF($B27<>\"PRC_RESID\",\"\",IF(AM$7=2005+OFFSET(AGR!$B$49,$AX27,SUMIF($B$10:$B$14,\"NCAP_TLIFE\",$AY$10:$AY$14)),0,\"\"))","v":""},null,null,null,null,{"$f":"IF($B27<>\"PRC_RESID\",\"\",IF(AR$7=2005+OFFSET(AGR!$B$49,$AX27,SUMIF($B$10:$B$14,\"NCAP_TLIFE\",$AY$10:$AY$14)),0,\"\"))","v":""},{"$f":"IF($B27<>\"PRC_RESID\",\"\",IF(AS$7=2005+OFFSET(AGR!$B$49,$AX27,SUMIF($B$10:$B$14,\"NCAP_TLIFE\",$AY$10:$AY$14)),0,\"\"))","v":""},{"$f":"IF($B27<>\"PRC_RESID\",\"\",IF(AT$7=2005+OFFSET(AGR!$B$49,$AX27,SUMIF($B$10:$B$14,\"NCAP_TLIFE\",$AY$10:$AY$14)),0,\"\"))","v":""},{"$f":"IF($B27<>\"PRC_RESID\",\"\",IF(AU$7=2005+OFFSET(AGR!$B$49,$AX27,SUMIF($B$10:$B$14,\"NCAP_TLIFE\",$AY$10:$AY$14)),0,\"\"))","v":""},null,{"$f":"IF(AX26=AGR!$W$72,AW26+1,AW26)","v":1},12]
[{"$f":"IF(LEFT(OFFSET(AGR!$A$49,AX28,0),2)=\"\\I\",\"*\",\"\")","v":""},"ACT_EFF",{"$f":"IF($A28=\"*\",\"\",OFFSET(AGR!$B$49,AX28,0))","v":"ATOGS-E"},"-","ACTGRP","-","ANNUAL","-",0,{"$f":"IF($A28=\"*\",\"\",OFFSET(AGR!$B$49,AX28,SUMIF($B$10:$B$14,B28,$AY$10:$AY$14)))","v":0.25},{"$f":"IF($B28<>\"PRC_RESID\",\"\",IF(K$7=2005+OFFSET(AGR!$B$49,$AX28,SUMIF($B$10:$B$14,\"NCAP_TLIFE\",$AY$10:$AY$14)),0,\"\"))","v":""},{"$f":"IF($B28<>\"PRC_RESID\",\"\",IF(L$7=2005+OFFSET(AGR!$B$49,$AX28,SUMIF($B$10:$B$14,\"NCAP_TLIFE\",$AY$10:$AY$14)),0,\"\"))","v":""},{"$f":"IF($B28<>\"PRC_RESID\",\"\",IF(M$7=2005+OFFSET(AGR!$B$49,$AX28,SUMIF($B$10:$B$14,\"NCAP_TLIFE\",$AY$10:$AY$14)),0,\"\"))","v":""},{"$f":"IF($B28<>\"PRC_RESID\",\"\",IF(N$7=2005+OFFSET(AGR!$B$49,$AX28,SUMIF($B$10:$B$14,\"NCAP_TLIFE\",$AY$10:$AY$14)),0,\"\"))","v":""},{"$f":"IF($B28<>\"PRC_RESID\",\"\",IF(O$7=2005+OFFSET(AGR!$B$49,$AX28,SUMIF($B$10:$B$14,\"NCAP_TLIFE\",$AY$10:$AY$14)),0,\"\"))","v":""},{"$f":"IF($B28<>\"PRC_RESID\",\"\",IF(P$7=2005+OFFSET(AGR!$B$49,$AX28,SUMIF($B$10:$B$14,\"NCAP_TLIFE\",$AY$10:$AY$14)),0,\"\"))","v":""},{"$f":"IF($B28<>\"PRC_RESID\",\"\",IF(Q$7=2005+OFFSET(AGR!$B$49,$AX28,SUMIF($B$10:$B$14,\"NCAP_TLIFE\",$AY$10:$AY$14)),0,\"\"))","v":""},{"$f":"IF($B28<>\"PRC_RESID\",\"\",IF(R$7=2005+OFFSET(AGR!$B$49,$AX28,SUMIF($B$10:$B$14,\"NCAP_TLIFE\",$AY$10:$AY$14)),0,\"\"))","v":""},{"$f":"IF($B28<>\"PRC_RESID\",\"\",IF(S$7=2005+OFFSET(AGR!$B$49,$AX28,SUMIF($B$10:$B$14,\"NCAP_TLIFE\",$AY$10:$AY$14)),0,\"\"))","v":""},{"$f":"IF($B28<>\"PRC_RESID\",\"\",IF(T$7=2005+OFFSET(AGR!$B$49,$AX28,SUMIF($B$10:$B$14,\"NCAP_TLIFE\",$AY$10:$AY$14)),0,\"\"))","v":""},{"$f":"IF($B28<>\"PRC_RESID\",\"\",IF(U$7=2005+OFFSET(AGR!$B$49,$AX28,SUMIF($B$10:$B$14,\"NCAP_TLIFE\",$AY$10:$AY$14)),0,\"\"))","v":""},{"$f":"IF($B28<>\"PRC_RESID\",\"\",IF(V$7=2005+OFFSET(AGR!$B$49,$AX28,SUMIF($B$10:$B$14,\"NCAP_TLIFE\",$AY$10:$AY$14)),0,\"\"))","v":""},{"$f":"IF($B28<>\"PRC_RESID\",\"\",IF(W$7=2005+OFFSET(AGR!$B$49,$AX28,SUMIF($B$10:$B$14,\"NCAP_TLIFE\",$AY$10:$AY$14)),0,\"\"))","v":""},{"$f":"IF($B28<>\"PRC_RESID\",\"\",IF(X$7=2005+OFFSET(AGR!$B$49,$AX28,SUMIF($B$10:$B$14,\"NCAP_TLIFE\",$AY$10:$AY$14)),0,\"\"))","v":""},{"$f":"IF($B28<>\"PRC_RESID\",\"\",IF(Y$7=2005+OFFSET(AGR!$B$49,$AX28,SUMIF($B$10:$B$14,\"NCAP_TLIFE\",$AY$10:$AY$14)),0,\"\"))","v":""},{"$f":"IF($B28<>\"PRC_RESID\",\"\",IF(Z$7=2005+OFFSET(AGR!$B$49,$AX28,SUMIF($B$10:$B$14,\"NCAP_TLIFE\",$AY$10:$AY$14)),0,\"\"))","v":""},{"$f":"IF($B28<>\"PRC_RESID\",\"\",IF(AA$7=2005+OFFSET(AGR!$B$49,$AX28,SUMIF($B$10:$B$14,\"NCAP_TLIFE\",$AY$10:$AY$14)),0,\"\"))","v":""},{"$f":"IF($B28<>\"PRC_RESID\",\"\",IF(AB$7=2005+OFFSET(AGR!$B$49,$AX28,SUMIF($B$10:$B$14,\"NCAP_TLIFE\",$AY$10:$AY$14)),0,\"\"))","v":""},{"$f":"IF($B28<>\"PRC_RESID\",\"\",IF(AC$7=2005+OFFSET(AGR!$B$49,$AX28,SUMIF($B$10:$B$14,\"NCAP_TLIFE\",$AY$10:$AY$14)),0,\"\"))","v":""},{"$f":"IF($B28<>\"PRC_RESID\",\"\",IF(AD$7=2005+OFFSET(AGR!$B$49,$AX28,SUMIF($B$10:$B$14,\"NCAP_TLIFE\",$AY$10:$AY$14)),0,\"\"))","v":""},{"$f":"IF($B28<>\"PRC_RESID\",\"\",IF(AE$7=2005+OFFSET(AGR!$B$49,$AX28,SUMIF($B$10:$B$14,\"NCAP_TLIFE\",$AY$10:$AY$14)),0,\"\"))","v":""},{"$f":"IF($B28<>\"PRC_RESID\",\"\",IF(AF$7=2005+OFFSET(AGR!$B$49,$AX28,SUMIF($B$10:$B$14,\"NCAP_TLIFE\",$AY$10:$AY$14)),0,\"\"))","v":""},{"$f":"IF($B28<>\"PRC_RESID\",\"\",IF(AG$7=2005+OFFSET(AGR!$B$49,$AX28,SUMIF($B$10:$B$14,\"NCAP_TLIFE\",$AY$10:$AY$14)),0,\"\"))","v":""},{"$f":"IF($B28<>\"PRC_RESID\",\"\",IF(AH$7=2005+OFFSET(AGR!$B$49,$AX28,SUMIF($B$10:$B$14,\"NCAP_TLIFE\",$AY$10:$AY$14)),0,\"\"))","v":""},null,null,null,null,{"$f":"IF($B28<>\"PRC_RESID\",\"\",IF(AM$7=2005+OFFSET(AGR!$B$49,$AX28,SUMIF($B$10:$B$14,\"NCAP_TLIFE\",$AY$10:$AY$14)),0,\"\"))","v":""},null,null,null,null,{"$f":"IF($B28<>\"PRC_RESID\",\"\",IF(AR$7=2005+OFFSET(AGR!$B$49,$AX28,SUMIF($B$10:$B$14,\"NCAP_TLIFE\",$AY$10:$AY$14)),0,\"\"))","v":""},{"$f":"IF($B28<>\"PRC_RESID\",\"\",IF(AS$7=2005+OFFSET(AGR!$B$49,$AX28,SUMIF($B$10:$B$14,\"NCAP_TLIFE\",$AY$10:$AY$14)),0,\"\"))","v":""},{"$f":"IF($B28<>\"PRC_RESID\",\"\",IF(AT$7=2005+OFFSET(AGR!$B$49,$AX28,SUMIF($B$10:$B$14,\"NCAP_TLIFE\",$AY$10:$AY$14)),0,\"\"))","v":""},{"$f":"IF($B28<>\"PRC_RESID\",\"\",IF(AU$7=2005+OFFSET(AGR!$B$49,$AX28,SUMIF($B$10:$B$14,\"NCAP_TLIFE\",$AY$10:$AY$14)),0,\"\"))","v":""},null,{"$f":"IF(AX27=AGR!$W$72,AW27+1,AW27)","v":1},13]
[{"$f":"IF(LEFT(OFFSET(AGR!$A$49,AX29,0),2)=\"\\I\",\"*\",\"\")","v":"*"},"",{"$f":"IF($A29=\"*\",\"\",OFFSET(AGR!$B$49,AX29,0))","v":""},"","","","","","",{"$f":"IF($A29=\"*\",\"\",OFFSET(AGR!$B$49,AX29,SUMIF($B$10:$B$14,B29,$AY$10:$AY$14)))","v":""},{"$f":"IF($B29<>\"PRC_RESID\",\"\",IF(K$7=2005+OFFSET(AGR!$B$49,$AX29,SUMIF($B$10:$B$14,\"NCAP_TLIFE\",$AY$10:$AY$14)),0,\"\"))","v":""},{"$f":"IF($B29<>\"PRC_RESID\",\"\",IF(L$7=2005+OFFSET(AGR!$B$49,$AX29,SUMIF($B$10:$B$14,\"NCAP_TLIFE\",$AY$10:$AY$14)),0,\"\"))","v":""},{"$f":"IF($B29<>\"PRC_RESID\",\"\",IF(M$7=2005+OFFSET(AGR!$B$49,$AX29,SUMIF($B$10:$B$14,\"NCAP_TLIFE\",$AY$10:$AY$14)),0,\"\"))","v":""},{"$f":"IF($B29<>\"PRC_RESID\",\"\",IF(N$7=2005+OFFSET(AGR!$B$49,$AX29,SUMIF($B$10:$B$14,\"NCAP_TLIFE\",$AY$10:$AY$14)),0,\"\"))","v":""},{"$f":"IF($B29<>\"PRC_RESID\",\"\",IF(O$7=2005+OFFSET(AGR!$B$49,$AX29,SUMIF($B$10:$B$14,\"NCAP_TLIFE\",$AY$10:$AY$14)),0,\"\"))","v":""},{"$f":"IF($B29<>\"PRC_RESID\",\"\",IF(P$7=2005+OFFSET(AGR!$B$49,$AX29,SUMIF($B$10:$B$14,\"NCAP_TLIFE\",$AY$10:$AY$14)),0,\"\"))","v":""},{"$f":"IF($B29<>\"PRC_RESID\",\"\",IF(Q$7=2005+OFFSET(AGR!$B$49,$AX29,SUMIF($B$10:$B$14,\"NCAP_TLIFE\",$AY$10:$AY$14)),0,\"\"))","v":""},{"$f":"IF($B29<>\"PRC_RESID\",\"\",IF(R$7=2005+OFFSET(AGR!$B$49,$AX29,SUMIF($B$10:$B$14,\"NCAP_TLIFE\",$AY$10:$AY$14)),0,\"\"))","v":""},{"$f":"IF($B29<>\"PRC_RESID\",\"\",IF(S$7=2005+OFFSET(AGR!$B$49,$AX29,SUMIF($B$10:$B$14,\"NCAP_TLIFE\",$AY$10:$AY$14)),0,\"\"))","v":""},{"$f":"IF($B29<>\"PRC_RESID\",\"\",IF(T$7=2005+OFFSET(AGR!$B$49,$AX29,SUMIF($B$10:$B$14,\"NCAP_TLIFE\",$AY$10:$AY$14)),0,\"\"))","v":""},{"$f":"IF($B29<>\"PRC_RESID\",\"\",IF(U$7=2005+OFFSET(AGR!$B$49,$AX29,SUMIF($B$10:$B$14,\"NCAP_TLIFE\",$AY$10:$AY$14)),0,\"\"))","v":""},{"$f":"IF($B29<>\"PRC_RESID\",\"\",IF(V$7=2005+OFFSET(AGR!$B$49,$AX29,SUMIF($B$10:$B$14,\"NCAP_TLIFE\",$AY$10:$AY$14)),0,\"\"))","v":""},{"$f":"IF($B29<>\"PRC_RESID\",\"\",IF(W$7=2005+OFFSET(AGR!$B$49,$AX29,SUMIF($B$10:$B$14,\"NCAP_TLIFE\",$AY$10:$AY$14)),0,\"\"))","v":""},{"$f":"IF($B29<>\"PRC_RESID\",\"\",IF(X$7=2005+OFFSET(AGR!$B$49,$AX29,SUMIF($B$10:$B$14,\"NCAP_TLIFE\",$AY$10:$AY$14)),0,\"\"))","v":""},{"$f":"IF($B29<>\"PRC_RESID\",\"\",IF(Y$7=2005+OFFSET(AGR!$B$49,$AX29,SUMIF($B$10:$B$14,\"NCAP_TLIFE\",$AY$10:$AY$14)),0,\"\"))","v":""},{"$f":"IF($B29<>\"PRC_RESID\",\"\",IF(Z$7=2005+OFFSET(AGR!$B$49,$AX29,SUMIF($B$10:$B$14,\"NCAP_TLIFE\",$AY$10:$AY$14)),0,\"\"))","v":""},{"$f":"IF($B29<>\"PRC_RESID\",\"\",IF(AA$7=2005+OFFSET(AGR!$B$49,$AX29,SUMIF($B$10:$B$14,\"NCAP_TLIFE\",$AY$10:$AY$14)),0,\"\"))","v":""},{"$f":"IF($B29<>\"PRC_RESID\",\"\",IF(AB$7=2005+OFFSET(AGR!$B$49,$AX29,SUMIF($B$10:$B$14,\"NCAP_TLIFE\",$AY$10:$AY$14)),0,\"\"))","v":""},{"$f":"IF($B29<>\"PRC_RESID\",\"\",IF(AC$7=2005+OFFSET(AGR!$B$49,$AX29,SUMIF($B$10:$B$14,\"NCAP_TLIFE\",$AY$10:$AY$14)),0,\"\"))","v":""},{"$f":"IF($B29<>\"PRC_RESID\",\"\",IF(AD$7=2005+OFFSET(AGR!$B$49,$AX29,SUMIF($B$10:$B$14,\"NCAP_TLIFE\",$AY$10:$AY$14)),0,\"\"))","v":""},{"$f":"IF($B29<>\"PRC_RESID\",\"\",IF(AE$7=2005+OFFSET(AGR!$B$49,$AX29,SUMIF($B$10:$B$14,\"NCAP_TLIFE\",$AY$10:$AY$14)),0,\"\"))","v":""},{"$f":"IF($B29<>\"PRC_RESID\",\"\",IF(AF$7=2005+OFFSET(AGR!$B$49,$AX29,SUMIF($B$10:$B$14,\"NCAP_TLIFE\",$AY$10:$AY$14)),0,\"\"))","v":""},{"$f":"IF($B29<>\"PRC_RESID\",\"\",IF(AG$7=2005+OFFSET(AGR!$B$49,$AX29,SUMIF($B$10:$B$14,\"NCAP_TLIFE\",$AY$10:$AY$14)),0,\"\"))","v":""},{"$f":"IF($B29<>\"PRC_RESID\",\"\",IF(AH$7=2005+OFFSET(AGR!$B$49,$AX29,SUMIF($B$10:$B$14,\"NCAP_TLIFE\",$AY$10:$AY$14)),0,\"\"))","v":""},null,null,null,null,{"$f":"IF($B29<>\"PRC_RESID\",\"\",IF(AM$7=2005+OFFSET(AGR!$B$49,$AX29,SUMIF($B$10:$B$14,\"NCAP_TLIFE\",$AY$10:$AY$14)),0,\"\"))","v":""},null,null,null,null,{"$f":"IF($B29<>\"PRC_RESID\",\"\",IF(AR$7=2005+OFFSET(AGR!$B$49,$AX29,SUMIF($B$10:$B$14,\"NCAP_TLIFE\",$AY$10:$AY$14)),0,\"\"))","v":""},{"$f":"IF($B29<>\"PRC_RESID\",\"\",IF(AS$7=2005+OFFSET(AGR!$B$49,$AX29,SUMIF($B$10:$B$14,\"NCAP_TLIFE\",$AY$10:$AY$14)),0,\"\"))","v":""},{"$f":"IF($B29<>\"PRC_RESID\",\"\",IF(AT$7=2005+OFFSET(AGR!$B$49,$AX29,SUMIF($B$10:$B$14,\"NCAP_TLIFE\",$AY$10:$AY$14)),0,\"\"))","v":""},{"$f":"IF($B29<>\"PRC_RESID\",\"\",IF(AU$7=2005+OFFSET(AGR!$B$49,$AX29,SUMIF($B$10:$B$14,\"NCAP_TLIFE\",$AY$10:$AY$14)),0,\"\"))","v":""},null,{"$f":"IF(AX28=AGR!$W$72,AW28+1,AW28)","v":1},14]
[{"$f":"IF(LEFT(OFFSET(AGR!$A$49,AX30,0),2)=\"\\I\",\"*\",\"\")","v":"*"},"",{"$f":"IF($A30=\"*\",\"\",OFFSET(AGR!$B$49,AX30,0))","v":""},"","","","","","",{"$f":"IF($A30=\"*\",\"\",OFFSET(AGR!$B$49,AX30,SUMIF($B$10:$B$14,B30,$AY$10:$AY$14)))","v":""},{"$f":"IF($B30<>\"PRC_RESID\",\"\",IF(K$7=2005+OFFSET(AGR!$B$49,$AX30,SUMIF($B$10:$B$14,\"NCAP_TLIFE\",$AY$10:$AY$14)),0,\"\"))","v":""},{"$f":"IF($B30<>\"PRC_RESID\",\"\",IF(L$7=2005+OFFSET(AGR!$B$49,$AX30,SUMIF($B$10:$B$14,\"NCAP_TLIFE\",$AY$10:$AY$14)),0,\"\"))","v":""},{"$f":"IF($B30<>\"PRC_RESID\",\"\",IF(M$7=2005+OFFSET(AGR!$B$49,$AX30,SUMIF($B$10:$B$14,\"NCAP_TLIFE\",$AY$10:$AY$14)),0,\"\"))","v":""},{"$f":"IF($B30<>\"PRC_RESID\",\"\",IF(N$7=2005+OFFSET(AGR!$B$49,$AX30,SUMIF($B$10:$B$14,\"NCAP_TLIFE\",$AY$10:$AY$14)),0,\"\"))","v":""},{"$f":"IF($B30<>\"PRC_RESID\",\"\",IF(O$7=2005+OFFSET(AGR!$B$49,$AX30,SUMIF($B$10:$B$14,\"NCAP_TLIFE\",$AY$10:$AY$14)),0,\"\"))","v":""},{"$f":"IF($B30<>\"PRC_RESID\",\"\",IF(P$7=2005+OFFSET(AGR!$B$49,$AX30,SUMIF($B$10:$B$14,\"NCAP_TLIFE\",$AY$10:$AY$14)),0,\"\"))","v":""},{"$f":"IF($B30<>\"PRC_RESID\",\"\",IF(Q$7=2005+OFFSET(AGR!$B$49,$AX30,SUMIF($B$10:$B$14,\"NCAP_TLIFE\",$AY$10:$AY$14)),0,\"\"))","v":""},{"$f":"IF($B30<>\"PRC_RESID\",\"\",IF(R$7=2005+OFFSET(AGR!$B$49,$AX30,SUMIF($B$10:$B$14,\"NCAP_TLIFE\",$AY$10:$AY$14)),0,\"\"))","v":""},{"$f":"IF($B30<>\"PRC_RESID\",\"\",IF(S$7=2005+OFFSET(AGR!$B$49,$AX30,SUMIF($B$10:$B$14,\"NCAP_TLIFE\",$AY$10:$AY$14)),0,\"\"))","v":""},{"$f":"IF($B30<>\"PRC_RESID\",\"\",IF(T$7=2005+OFFSET(AGR!$B$49,$AX30,SUMIF($B$10:$B$14,\"NCAP_TLIFE\",$AY$10:$AY$14)),0,\"\"))","v":""},{"$f":"IF($B30<>\"PRC_RESID\",\"\",IF(U$7=2005+OFFSET(AGR!$B$49,$AX30,SUMIF($B$10:$B$14,\"NCAP_TLIFE\",$AY$10:$AY$14)),0,\"\"))","v":""},{"$f":"IF($B30<>\"PRC_RESID\",\"\",IF(V$7=2005+OFFSET(AGR!$B$49,$AX30,SUMIF($B$10:$B$14,\"NCAP_TLIFE\",$AY$10:$AY$14)),0,\"\"))","v":""},{"$f":"IF($B30<>\"PRC_RESID\",\"\",IF(W$7=2005+OFFSET(AGR!$B$49,$AX30,SUMIF($B$10:$B$14,\"NCAP_TLIFE\",$AY$10:$AY$14)),0,\"\"))","v":""},{"$f":"IF($B30<>\"PRC_RESID\",\"\",IF(X$7=2005+OFFSET(AGR!$B$49,$AX30,SUMIF($B$10:$B$14,\"NCAP_TLIFE\",$AY$10:$AY$14)),0,\"\"))","v":""},{"$f":"IF($B30<>\"PRC_RESID\",\"\",IF(Y$7=2005+OFFSET(AGR!$B$49,$AX30,SUMIF($B$10:$B$14,\"NCAP_TLIFE\",$AY$10:$AY$14)),0,\"\"))","v":""},{"$f":"IF($B30<>\"PRC_RESID\",\"\",IF(Z$7=2005+OFFSET(AGR!$B$49,$AX30,SUMIF($B$10:$B$14,\"NCAP_TLIFE\",$AY$10:$AY$14)),0,\"\"))","v":""},{"$f":"IF($B30<>\"PRC_RESID\",\"\",IF(AA$7=2005+OFFSET(AGR!$B$49,$AX30,SUMIF($B$10:$B$14,\"NCAP_TLIFE\",$AY$10:$AY$14)),0,\"\"))","v":""},{"$f":"IF($B30<>\"PRC_RESID\",\"\",IF(AB$7=2005+OFFSET(AGR!$B$49,$AX30,SUMIF($B$10:$B$14,\"NCAP_TLIFE\",$AY$10:$AY$14)),0,\"\"))","v":""},{"$f":"IF($B30<>\"PRC_RESID\",\"\",IF(AC$7=2005+OFFSET(AGR!$B$49,$AX30,SUMIF($B$10:$B$14,\"NCAP_TLIFE\",$AY$10:$AY$14)),0,\"\"))","v":""},{"$f":"IF($B30<>\"PRC_RESID\",\"\",IF(AD$7=2005+OFFSET(AGR!$B$49,$AX30,SUMIF($B$10:$B$14,\"NCAP_TLIFE\",$AY$10:$AY$14)),0,\"\"))","v":""},{"$f":"IF($B30<>\"PRC_RESID\",\"\",IF(AE$7=2005+OFFSET(AGR!$B$49,$AX30,SUMIF($B$10:$B$14,\"NCAP_TLIFE\",$AY$10:$AY$14)),0,\"\"))","v":""},{"$f":"IF($B30<>\"PRC_RESID\",\"\",IF(AF$7=2005+OFFSET(AGR!$B$49,$AX30,SUMIF($B$10:$B$14,\"NCAP_TLIFE\",$AY$10:$AY$14)),0,\"\"))","v":""},{"$f":"IF($B30<>\"PRC_RESID\",\"\",IF(AG$7=2005+OFFSET(AGR!$B$49,$AX30,SUMIF($B$10:$B$14,\"NCAP_TLIFE\",$AY$10:$AY$14)),0,\"\"))","v":""},{"$f":"IF($B30<>\"PRC_RESID\",\"\",IF(AH$7=2005+OFFSET(AGR!$B$49,$AX30,SUMIF($B$10:$B$14,\"NCAP_TLIFE\",$AY$10:$AY$14)),0,\"\"))","v":""},null,null,null,null,{"$f":"IF($B30<>\"PRC_RESID\",\"\",IF(AM$7=2005+OFFSET(AGR!$B$49,$AX30,SUMIF($B$10:$B$14,\"NCAP_TLIFE\",$AY$10:$AY$14)),0,\"\"))","v":""},null,null,null,null,{"$f":"IF($B30<>\"PRC_RESID\",\"\",IF(AR$7=2005+OFFSET(AGR!$B$49,$AX30,SUMIF($B$10:$B$14,\"NCAP_TLIFE\",$AY$10:$AY$14)),0,\"\"))","v":""},{"$f":"IF($B30<>\"PRC_RESID\",\"\",IF(AS$7=2005+OFFSET(AGR!$B$49,$AX30,SUMIF($B$10:$B$14,\"NCAP_TLIFE\",$AY$10:$AY$14)),0,\"\"))","v":""},{"$f":"IF($B30<>\"PRC_RESID\",\"\",IF(AT$7=2005+OFFSET(AGR!$B$49,$AX30,SUMIF($B$10:$B$14,\"NCAP_TLIFE\",$AY$10:$AY$14)),0,\"\"))","v":""},{"$f":"IF($B30<>\"PRC_RESID\",\"\",IF(AU$7=2005+OFFSET(AGR!$B$49,$AX30,SUMIF($B$10:$B$14,\"NCAP_TLIFE\",$AY$10:$AY$14)),0,\"\"))","v":""},null,{"$f":"IF(AX29=AGR!$W$72,AW29+1,AW29)","v":1},15]
[{"$f":"IF(LEFT(OFFSET(AGR!$A$49,AX31,0),2)=\"\\I\",\"*\",\"\")","v":""},"ACT_EFF",{"$f":"IF($A31=\"*\",\"\",OFFSET(AGR!$B$49,AX31,0))","v":"AIODS-E"},"-","ACTGRP","-","ANNUAL","-",0,{"$f":"IF($A31=\"*\",\"\",OFFSET(AGR!$B$49,AX31,SUMIF($B$10:$B$14,B31,$AY$10:$AY$14)))","v":0.35},{"$f":"IF($B31<>\"PRC_RESID\",\"\",IF(K$7=2005+OFFSET(AGR!$B$49,$AX31,SUMIF($B$10:$B$14,\"NCAP_TLIFE\",$AY$10:$AY$14)),0,\"\"))","v":""},{"$f":"IF($B31<>\"PRC_RESID\",\"\",IF(L$7=2005+OFFSET(AGR!$B$49,$AX31,SUMIF($B$10:$B$14,\"NCAP_TLIFE\",$AY$10:$AY$14)),0,\"\"))","v":""},{"$f":"IF($B31<>\"PRC_RESID\",\"\",IF(M$7=2005+OFFSET(AGR!$B$49,$AX31,SUMIF($B$10:$B$14,\"NCAP_TLIFE\",$AY$10:$AY$14)),0,\"\"))","v":""},{"$f":"IF($B31<>\"PRC_RESID\",\"\",IF(N$7=2005+OFFSET(AGR!$B$49,$AX31,SUMIF($B$10:$B$14,\"NCAP_TLIFE\",$AY$10:$AY$14)),0,\"\"))","v":""},{"$f":"IF($B31<>\"PRC_RESID\",\"\",IF(O$7=2005+OFFSET(AGR!$B$49,$AX31,SUMIF($B$10:$B$14,\"NCAP_TLIFE\",$AY$10:$AY$14)),0,\"\"))","v":""},{"$f":"IF($B31<>\"PRC_RESID\",\"\",IF(P$7=2005+OFFSET(AGR!$B$49,$AX31,SUMIF($B$10:$B$14,\"NCAP_TLIFE\",$AY$10:$AY$14)),0,\"\"))","v":""},{"$f":"IF($B31<>\"PRC_RESID\",\"\",IF(Q$7=2005+OFFSET(AGR!$B$49,$AX31,SUMIF($B$10:$B$14,\"NCAP_TLIFE\",$AY$10:$AY$14)),0,\"\"))","v":""},{"$f":"IF($B31<>\"PRC_RESID\",\"\",IF(R$7=2005+OFFSET(AGR!$B$49,$AX31,SUMIF($B$10:$B$14,\"NCAP_TLIFE\",$AY$10:$AY$14)),0,\"\"))","v":""},{"$f":"IF($B31<>\"PRC_RESID\",\"\",IF(S$7=2005+OFFSET(AGR!$B$49,$AX31,SUMIF($B$10:$B$14,\"NCAP_TLIFE\",$AY$10:$AY$14)),0,\"\"))","v":""},{"$f":"IF($B31<>\"PRC_RESID\",\"\",IF(T$7=2005+OFFSET(AGR!$B$49,$AX31,SUMIF($B$10:$B$14,\"NCAP_TLIFE\",$AY$10:$AY$14)),0,\"\"))","v":""},{"$f":"IF($B31<>\"PRC_RESID\",\"\",IF(U$7=2005+OFFSET(AGR!$B$49,$AX31,SUMIF($B$10:$B$14,\"NCAP_TLIFE\",$AY$10:$AY$14)),0,\"\"))","v":""},{"$f":"IF($B31<>\"PRC_RESID\",\"\",IF(V$7=2005+OFFSET(AGR!$B$49,$AX31,SUMIF($B$10:$B$14,\"NCAP_TLIFE\",$AY$10:$AY$14)),0,\"\"))","v":""},{"$f":"IF($B31<>\"PRC_RESID\",\"\",IF(W$7=2005+OFFSET(AGR!$B$49,$AX31,SUMIF($B$10:$B$14,\"NCAP_TLIFE\",$AY$10:$AY$14)),0,\"\"))","v":""},{"$f":"IF($B31<>\"PRC_RESID\",\"\",IF(X$7=2005+OFFSET(AGR!$B$49,$AX31,SUMIF($B$10:$B$14,\"NCAP_TLIFE\",$AY$10:$AY$14)),0,\"\"))","v":""},{"$f":"IF($B31<>\"PRC_RESID\",\"\",IF(Y$7=2005+OFFSET(AGR!$B$49,$AX31,SUMIF($B$10:$B$14,\"NCAP_TLIFE\",$AY$10:$AY$14)),0,\"\"))","v":""},{"$f":"IF($B31<>\"PRC_RESID\",\"\",IF(Z$7=2005+OFFSET(AGR!$B$49,$AX31,SUMIF($B$10:$B$14,\"NCAP_TLIFE\",$AY$10:$AY$14)),0,\"\"))","v":""},{"$f":"IF($B31<>\"PRC_RESID\",\"\",IF(AA$7=2005+OFFSET(AGR!$B$49,$AX31,SUMIF($B$10:$B$14,\"NCAP_TLIFE\",$AY$10:$AY$14)),0,\"\"))","v":""},{"$f":"IF($B31<>\"PRC_RESID\",\"\",IF(AB$7=2005+OFFSET(AGR!$B$49,$AX31,SUMIF($B$10:$B$14,\"NCAP_TLIFE\",$AY$10:$AY$14)),0,\"\"))","v":""},{"$f":"IF($B31<>\"PRC_RESID\",\"\",IF(AC$7=2005+OFFSET(AGR!$B$49,$AX31,SUMIF($B$10:$B$14,\"NCAP_TLIFE\",$AY$10:$AY$14)),0,\"\"))","v":""},{"$f":"IF($B31<>\"PRC_RESID\",\"\",IF(AD$7=2005+OFFSET(AGR!$B$49,$AX31,SUMIF($B$10:$B$14,\"NCAP_TLIFE\",$AY$10:$AY$14)),0,\"\"))","v":""},{"$f":"IF($B31<>\"PRC_RESID\",\"\",IF(AE$7=2005+OFFSET(AGR!$B$49,$AX31,SUMIF($B$10:$B$14,\"NCAP_TLIFE\",$AY$10:$AY$14)),0,\"\"))","v":""},{"$f":"IF($B31<>\"PRC_RESID\",\"\",IF(AF$7=2005+OFFSET(AGR!$B$49,$AX31,SUMIF($B$10:$B$14,\"NCAP_TLIFE\",$AY$10:$AY$14)),0,\"\"))","v":""},{"$f":"IF($B31<>\"PRC_RESID\",\"\",IF(AG$7=2005+OFFSET(AGR!$B$49,$AX31,SUMIF($B$10:$B$14,\"NCAP_TLIFE\",$AY$10:$AY$14)),0,\"\"))","v":""},{"$f":"IF($B31<>\"PRC_RESID\",\"\",IF(AH$7=2005+OFFSET(AGR!$B$49,$AX31,SUMIF($B$10:$B$14,\"NCAP_TLIFE\",$AY$10:$AY$14)),0,\"\"))","v":""},null,null,null,null,{"$f":"IF($B31<>\"PRC_RESID\",\"\",IF(AM$7=2005+OFFSET(AGR!$B$49,$AX31,SUMIF($B$10:$B$14,\"NCAP_TLIFE\",$AY$10:$AY$14)),0,\"\"))","v":""},null,null,null,null,{"$f":"IF($B31<>\"PRC_RESID\",\"\",IF(AR$7=2005+OFFSET(AGR!$B$49,$AX31,SUMIF($B$10:$B$14,\"NCAP_TLIFE\",$AY$10:$AY$14)),0,\"\"))","v":""},{"$f":"IF($B31<>\"PRC_RESID\",\"\",IF(AS$7=2005+OFFSET(AGR!$B$49,$AX31,SUMIF($B$10:$B$14,\"NCAP_TLIFE\",$AY$10:$AY$14)),0,\"\"))","v":""},{"$f":"IF($B31<>\"PRC_RESID\",\"\",IF(AT$7=2005+OFFSET(AGR!$B$49,$AX31,SUMIF($B$10:$B$14,\"NCAP_TLIFE\",$AY$10:$AY$14)),0,\"\"))","v":""},{"$f":"IF($B31<>\"PRC_RESID\",\"\",IF(AU$7=2005+OFFSET(AGR!$B$49,$AX31,SUMIF($B$10:$B$14,\"NCAP_TLIFE\",$AY$10:$AY$14)),0,\"\"))","v":""},null,{"$f":"IF(AX30=AGR!$W$72,AW30+1,AW30)","v":1},16]
[{"$f":"IF(LEFT(OFFSET(AGR!$A$49,AX32,0),2)=\"\\I\",\"*\",\"\")","v":""},"ACT_EFF",{"$f":"IF($A32=\"*\",\"\",OFFSET(AGR!$B$49,AX32,0))","v":"AIELC-E"},"-","ACTGRP","-","ANNUAL","-",0,{"$f":"IF($A32=\"*\",\"\",OFFSET(AGR!$B$49,AX32,SUMIF($B$10:$B$14,B32,$AY$10:$AY$14)))","v":0.95},{"$f":"IF($B32<>\"PRC_RESID\",\"\",IF(K$7=2005+OFFSET(AGR!$B$49,$AX32,SUMIF($B$10:$B$14,\"NCAP_TLIFE\",$AY$10:$AY$14)),0,\"\"))","v":""},{"$f":"IF($B32<>\"PRC_RESID\",\"\",IF(L$7=2005+OFFSET(AGR!$B$49,$AX32,SUMIF($B$10:$B$14,\"NCAP_TLIFE\",$AY$10:$AY$14)),0,\"\"))","v":""},{"$f":"IF($B32<>\"PRC_RESID\",\"\",IF(M$7=2005+OFFSET(AGR!$B$49,$AX32,SUMIF($B$10:$B$14,\"NCAP_TLIFE\",$AY$10:$AY$14)),0,\"\"))","v":""},{"$f":"IF($B32<>\"PRC_RESID\",\"\",IF(N$7=2005+OFFSET(AGR!$B$49,$AX32,SUMIF($B$10:$B$14,\"NCAP_TLIFE\",$AY$10:$AY$14)),0,\"\"))","v":""},{"$f":"IF($B32<>\"PRC_RESID\",\"\",IF(O$7=2005+OFFSET(AGR!$B$49,$AX32,SUMIF($B$10:$B$14,\"NCAP_TLIFE\",$AY$10:$AY$14)),0,\"\"))","v":""},{"$f":"IF($B32<>\"PRC_RESID\",\"\",IF(P$7=2005+OFFSET(AGR!$B$49,$AX32,SUMIF($B$10:$B$14,\"NCAP_TLIFE\",$AY$10:$AY$14)),0,\"\"))","v":""},{"$f":"IF($B32<>\"PRC_RESID\",\"\",IF(Q$7=2005+OFFSET(AGR!$B$49,$AX32,SUMIF($B$10:$B$14,\"NCAP_TLIFE\",$AY$10:$AY$14)),0,\"\"))","v":""},{"$f":"IF($B32<>\"PRC_RESID\",\"\",IF(R$7=2005+OFFSET(AGR!$B$49,$AX32,SUMIF($B$10:$B$14,\"NCAP_TLIFE\",$AY$10:$AY$14)),0,\"\"))","v":""},{"$f":"IF($B32<>\"PRC_RESID\",\"\",IF(S$7=2005+OFFSET(AGR!$B$49,$AX32,SUMIF($B$10:$B$14,\"NCAP_TLIFE\",$AY$10:$AY$14)),0,\"\"))","v":""},{"$f":"IF($B32<>\"PRC_RESID\",\"\",IF(T$7=2005+OFFSET(AGR!$B$49,$AX32,SUMIF($B$10:$B$14,\"NCAP_TLIFE\",$AY$10:$AY$14)),0,\"\"))","v":""},{"$f":"IF($B32<>\"PRC_RESID\",\"\",IF(U$7=2005+OFFSET(AGR!$B$49,$AX32,SUMIF($B$10:$B$14,\"NCAP_TLIFE\",$AY$10:$AY$14)),0,\"\"))","v":""},{"$f":"IF($B32<>\"PRC_RESID\",\"\",IF(V$7=2005+OFFSET(AGR!$B$49,$AX32,SUMIF($B$10:$B$14,\"NCAP_TLIFE\",$AY$10:$AY$14)),0,\"\"))","v":""},{"$f":"IF($B32<>\"PRC_RESID\",\"\",IF(W$7=2005+OFFSET(AGR!$B$49,$AX32,SUMIF($B$10:$B$14,\"NCAP_TLIFE\",$AY$10:$AY$14)),0,\"\"))","v":""},{"$f":"IF($B32<>\"PRC_RESID\",\"\",IF(X$7=2005+OFFSET(AGR!$B$49,$AX32,SUMIF($B$10:$B$14,\"NCAP_TLIFE\",$AY$10:$AY$14)),0,\"\"))","v":""},{"$f":"IF($B32<>\"PRC_RESID\",\"\",IF(Y$7=2005+OFFSET(AGR!$B$49,$AX32,SUMIF($B$10:$B$14,\"NCAP_TLIFE\",$AY$10:$AY$14)),0,\"\"))","v":""},{"$f":"IF($B32<>\"PRC_RESID\",\"\",IF(Z$7=2005+OFFSET(AGR!$B$49,$AX32,SUMIF($B$10:$B$14,\"NCAP_TLIFE\",$AY$10:$AY$14)),0,\"\"))","v":""},{"$f":"IF($B32<>\"PRC_RESID\",\"\",IF(AA$7=2005+OFFSET(AGR!$B$49,$AX32,SUMIF($B$10:$B$14,\"NCAP_TLIFE\",$AY$10:$AY$14)),0,\"\"))","v":""},{"$f":"IF($B32<>\"PRC_RESID\",\"\",IF(AB$7=2005+OFFSET(AGR!$B$49,$AX32,SUMIF($B$10:$B$14,\"NCAP_TLIFE\",$AY$10:$AY$14)),0,\"\"))","v":""},{"$f":"IF($B32<>\"PRC_RESID\",\"\",IF(AC$7=2005+OFFSET(AGR!$B$49,$AX32,SUMIF($B$10:$B$14,\"NCAP_TLIFE\",$AY$10:$AY$14)),0,\"\"))","v":""},{"$f":"IF($B32<>\"PRC_RESID\",\"\",IF(AD$7=2005+OFFSET(AGR!$B$49,$AX32,SUMIF($B$10:$B$14,\"NCAP_TLIFE\",$AY$10:$AY$14)),0,\"\"))","v":""},{"$f":"IF($B32<>\"PRC_RESID\",\"\",IF(AE$7=2005+OFFSET(AGR!$B$49,$AX32,SUMIF($B$10:$B$14,\"NCAP_TLIFE\",$AY$10:$AY$14)),0,\"\"))","v":""},{"$f":"IF($B32<>\"PRC_RESID\",\"\",IF(AF$7=2005+OFFSET(AGR!$B$49,$AX32,SUMIF($B$10:$B$14,\"NCAP_TLIFE\",$AY$10:$AY$14)),0,\"\"))","v":""},{"$f":"IF($B32<>\"PRC_RESID\",\"\",IF(AG$7=2005+OFFSET(AGR!$B$49,$AX32,SUMIF($B$10:$B$14,\"NCAP_TLIFE\",$AY$10:$AY$14)),0,\"\"))","v":""},{"$f":"IF($B32<>\"PRC_RESID\",\"\",IF(AH$7=2005+OFFSET(AGR!$B$49,$AX32,SUMIF($B$10:$B$14,\"NCAP_TLIFE\",$AY$10:$AY$14)),0,\"\"))","v":""},null,null,null,null,{"$f":"IF($B32<>\"PRC_RESID\",\"\",IF(AM$7=2005+OFFSET(AGR!$B$49,$AX32,SUMIF($B$10:$B$14,\"NCAP_TLIFE\",$AY$10:$AY$14)),0,\"\"))","v":""},null,null,null,null,{"$f":"IF($B32<>\"PRC_RESID\",\"\",IF(AR$7=2005+OFFSET(AGR!$B$49,$AX32,SUMIF($B$10:$B$14,\"NCAP_TLIFE\",$AY$10:$AY$14)),0,\"\"))","v":""},{"$f":"IF($B32<>\"PRC_RESID\",\"\",IF(AS$7=2005+OFFSET(AGR!$B$49,$AX32,SUMIF($B$10:$B$14,\"NCAP_TLIFE\",$AY$10:$AY$14)),0,\"\"))","v":""},{"$f":"IF($B32<>\"PRC_RESID\",\"\",IF(AT$7=2005+OFFSET(AGR!$B$49,$AX32,SUMIF($B$10:$B$14,\"NCAP_TLIFE\",$AY$10:$AY$14)),0,\"\"))","v":""},{"$f":"IF($B32<>\"PRC_RESID\",\"\",IF(AU$7=2005+OFFSET(AGR!$B$49,$AX32,SUMIF($B$10:$B$14,\"NCAP_TLIFE\",$AY$10:$AY$14)),0,\"\"))","v":""},null,{"$f":"IF(AX31=AGR!$W$72,AW31+1,AW31)","v":1},17]
[{"$f":"IF(LEFT(OFFSET(AGR!$A$49,AX33,0),2)=\"\\I\",\"*\",\"\")","v":""},"ACT_EFF",{"$f":"IF($A33=\"*\",\"\",OFFSET(AGR!$B$49,AX33,0))","v":"AIOGS-E"},"-","ACTGRP","-","ANNUAL","-",0,{"$f":"IF($A33=\"*\",\"\",OFFSET(AGR!$B$49,AX33,SUMIF($B$10:$B$14,B33,$AY$10:$AY$14)))","v":0.25},{"$f":"IF($B33<>\"PRC_RESID\",\"\",IF(K$7=2005+OFFSET(AGR!$B$49,$AX33,SUMIF($B$10:$B$14,\"NCAP_TLIFE\",$AY$10:$AY$14)),0,\"\"))","v":""},{"$f":"IF($B33<>\"PRC_RESID\",\"\",IF(L$7=2005+OFFSET(AGR!$B$49,$AX33,SUMIF($B$10:$B$14,\"NCAP_TLIFE\",$AY$10:$AY$14)),0,\"\"))","v":""},{"$f":"IF($B33<>\"PRC_RESID\",\"\",IF(M$7=2005+OFFSET(AGR!$B$49,$AX33,SUMIF($B$10:$B$14,\"NCAP_TLIFE\",$AY$10:$AY$14)),0,\"\"))","v":""},{"$f":"IF($B33<>\"PRC_RESID\",\"\",IF(N$7=2005+OFFSET(AGR!$B$49,$AX33,SUMIF($B$10:$B$14,\"NCAP_TLIFE\",$AY$10:$AY$14)),0,\"\"))","v":""},{"$f":"IF($B33<>\"PRC_RESID\",\"\",IF(O$7=2005+OFFSET(AGR!$B$49,$AX33,SUMIF($B$10:$B$14,\"NCAP_TLIFE\",$AY$10:$AY$14)),0,\"\"))","v":""},{"$f":"IF($B33<>\"PRC_RESID\",\"\",IF(P$7=2005+OFFSET(AGR!$B$49,$AX33,SUMIF($B$10:$B$14,\"NCAP_TLIFE\",$AY$10:$AY$14)),0,\"\"))","v":""},{"$f":"IF($B33<>\"PRC_RESID\",\"\",IF(Q$7=2005+OFFSET(AGR!$B$49,$AX33,SUMIF($B$10:$B$14,\"NCAP_TLIFE\",$AY$10:$AY$14)),0,\"\"))","v":""},{"$f":"IF($B33<>\"PRC_RESID\",\"\",IF(R$7=2005+OFFSET(AGR!$B$49,$AX33,SUMIF($B$10:$B$14,\"NCAP_TLIFE\",$AY$10:$AY$14)),0,\"\"))","v":""},{"$f":"IF($B33<>\"PRC_RESID\",\"\",IF(S$7=2005+OFFSET(AGR!$B$49,$AX33,SUMIF($B$10:$B$14,\"NCAP_TLIFE\",$AY$10:$AY$14)),0,\"\"))","v":""},{"$f":"IF($B33<>\"PRC_RESID\",\"\",IF(T$7=2005+OFFSET(AGR!$B$49,$AX33,SUMIF($B$10:$B$14,\"NCAP_TLIFE\",$AY$10:$AY$14)),0,\"\"))","v":""},{"$f":"IF($B33<>\"PRC_RESID\",\"\",IF(U$7=2005+OFFSET(AGR!$B$49,$AX33,SUMIF($B$10:$B$14,\"NCAP_TLIFE\",$AY$10:$AY$14)),0,\"\"))","v":""},{"$f":"IF($B33<>\"PRC_RESID\",\"\",IF(V$7=2005+OFFSET(AGR!$B$49,$AX33,SUMIF($B$10:$B$14,\"NCAP_TLIFE\",$AY$10:$AY$14)),0,\"\"))","v":""},{"$f":"IF($B33<>\"PRC_RESID\",\"\",IF(W$7=2005+OFFSET(AGR!$B$49,$AX33,SUMIF($B$10:$B$14,\"NCAP_TLIFE\",$AY$10:$AY$14)),0,\"\"))","v":""},{"$f":"IF($B33<>\"PRC_RESID\",\"\",IF(X$7=2005+OFFSET(AGR!$B$49,$AX33,SUMIF($B$10:$B$14,\"NCAP_TLIFE\",$AY$10:$AY$14)),0,\"\"))","v":""},{"$f":"IF($B33<>\"PRC_RESID\",\"\",IF(Y$7=2005+OFFSET(AGR!$B$49,$AX33,SUMIF($B$10:$B$14,\"NCAP_TLIFE\",$AY$10:$AY$14)),0,\"\"))","v":""},{"$f":"IF($B33<>\"PRC_RESID\",\"\",IF(Z$7=2005+OFFSET(AGR!$B$49,$AX33,SUMIF($B$10:$B$14,\"NCAP_TLIFE\",$AY$10:$AY$14)),0,\"\"))","v":""},{"$f":"IF($B33<>\"PRC_RESID\",\"\",IF(AA$7=2005+OFFSET(AGR!$B$49,$AX33,SUMIF($B$10:$B$14,\"NCAP_TLIFE\",$AY$10:$AY$14)),0,\"\"))","v":""},{"$f":"IF($B33<>\"PRC_RESID\",\"\",IF(AB$7=2005+OFFSET(AGR!$B$49,$AX33,SUMIF($B$10:$B$14,\"NCAP_TLIFE\",$AY$10:$AY$14)),0,\"\"))","v":""},{"$f":"IF($B33<>\"PRC_RESID\",\"\",IF(AC$7=2005+OFFSET(AGR!$B$49,$AX33,SUMIF($B$10:$B$14,\"NCAP_TLIFE\",$AY$10:$AY$14)),0,\"\"))","v":""},{"$f":"IF($B33<>\"PRC_RESID\",\"\",IF(AD$7=2005+OFFSET(AGR!$B$49,$AX33,SUMIF($B$10:$B$14,\"NCAP_TLIFE\",$AY$10:$AY$14)),0,\"\"))","v":""},{"$f":"IF($B33<>\"PRC_RESID\",\"\",IF(AE$7=2005+OFFSET(AGR!$B$49,$AX33,SUMIF($B$10:$B$14,\"NCAP_TLIFE\",$AY$10:$AY$14)),0,\"\"))","v":""},{"$f":"IF($B33<>\"PRC_RESID\",\"\",IF(AF$7=2005+OFFSET(AGR!$B$49,$AX33,SUMIF($B$10:$B$14,\"NCAP_TLIFE\",$AY$10:$AY$14)),0,\"\"))","v":""},{"$f":"IF($B33<>\"PRC_RESID\",\"\",IF(AG$7=2005+OFFSET(AGR!$B$49,$AX33,SUMIF($B$10:$B$14,\"NCAP_TLIFE\",$AY$10:$AY$14)),0,\"\"))","v":""},{"$f":"IF($B33<>\"PRC_RESID\",\"\",IF(AH$7=2005+OFFSET(AGR!$B$49,$AX33,SUMIF($B$10:$B$14,\"NCAP_TLIFE\",$AY$10:$AY$14)),0,\"\"))","v":""},null,null,null,null,{"$f":"IF($B33<>\"PRC_RESID\",\"\",IF(AM$7=2005+OFFSET(AGR!$B$49,$AX33,SUMIF($B$10:$B$14,\"NCAP_TLIFE\",$AY$10:$AY$14)),0,\"\"))","v":""},null,null,null,null,{"$f":"IF($B33<>\"PRC_RESID\",\"\",IF(AR$7=2005+OFFSET(AGR!$B$49,$AX33,SUMIF($B$10:$B$14,\"NCAP_TLIFE\",$AY$10:$AY$14)),0,\"\"))","v":""},{"$f":"IF($B33<>\"PRC_RESID\",\"\",IF(AS$7=2005+OFFSET(AGR!$B$49,$AX33,SUMIF($B$10:$B$14,\"NCAP_TLIFE\",$AY$10:$AY$14)),0,\"\"))","v":""},{"$f":"IF($B33<>\"PRC_RESID\",\"\",IF(AT$7=2005+OFFSET(AGR!$B$49,$AX33,SUMIF($B$10:$B$14,\"NCAP_TLIFE\",$AY$10:$AY$14)),0,\"\"))","v":""},{"$f":"IF($B33<>\"PRC_RESID\",\"\",IF(AU$7=2005+OFFSET(AGR!$B$49,$AX33,SUMIF($B$10:$B$14,\"NCAP_TLIFE\",$AY$10:$AY$14)),0,\"\"))","v":""},null,{"$f":"IF(AX32=AGR!$W$72,AW32+1,AW32)","v":1},18]
[{"$f":"IF(LEFT(OFFSET(AGR!$A$49,AX34,0),2)=\"\\I\",\"*\",\"\")","v":"*"},"",{"$f":"IF($A34=\"*\",\"\",OFFSET(AGR!$B$49,AX34,0))","v":""},"","","","","","",{"$f":"IF($A34=\"*\",\"\",OFFSET(AGR!$B$49,AX34,SUMIF($B$10:$B$14,B34,$AY$10:$AY$14)))","v":""},{"$f":"IF($B34<>\"PRC_RESID\",\"\",IF(K$7=2005+OFFSET(AGR!$B$49,$AX34,SUMIF($B$10:$B$14,\"NCAP_TLIFE\",$AY$10:$AY$14)),0,\"\"))","v":""},{"$f":"IF($B34<>\"PRC_RESID\",\"\",IF(L$7=2005+OFFSET(AGR!$B$49,$AX34,SUMIF($B$10:$B$14,\"NCAP_TLIFE\",$AY$10:$AY$14)),0,\"\"))","v":""},{"$f":"IF($B34<>\"PRC_RESID\",\"\",IF(M$7=2005+OFFSET(AGR!$B$49,$AX34,SUMIF($B$10:$B$14,\"NCAP_TLIFE\",$AY$10:$AY$14)),0,\"\"))","v":""},{"$f":"IF($B34<>\"PRC_RESID\",\"\",IF(N$7=2005+OFFSET(AGR!$B$49,$AX34,SUMIF($B$10:$B$14,\"NCAP_TLIFE\",$AY$10:$AY$14)),0,\"\"))","v":""},{"$f":"IF($B34<>\"PRC_RESID\",\"\",IF(O$7=2005+OFFSET(AGR!$B$49,$AX34,SUMIF($B$10:$B$14,\"NCAP_TLIFE\",$AY$10:$AY$14)),0,\"\"))","v":""},{"$f":"IF($B34<>\"PRC_RESID\",\"\",IF(P$7=2005+OFFSET(AGR!$B$49,$AX34,SUMIF($B$10:$B$14,\"NCAP_TLIFE\",$AY$10:$AY$14)),0,\"\"))","v":""},{"$f":"IF($B34<>\"PRC_RESID\",\"\",IF(Q$7=2005+OFFSET(AGR!$B$49,$AX34,SUMIF($B$10:$B$14,\"NCAP_TLIFE\",$AY$10:$AY$14)),0,\"\"))","v":""},{"$f":"IF($B34<>\"PRC_RESID\",\"\",IF(R$7=2005+OFFSET(AGR!$B$49,$AX34,SUMIF($B$10:$B$14,\"NCAP_TLIFE\",$AY$10:$AY$14)),0,\"\"))","v":""},{"$f":"IF($B34<>\"PRC_RESID\",\"\",IF(S$7=2005+OFFSET(AGR!$B$49,$AX34,SUMIF($B$10:$B$14,\"NCAP_TLIFE\",$AY$10:$AY$14)),0,\"\"))","v":""},{"$f":"IF($B34<>\"PRC_RESID\",\"\",IF(T$7=2005+OFFSET(AGR!$B$49,$AX34,SUMIF($B$10:$B$14,\"NCAP_TLIFE\",$AY$10:$AY$14)),0,\"\"))","v":""},{"$f":"IF($B34<>\"PRC_RESID\",\"\",IF(U$7=2005+OFFSET(AGR!$B$49,$AX34,SUMIF($B$10:$B$14,\"NCAP_TLIFE\",$AY$10:$AY$14)),0,\"\"))","v":""},{"$f":"IF($B34<>\"PRC_RESID\",\"\",IF(V$7=2005+OFFSET(AGR!$B$49,$AX34,SUMIF($B$10:$B$14,\"NCAP_TLIFE\",$AY$10:$AY$14)),0,\"\"))","v":""},{"$f":"IF($B34<>\"PRC_RESID\",\"\",IF(W$7=2005+OFFSET(AGR!$B$49,$AX34,SUMIF($B$10:$B$14,\"NCAP_TLIFE\",$AY$10:$AY$14)),0,\"\"))","v":""},{"$f":"IF($B34<>\"PRC_RESID\",\"\",IF(X$7=2005+OFFSET(AGR!$B$49,$AX34,SUMIF($B$10:$B$14,\"NCAP_TLIFE\",$AY$10:$AY$14)),0,\"\"))","v":""},{"$f":"IF($B34<>\"PRC_RESID\",\"\",IF(Y$7=2005+OFFSET(AGR!$B$49,$AX34,SUMIF($B$10:$B$14,\"NCAP_TLIFE\",$AY$10:$AY$14)),0,\"\"))","v":""},{"$f":"IF($B34<>\"PRC_RESID\",\"\",IF(Z$7=2005+OFFSET(AGR!$B$49,$AX34,SUMIF($B$10:$B$14,\"NCAP_TLIFE\",$AY$10:$AY$14)),0,\"\"))","v":""},{"$f":"IF($B34<>\"PRC_RESID\",\"\",IF(AA$7=2005+OFFSET(AGR!$B$49,$AX34,SUMIF($B$10:$B$14,\"NCAP_TLIFE\",$AY$10:$AY$14)),0,\"\"))","v":""},{"$f":"IF($B34<>\"PRC_RESID\",\"\",IF(AB$7=2005+OFFSET(AGR!$B$49,$AX34,SUMIF($B$10:$B$14,\"NCAP_TLIFE\",$AY$10:$AY$14)),0,\"\"))","v":""},{"$f":"IF($B34<>\"PRC_RESID\",\"\",IF(AC$7=2005+OFFSET(AGR!$B$49,$AX34,SUMIF($B$10:$B$14,\"NCAP_TLIFE\",$AY$10:$AY$14)),0,\"\"))","v":""},{"$f":"IF($B34<>\"PRC_RESID\",\"\",IF(AD$7=2005+OFFSET(AGR!$B$49,$AX34,SUMIF($B$10:$B$14,\"NCAP_TLIFE\",$AY$10:$AY$14)),0,\"\"))","v":""},{"$f":"IF($B34<>\"PRC_RESID\",\"\",IF(AE$7=2005+OFFSET(AGR!$B$49,$AX34,SUMIF($B$10:$B$14,\"NCAP_TLIFE\",$AY$10:$AY$14)),0,\"\"))","v":""},{"$f":"IF($B34<>\"PRC_RESID\",\"\",IF(AF$7=2005+OFFSET(AGR!$B$49,$AX34,SUMIF($B$10:$B$14,\"NCAP_TLIFE\",$AY$10:$AY$14)),0,\"\"))","v":""},{"$f":"IF($B34<>\"PRC_RESID\",\"\",IF(AG$7=2005+OFFSET(AGR!$B$49,$AX34,SUMIF($B$10:$B$14,\"NCAP_TLIFE\",$AY$10:$AY$14)),0,\"\"))","v":""},{"$f":"IF($B34<>\"PRC_RESID\",\"\",IF(AH$7=2005+OFFSET(AGR!$B$49,$AX34,SUMIF($B$10:$B$14,\"NCAP_TLIFE\",$AY$10:$AY$14)),0,\"\"))","v":""},null,null,null,null,{"$f":"IF($B34<>\"PRC_RESID\",\"\",IF(AM$7=2005+OFFSET(AGR!$B$49,$AX34,SUMIF($B$10:$B$14,\"NCAP_TLIFE\",$AY$10:$AY$14)),0,\"\"))","v":""},null,null,null,null,{"$f":"IF($B34<>\"PRC_RESID\",\"\",IF(AR$7=2005+OFFSET(AGR!$B$49,$AX34,SUMIF($B$10:$B$14,\"NCAP_TLIFE\",$AY$10:$AY$14)),0,\"\"))","v":""},{"$f":"IF($B34<>\"PRC_RESID\",\"\",IF(AS$7=2005+OFFSET(AGR!$B$49,$AX34,SUMIF($B$10:$B$14,\"NCAP_TLIFE\",$AY$10:$AY$14)),0,\"\"))","v":""},{"$f":"IF($B34<>\"PRC_RESID\",\"\",IF(AT$7=2005+OFFSET(AGR!$B$49,$AX34,SUMIF($B$10:$B$14,\"NCAP_TLIFE\",$AY$10:$AY$14)),0,\"\"))","v":""},{"$f":"IF($B34<>\"PRC_RESID\",\"\",IF(AU$7=2005+OFFSET(AGR!$B$49,$AX34,SUMIF($B$10:$B$14,\"NCAP_TLIFE\",$AY$10:$AY$14)),0,\"\"))","v":""},null,{"$f":"IF(AX33=AGR!$W$72,AW33+1,AW33)","v":1},19]
[{"$f":"IF(LEFT(OFFSET(AGR!$A$49,AX35,0),2)=\"\\I\",\"*\",\"\")","v":"*"},"",{"$f":"IF($A35=\"*\",\"\",OFFSET(AGR!$B$49,AX35,0))","v":""},"","","","","","",{"$f":"IF($A35=\"*\",\"\",OFFSET(AGR!$B$49,AX35,SUMIF($B$10:$B$14,B35,$AY$10:$AY$14)))","v":""},{"$f":"IF($B35<>\"PRC_RESID\",\"\",IF(K$7=2005+OFFSET(AGR!$B$49,$AX35,SUMIF($B$10:$B$14,\"NCAP_TLIFE\",$AY$10:$AY$14)),0,\"\"))","v":""},{"$f":"IF($B35<>\"PRC_RESID\",\"\",IF(L$7=2005+OFFSET(AGR!$B$49,$AX35,SUMIF($B$10:$B$14,\"NCAP_TLIFE\",$AY$10:$AY$14)),0,\"\"))","v":""},{"$f":"IF($B35<>\"PRC_RESID\",\"\",IF(M$7=2005+OFFSET(AGR!$B$49,$AX35,SUMIF($B$10:$B$14,\"NCAP_TLIFE\",$AY$10:$AY$14)),0,\"\"))","v":""},{"$f":"IF($B35<>\"PRC_RESID\",\"\",IF(N$7=2005+OFFSET(AGR!$B$49,$AX35,SUMIF($B$10:$B$14,\"NCAP_TLIFE\",$AY$10:$AY$14)),0,\"\"))","v":""},{"$f":"IF($B35<>\"PRC_RESID\",\"\",IF(O$7=2005+OFFSET(AGR!$B$49,$AX35,SUMIF($B$10:$B$14,\"NCAP_TLIFE\",$AY$10:$AY$14)),0,\"\"))","v":""},{"$f":"IF($B35<>\"PRC_RESID\",\"\",IF(P$7=2005+OFFSET(AGR!$B$49,$AX35,SUMIF($B$10:$B$14,\"NCAP_TLIFE\",$AY$10:$AY$14)),0,\"\"))","v":""},{"$f":"IF($B35<>\"PRC_RESID\",\"\",IF(Q$7=2005+OFFSET(AGR!$B$49,$AX35,SUMIF($B$10:$B$14,\"NCAP_TLIFE\",$AY$10:$AY$14)),0,\"\"))","v":""},{"$f":"IF($B35<>\"PRC_RESID\",\"\",IF(R$7=2005+OFFSET(AGR!$B$49,$AX35,SUMIF($B$10:$B$14,\"NCAP_TLIFE\",$AY$10:$AY$14)),0,\"\"))","v":""},{"$f":"IF($B35<>\"PRC_RESID\",\"\",IF(S$7=2005+OFFSET(AGR!$B$49,$AX35,SUMIF($B$10:$B$14,\"NCAP_TLIFE\",$AY$10:$AY$14)),0,\"\"))","v":""},{"$f":"IF($B35<>\"PRC_RESID\",\"\",IF(T$7=2005+OFFSET(AGR!$B$49,$AX35,SUMIF($B$10:$B$14,\"NCAP_TLIFE\",$AY$10:$AY$14)),0,\"\"))","v":""},{"$f":"IF($B35<>\"PRC_RESID\",\"\",IF(U$7=2005+OFFSET(AGR!$B$49,$AX35,SUMIF($B$10:$B$14,\"NCAP_TLIFE\",$AY$10:$AY$14)),0,\"\"))","v":""},{"$f":"IF($B35<>\"PRC_RESID\",\"\",IF(V$7=2005+OFFSET(AGR!$B$49,$AX35,SUMIF($B$10:$B$14,\"NCAP_TLIFE\",$AY$10:$AY$14)),0,\"\"))","v":""},{"$f":"IF($B35<>\"PRC_RESID\",\"\",IF(W$7=2005+OFFSET(AGR!$B$49,$AX35,SUMIF($B$10:$B$14,\"NCAP_TLIFE\",$AY$10:$AY$14)),0,\"\"))","v":""},{"$f":"IF($B35<>\"PRC_RESID\",\"\",IF(X$7=2005+OFFSET(AGR!$B$49,$AX35,SUMIF($B$10:$B$14,\"NCAP_TLIFE\",$AY$10:$AY$14)),0,\"\"))","v":""},{"$f":"IF($B35<>\"PRC_RESID\",\"\",IF(Y$7=2005+OFFSET(AGR!$B$49,$AX35,SUMIF($B$10:$B$14,\"NCAP_TLIFE\",$AY$10:$AY$14)),0,\"\"))","v":""},{"$f":"IF($B35<>\"PRC_RESID\",\"\",IF(Z$7=2005+OFFSET(AGR!$B$49,$AX35,SUMIF($B$10:$B$14,\"NCAP_TLIFE\",$AY$10:$AY$14)),0,\"\"))","v":""},{"$f":"IF($B35<>\"PRC_RESID\",\"\",IF(AA$7=2005+OFFSET(AGR!$B$49,$AX35,SUMIF($B$10:$B$14,\"NCAP_TLIFE\",$AY$10:$AY$14)),0,\"\"))","v":""},{"$f":"IF($B35<>\"PRC_RESID\",\"\",IF(AB$7=2005+OFFSET(AGR!$B$49,$AX35,SUMIF($B$10:$B$14,\"NCAP_TLIFE\",$AY$10:$AY$14)),0,\"\"))","v":""},{"$f":"IF($B35<>\"PRC_RESID\",\"\",IF(AC$7=2005+OFFSET(AGR!$B$49,$AX35,SUMIF($B$10:$B$14,\"NCAP_TLIFE\",$AY$10:$AY$14)),0,\"\"))","v":""},{"$f":"IF($B35<>\"PRC_RESID\",\"\",IF(AD$7=2005+OFFSET(AGR!$B$49,$AX35,SUMIF($B$10:$B$14,\"NCAP_TLIFE\",$AY$10:$AY$14)),0,\"\"))","v":""},{"$f":"IF($B35<>\"PRC_RESID\",\"\",IF(AE$7=2005+OFFSET(AGR!$B$49,$AX35,SUMIF($B$10:$B$14,\"NCAP_TLIFE\",$AY$10:$AY$14)),0,\"\"))","v":""},{"$f":"IF($B35<>\"PRC_RESID\",\"\",IF(AF$7=2005+OFFSET(AGR!$B$49,$AX35,SUMIF($B$10:$B$14,\"NCAP_TLIFE\",$AY$10:$AY$14)),0,\"\"))","v":""},{"$f":"IF($B35<>\"PRC_RESID\",\"\",IF(AG$7=2005+OFFSET(AGR!$B$49,$AX35,SUMIF($B$10:$B$14,\"NCAP_TLIFE\",$AY$10:$AY$14)),0,\"\"))","v":""},{"$f":"IF($B35<>\"PRC_RESID\",\"\",IF(AH$7=2005+OFFSET(AGR!$B$49,$AX35,SUMIF($B$10:$B$14,\"NCAP_TLIFE\",$AY$10:$AY$14)),0,\"\"))","v":""},null,null,null,null,{"$f":"IF($B35<>\"PRC_RESID\",\"\",IF(AM$7=2005+OFFSET(AGR!$B$49,$AX35,SUMIF($B$10:$B$14,\"NCAP_TLIFE\",$AY$10:$AY$14)),0,\"\"))","v":""},null,null,null,null,{"$f":"IF($B35<>\"PRC_RESID\",\"\",IF(AR$7=2005+OFFSET(AGR!$B$49,$AX35,SUMIF($B$10:$B$14,\"NCAP_TLIFE\",$AY$10:$AY$14)),0,\"\"))","v":""},{"$f":"IF($B35<>\"PRC_RESID\",\"\",IF(AS$7=2005+OFFSET(AGR!$B$49,$AX35,SUMIF($B$10:$B$14,\"NCAP_TLIFE\",$AY$10:$AY$14)),0,\"\"))","v":""},{"$f":"IF($B35<>\"PRC_RESID\",\"\",IF(AT$7=2005+OFFSET(AGR!$B$49,$AX35,SUMIF($B$10:$B$14,\"NCAP_TLIFE\",$AY$10:$AY$14)),0,\"\"))","v":""},{"$f":"IF($B35<>\"PRC_RESID\",\"\",IF(AU$7=2005+OFFSET(AGR!$B$49,$AX35,SUMIF($B$10:$B$14,\"NCAP_TLIFE\",$AY$10:$AY$14)),0,\"\"))","v":""},null,{"$f":"IF(AX34=AGR!$W$72,AW34+1,AW34)","v":1},20]
[{"$f":"IF(LEFT(OFFSET(AGR!$A$49,AX36,0),2)=\"\\I\",\"*\",\"\")","v":""},"ACT_EFF",{"$f":"IF($A36=\"*\",\"\",OFFSET(AGR!$B$49,AX36,0))","v":"AOELC-E"},"-","ACTGRP","-","ANNUAL","-",0,{"$f":"IF($A36=\"*\",\"\",OFFSET(AGR!$B$49,AX36,SUMIF($B$10:$B$14,B36,$AY$10:$AY$14)))","v":1},{"$f":"IF($B36<>\"PRC_RESID\",\"\",IF(K$7=2005+OFFSET(AGR!$B$49,$AX36,SUMIF($B$10:$B$14,\"NCAP_TLIFE\",$AY$10:$AY$14)),0,\"\"))","v":""},{"$f":"IF($B36<>\"PRC_RESID\",\"\",IF(L$7=2005+OFFSET(AGR!$B$49,$AX36,SUMIF($B$10:$B$14,\"NCAP_TLIFE\",$AY$10:$AY$14)),0,\"\"))","v":""},{"$f":"IF($B36<>\"PRC_RESID\",\"\",IF(M$7=2005+OFFSET(AGR!$B$49,$AX36,SUMIF($B$10:$B$14,\"NCAP_TLIFE\",$AY$10:$AY$14)),0,\"\"))","v":""},{"$f":"IF($B36<>\"PRC_RESID\",\"\",IF(N$7=2005+OFFSET(AGR!$B$49,$AX36,SUMIF($B$10:$B$14,\"NCAP_TLIFE\",$AY$10:$AY$14)),0,\"\"))","v":""},{"$f":"IF($B36<>\"PRC_RESID\",\"\",IF(O$7=2005+OFFSET(AGR!$B$49,$AX36,SUMIF($B$10:$B$14,\"NCAP_TLIFE\",$AY$10:$AY$14)),0,\"\"))","v":""},{"$f":"IF($B36<>\"PRC_RESID\",\"\",IF(P$7=2005+OFFSET(AGR!$B$49,$AX36,SUMIF($B$10:$B$14,\"NCAP_TLIFE\",$AY$10:$AY$14)),0,\"\"))","v":""},{"$f":"IF($B36<>\"PRC_RESID\",\"\",IF(Q$7=2005+OFFSET(AGR!$B$49,$AX36,SUMIF($B$10:$B$14,\"NCAP_TLIFE\",$AY$10:$AY$14)),0,\"\"))","v":""},{"$f":"IF($B36<>\"PRC_RESID\",\"\",IF(R$7=2005+OFFSET(AGR!$B$49,$AX36,SUMIF($B$10:$B$14,\"NCAP_TLIFE\",$AY$10:$AY$14)),0,\"\"))","v":""},{"$f":"IF($B36<>\"PRC_RESID\",\"\",IF(S$7=2005+OFFSET(AGR!$B$49,$AX36,SUMIF($B$10:$B$14,\"NCAP_TLIFE\",$AY$10:$AY$14)),0,\"\"))","v":""},{"$f":"IF($B36<>\"PRC_RESID\",\"\",IF(T$7=2005+OFFSET(AGR!$B$49,$AX36,SUMIF($B$10:$B$14,\"NCAP_TLIFE\",$AY$10:$AY$14)),0,\"\"))","v":""},{"$f":"IF($B36<>\"PRC_RESID\",\"\",IF(U$7=2005+OFFSET(AGR!$B$49,$AX36,SUMIF($B$10:$B$14,\"NCAP_TLIFE\",$AY$10:$AY$14)),0,\"\"))","v":""},{"$f":"IF($B36<>\"PRC_RESID\",\"\",IF(V$7=2005+OFFSET(AGR!$B$49,$AX36,SUMIF($B$10:$B$14,\"NCAP_TLIFE\",$AY$10:$AY$14)),0,\"\"))","v":""},{"$f":"IF($B36<>\"PRC_RESID\",\"\",IF(W$7=2005+OFFSET(AGR!$B$49,$AX36,SUMIF($B$10:$B$14,\"NCAP_TLIFE\",$AY$10:$AY$14)),0,\"\"))","v":""},{"$f":"IF($B36<>\"PRC_RESID\",\"\",IF(X$7=2005+OFFSET(AGR!$B$49,$AX36,SUMIF($B$10:$B$14,\"NCAP_TLIFE\",$AY$10:$AY$14)),0,\"\"))","v":""},{"$f":"IF($B36<>\"PRC_RESID\",\"\",IF(Y$7=2005+OFFSET(AGR!$B$49,$AX36,SUMIF($B$10:$B$14,\"NCAP_TLIFE\",$AY$10:$AY$14)),0,\"\"))","v":""},{"$f":"IF($B36<>\"PRC_RESID\",\"\",IF(Z$7=2005+OFFSET(AGR!$B$49,$AX36,SUMIF($B$10:$B$14,\"NCAP_TLIFE\",$AY$10:$AY$14)),0,\"\"))","v":""},{"$f":"IF($B36<>\"PRC_RESID\",\"\",IF(AA$7=2005+OFFSET(AGR!$B$49,$AX36,SUMIF($B$10:$B$14,\"NCAP_TLIFE\",$AY$10:$AY$14)),0,\"\"))","v":""},{"$f":"IF($B36<>\"PRC_RESID\",\"\",IF(AB$7=2005+OFFSET(AGR!$B$49,$AX36,SUMIF($B$10:$B$14,\"NCAP_TLIFE\",$AY$10:$AY$14)),0,\"\"))","v":""},{"$f":"IF($B36<>\"PRC_RESID\",\"\",IF(AC$7=2005+OFFSET(AGR!$B$49,$AX36,SUMIF($B$10:$B$14,\"NCAP_TLIFE\",$AY$10:$AY$14)),0,\"\"))","v":""},{"$f":"IF($B36<>\"PRC_RESID\",\"\",IF(AD$7=2005+OFFSET(AGR!$B$49,$AX36,SUMIF($B$10:$B$14,\"NCAP_TLIFE\",$AY$10:$AY$14)),0,\"\"))","v":""},{"$f":"IF($B36<>\"PRC_RESID\",\"\",IF(AE$7=2005+OFFSET(AGR!$B$49,$AX36,SUMIF($B$10:$B$14,\"NCAP_TLIFE\",$AY$10:$AY$14)),0,\"\"))","v":""},{"$f":"IF($B36<>\"PRC_RESID\",\"\",IF(AF$7=2005+OFFSET(AGR!$B$49,$AX36,SUMIF($B$10:$B$14,\"NCAP_TLIFE\",$AY$10:$AY$14)),0,\"\"))","v":""},{"$f":"IF($B36<>\"PRC_RESID\",\"\",IF(AG$7=2005+OFFSET(AGR!$B$49,$AX36,SUMIF($B$10:$B$14,\"NCAP_TLIFE\",$AY$10:$AY$14)),0,\"\"))","v":""},{"$f":"IF($B36<>\"PRC_RESID\",\"\",IF(AH$7=2005+OFFSET(AGR!$B$49,$AX36,SUMIF($B$10:$B$14,\"NCAP_TLIFE\",$AY$10:$AY$14)),0,\"\"))","v":""},null,null,null,null,{"$f":"IF($B36<>\"PRC_RESID\",\"\",IF(AM$7=2005+OFFSET(AGR!$B$49,$AX36,SUMIF($B$10:$B$14,\"NCAP_TLIFE\",$AY$10:$AY$14)),0,\"\"))","v":""},null,null,null,null,{"$f":"IF($B36<>\"PRC_RESID\",\"\",IF(AR$7=2005+OFFSET(AGR!$B$49,$AX36,SUMIF($B$10:$B$14,\"NCAP_TLIFE\",$AY$10:$AY$14)),0,\"\"))","v":""},{"$f":"IF($B36<>\"PRC_RESID\",\"\",IF(AS$7=2005+OFFSET(AGR!$B$49,$AX36,SUMIF($B$10:$B$14,\"NCAP_TLIFE\",$AY$10:$AY$14)),0,\"\"))","v":""},{"$f":"IF($B36<>\"PRC_RESID\",\"\",IF(AT$7=2005+OFFSET(AGR!$B$49,$AX36,SUMIF($B$10:$B$14,\"NCAP_TLIFE\",$AY$10:$AY$14)),0,\"\"))","v":""},{"$f":"IF($B36<>\"PRC_RESID\",\"\",IF(AU$7=2005+OFFSET(AGR!$B$49,$AX36,SUMIF($B$10:$B$14,\"NCAP_TLIFE\",$AY$10:$AY$14)),0,\"\"))","v":""},null,{"$f":"IF(AX35=AGR!$W$72,AW35+1,AW35)","v":1},21]
[{"$f":"IF(LEFT(OFFSET(AGR!$A$49,AX37,0),2)=\"\\I\",\"*\",\"\")","v":"*"},"",{"$f":"IF($A37=\"*\",\"\",OFFSET(AGR!$B$49,AX37,0))","v":""},"","","","","","",{"$f":"IF($A37=\"*\",\"\",OFFSET(AGR!$B$49,AX37,SUMIF($B$10:$B$14,B37,$AY$10:$AY$14)))","v":""},{"$f":"IF($B37<>\"PRC_RESID\",\"\",IF(K$7=2005+OFFSET(AGR!$B$49,$AX37,SUMIF($B$10:$B$14,\"NCAP_TLIFE\",$AY$10:$AY$14)),0,\"\"))","v":""},{"$f":"IF($B37<>\"PRC_RESID\",\"\",IF(L$7=2005+OFFSET(AGR!$B$49,$AX37,SUMIF($B$10:$B$14,\"NCAP_TLIFE\",$AY$10:$AY$14)),0,\"\"))","v":""},{"$f":"IF($B37<>\"PRC_RESID\",\"\",IF(M$7=2005+OFFSET(AGR!$B$49,$AX37,SUMIF($B$10:$B$14,\"NCAP_TLIFE\",$AY$10:$AY$14)),0,\"\"))","v":""},{"$f":"IF($B37<>\"PRC_RESID\",\"\",IF(N$7=2005+OFFSET(AGR!$B$49,$AX37,SUMIF($B$10:$B$14,\"NCAP_TLIFE\",$AY$10:$AY$14)),0,\"\"))","v":""},{"$f":"IF($B37<>\"PRC_RESID\",\"\",IF(O$7=2005+OFFSET(AGR!$B$49,$AX37,SUMIF($B$10:$B$14,\"NCAP_TLIFE\",$AY$10:$AY$14)),0,\"\"))","v":""},{"$f":"IF($B37<>\"PRC_RESID\",\"\",IF(P$7=2005+OFFSET(AGR!$B$49,$AX37,SUMIF($B$10:$B$14,\"NCAP_TLIFE\",$AY$10:$AY$14)),0,\"\"))","v":""},{"$f":"IF($B37<>\"PRC_RESID\",\"\",IF(Q$7=2005+OFFSET(AGR!$B$49,$AX37,SUMIF($B$10:$B$14,\"NCAP_TLIFE\",$AY$10:$AY$14)),0,\"\"))","v":""},{"$f":"IF($B37<>\"PRC_RESID\",\"\",IF(R$7=2005+OFFSET(AGR!$B$49,$AX37,SUMIF($B$10:$B$14,\"NCAP_TLIFE\",$AY$10:$AY$14)),0,\"\"))","v":""},{"$f":"IF($B37<>\"PRC_RESID\",\"\",IF(S$7=2005+OFFSET(AGR!$B$49,$AX37,SUMIF($B$10:$B$14,\"NCAP_TLIFE\",$AY$10:$AY$14)),0,\"\"))","v":""},{"$f":"IF($B37<>\"PRC_RESID\",\"\",IF(T$7=2005+OFFSET(AGR!$B$49,$AX37,SUMIF($B$10:$B$14,\"NCAP_TLIFE\",$AY$10:$AY$14)),0,\"\"))","v":""},{"$f":"IF($B37<>\"PRC_RESID\",\"\",IF(U$7=2005+OFFSET(AGR!$B$49,$AX37,SUMIF($B$10:$B$14,\"NCAP_TLIFE\",$AY$10:$AY$14)),0,\"\"))","v":""},{"$f":"IF($B37<>\"PRC_RESID\",\"\",IF(V$7=2005+OFFSET(AGR!$B$49,$AX37,SUMIF($B$10:$B$14,\"NCAP_TLIFE\",$AY$10:$AY$14)),0,\"\"))","v":""},{"$f":"IF($B37<>\"PRC_RESID\",\"\",IF(W$7=2005+OFFSET(AGR!$B$49,$AX37,SUMIF($B$10:$B$14,\"NCAP_TLIFE\",$AY$10:$AY$14)),0,\"\"))","v":""},{"$f":"IF($B37<>\"PRC_RESID\",\"\",IF(X$7=2005+OFFSET(AGR!$B$49,$AX37,SUMIF($B$10:$B$14,\"NCAP_TLIFE\",$AY$10:$AY$14)),0,\"\"))","v":""},{"$f":"IF($B37<>\"PRC_RESID\",\"\",IF(Y$7=2005+OFFSET(AGR!$B$49,$AX37,SUMIF($B$10:$B$14,\"NCAP_TLIFE\",$AY$10:$AY$14)),0,\"\"))","v":""},{"$f":"IF($B37<>\"PRC_RESID\",\"\",IF(Z$7=2005+OFFSET(AGR!$B$49,$AX37,SUMIF($B$10:$B$14,\"NCAP_TLIFE\",$AY$10:$AY$14)),0,\"\"))","v":""},{"$f":"IF($B37<>\"PRC_RESID\",\"\",IF(AA$7=2005+OFFSET(AGR!$B$49,$AX37,SUMIF($B$10:$B$14,\"NCAP_TLIFE\",$AY$10:$AY$14)),0,\"\"))","v":""},{"$f":"IF($B37<>\"PRC_RESID\",\"\",IF(AB$7=2005+OFFSET(AGR!$B$49,$AX37,SUMIF($B$10:$B$14,\"NCAP_TLIFE\",$AY$10:$AY$14)),0,\"\"))","v":""},{"$f":"IF($B37<>\"PRC_RESID\",\"\",IF(AC$7=2005+OFFSET(AGR!$B$49,$AX37,SUMIF($B$10:$B$14,\"NCAP_TLIFE\",$AY$10:$AY$14)),0,\"\"))","v":""},{"$f":"IF($B37<>\"PRC_RESID\",\"\",IF(AD$7=2005+OFFSET(AGR!$B$49,$AX37,SUMIF($B$10:$B$14,\"NCAP_TLIFE\",$AY$10:$AY$14)),0,\"\"))","v":""},{"$f":"IF($B37<>\"PRC_RESID\",\"\",IF(AE$7=2005+OFFSET(AGR!$B$49,$AX37,SUMIF($B$10:$B$14,\"NCAP_TLIFE\",$AY$10:$AY$14)),0,\"\"))","v":""},{"$f":"IF($B37<>\"PRC_RESID\",\"\",IF(AF$7=2005+OFFSET(AGR!$B$49,$AX37,SUMIF($B$10:$B$14,\"NCAP_TLIFE\",$AY$10:$AY$14)),0,\"\"))","v":""},{"$f":"IF($B37<>\"PRC_RESID\",\"\",IF(AG$7=2005+OFFSET(AGR!$B$49,$AX37,SUMIF($B$10:$B$14,\"NCAP_TLIFE\",$AY$10:$AY$14)),0,\"\"))","v":""},{"$f":"IF($B37<>\"PRC_RESID\",\"\",IF(AH$7=2005+OFFSET(AGR!$B$49,$AX37,SUMIF($B$10:$B$14,\"NCAP_TLIFE\",$AY$10:$AY$14)),0,\"\"))","v":""},null,null,null,null,{"$f":"IF($B37<>\"PRC_RESID\",\"\",IF(AM$7=2005+OFFSET(AGR!$B$49,$AX37,SUMIF($B$10:$B$14,\"NCAP_TLIFE\",$AY$10:$AY$14)),0,\"\"))","v":""},null,null,null,null,{"$f":"IF($B37<>\"PRC_RESID\",\"\",IF(AR$7=2005+OFFSET(AGR!$B$49,$AX37,SUMIF($B$10:$B$14,\"NCAP_TLIFE\",$AY$10:$AY$14)),0,\"\"))","v":""},{"$f":"IF($B37<>\"PRC_RESID\",\"\",IF(AS$7=2005+OFFSET(AGR!$B$49,$AX37,SUMIF($B$10:$B$14,\"NCAP_TLIFE\",$AY$10:$AY$14)),0,\"\"))","v":""},{"$f":"IF($B37<>\"PRC_RESID\",\"\",IF(AT$7=2005+OFFSET(AGR!$B$49,$AX37,SUMIF($B$10:$B$14,\"NCAP_TLIFE\",$AY$10:$AY$14)),0,\"\"))","v":""},{"$f":"IF($B37<>\"PRC_RESID\",\"\",IF(AU$7=2005+OFFSET(AGR!$B$49,$AX37,SUMIF($B$10:$B$14,\"NCAP_TLIFE\",$AY$10:$AY$14)),0,\"\"))","v":""},null,{"$f":"IF(AX36=AGR!$W$72,AW36+1,AW36)","v":1},22]
[{"$f":"IF(LEFT(OFFSET(AGR!$A$49,AX38,0),2)=\"\\I\",\"*\",\"\")","v":"*"},"",{"$f":"IF($A38=\"*\",\"\",OFFSET(AGR!$B$49,AX38,0))","v":""},"","","","","","",{"$f":"IF($A38=\"*\",\"\",OFFSET(AGR!$B$49,AX38,SUMIF($B$10:$B$14,B38,$AY$10:$AY$14)))","v":""},{"$f":"IF($B38<>\"PRC_RESID\",\"\",IF(K$7=2005+OFFSET(AGR!$B$49,$AX38,SUMIF($B$10:$B$14,\"NCAP_TLIFE\",$AY$10:$AY$14)),0,\"\"))","v":""},{"$f":"IF($B38<>\"PRC_RESID\",\"\",IF(L$7=2005+OFFSET(AGR!$B$49,$AX38,SUMIF($B$10:$B$14,\"NCAP_TLIFE\",$AY$10:$AY$14)),0,\"\"))","v":""},{"$f":"IF($B38<>\"PRC_RESID\",\"\",IF(M$7=2005+OFFSET(AGR!$B$49,$AX38,SUMIF($B$10:$B$14,\"NCAP_TLIFE\",$AY$10:$AY$14)),0,\"\"))","v":""},{"$f":"IF($B38<>\"PRC_RESID\",\"\",IF(N$7=2005+OFFSET(AGR!$B$49,$AX38,SUMIF($B$10:$B$14,\"NCAP_TLIFE\",$AY$10:$AY$14)),0,\"\"))","v":""},{"$f":"IF($B38<>\"PRC_RESID\",\"\",IF(O$7=2005+OFFSET(AGR!$B$49,$AX38,SUMIF($B$10:$B$14,\"NCAP_TLIFE\",$AY$10:$AY$14)),0,\"\"))","v":""},{"$f":"IF($B38<>\"PRC_RESID\",\"\",IF(P$7=2005+OFFSET(AGR!$B$49,$AX38,SUMIF($B$10:$B$14,\"NCAP_TLIFE\",$AY$10:$AY$14)),0,\"\"))","v":""},{"$f":"IF($B38<>\"PRC_RESID\",\"\",IF(Q$7=2005+OFFSET(AGR!$B$49,$AX38,SUMIF($B$10:$B$14,\"NCAP_TLIFE\",$AY$10:$AY$14)),0,\"\"))","v":""},{"$f":"IF($B38<>\"PRC_RESID\",\"\",IF(R$7=2005+OFFSET(AGR!$B$49,$AX38,SUMIF($B$10:$B$14,\"NCAP_TLIFE\",$AY$10:$AY$14)),0,\"\"))","v":""},{"$f":"IF($B38<>\"PRC_RESID\",\"\",IF(S$7=2005+OFFSET(AGR!$B$49,$AX38,SUMIF($B$10:$B$14,\"NCAP_TLIFE\",$AY$10:$AY$14)),0,\"\"))","v":""},{"$f":"IF($B38<>\"PRC_RESID\",\"\",IF(T$7=2005+OFFSET(AGR!$B$49,$AX38,SUMIF($B$10:$B$14,\"NCAP_TLIFE\",$AY$10:$AY$14)),0,\"\"))","v":""},{"$f":"IF($B38<>\"PRC_RESID\",\"\",IF(U$7=2005+OFFSET(AGR!$B$49,$AX38,SUMIF($B$10:$B$14,\"NCAP_TLIFE\",$AY$10:$AY$14)),0,\"\"))","v":""},{"$f":"IF($B38<>\"PRC_RESID\",\"\",IF(V$7=2005+OFFSET(AGR!$B$49,$AX38,SUMIF($B$10:$B$14,\"NCAP_TLIFE\",$AY$10:$AY$14)),0,\"\"))","v":""},{"$f":"IF($B38<>\"PRC_RESID\",\"\",IF(W$7=2005+OFFSET(AGR!$B$49,$AX38,SUMIF($B$10:$B$14,\"NCAP_TLIFE\",$AY$10:$AY$14)),0,\"\"))","v":""},{"$f":"IF($B38<>\"PRC_RESID\",\"\",IF(X$7=2005+OFFSET(AGR!$B$49,$AX38,SUMIF($B$10:$B$14,\"NCAP_TLIFE\",$AY$10:$AY$14)),0,\"\"))","v":""},{"$f":"IF($B38<>\"PRC_RESID\",\"\",IF(Y$7=2005+OFFSET(AGR!$B$49,$AX38,SUMIF($B$10:$B$14,\"NCAP_TLIFE\",$AY$10:$AY$14)),0,\"\"))","v":""},{"$f":"IF($B38<>\"PRC_RESID\",\"\",IF(Z$7=2005+OFFSET(AGR!$B$49,$AX38,SUMIF($B$10:$B$14,\"NCAP_TLIFE\",$AY$10:$AY$14)),0,\"\"))","v":""},{"$f":"IF($B38<>\"PRC_RESID\",\"\",IF(AA$7=2005+OFFSET(AGR!$B$49,$AX38,SUMIF($B$10:$B$14,\"NCAP_TLIFE\",$AY$10:$AY$14)),0,\"\"))","v":""},{"$f":"IF($B38<>\"PRC_RESID\",\"\",IF(AB$7=2005+OFFSET(AGR!$B$49,$AX38,SUMIF($B$10:$B$14,\"NCAP_TLIFE\",$AY$10:$AY$14)),0,\"\"))","v":""},{"$f":"IF($B38<>\"PRC_RESID\",\"\",IF(AC$7=2005+OFFSET(AGR!$B$49,$AX38,SUMIF($B$10:$B$14,\"NCAP_TLIFE\",$AY$10:$AY$14)),0,\"\"))","v":""},{"$f":"IF($B38<>\"PRC_RESID\",\"\",IF(AD$7=2005+OFFSET(AGR!$B$49,$AX38,SUMIF($B$10:$B$14,\"NCAP_TLIFE\",$AY$10:$AY$14)),0,\"\"))","v":""},{"$f":"IF($B38<>\"PRC_RESID\",\"\",IF(AE$7=2005+OFFSET(AGR!$B$49,$AX38,SUMIF($B$10:$B$14,\"NCAP_TLIFE\",$AY$10:$AY$14)),0,\"\"))","v":""},{"$f":"IF($B38<>\"PRC_RESID\",\"\",IF(AF$7=2005+OFFSET(AGR!$B$49,$AX38,SUMIF($B$10:$B$14,\"NCAP_TLIFE\",$AY$10:$AY$14)),0,\"\"))","v":""},{"$f":"IF($B38<>\"PRC_RESID\",\"\",IF(AG$7=2005+OFFSET(AGR!$B$49,$AX38,SUMIF($B$10:$B$14,\"NCAP_TLIFE\",$AY$10:$AY$14)),0,\"\"))","v":""},{"$f":"IF($B38<>\"PRC_RESID\",\"\",IF(AH$7=2005+OFFSET(AGR!$B$49,$AX38,SUMIF($B$10:$B$14,\"NCAP_TLIFE\",$AY$10:$AY$14)),0,\"\"))","v":""},null,null,null,null,{"$f":"IF($B38<>\"PRC_RESID\",\"\",IF(AM$7=2005+OFFSET(AGR!$B$49,$AX38,SUMIF($B$10:$B$14,\"NCAP_TLIFE\",$AY$10:$AY$14)),0,\"\"))","v":""},null,null,null,null,{"$f":"IF($B38<>\"PRC_RESID\",\"\",IF(AR$7=2005+OFFSET(AGR!$B$49,$AX38,SUMIF($B$10:$B$14,\"NCAP_TLIFE\",$AY$10:$AY$14)),0,\"\"))","v":""},{"$f":"IF($B38<>\"PRC_RESID\",\"\",IF(AS$7=2005+OFFSET(AGR!$B$49,$AX38,SUMIF($B$10:$B$14,\"NCAP_TLIFE\",$AY$10:$AY$14)),0,\"\"))","v":""},{"$f":"IF($B38<>\"PRC_RESID\",\"\",IF(AT$7=2005+OFFSET(AGR!$B$49,$AX38,SUMIF($B$10:$B$14,\"NCAP_TLIFE\",$AY$10:$AY$14)),0,\"\"))","v":""},{"$f":"IF($B38<>\"PRC_RESID\",\"\",IF(AU$7=2005+OFFSET(AGR!$B$49,$AX38,SUMIF($B$10:$B$14,\"NCAP_TLIFE\",$AY$10:$AY$14)),0,\"\"))","v":""},null,{"$f":"IF(AX37=AGR!$W$72,AW37+1,AW37)","v":1},23]
[{"$f":"IF(LEFT(OFFSET(AGR!$A$49,AX39,0),2)=\"\\I\",\"*\",\"\")","v":""},"NCAP_AFA",{"$f":"IF($A39=\"*\",\"\",OFFSET(AGR!$B$49,AX39,0))","v":"AHCOA-E"},"-","-","-","-","UP",0,{"$f":"IF($A39=\"*\",\"\",OFFSET(AGR!$B$49,AX39,SUMIF($B$10:$B$14,B39,$AY$10:$AY$14)))","v":0.55130000000000001},{"$f":"IF($B39<>\"PRC_RESID\",\"\",IF(K$7=2005+OFFSET(AGR!$B$49,$AX39,SUMIF($B$10:$B$14,\"NCAP_TLIFE\",$AY$10:$AY$14)),0,\"\"))","v":""},{"$f":"IF($B39<>\"PRC_RESID\",\"\",IF(L$7=2005+OFFSET(AGR!$B$49,$AX39,SUMIF($B$10:$B$14,\"NCAP_TLIFE\",$AY$10:$AY$14)),0,\"\"))","v":""},{"$f":"IF($B39<>\"PRC_RESID\",\"\",IF(M$7=2005+OFFSET(AGR!$B$49,$AX39,SUMIF($B$10:$B$14,\"NCAP_TLIFE\",$AY$10:$AY$14)),0,\"\"))","v":""},{"$f":"IF($B39<>\"PRC_RESID\",\"\",IF(N$7=2005+OFFSET(AGR!$B$49,$AX39,SUMIF($B$10:$B$14,\"NCAP_TLIFE\",$AY$10:$AY$14)),0,\"\"))","v":""},{"$f":"IF($B39<>\"PRC_RESID\",\"\",IF(O$7=2005+OFFSET(AGR!$B$49,$AX39,SUMIF($B$10:$B$14,\"NCAP_TLIFE\",$AY$10:$AY$14)),0,\"\"))","v":""},{"$f":"IF($B39<>\"PRC_RESID\",\"\",IF(P$7=2005+OFFSET(AGR!$B$49,$AX39,SUMIF($B$10:$B$14,\"NCAP_TLIFE\",$AY$10:$AY$14)),0,\"\"))","v":""},{"$f":"IF($B39<>\"PRC_RESID\",\"\",IF(Q$7=2005+OFFSET(AGR!$B$49,$AX39,SUMIF($B$10:$B$14,\"NCAP_TLIFE\",$AY$10:$AY$14)),0,\"\"))","v":""},{"$f":"IF($B39<>\"PRC_RESID\",\"\",IF(R$7=2005+OFFSET(AGR!$B$49,$AX39,SUMIF($B$10:$B$14,\"NCAP_TLIFE\",$AY$10:$AY$14)),0,\"\"))","v":""},{"$f":"IF($B39<>\"PRC_RESID\",\"\",IF(S$7=2005+OFFSET(AGR!$B$49,$AX39,SUMIF($B$10:$B$14,\"NCAP_TLIFE\",$AY$10:$AY$14)),0,\"\"))","v":""},{"$f":"IF($B39<>\"PRC_RESID\",\"\",IF(T$7=2005+OFFSET(AGR!$B$49,$AX39,SUMIF($B$10:$B$14,\"NCAP_TLIFE\",$AY$10:$AY$14)),0,\"\"))","v":""},{"$f":"IF($B39<>\"PRC_RESID\",\"\",IF(U$7=2005+OFFSET(AGR!$B$49,$AX39,SUMIF($B$10:$B$14,\"NCAP_TLIFE\",$AY$10:$AY$14)),0,\"\"))","v":""},{"$f":"IF($B39<>\"PRC_RESID\",\"\",IF(V$7=2005+OFFSET(AGR!$B$49,$AX39,SUMIF($B$10:$B$14,\"NCAP_TLIFE\",$AY$10:$AY$14)),0,\"\"))","v":""},{"$f":"IF($B39<>\"PRC_RESID\",\"\",IF(W$7=2005+OFFSET(AGR!$B$49,$AX39,SUMIF($B$10:$B$14,\"NCAP_TLIFE\",$AY$10:$AY$14)),0,\"\"))","v":""},{"$f":"IF($B39<>\"PRC_RESID\",\"\",IF(X$7=2005+OFFSET(AGR!$B$49,$AX39,SUMIF($B$10:$B$14,\"NCAP_TLIFE\",$AY$10:$AY$14)),0,\"\"))","v":""},{"$f":"IF($B39<>\"PRC_RESID\",\"\",IF(Y$7=2005+OFFSET(AGR!$B$49,$AX39,SUMIF($B$10:$B$14,\"NCAP_TLIFE\",$AY$10:$AY$14)),0,\"\"))","v":""},{"$f":"IF($B39<>\"PRC_RESID\",\"\",IF(Z$7=2005+OFFSET(AGR!$B$49,$AX39,SUMIF($B$10:$B$14,\"NCAP_TLIFE\",$AY$10:$AY$14)),0,\"\"))","v":""},{"$f":"IF($B39<>\"PRC_RESID\",\"\",IF(AA$7=2005+OFFSET(AGR!$B$49,$AX39,SUMIF($B$10:$B$14,\"NCAP_TLIFE\",$AY$10:$AY$14)),0,\"\"))","v":""},{"$f":"IF($B39<>\"PRC_RESID\",\"\",IF(AB$7=2005+OFFSET(AGR!$B$49,$AX39,SUMIF($B$10:$B$14,\"NCAP_TLIFE\",$AY$10:$AY$14)),0,\"\"))","v":""},{"$f":"IF($B39<>\"PRC_RESID\",\"\",IF(AC$7=2005+OFFSET(AGR!$B$49,$AX39,SUMIF($B$10:$B$14,\"NCAP_TLIFE\",$AY$10:$AY$14)),0,\"\"))","v":""},{"$f":"IF($B39<>\"PRC_RESID\",\"\",IF(AD$7=2005+OFFSET(AGR!$B$49,$AX39,SUMIF($B$10:$B$14,\"NCAP_TLIFE\",$AY$10:$AY$14)),0,\"\"))","v":""},{"$f":"IF($B39<>\"PRC_RESID\",\"\",IF(AE$7=2005+OFFSET(AGR!$B$49,$AX39,SUMIF($B$10:$B$14,\"NCAP_TLIFE\",$AY$10:$AY$14)),0,\"\"))","v":""},{"$f":"IF($B39<>\"PRC_RESID\",\"\",IF(AF$7=2005+OFFSET(AGR!$B$49,$AX39,SUMIF($B$10:$B$14,\"NCAP_TLIFE\",$AY$10:$AY$14)),0,\"\"))","v":""},{"$f":"IF($B39<>\"PRC_RESID\",\"\",IF(AG$7=2005+OFFSET(AGR!$B$49,$AX39,SUMIF($B$10:$B$14,\"NCAP_TLIFE\",$AY$10:$AY$14)),0,\"\"))","v":""},{"$f":"IF($B39<>\"PRC_RESID\",\"\",IF(AH$7=2005+OFFSET(AGR!$B$49,$AX39,SUMIF($B$10:$B$14,\"NCAP_TLIFE\",$AY$10:$AY$14)),0,\"\"))","v":""},null,null,null,null,{"$f":"IF($B39<>\"PRC_RESID\",\"\",IF(AM$7=2005+OFFSET(AGR!$B$49,$AX39,SUMIF($B$10:$B$14,\"NCAP_TLIFE\",$AY$10:$AY$14)),0,\"\"))","v":""},null,null,null,null,{"$f":"IF($B39<>\"PRC_RESID\",\"\",IF(AR$7=2005+OFFSET(AGR!$B$49,$AX39,SUMIF($B$10:$B$14,\"NCAP_TLIFE\",$AY$10:$AY$14)),0,\"\"))","v":""},{"$f":"IF($B39<>\"PRC_RESID\",\"\",IF(AS$7=2005+OFFSET(AGR!$B$49,$AX39,SUMIF($B$10:$B$14,\"NCAP_TLIFE\",$AY$10:$AY$14)),0,\"\"))","v":""},{"$f":"IF($B39<>\"PRC_RESID\",\"\",IF(AT$7=2005+OFFSET(AGR!$B$49,$AX39,SUMIF($B$10:$B$14,\"NCAP_TLIFE\",$AY$10:$AY$14)),0,\"\"))","v":""},{"$f":"IF($B39<>\"PRC_RESID\",\"\",IF(AU$7=2005+OFFSET(AGR!$B$49,$AX39,SUMIF($B$10:$B$14,\"NCAP_TLIFE\",$AY$10:$AY$14)),0,\"\"))","v":""},null,{"$f":"IF(AX38=AGR!$W$72,AW38+1,AW38)","v":2},1]
[{"$f":"IF(LEFT(OFFSET(AGR!$A$49,AX40,0),2)=\"\\I\",\"*\",\"\")","v":""},"NCAP_AFA",{"$f":"IF($A40=\"*\",\"\",OFFSET(AGR!$B$49,AX40,0))","v":"AHOHF-E"},"-","-","-","-","UP",0,{"$f":"IF($A40=\"*\",\"\",OFFSET(AGR!$B$49,AX40,SUMIF($B$10:$B$14,B40,$AY$10:$AY$14)))","v":0.55130000000000001},{"$f":"IF($B40<>\"PRC_RESID\",\"\",IF(K$7=2005+OFFSET(AGR!$B$49,$AX40,SUMIF($B$10:$B$14,\"NCAP_TLIFE\",$AY$10:$AY$14)),0,\"\"))","v":""},{"$f":"IF($B40<>\"PRC_RESID\",\"\",IF(L$7=2005+OFFSET(AGR!$B$49,$AX40,SUMIF($B$10:$B$14,\"NCAP_TLIFE\",$AY$10:$AY$14)),0,\"\"))","v":""},{"$f":"IF($B40<>\"PRC_RESID\",\"\",IF(M$7=2005+OFFSET(AGR!$B$49,$AX40,SUMIF($B$10:$B$14,\"NCAP_TLIFE\",$AY$10:$AY$14)),0,\"\"))","v":""},{"$f":"IF($B40<>\"PRC_RESID\",\"\",IF(N$7=2005+OFFSET(AGR!$B$49,$AX40,SUMIF($B$10:$B$14,\"NCAP_TLIFE\",$AY$10:$AY$14)),0,\"\"))","v":""},{"$f":"IF($B40<>\"PRC_RESID\",\"\",IF(O$7=2005+OFFSET(AGR!$B$49,$AX40,SUMIF($B$10:$B$14,\"NCAP_TLIFE\",$AY$10:$AY$14)),0,\"\"))","v":""},{"$f":"IF($B40<>\"PRC_RESID\",\"\",IF(P$7=2005+OFFSET(AGR!$B$49,$AX40,SUMIF($B$10:$B$14,\"NCAP_TLIFE\",$AY$10:$AY$14)),0,\"\"))","v":""},{"$f":"IF($B40<>\"PRC_RESID\",\"\",IF(Q$7=2005+OFFSET(AGR!$B$49,$AX40,SUMIF($B$10:$B$14,\"NCAP_TLIFE\",$AY$10:$AY$14)),0,\"\"))","v":""},{"$f":"IF($B40<>\"PRC_RESID\",\"\",IF(R$7=2005+OFFSET(AGR!$B$49,$AX40,SUMIF($B$10:$B$14,\"NCAP_TLIFE\",$AY$10:$AY$14)),0,\"\"))","v":""},{"$f":"IF($B40<>\"PRC_RESID\",\"\",IF(S$7=2005+OFFSET(AGR!$B$49,$AX40,SUMIF($B$10:$B$14,\"NCAP_TLIFE\",$AY$10:$AY$14)),0,\"\"))","v":""},{"$f":"IF($B40<>\"PRC_RESID\",\"\",IF(T$7=2005+OFFSET(AGR!$B$49,$AX40,SUMIF($B$10:$B$14,\"NCAP_TLIFE\",$AY$10:$AY$14)),0,\"\"))","v":""},{"$f":"IF($B40<>\"PRC_RESID\",\"\",IF(U$7=2005+OFFSET(AGR!$B$49,$AX40,SUMIF($B$10:$B$14,\"NCAP_TLIFE\",$AY$10:$AY$14)),0,\"\"))","v":""},{"$f":"IF($B40<>\"PRC_RESID\",\"\",IF(V$7=2005+OFFSET(AGR!$B$49,$AX40,SUMIF($B$10:$B$14,\"NCAP_TLIFE\",$AY$10:$AY$14)),0,\"\"))","v":""},{"$f":"IF($B40<>\"PRC_RESID\",\"\",IF(W$7=2005+OFFSET(AGR!$B$49,$AX40,SUMIF($B$10:$B$14,\"NCAP_TLIFE\",$AY$10:$AY$14)),0,\"\"))","v":""},{"$f":"IF($B40<>\"PRC_RESID\",\"\",IF(X$7=2005+OFFSET(AGR!$B$49,$AX40,SUMIF($B$10:$B$14,\"NCAP_TLIFE\",$AY$10:$AY$14)),0,\"\"))","v":""},{"$f":"IF($B40<>\"PRC_RESID\",\"\",IF(Y$7=2005+OFFSET(AGR!$B$49,$AX40,SUMIF($B$10:$B$14,\"NCAP_TLIFE\",$AY$10:$AY$14)),0,\"\"))","v":""},{"$f":"IF($B40<>\"PRC_RESID\",\"\",IF(Z$7=2005+OFFSET(AGR!$B$49,$AX40,SUMIF($B$10:$B$14,\"NCAP_TLIFE\",$AY$10:$AY$14)),0,\"\"))","v":""},{"$f":"IF($B40<>\"PRC_RESID\",\"\",IF(AA$7=2005+OFFSET(AGR!$B$49,$AX40,SUMIF($B$10:$B$14,\"NCAP_TLIFE\",$AY$10:$AY$14)),0,\"\"))","v":""},{"$f":"IF($B40<>\"PRC_RESID\",\"\",IF(AB$7=2005+OFFSET(AGR!$B$49,$AX40,SUMIF($B$10:$B$14,\"NCAP_TLIFE\",$AY$10:$AY$14)),0,\"\"))","v":""},{"$f":"IF($B40<>\"PRC_RESID\",\"\",IF(AC$7=2005+OFFSET(AGR!$B$49,$AX40,SUMIF($B$10:$B$14,\"NCAP_TLIFE\",$AY$10:$AY$14)),0,\"\"))","v":""},{"$f":"IF($B40<>\"PRC_RESID\",\"\",IF(AD$7=2005+OFFSET(AGR!$B$49,$AX40,SUMIF($B$10:$B$14,\"NCAP_TLIFE\",$AY$10:$AY$14)),0,\"\"))","v":""},{"$f":"IF($B40<>\"PRC_RESID\",\"\",IF(AE$7=2005+OFFSET(AGR!$B$49,$AX40,SUMIF($B$10:$B$14,\"NCAP_TLIFE\",$AY$10:$AY$14)),0,\"\"))","v":""},{"$f":"IF($B40<>\"PRC_RESID\",\"\",IF(AF$7=2005+OFFSET(AGR!$B$49,$AX40,SUMIF($B$10:$B$14,\"NCAP_TLIFE\",$AY$10:$AY$14)),0,\"\"))","v":""},{"$f":"IF($B40<>\"PRC_RESID\",\"\",IF(AG$7=2005+OFFSET(AGR!$B$49,$AX40,SUMIF($B$10:$B$14,\"NCAP_TLIFE\",$AY$10:$AY$14)),0,\"\"))","v":""},{"$f":"IF($B40<>\"PRC_RESID\",\"\",IF(AH$7=2005+OFFSET(AGR!$B$49,$AX40,SUMIF($B$10:$B$14,\"NCAP_TLIFE\",$AY$10:$AY$14)),0,\"\"))","v":""},null,null,null,null,{"$f":"IF($B40<>\"PRC_RESID\",\"\",IF(AM$7=2005+OFFSET(AGR!$B$49,$AX40,SUMIF($B$10:$B$14,\"NCAP_TLIFE\",$AY$10:$AY$14)),0,\"\"))","v":""},null,null,null,null,{"$f":"IF($B40<>\"PRC_RESID\",\"\",IF(AR$7=2005+OFFSET(AGR!$B$49,$AX40,SUMIF($B$10:$B$14,\"NCAP_TLIFE\",$AY$10:$AY$14)),0,\"\"))","v":""},{"$f":"IF($B40<>\"PRC_RESID\",\"\",IF(AS$7=2005+OFFSET(AGR!$B$49,$AX40,SUMIF($B$10:$B$14,\"NCAP_TLIFE\",$AY$10:$AY$14)),0,\"\"))","v":""},{"$f":"IF($B40<>\"PRC_RESID\",\"\",IF(AT$7=2005+OFFSET(AGR!$B$49,$AX40,SUMIF($B$10:$B$14,\"NCAP_TLIFE\",$AY$10:$AY$14)),0,\"\"))","v":""},{"$f":"IF($B40<>\"PRC_RESID\",\"\",IF(AU$7=2005+OFFSET(AGR!$B$49,$AX40,SUMIF($B$10:$B$14,\"NCAP_TLIFE\",$AY$10:$AY$14)),0,\"\"))","v":""},null,{"$f":"IF(AX39=AGR!$W$72,AW39+1,AW39)","v":2},2]
[{"$f":"IF(LEFT(OFFSET(AGR!$A$49,AX41,0),2)=\"\\I\",\"*\",\"\")","v":""},"NCAP_AFA",{"$f":"IF($A41=\"*\",\"\",OFFSET(AGR!$B$49,AX41,0))","v":"AHOKE-E"},"-","-","-","-","UP",0,{"$f":"IF($A41=\"*\",\"\",OFFSET(AGR!$B$49,AX41,SUMIF($B$10:$B$14,B41,$AY$10:$AY$14)))","v":0.55130000000000001},{"$f":"IF($B41<>\"PRC_RESID\",\"\",IF(K$7=2005+OFFSET(AGR!$B$49,$AX41,SUMIF($B$10:$B$14,\"NCAP_TLIFE\",$AY$10:$AY$14)),0,\"\"))","v":""},{"$f":"IF($B41<>\"PRC_RESID\",\"\",IF(L$7=2005+OFFSET(AGR!$B$49,$AX41,SUMIF($B$10:$B$14,\"NCAP_TLIFE\",$AY$10:$AY$14)),0,\"\"))","v":""},{"$f":"IF($B41<>\"PRC_RESID\",\"\",IF(M$7=2005+OFFSET(AGR!$B$49,$AX41,SUMIF($B$10:$B$14,\"NCAP_TLIFE\",$AY$10:$AY$14)),0,\"\"))","v":""},{"$f":"IF($B41<>\"PRC_RESID\",\"\",IF(N$7=2005+OFFSET(AGR!$B$49,$AX41,SUMIF($B$10:$B$14,\"NCAP_TLIFE\",$AY$10:$AY$14)),0,\"\"))","v":""},{"$f":"IF($B41<>\"PRC_RESID\",\"\",IF(O$7=2005+OFFSET(AGR!$B$49,$AX41,SUMIF($B$10:$B$14,\"NCAP_TLIFE\",$AY$10:$AY$14)),0,\"\"))","v":""},{"$f":"IF($B41<>\"PRC_RESID\",\"\",IF(P$7=2005+OFFSET(AGR!$B$49,$AX41,SUMIF($B$10:$B$14,\"NCAP_TLIFE\",$AY$10:$AY$14)),0,\"\"))","v":""},{"$f":"IF($B41<>\"PRC_RESID\",\"\",IF(Q$7=2005+OFFSET(AGR!$B$49,$AX41,SUMIF($B$10:$B$14,\"NCAP_TLIFE\",$AY$10:$AY$14)),0,\"\"))","v":""},{"$f":"IF($B41<>\"PRC_RESID\",\"\",IF(R$7=2005+OFFSET(AGR!$B$49,$AX41,SUMIF($B$10:$B$14,\"NCAP_TLIFE\",$AY$10:$AY$14)),0,\"\"))","v":""},{"$f":"IF($B41<>\"PRC_RESID\",\"\",IF(S$7=2005+OFFSET(AGR!$B$49,$AX41,SUMIF($B$10:$B$14,\"NCAP_TLIFE\",$AY$10:$AY$14)),0,\"\"))","v":""},{"$f":"IF($B41<>\"PRC_RESID\",\"\",IF(T$7=2005+OFFSET(AGR!$B$49,$AX41,SUMIF($B$10:$B$14,\"NCAP_TLIFE\",$AY$10:$AY$14)),0,\"\"))","v":""},{"$f":"IF($B41<>\"PRC_RESID\",\"\",IF(U$7=2005+OFFSET(AGR!$B$49,$AX41,SUMIF($B$10:$B$14,\"NCAP_TLIFE\",$AY$10:$AY$14)),0,\"\"))","v":""},{"$f":"IF($B41<>\"PRC_RESID\",\"\",IF(V$7=2005+OFFSET(AGR!$B$49,$AX41,SUMIF($B$10:$B$14,\"NCAP_TLIFE\",$AY$10:$AY$14)),0,\"\"))","v":""},{"$f":"IF($B41<>\"PRC_RESID\",\"\",IF(W$7=2005+OFFSET(AGR!$B$49,$AX41,SUMIF($B$10:$B$14,\"NCAP_TLIFE\",$AY$10:$AY$14)),0,\"\"))","v":""},{"$f":"IF($B41<>\"PRC_RESID\",\"\",IF(X$7=2005+OFFSET(AGR!$B$49,$AX41,SUMIF($B$10:$B$14,\"NCAP_TLIFE\",$AY$10:$AY$14)),0,\"\"))","v":""},{"$f":"IF($B41<>\"PRC_RESID\",\"\",IF(Y$7=2005+OFFSET(AGR!$B$49,$AX41,SUMIF($B$10:$B$14,\"NCAP_TLIFE\",$AY$10:$AY$14)),0,\"\"))","v":""},{"$f":"IF($B41<>\"PRC_RESID\",\"\",IF(Z$7=2005+OFFSET(AGR!$B$49,$AX41,SUMIF($B$10:$B$14,\"NCAP_TLIFE\",$AY$10:$AY$14)),0,\"\"))","v":""},{"$f":"IF($B41<>\"PRC_RESID\",\"\",IF(AA$7=2005+OFFSET(AGR!$B$49,$AX41,SUMIF($B$10:$B$14,\"NCAP_TLIFE\",$AY$10:$AY$14)),0,\"\"))","v":""},{"$f":"IF($B41<>\"PRC_RESID\",\"\",IF(AB$7=2005+OFFSET(AGR!$B$49,$AX41,SUMIF($B$10:$B$14,\"NCAP_TLIFE\",$AY$10:$AY$14)),0,\"\"))","v":""},{"$f":"IF($B41<>\"PRC_RESID\",\"\",IF(AC$7=2005+OFFSET(AGR!$B$49,$AX41,SUMIF($B$10:$B$14,\"NCAP_TLIFE\",$AY$10:$AY$14)),0,\"\"))","v":""},{"$f":"IF($B41<>\"PRC_RESID\",\"\",IF(AD$7=2005+OFFSET(AGR!$B$49,$AX41,SUMIF($B$10:$B$14,\"NCAP_TLIFE\",$AY$10:$AY$14)),0,\"\"))","v":""},{"$f":"IF($B41<>\"PRC_RESID\",\"\",IF(AE$7=2005+OFFSET(AGR!$B$49,$AX41,SUMIF($B$10:$B$14,\"NCAP_TLIFE\",$AY$10:$AY$14)),0,\"\"))","v":""},{"$f":"IF($B41<>\"PRC_RESID\",\"\",IF(AF$7=2005+OFFSET(AGR!$B$49,$AX41,SUMIF($B$10:$B$14,\"NCAP_TLIFE\",$AY$10:$AY$14)),0,\"\"))","v":""},{"$f":"IF($B41<>\"PRC_RESID\",\"\",IF(AG$7=2005+OFFSET(AGR!$B$49,$AX41,SUMIF($B$10:$B$14,\"NCAP_TLIFE\",$AY$10:$AY$14)),0,\"\"))","v":""},{"$f":"IF($B41<>\"PRC_RESID\",\"\",IF(AH$7=2005+OFFSET(AGR!$B$49,$AX41,SUMIF($B$10:$B$14,\"NCAP_TLIFE\",$AY$10:$AY$14)),0,\"\"))","v":""},null,null,null,null,{"$f":"IF($B41<>\"PRC_RESID\",\"\",IF(AM$7=2005+OFFSET(AGR!$B$49,$AX41,SUMIF($B$10:$B$14,\"NCAP_TLIFE\",$AY$10:$AY$14)),0,\"\"))","v":""},null,null,null,null,{"$f":"IF($B41<>\"PRC_RESID\",\"\",IF(AR$7=2005+OFFSET(AGR!$B$49,$AX41,SUMIF($B$10:$B$14,\"NCAP_TLIFE\",$AY$10:$AY$14)),0,\"\"))","v":""},{"$f":"IF($B41<>\"PRC_RESID\",\"\",IF(AS$7=2005+OFFSET(AGR!$B$49,$AX41,SUMIF($B$10:$B$14,\"NCAP_TLIFE\",$AY$10:$AY$14)),0,\"\"))","v":""},{"$f":"IF($B41<>\"PRC_RESID\",\"\",IF(AT$7=2005+OFFSET(AGR!$B$49,$AX41,SUMIF($B$10:$B$14,\"NCAP_TLIFE\",$AY$10:$AY$14)),0,\"\"))","v":""},{"$f":"IF($B41<>\"PRC_RESID\",\"\",IF(AU$7=2005+OFFSET(AGR!$B$49,$AX41,SUMIF($B$10:$B$14,\"NCAP_TLIFE\",$AY$10:$AY$14)),0,\"\"))","v":""},null,{"$f":"IF(AX40=AGR!$W$72,AW40+1,AW40)","v":2},3]
[{"$f":"IF(LEFT(OFFSET(AGR!$A$49,AX42,0),2)=\"\\I\",\"*\",\"\")","v":""},"NCAP_AFA",{"$f":"IF($A42=\"*\",\"\",OFFSET(AGR!$B$49,AX42,0))","v":"AHOLP-E"},"-","-","-","-","UP",0,{"$f":"IF($A42=\"*\",\"\",OFFSET(AGR!$B$49,AX42,SUMIF($B$10:$B$14,B42,$AY$10:$AY$14)))","v":0.55130000000000001},{"$f":"IF($B42<>\"PRC_RESID\",\"\",IF(K$7=2005+OFFSET(AGR!$B$49,$AX42,SUMIF($B$10:$B$14,\"NCAP_TLIFE\",$AY$10:$AY$14)),0,\"\"))","v":""},{"$f":"IF($B42<>\"PRC_RESID\",\"\",IF(L$7=2005+OFFSET(AGR!$B$49,$AX42,SUMIF($B$10:$B$14,\"NCAP_TLIFE\",$AY$10:$AY$14)),0,\"\"))","v":""},{"$f":"IF($B42<>\"PRC_RESID\",\"\",IF(M$7=2005+OFFSET(AGR!$B$49,$AX42,SUMIF($B$10:$B$14,\"NCAP_TLIFE\",$AY$10:$AY$14)),0,\"\"))","v":""},{"$f":"IF($B42<>\"PRC_RESID\",\"\",IF(N$7=2005+OFFSET(AGR!$B$49,$AX42,SUMIF($B$10:$B$14,\"NCAP_TLIFE\",$AY$10:$AY$14)),0,\"\"))","v":""},{"$f":"IF($B42<>\"PRC_RESID\",\"\",IF(O$7=2005+OFFSET(AGR!$B$49,$AX42,SUMIF($B$10:$B$14,\"NCAP_TLIFE\",$AY$10:$AY$14)),0,\"\"))","v":""},{"$f":"IF($B42<>\"PRC_RESID\",\"\",IF(P$7=2005+OFFSET(AGR!$B$49,$AX42,SUMIF($B$10:$B$14,\"NCAP_TLIFE\",$AY$10:$AY$14)),0,\"\"))","v":""},{"$f":"IF($B42<>\"PRC_RESID\",\"\",IF(Q$7=2005+OFFSET(AGR!$B$49,$AX42,SUMIF($B$10:$B$14,\"NCAP_TLIFE\",$AY$10:$AY$14)),0,\"\"))","v":""},{"$f":"IF($B42<>\"PRC_RESID\",\"\",IF(R$7=2005+OFFSET(AGR!$B$49,$AX42,SUMIF($B$10:$B$14,\"NCAP_TLIFE\",$AY$10:$AY$14)),0,\"\"))","v":""},{"$f":"IF($B42<>\"PRC_RESID\",\"\",IF(S$7=2005+OFFSET(AGR!$B$49,$AX42,SUMIF($B$10:$B$14,\"NCAP_TLIFE\",$AY$10:$AY$14)),0,\"\"))","v":""},{"$f":"IF($B42<>\"PRC_RESID\",\"\",IF(T$7=2005+OFFSET(AGR!$B$49,$AX42,SUMIF($B$10:$B$14,\"NCAP_TLIFE\",$AY$10:$AY$14)),0,\"\"))","v":""},{"$f":"IF($B42<>\"PRC_RESID\",\"\",IF(U$7=2005+OFFSET(AGR!$B$49,$AX42,SUMIF($B$10:$B$14,\"NCAP_TLIFE\",$AY$10:$AY$14)),0,\"\"))","v":""},{"$f":"IF($B42<>\"PRC_RESID\",\"\",IF(V$7=2005+OFFSET(AGR!$B$49,$AX42,SUMIF($B$10:$B$14,\"NCAP_TLIFE\",$AY$10:$AY$14)),0,\"\"))","v":""},{"$f":"IF($B42<>\"PRC_RESID\",\"\",IF(W$7=2005+OFFSET(AGR!$B$49,$AX42,SUMIF($B$10:$B$14,\"NCAP_TLIFE\",$AY$10:$AY$14)),0,\"\"))","v":""},{"$f":"IF($B42<>\"PRC_RESID\",\"\",IF(X$7=2005+OFFSET(AGR!$B$49,$AX42,SUMIF($B$10:$B$14,\"NCAP_TLIFE\",$AY$10:$AY$14)),0,\"\"))","v":""},{"$f":"IF($B42<>\"PRC_RESID\",\"\",IF(Y$7=2005+OFFSET(AGR!$B$49,$AX42,SUMIF($B$10:$B$14,\"NCAP_TLIFE\",$AY$10:$AY$14)),0,\"\"))","v":""},{"$f":"IF($B42<>\"PRC_RESID\",\"\",IF(Z$7=2005+OFFSET(AGR!$B$49,$AX42,SUMIF($B$10:$B$14,\"NCAP_TLIFE\",$AY$10:$AY$14)),0,\"\"))","v":""},{"$f":"IF($B42<>\"PRC_RESID\",\"\",IF(AA$7=2005+OFFSET(AGR!$B$49,$AX42,SUMIF($B$10:$B$14,\"NCAP_TLIFE\",$AY$10:$AY$14)),0,\"\"))","v":""},{"$f":"IF($B42<>\"PRC_RESID\",\"\",IF(AB$7=2005+OFFSET(AGR!$B$49,$AX42,SUMIF($B$10:$B$14,\"NCAP_TLIFE\",$AY$10:$AY$14)),0,\"\"))","v":""},{"$f":"IF($B42<>\"PRC_RESID\",\"\",IF(AC$7=2005+OFFSET(AGR!$B$49,$AX42,SUMIF($B$10:$B$14,\"NCAP_TLIFE\",$AY$10:$AY$14)),0,\"\"))","v":""},{"$f":"IF($B42<>\"PRC_RESID\",\"\",IF(AD$7=2005+OFFSET(AGR!$B$49,$AX42,SUMIF($B$10:$B$14,\"NCAP_TLIFE\",$AY$10:$AY$14)),0,\"\"))","v":""},{"$f":"IF($B42<>\"PRC_RESID\",\"\",IF(AE$7=2005+OFFSET(AGR!$B$49,$AX42,SUMIF($B$10:$B$14,\"NCAP_TLIFE\",$AY$10:$AY$14)),0,\"\"))","v":""},{"$f":"IF($B42<>\"PRC_RESID\",\"\",IF(AF$7=2005+OFFSET(AGR!$B$49,$AX42,SUMIF($B$10:$B$14,\"NCAP_TLIFE\",$AY$10:$AY$14)),0,\"\"))","v":""},{"$f":"IF($B42<>\"PRC_RESID\",\"\",IF(AG$7=2005+OFFSET(AGR!$B$49,$AX42,SUMIF($B$10:$B$14,\"NCAP_TLIFE\",$AY$10:$AY$14)),0,\"\"))","v":""},{"$f":"IF($B42<>\"PRC_RESID\",\"\",IF(AH$7=2005+OFFSET(AGR!$B$49,$AX42,SUMIF($B$10:$B$14,\"NCAP_TLIFE\",$AY$10:$AY$14)),0,\"\"))","v":""},null,null,null,null,{"$f":"IF($B42<>\"PRC_RESID\",\"\",IF(AM$7=2005+OFFSET(AGR!$B$49,$AX42,SUMIF($B$10:$B$14,\"NCAP_TLIFE\",$AY$10:$AY$14)),0,\"\"))","v":""},null,null,null,null,{"$f":"IF($B42<>\"PRC_RESID\",\"\",IF(AR$7=2005+OFFSET(AGR!$B$49,$AX42,SUMIF($B$10:$B$14,\"NCAP_TLIFE\",$AY$10:$AY$14)),0,\"\"))","v":""},{"$f":"IF($B42<>\"PRC_RESID\",\"\",IF(AS$7=2005+OFFSET(AGR!$B$49,$AX42,SUMIF($B$10:$B$14,\"NCAP_TLIFE\",$AY$10:$AY$14)),0,\"\"))","v":""},{"$f":"IF($B42<>\"PRC_RESID\",\"\",IF(AT$7=2005+OFFSET(AGR!$B$49,$AX42,SUMIF($B$10:$B$14,\"NCAP_TLIFE\",$AY$10:$AY$14)),0,\"\"))","v":""},{"$f":"IF($B42<>\"PRC_RESID\",\"\",IF(AU$7=2005+OFFSET(AGR!$B$49,$AX42,SUMIF($B$10:$B$14,\"NCAP_TLIFE\",$AY$10:$AY$14)),0,\"\"))","v":""},null,{"$f":"IF(AX41=AGR!$W$72,AW41+1,AW41)","v":2},4]
[{"$f":"IF(LEFT(OFFSET(AGR!$A$49,AX43,0),2)=\"\\I\",\"*\",\"\")","v":""},"NCAP_AFA",{"$f":"IF($A43=\"*\",\"\",OFFSET(AGR!$B$49,AX43,0))","v":"AHELC-E"},"-","-","-","-","UP",0,{"$f":"IF($A43=\"*\",\"\",OFFSET(AGR!$B$49,AX43,SUMIF($B$10:$B$14,B43,$AY$10:$AY$14)))","v":0.55130000000000001},{"$f":"IF($B43<>\"PRC_RESID\",\"\",IF(K$7=2005+OFFSET(AGR!$B$49,$AX43,SUMIF($B$10:$B$14,\"NCAP_TLIFE\",$AY$10:$AY$14)),0,\"\"))","v":""},{"$f":"IF($B43<>\"PRC_RESID\",\"\",IF(L$7=2005+OFFSET(AGR!$B$49,$AX43,SUMIF($B$10:$B$14,\"NCAP_TLIFE\",$AY$10:$AY$14)),0,\"\"))","v":""},{"$f":"IF($B43<>\"PRC_RESID\",\"\",IF(M$7=2005+OFFSET(AGR!$B$49,$AX43,SUMIF($B$10:$B$14,\"NCAP_TLIFE\",$AY$10:$AY$14)),0,\"\"))","v":""},{"$f":"IF($B43<>\"PRC_RESID\",\"\",IF(N$7=2005+OFFSET(AGR!$B$49,$AX43,SUMIF($B$10:$B$14,\"NCAP_TLIFE\",$AY$10:$AY$14)),0,\"\"))","v":""},{"$f":"IF($B43<>\"PRC_RESID\",\"\",IF(O$7=2005+OFFSET(AGR!$B$49,$AX43,SUMIF($B$10:$B$14,\"NCAP_TLIFE\",$AY$10:$AY$14)),0,\"\"))","v":""},{"$f":"IF($B43<>\"PRC_RESID\",\"\",IF(P$7=2005+OFFSET(AGR!$B$49,$AX43,SUMIF($B$10:$B$14,\"NCAP_TLIFE\",$AY$10:$AY$14)),0,\"\"))","v":""},{"$f":"IF($B43<>\"PRC_RESID\",\"\",IF(Q$7=2005+OFFSET(AGR!$B$49,$AX43,SUMIF($B$10:$B$14,\"NCAP_TLIFE\",$AY$10:$AY$14)),0,\"\"))","v":""},{"$f":"IF($B43<>\"PRC_RESID\",\"\",IF(R$7=2005+OFFSET(AGR!$B$49,$AX43,SUMIF($B$10:$B$14,\"NCAP_TLIFE\",$AY$10:$AY$14)),0,\"\"))","v":""},{"$f":"IF($B43<>\"PRC_RESID\",\"\",IF(S$7=2005+OFFSET(AGR!$B$49,$AX43,SUMIF($B$10:$B$14,\"NCAP_TLIFE\",$AY$10:$AY$14)),0,\"\"))","v":""},{"$f":"IF($B43<>\"PRC_RESID\",\"\",IF(T$7=2005+OFFSET(AGR!$B$49,$AX43,SUMIF($B$10:$B$14,\"NCAP_TLIFE\",$AY$10:$AY$14)),0,\"\"))","v":""},{"$f":"IF($B43<>\"PRC_RESID\",\"\",IF(U$7=2005+OFFSET(AGR!$B$49,$AX43,SUMIF($B$10:$B$14,\"NCAP_TLIFE\",$AY$10:$AY$14)),0,\"\"))","v":""},{"$f":"IF($B43<>\"PRC_RESID\",\"\",IF(V$7=2005+OFFSET(AGR!$B$49,$AX43,SUMIF($B$10:$B$14,\"NCAP_TLIFE\",$AY$10:$AY$14)),0,\"\"))","v":""},{"$f":"IF($B43<>\"PRC_RESID\",\"\",IF(W$7=2005+OFFSET(AGR!$B$49,$AX43,SUMIF($B$10:$B$14,\"NCAP_TLIFE\",$AY$10:$AY$14)),0,\"\"))","v":""},{"$f":"IF($B43<>\"PRC_RESID\",\"\",IF(X$7=2005+OFFSET(AGR!$B$49,$AX43,SUMIF($B$10:$B$14,\"NCAP_TLIFE\",$AY$10:$AY$14)),0,\"\"))","v":""},{"$f":"IF($B43<>\"PRC_RESID\",\"\",IF(Y$7=2005+OFFSET(AGR!$B$49,$AX43,SUMIF($B$10:$B$14,\"NCAP_TLIFE\",$AY$10:$AY$14)),0,\"\"))","v":""},{"$f":"IF($B43<>\"PRC_RESID\",\"\",IF(Z$7=2005+OFFSET(AGR!$B$49,$AX43,SUMIF($B$10:$B$14,\"NCAP_TLIFE\",$AY$10:$AY$14)),0,\"\"))","v":""},{"$f":"IF($B43<>\"PRC_RESID\",\"\",IF(AA$7=2005+OFFSET(AGR!$B$49,$AX43,SUMIF($B$10:$B$14,\"NCAP_TLIFE\",$AY$10:$AY$14)),0,\"\"))","v":""},{"$f":"IF($B43<>\"PRC_RESID\",\"\",IF(AB$7=2005+OFFSET(AGR!$B$49,$AX43,SUMIF($B$10:$B$14,\"NCAP_TLIFE\",$AY$10:$AY$14)),0,\"\"))","v":""},{"$f":"IF($B43<>\"PRC_RESID\",\"\",IF(AC$7=2005+OFFSET(AGR!$B$49,$AX43,SUMIF($B$10:$B$14,\"NCAP_TLIFE\",$AY$10:$AY$14)),0,\"\"))","v":""},{"$f":"IF($B43<>\"PRC_RESID\",\"\",IF(AD$7=2005+OFFSET(AGR!$B$49,$AX43,SUMIF($B$10:$B$14,\"NCAP_TLIFE\",$AY$10:$AY$14)),0,\"\"))","v":""},{"$f":"IF($B43<>\"PRC_RESID\",\"\",IF(AE$7=2005+OFFSET(AGR!$B$49,$AX43,SUMIF($B$10:$B$14,\"NCAP_TLIFE\",$AY$10:$AY$14)),0,\"\"))","v":""},{"$f":"IF($B43<>\"PRC_RESID\",\"\",IF(AF$7=2005+OFFSET(AGR!$B$49,$AX43,SUMIF($B$10:$B$14,\"NCAP_TLIFE\",$AY$10:$AY$14)),0,\"\"))","v":""},{"$f":"IF($B43<>\"PRC_RESID\",\"\",IF(AG$7=2005+OFFSET(AGR!$B$49,$AX43,SUMIF($B$10:$B$14,\"NCAP_TLIFE\",$AY$10:$AY$14)),0,\"\"))","v":""},{"$f":"IF($B43<>\"PRC_RESID\",\"\",IF(AH$7=2005+OFFSET(AGR!$B$49,$AX43,SUMIF($B$10:$B$14,\"NCAP_TLIFE\",$AY$10:$AY$14)),0,\"\"))","v":""},null,null,null,null,{"$f":"IF($B43<>\"PRC_RESID\",\"\",IF(AM$7=2005+OFFSET(AGR!$B$49,$AX43,SUMIF($B$10:$B$14,\"NCAP_TLIFE\",$AY$10:$AY$14)),0,\"\"))","v":""},null,null,null,null,{"$f":"IF($B43<>\"PRC_RESID\",\"\",IF(AR$7=2005+OFFSET(AGR!$B$49,$AX43,SUMIF($B$10:$B$14,\"NCAP_TLIFE\",$AY$10:$AY$14)),0,\"\"))","v":""},{"$f":"IF($B43<>\"PRC_RESID\",\"\",IF(AS$7=2005+OFFSET(AGR!$B$49,$AX43,SUMIF($B$10:$B$14,\"NCAP_TLIFE\",$AY$10:$AY$14)),0,\"\"))","v":""},{"$f":"IF($B43<>\"PRC_RESID\",\"\",IF(AT$7=2005+OFFSET(AGR!$B$49,$AX43,SUMIF($B$10:$B$14,\"NCAP_TLIFE\",$AY$10:$AY$14)),0,\"\"))","v":""},{"$f":"IF($B43<>\"PRC_RESID\",\"\",IF(AU$7=2005+OFFSET(AGR!$B$49,$AX43,SUMIF($B$10:$B$14,\"NCAP_TLIFE\",$AY$10:$AY$14)),0,\"\"))","v":""},null,{"$f":"IF(AX42=AGR!$W$72,AW42+1,AW42)","v":2},5]
[{"$f":"IF(LEFT(OFFSET(AGR!$A$49,AX44,0),2)=\"\\I\",\"*\",\"\")","v":"*"},"",{"$f":"IF($A44=\"*\",\"\",OFFSET(AGR!$B$49,AX44,0))","v":""},"","","","","","",{"$f":"IF($A44=\"*\",\"\",OFFSET(AGR!$B$49,AX44,SUMIF($B$10:$B$14,B44,$AY$10:$AY$14)))","v":""},{"$f":"IF($B44<>\"PRC_RESID\",\"\",IF(K$7=2005+OFFSET(AGR!$B$49,$AX44,SUMIF($B$10:$B$14,\"NCAP_TLIFE\",$AY$10:$AY$14)),0,\"\"))","v":""},{"$f":"IF($B44<>\"PRC_RESID\",\"\",IF(L$7=2005+OFFSET(AGR!$B$49,$AX44,SUMIF($B$10:$B$14,\"NCAP_TLIFE\",$AY$10:$AY$14)),0,\"\"))","v":""},{"$f":"IF($B44<>\"PRC_RESID\",\"\",IF(M$7=2005+OFFSET(AGR!$B$49,$AX44,SUMIF($B$10:$B$14,\"NCAP_TLIFE\",$AY$10:$AY$14)),0,\"\"))","v":""},{"$f":"IF($B44<>\"PRC_RESID\",\"\",IF(N$7=2005+OFFSET(AGR!$B$49,$AX44,SUMIF($B$10:$B$14,\"NCAP_TLIFE\",$AY$10:$AY$14)),0,\"\"))","v":""},{"$f":"IF($B44<>\"PRC_RESID\",\"\",IF(O$7=2005+OFFSET(AGR!$B$49,$AX44,SUMIF($B$10:$B$14,\"NCAP_TLIFE\",$AY$10:$AY$14)),0,\"\"))","v":""},{"$f":"IF($B44<>\"PRC_RESID\",\"\",IF(P$7=2005+OFFSET(AGR!$B$49,$AX44,SUMIF($B$10:$B$14,\"NCAP_TLIFE\",$AY$10:$AY$14)),0,\"\"))","v":""},{"$f":"IF($B44<>\"PRC_RESID\",\"\",IF(Q$7=2005+OFFSET(AGR!$B$49,$AX44,SUMIF($B$10:$B$14,\"NCAP_TLIFE\",$AY$10:$AY$14)),0,\"\"))","v":""},{"$f":"IF($B44<>\"PRC_RESID\",\"\",IF(R$7=2005+OFFSET(AGR!$B$49,$AX44,SUMIF($B$10:$B$14,\"NCAP_TLIFE\",$AY$10:$AY$14)),0,\"\"))","v":""},{"$f":"IF($B44<>\"PRC_RESID\",\"\",IF(S$7=2005+OFFSET(AGR!$B$49,$AX44,SUMIF($B$10:$B$14,\"NCAP_TLIFE\",$AY$10:$AY$14)),0,\"\"))","v":""},{"$f":"IF($B44<>\"PRC_RESID\",\"\",IF(T$7=2005+OFFSET(AGR!$B$49,$AX44,SUMIF($B$10:$B$14,\"NCAP_TLIFE\",$AY$10:$AY$14)),0,\"\"))","v":""},{"$f":"IF($B44<>\"PRC_RESID\",\"\",IF(U$7=2005+OFFSET(AGR!$B$49,$AX44,SUMIF($B$10:$B$14,\"NCAP_TLIFE\",$AY$10:$AY$14)),0,\"\"))","v":""},{"$f":"IF($B44<>\"PRC_RESID\",\"\",IF(V$7=2005+OFFSET(AGR!$B$49,$AX44,SUMIF($B$10:$B$14,\"NCAP_TLIFE\",$AY$10:$AY$14)),0,\"\"))","v":""},{"$f":"IF($B44<>\"PRC_RESID\",\"\",IF(W$7=2005+OFFSET(AGR!$B$49,$AX44,SUMIF($B$10:$B$14,\"NCAP_TLIFE\",$AY$10:$AY$14)),0,\"\"))","v":""},{"$f":"IF($B44<>\"PRC_RESID\",\"\",IF(X$7=2005+OFFSET(AGR!$B$49,$AX44,SUMIF($B$10:$B$14,\"NCAP_TLIFE\",$AY$10:$AY$14)),0,\"\"))","v":""},{"$f":"IF($B44<>\"PRC_RESID\",\"\",IF(Y$7=2005+OFFSET(AGR!$B$49,$AX44,SUMIF($B$10:$B$14,\"NCAP_TLIFE\",$AY$10:$AY$14)),0,\"\"))","v":""},{"$f":"IF($B44<>\"PRC_RESID\",\"\",IF(Z$7=2005+OFFSET(AGR!$B$49,$AX44,SUMIF($B$10:$B$14,\"NCAP_TLIFE\",$AY$10:$AY$14)),0,\"\"))","v":""},{"$f":"IF($B44<>\"PRC_RESID\",\"\",IF(AA$7=2005+OFFSET(AGR!$B$49,$AX44,SUMIF($B$10:$B$14,\"NCAP_TLIFE\",$AY$10:$AY$14)),0,\"\"))","v":""},{"$f":"IF($B44<>\"PRC_RESID\",\"\",IF(AB$7=2005+OFFSET(AGR!$B$49,$AX44,SUMIF($B$10:$B$14,\"NCAP_TLIFE\",$AY$10:$AY$14)),0,\"\"))","v":""},{"$f":"IF($B44<>\"PRC_RESID\",\"\",IF(AC$7=2005+OFFSET(AGR!$B$49,$AX44,SUMIF($B$10:$B$14,\"NCAP_TLIFE\",$AY$10:$AY$14)),0,\"\"))","v":""},{"$f":"IF($B44<>\"PRC_RESID\",\"\",IF(AD$7=2005+OFFSET(AGR!$B$49,$AX44,SUMIF($B$10:$B$14,\"NCAP_TLIFE\",$AY$10:$AY$14)),0,\"\"))","v":""},{"$f":"IF($B44<>\"PRC_RESID\",\"\",IF(AE$7=2005+OFFSET(AGR!$B$49,$AX44,SUMIF($B$10:$B$14,\"NCAP_TLIFE\",$AY$10:$AY$14)),0,\"\"))","v":""},{"$f":"IF($B44<>\"PRC_RESID\",\"\",IF(AF$7=2005+OFFSET(AGR!$B$49,$AX44,SUMIF($B$10:$B$14,\"NCAP_TLIFE\",$AY$10:$AY$14)),0,\"\"))","v":""},{"$f":"IF($B44<>\"PRC_RESID\",\"\",IF(AG$7=2005+OFFSET(AGR!$B$49,$AX44,SUMIF($B$10:$B$14,\"NCAP_TLIFE\",$AY$10:$AY$14)),0,\"\"))","v":""},{"$f":"IF($B44<>\"PRC_RESID\",\"\",IF(AH$7=2005+OFFSET(AGR!$B$49,$AX44,SUMIF($B$10:$B$14,\"NCAP_TLIFE\",$AY$10:$AY$14)),0,\"\"))","v":""},null,null,null,null,{"$f":"IF($B44<>\"PRC_RESID\",\"\",IF(AM$7=2005+OFFSET(AGR!$B$49,$AX44,SUMIF($B$10:$B$14,\"NCAP_TLIFE\",$AY$10:$AY$14)),0,\"\"))","v":""},null,null,null,null,{"$f":"IF($B44<>\"PRC_RESID\",\"\",IF(AR$7=2005+OFFSET(AGR!$B$49,$AX44,SUMIF($B$10:$B$14,\"NCAP_TLIFE\",$AY$10:$AY$14)),0,\"\"))","v":""},{"$f":"IF($B44<>\"PRC_RESID\",\"\",IF(AS$7=2005+OFFSET(AGR!$B$49,$AX44,SUMIF($B$10:$B$14,\"NCAP_TLIFE\",$AY$10:$AY$14)),0,\"\"))","v":""},{"$f":"IF($B44<>\"PRC_RESID\",\"\",IF(AT$7=2005+OFFSET(AGR!$B$49,$AX44,SUMIF($B$10:$B$14,\"NCAP_TLIFE\",$AY$10:$AY$14)),0,\"\"))","v":""},{"$f":"IF($B44<>\"PRC_RESID\",\"\",IF(AU$7=2005+OFFSET(AGR!$B$49,$AX44,SUMIF($B$10:$B$14,\"NCAP_TLIFE\",$AY$10:$AY$14)),0,\"\"))","v":""},null,{"$f":"IF(AX43=AGR!$W$72,AW43+1,AW43)","v":2},6]
[{"$f":"IF(LEFT(OFFSET(AGR!$A$49,AX45,0),2)=\"\\I\",\"*\",\"\")","v":"*"},"",{"$f":"IF($A45=\"*\",\"\",OFFSET(AGR!$B$49,AX45,0))","v":""},"","","","","","",{"$f":"IF($A45=\"*\",\"\",OFFSET(AGR!$B$49,AX45,SUMIF($B$10:$B$14,B45,$AY$10:$AY$14)))","v":""},{"$f":"IF($B45<>\"PRC_RESID\",\"\",IF(K$7=2005+OFFSET(AGR!$B$49,$AX45,SUMIF($B$10:$B$14,\"NCAP_TLIFE\",$AY$10:$AY$14)),0,\"\"))","v":""},{"$f":"IF($B45<>\"PRC_RESID\",\"\",IF(L$7=2005+OFFSET(AGR!$B$49,$AX45,SUMIF($B$10:$B$14,\"NCAP_TLIFE\",$AY$10:$AY$14)),0,\"\"))","v":""},{"$f":"IF($B45<>\"PRC_RESID\",\"\",IF(M$7=2005+OFFSET(AGR!$B$49,$AX45,SUMIF($B$10:$B$14,\"NCAP_TLIFE\",$AY$10:$AY$14)),0,\"\"))","v":""},{"$f":"IF($B45<>\"PRC_RESID\",\"\",IF(N$7=2005+OFFSET(AGR!$B$49,$AX45,SUMIF($B$10:$B$14,\"NCAP_TLIFE\",$AY$10:$AY$14)),0,\"\"))","v":""},{"$f":"IF($B45<>\"PRC_RESID\",\"\",IF(O$7=2005+OFFSET(AGR!$B$49,$AX45,SUMIF($B$10:$B$14,\"NCAP_TLIFE\",$AY$10:$AY$14)),0,\"\"))","v":""},{"$f":"IF($B45<>\"PRC_RESID\",\"\",IF(P$7=2005+OFFSET(AGR!$B$49,$AX45,SUMIF($B$10:$B$14,\"NCAP_TLIFE\",$AY$10:$AY$14)),0,\"\"))","v":""},{"$f":"IF($B45<>\"PRC_RESID\",\"\",IF(Q$7=2005+OFFSET(AGR!$B$49,$AX45,SUMIF($B$10:$B$14,\"NCAP_TLIFE\",$AY$10:$AY$14)),0,\"\"))","v":""},{"$f":"IF($B45<>\"PRC_RESID\",\"\",IF(R$7=2005+OFFSET(AGR!$B$49,$AX45,SUMIF($B$10:$B$14,\"NCAP_TLIFE\",$AY$10:$AY$14)),0,\"\"))","v":""},{"$f":"IF($B45<>\"PRC_RESID\",\"\",IF(S$7=2005+OFFSET(AGR!$B$49,$AX45,SUMIF($B$10:$B$14,\"NCAP_TLIFE\",$AY$10:$AY$14)),0,\"\"))","v":""},{"$f":"IF($B45<>\"PRC_RESID\",\"\",IF(T$7=2005+OFFSET(AGR!$B$49,$AX45,SUMIF($B$10:$B$14,\"NCAP_TLIFE\",$AY$10:$AY$14)),0,\"\"))","v":""},{"$f":"IF($B45<>\"PRC_RESID\",\"\",IF(U$7=2005+OFFSET(AGR!$B$49,$AX45,SUMIF($B$10:$B$14,\"NCAP_TLIFE\",$AY$10:$AY$14)),0,\"\"))","v":""},{"$f":"IF($B45<>\"PRC_RESID\",\"\",IF(V$7=2005+OFFSET(AGR!$B$49,$AX45,SUMIF($B$10:$B$14,\"NCAP_TLIFE\",$AY$10:$AY$14)),0,\"\"))","v":""},{"$f":"IF($B45<>\"PRC_RESID\",\"\",IF(W$7=2005+OFFSET(AGR!$B$49,$AX45,SUMIF($B$10:$B$14,\"NCAP_TLIFE\",$AY$10:$AY$14)),0,\"\"))","v":""},{"$f":"IF($B45<>\"PRC_RESID\",\"\",IF(X$7=2005+OFFSET(AGR!$B$49,$AX45,SUMIF($B$10:$B$14,\"NCAP_TLIFE\",$AY$10:$AY$14)),0,\"\"))","v":""},{"$f":"IF($B45<>\"PRC_RESID\",\"\",IF(Y$7=2005+OFFSET(AGR!$B$49,$AX45,SUMIF($B$10:$B$14,\"NCAP_TLIFE\",$AY$10:$AY$14)),0,\"\"))","v":""},{"$f":"IF($B45<>\"PRC_RESID\",\"\",IF(Z$7=2005+OFFSET(AGR!$B$49,$AX45,SUMIF($B$10:$B$14,\"NCAP_TLIFE\",$AY$10:$AY$14)),0,\"\"))","v":""},{"$f":"IF($B45<>\"PRC_RESID\",\"\",IF(AA$7=2005+OFFSET(AGR!$B$49,$AX45,SUMIF($B$10:$B$14,\"NCAP_TLIFE\",$AY$10:$AY$14)),0,\"\"))","v":""},{"$f":"IF($B45<>\"PRC_RESID\",\"\",IF(AB$7=2005+OFFSET(AGR!$B$49,$AX45,SUMIF($B$10:$B$14,\"NCAP_TLIFE\",$AY$10:$AY$14)),0,\"\"))","v":""},{"$f":"IF($B45<>\"PRC_RESID\",\"\",IF(AC$7=2005+OFFSET(AGR!$B$49,$AX45,SUMIF($B$10:$B$14,\"NCAP_TLIFE\",$AY$10:$AY$14)),0,\"\"))","v":""},{"$f":"IF($B45<>\"PRC_RESID\",\"\",IF(AD$7=2005+OFFSET(AGR!$B$49,$AX45,SUMIF($B$10:$B$14,\"NCAP_TLIFE\",$AY$10:$AY$14)),0,\"\"))","v":""},{"$f":"IF($B45<>\"PRC_RESID\",\"\",IF(AE$7=2005+OFFSET(AGR!$B$49,$AX45,SUMIF($B$10:$B$14,\"NCAP_TLIFE\",$AY$10:$AY$14)),0,\"\"))","v":""},{"$f":"IF($B45<>\"PRC_RESID\",\"\",IF(AF$7=2005+OFFSET(AGR!$B$49,$AX45,SUMIF($B$10:$B$14,\"NCAP_TLIFE\",$AY$10:$AY$14)),0,\"\"))","v":""},{"$f":"IF($B45<>\"PRC_RESID\",\"\",IF(AG$7=2005+OFFSET(AGR!$B$49,$AX45,SUMIF($B$10:$B$14,\"NCAP_TLIFE\",$AY$10:$AY$14)),0,\"\"))","v":""},{"$f":"IF($B45<>\"PRC_RESID\",\"\",IF(AH$7=2005+OFFSET(AGR!$B$49,$AX45,SUMIF($B$10:$B$14,\"NCAP_TLIFE\",$AY$10:$AY$14)),0,\"\"))","v":""},null,null,null,null,{"$f":"IF($B45<>\"PRC_RESID\",\"\",IF(AM$7=2005+OFFSET(AGR!$B$49,$AX45,SUMIF($B$10:$B$14,\"NCAP_TLIFE\",$AY$10:$AY$14)),0,\"\"))","v":""},null,null,null,null,{"$f":"IF($B45<>\"PRC_RESID\",\"\",IF(AR$7=2005+OFFSET(AGR!$B$49,$AX45,SUMIF($B$10:$B$14,\"NCAP_TLIFE\",$AY$10:$AY$14)),0,\"\"))","v":""},{"$f":"IF($B45<>\"PRC_RESID\",\"\",IF(AS$7=2005+OFFSET(AGR!$B$49,$AX45,SUMIF($B$10:$B$14,\"NCAP_TLIFE\",$AY$10:$AY$14)),0,\"\"))","v":""},{"$f":"IF($B45<>\"PRC_RESID\",\"\",IF(AT$7=2005+OFFSET(AGR!$B$49,$AX45,SUMIF($B$10:$B$14,\"NCAP_TLIFE\",$AY$10:$AY$14)),0,\"\"))","v":""},{"$f":"IF($B45<>\"PRC_RESID\",\"\",IF(AU$7=2005+OFFSET(AGR!$B$49,$AX45,SUMIF($B$10:$B$14,\"NCAP_TLIFE\",$AY$10:$AY$14)),0,\"\"))","v":""},null,{"$f":"IF(AX44=AGR!$W$72,AW44+1,AW44)","v":2},7]
[{"$f":"IF(LEFT(OFFSET(AGR!$A$49,AX46,0),2)=\"\\I\",\"*\",\"\")","v":""},"NCAP_AFA",{"$f":"IF($A46=\"*\",\"\",OFFSET(AGR!$B$49,AX46,0))","v":"APELC-E"},"-","-","-","-","UP",0,{"$f":"IF($A46=\"*\",\"\",OFFSET(AGR!$B$49,AX46,SUMIF($B$10:$B$14,B46,$AY$10:$AY$14)))","v":0.74760000000000004},{"$f":"IF($B46<>\"PRC_RESID\",\"\",IF(K$7=2005+OFFSET(AGR!$B$49,$AX46,SUMIF($B$10:$B$14,\"NCAP_TLIFE\",$AY$10:$AY$14)),0,\"\"))","v":""},{"$f":"IF($B46<>\"PRC_RESID\",\"\",IF(L$7=2005+OFFSET(AGR!$B$49,$AX46,SUMIF($B$10:$B$14,\"NCAP_TLIFE\",$AY$10:$AY$14)),0,\"\"))","v":""},{"$f":"IF($B46<>\"PRC_RESID\",\"\",IF(M$7=2005+OFFSET(AGR!$B$49,$AX46,SUMIF($B$10:$B$14,\"NCAP_TLIFE\",$AY$10:$AY$14)),0,\"\"))","v":""},{"$f":"IF($B46<>\"PRC_RESID\",\"\",IF(N$7=2005+OFFSET(AGR!$B$49,$AX46,SUMIF($B$10:$B$14,\"NCAP_TLIFE\",$AY$10:$AY$14)),0,\"\"))","v":""},{"$f":"IF($B46<>\"PRC_RESID\",\"\",IF(O$7=2005+OFFSET(AGR!$B$49,$AX46,SUMIF($B$10:$B$14,\"NCAP_TLIFE\",$AY$10:$AY$14)),0,\"\"))","v":""},{"$f":"IF($B46<>\"PRC_RESID\",\"\",IF(P$7=2005+OFFSET(AGR!$B$49,$AX46,SUMIF($B$10:$B$14,\"NCAP_TLIFE\",$AY$10:$AY$14)),0,\"\"))","v":""},{"$f":"IF($B46<>\"PRC_RESID\",\"\",IF(Q$7=2005+OFFSET(AGR!$B$49,$AX46,SUMIF($B$10:$B$14,\"NCAP_TLIFE\",$AY$10:$AY$14)),0,\"\"))","v":""},{"$f":"IF($B46<>\"PRC_RESID\",\"\",IF(R$7=2005+OFFSET(AGR!$B$49,$AX46,SUMIF($B$10:$B$14,\"NCAP_TLIFE\",$AY$10:$AY$14)),0,\"\"))","v":""},{"$f":"IF($B46<>\"PRC_RESID\",\"\",IF(S$7=2005+OFFSET(AGR!$B$49,$AX46,SUMIF($B$10:$B$14,\"NCAP_TLIFE\",$AY$10:$AY$14)),0,\"\"))","v":""},{"$f":"IF($B46<>\"PRC_RESID\",\"\",IF(T$7=2005+OFFSET(AGR!$B$49,$AX46,SUMIF($B$10:$B$14,\"NCAP_TLIFE\",$AY$10:$AY$14)),0,\"\"))","v":""},{"$f":"IF($B46<>\"PRC_RESID\",\"\",IF(U$7=2005+OFFSET(AGR!$B$49,$AX46,SUMIF($B$10:$B$14,\"NCAP_TLIFE\",$AY$10:$AY$14)),0,\"\"))","v":""},{"$f":"IF($B46<>\"PRC_RESID\",\"\",IF(V$7=2005+OFFSET(AGR!$B$49,$AX46,SUMIF($B$10:$B$14,\"NCAP_TLIFE\",$AY$10:$AY$14)),0,\"\"))","v":""},{"$f":"IF($B46<>\"PRC_RESID\",\"\",IF(W$7=2005+OFFSET(AGR!$B$49,$AX46,SUMIF($B$10:$B$14,\"NCAP_TLIFE\",$AY$10:$AY$14)),0,\"\"))","v":""},{"$f":"IF($B46<>\"PRC_RESID\",\"\",IF(X$7=2005+OFFSET(AGR!$B$49,$AX46,SUMIF($B$10:$B$14,\"NCAP_TLIFE\",$AY$10:$AY$14)),0,\"\"))","v":""},{"$f":"IF($B46<>\"PRC_RESID\",\"\",IF(Y$7=2005+OFFSET(AGR!$B$49,$AX46,SUMIF($B$10:$B$14,\"NCAP_TLIFE\",$AY$10:$AY$14)),0,\"\"))","v":""},{"$f":"IF($B46<>\"PRC_RESID\",\"\",IF(Z$7=2005+OFFSET(AGR!$B$49,$AX46,SUMIF($B$10:$B$14,\"NCAP_TLIFE\",$AY$10:$AY$14)),0,\"\"))","v":""},{"$f":"IF($B46<>\"PRC_RESID\",\"\",IF(AA$7=2005+OFFSET(AGR!$B$49,$AX46,SUMIF($B$10:$B$14,\"NCAP_TLIFE\",$AY$10:$AY$14)),0,\"\"))","v":""},{"$f":"IF($B46<>\"PRC_RESID\",\"\",IF(AB$7=2005+OFFSET(AGR!$B$49,$AX46,SUMIF($B$10:$B$14,\"NCAP_TLIFE\",$AY$10:$AY$14)),0,\"\"))","v":""},{"$f":"IF($B46<>\"PRC_RESID\",\"\",IF(AC$7=2005+OFFSET(AGR!$B$49,$AX46,SUMIF($B$10:$B$14,\"NCAP_TLIFE\",$AY$10:$AY$14)),0,\"\"))","v":""},{"$f":"IF($B46<>\"PRC_RESID\",\"\",IF(AD$7=2005+OFFSET(AGR!$B$49,$AX46,SUMIF($B$10:$B$14,\"NCAP_TLIFE\",$AY$10:$AY$14)),0,\"\"))","v":""},{"$f":"IF($B46<>\"PRC_RESID\",\"\",IF(AE$7=2005+OFFSET(AGR!$B$49,$AX46,SUMIF($B$10:$B$14,\"NCAP_TLIFE\",$AY$10:$AY$14)),0,\"\"))","v":""},{"$f":"IF($B46<>\"PRC_RESID\",\"\",IF(AF$7=2005+OFFSET(AGR!$B$49,$AX46,SUMIF($B$10:$B$14,\"NCAP_TLIFE\",$AY$10:$AY$14)),0,\"\"))","v":""},{"$f":"IF($B46<>\"PRC_RESID\",\"\",IF(AG$7=2005+OFFSET(AGR!$B$49,$AX46,SUMIF($B$10:$B$14,\"NCAP_TLIFE\",$AY$10:$AY$14)),0,\"\"))","v":""},{"$f":"IF($B46<>\"PRC_RESID\",\"\",IF(AH$7=2005+OFFSET(AGR!$B$49,$AX46,SUMIF($B$10:$B$14,\"NCAP_TLIFE\",$AY$10:$AY$14)),0,\"\"))","v":""},null,null,null,null,{"$f":"IF($B46<>\"PRC_RESID\",\"\",IF(AM$7=2005+OFFSET(AGR!$B$49,$AX46,SUMIF($B$10:$B$14,\"NCAP_TLIFE\",$AY$10:$AY$14)),0,\"\"))","v":""},null,null,null,null,{"$f":"IF($B46<>\"PRC_RESID\",\"\",IF(AR$7=2005+OFFSET(AGR!$B$49,$AX46,SUMIF($B$10:$B$14,\"NCAP_TLIFE\",$AY$10:$AY$14)),0,\"\"))","v":""},{"$f":"IF($B46<>\"PRC_RESID\",\"\",IF(AS$7=2005+OFFSET(AGR!$B$49,$AX46,SUMIF($B$10:$B$14,\"NCAP_TLIFE\",$AY$10:$AY$14)),0,\"\"))","v":""},{"$f":"IF($B46<>\"PRC_RESID\",\"\",IF(AT$7=2005+OFFSET(AGR!$B$49,$AX46,SUMIF($B$10:$B$14,\"NCAP_TLIFE\",$AY$10:$AY$14)),0,\"\"))","v":""},{"$f":"IF($B46<>\"PRC_RESID\",\"\",IF(AU$7=2005+OFFSET(AGR!$B$49,$AX46,SUMIF($B$10:$B$14,\"NCAP_TLIFE\",$AY$10:$AY$14)),0,\"\"))","v":""},null,{"$f":"IF(AX45=AGR!$W$72,AW45+1,AW45)","v":2},8]
[{"$f":"IF(LEFT(OFFSET(AGR!$A$49,AX47,0),2)=\"\\I\",\"*\",\"\")","v":"*"},"",{"$f":"IF($A47=\"*\",\"\",OFFSET(AGR!$B$49,AX47,0))","v":""},"","","","","","",{"$f":"IF($A47=\"*\",\"\",OFFSET(AGR!$B$49,AX47,SUMIF($B$10:$B$14,B47,$AY$10:$AY$14)))","v":""},{"$f":"IF($B47<>\"PRC_RESID\",\"\",IF(K$7=2005+OFFSET(AGR!$B$49,$AX47,SUMIF($B$10:$B$14,\"NCAP_TLIFE\",$AY$10:$AY$14)),0,\"\"))","v":""},{"$f":"IF($B47<>\"PRC_RESID\",\"\",IF(L$7=2005+OFFSET(AGR!$B$49,$AX47,SUMIF($B$10:$B$14,\"NCAP_TLIFE\",$AY$10:$AY$14)),0,\"\"))","v":""},{"$f":"IF($B47<>\"PRC_RESID\",\"\",IF(M$7=2005+OFFSET(AGR!$B$49,$AX47,SUMIF($B$10:$B$14,\"NCAP_TLIFE\",$AY$10:$AY$14)),0,\"\"))","v":""},{"$f":"IF($B47<>\"PRC_RESID\",\"\",IF(N$7=2005+OFFSET(AGR!$B$49,$AX47,SUMIF($B$10:$B$14,\"NCAP_TLIFE\",$AY$10:$AY$14)),0,\"\"))","v":""},{"$f":"IF($B47<>\"PRC_RESID\",\"\",IF(O$7=2005+OFFSET(AGR!$B$49,$AX47,SUMIF($B$10:$B$14,\"NCAP_TLIFE\",$AY$10:$AY$14)),0,\"\"))","v":""},{"$f":"IF($B47<>\"PRC_RESID\",\"\",IF(P$7=2005+OFFSET(AGR!$B$49,$AX47,SUMIF($B$10:$B$14,\"NCAP_TLIFE\",$AY$10:$AY$14)),0,\"\"))","v":""},{"$f":"IF($B47<>\"PRC_RESID\",\"\",IF(Q$7=2005+OFFSET(AGR!$B$49,$AX47,SUMIF($B$10:$B$14,\"NCAP_TLIFE\",$AY$10:$AY$14)),0,\"\"))","v":""},{"$f":"IF($B47<>\"PRC_RESID\",\"\",IF(R$7=2005+OFFSET(AGR!$B$49,$AX47,SUMIF($B$10:$B$14,\"NCAP_TLIFE\",$AY$10:$AY$14)),0,\"\"))","v":""},{"$f":"IF($B47<>\"PRC_RESID\",\"\",IF(S$7=2005+OFFSET(AGR!$B$49,$AX47,SUMIF($B$10:$B$14,\"NCAP_TLIFE\",$AY$10:$AY$14)),0,\"\"))","v":""},{"$f":"IF($B47<>\"PRC_RESID\",\"\",IF(T$7=2005+OFFSET(AGR!$B$49,$AX47,SUMIF($B$10:$B$14,\"NCAP_TLIFE\",$AY$10:$AY$14)),0,\"\"))","v":""},{"$f":"IF($B47<>\"PRC_RESID\",\"\",IF(U$7=2005+OFFSET(AGR!$B$49,$AX47,SUMIF($B$10:$B$14,\"NCAP_TLIFE\",$AY$10:$AY$14)),0,\"\"))","v":""},{"$f":"IF($B47<>\"PRC_RESID\",\"\",IF(V$7=2005+OFFSET(AGR!$B$49,$AX47,SUMIF($B$10:$B$14,\"NCAP_TLIFE\",$AY$10:$AY$14)),0,\"\"))","v":""},{"$f":"IF($B47<>\"PRC_RESID\",\"\",IF(W$7=2005+OFFSET(AGR!$B$49,$AX47,SUMIF($B$10:$B$14,\"NCAP_TLIFE\",$AY$10:$AY$14)),0,\"\"))","v":""},{"$f":"IF($B47<>\"PRC_RESID\",\"\",IF(X$7=2005+OFFSET(AGR!$B$49,$AX47,SUMIF($B$10:$B$14,\"NCAP_TLIFE\",$AY$10:$AY$14)),0,\"\"))","v":""},{"$f":"IF($B47<>\"PRC_RESID\",\"\",IF(Y$7=2005+OFFSET(AGR!$B$49,$AX47,SUMIF($B$10:$B$14,\"NCAP_TLIFE\",$AY$10:$AY$14)),0,\"\"))","v":""},{"$f":"IF($B47<>\"PRC_RESID\",\"\",IF(Z$7=2005+OFFSET(AGR!$B$49,$AX47,SUMIF($B$10:$B$14,\"NCAP_TLIFE\",$AY$10:$AY$14)),0,\"\"))","v":""},{"$f":"IF($B47<>\"PRC_RESID\",\"\",IF(AA$7=2005+OFFSET(AGR!$B$49,$AX47,SUMIF($B$10:$B$14,\"NCAP_TLIFE\",$AY$10:$AY$14)),0,\"\"))","v":""},{"$f":"IF($B47<>\"PRC_RESID\",\"\",IF(AB$7=2005+OFFSET(AGR!$B$49,$AX47,SUMIF($B$10:$B$14,\"NCAP_TLIFE\",$AY$10:$AY$14)),0,\"\"))","v":""},{"$f":"IF($B47<>\"PRC_RESID\",\"\",IF(AC$7=2005+OFFSET(AGR!$B$49,$AX47,SUMIF($B$10:$B$14,\"NCAP_TLIFE\",$AY$10:$AY$14)),0,\"\"))","v":""},{"$f":"IF($B47<>\"PRC_RESID\",\"\",IF(AD$7=2005+OFFSET(AGR!$B$49,$AX47,SUMIF($B$10:$B$14,\"NCAP_TLIFE\",$AY$10:$AY$14)),0,\"\"))","v":""},{"$f":"IF($B47<>\"PRC_RESID\",\"\",IF(AE$7=2005+OFFSET(AGR!$B$49,$AX47,SUMIF($B$10:$B$14,\"NCAP_TLIFE\",$AY$10:$AY$14)),0,\"\"))","v":""},{"$f":"IF($B47<>\"PRC_RESID\",\"\",IF(AF$7=2005+OFFSET(AGR!$B$49,$AX47,SUMIF($B$10:$B$14,\"NCAP_TLIFE\",$AY$10:$AY$14)),0,\"\"))","v":""},{"$f":"IF($B47<>\"PRC_RESID\",\"\",IF(AG$7=2005+OFFSET(AGR!$B$49,$AX47,SUMIF($B$10:$B$14,\"NCAP_TLIFE\",$AY$10:$AY$14)),0,\"\"))","v":""},{"$f":"IF($B47<>\"PRC_RESID\",\"\",IF(AH$7=2005+OFFSET(AGR!$B$49,$AX47,SUMIF($B$10:$B$14,\"NCAP_TLIFE\",$AY$10:$AY$14)),0,\"\"))","v":""},null,null,null,null,{"$f":"IF($B47<>\"PRC_RESID\",\"\",IF(AM$7=2005+OFFSET(AGR!$B$49,$AX47,SUMIF($B$10:$B$14,\"NCAP_TLIFE\",$AY$10:$AY$14)),0,\"\"))","v":""},null,null,null,null,{"$f":"IF($B47<>\"PRC_RESID\",\"\",IF(AR$7=2005+OFFSET(AGR!$B$49,$AX47,SUMIF($B$10:$B$14,\"NCAP_TLIFE\",$AY$10:$AY$14)),0,\"\"))","v":""},{"$f":"IF($B47<>\"PRC_RESID\",\"\",IF(AS$7=2005+OFFSET(AGR!$B$49,$AX47,SUMIF($B$10:$B$14,\"NCAP_TLIFE\",$AY$10:$AY$14)),0,\"\"))","v":""},{"$f":"IF($B47<>\"PRC_RESID\",\"\",IF(AT$7=2005+OFFSET(AGR!$B$49,$AX47,SUMIF($B$10:$B$14,\"NCAP_TLIFE\",$AY$10:$AY$14)),0,\"\"))","v":""},{"$f":"IF($B47<>\"PRC_RESID\",\"\",IF(AU$7=2005+OFFSET(AGR!$B$49,$AX47,SUMIF($B$10:$B$14,\"NCAP_TLIFE\",$AY$10:$AY$14)),0,\"\"))","v":""},null,{"$f":"IF(AX46=AGR!$W$72,AW46+1,AW46)","v":2},9]
[{"$f":"IF(LEFT(OFFSET(AGR!$A$49,AX48,0),2)=\"\\I\",\"*\",\"\")","v":"*"},{"$f":"IF(A48=\"*\",\"\",VLOOKUP(\"*\"&AW48,$A$9:$B$14,2,FALSE))","v":""},{"$f":"IF($A48=\"*\",\"\",OFFSET(AGR!$B$49,AX48,0))","v":""},"","","","","","",{"$f":"IF($A48=\"*\",\"\",OFFSET(AGR!$B$49,AX48,SUMIF($B$10:$B$14,B48,$AY$10:$AY$14)))","v":""},{"$f":"IF($B48<>\"PRC_RESID\",\"\",IF(K$7=2005+OFFSET(AGR!$B$49,$AX48,SUMIF($B$10:$B$14,\"NCAP_TLIFE\",$AY$10:$AY$14)),0,\"\"))","v":""},{"$f":"IF($B48<>\"PRC_RESID\",\"\",IF(L$7=2005+OFFSET(AGR!$B$49,$AX48,SUMIF($B$10:$B$14,\"NCAP_TLIFE\",$AY$10:$AY$14)),0,\"\"))","v":""},{"$f":"IF($B48<>\"PRC_RESID\",\"\",IF(M$7=2005+OFFSET(AGR!$B$49,$AX48,SUMIF($B$10:$B$14,\"NCAP_TLIFE\",$AY$10:$AY$14)),0,\"\"))","v":""},{"$f":"IF($B48<>\"PRC_RESID\",\"\",IF(N$7=2005+OFFSET(AGR!$B$49,$AX48,SUMIF($B$10:$B$14,\"NCAP_TLIFE\",$AY$10:$AY$14)),0,\"\"))","v":""},{"$f":"IF($B48<>\"PRC_RESID\",\"\",IF(O$7=2005+OFFSET(AGR!$B$49,$AX48,SUMIF($B$10:$B$14,\"NCAP_TLIFE\",$AY$10:$AY$14)),0,\"\"))","v":""},{"$f":"IF($B48<>\"PRC_RESID\",\"\",IF(P$7=2005+OFFSET(AGR!$B$49,$AX48,SUMIF($B$10:$B$14,\"NCAP_TLIFE\",$AY$10:$AY$14)),0,\"\"))","v":""},{"$f":"IF($B48<>\"PRC_RESID\",\"\",IF(Q$7=2005+OFFSET(AGR!$B$49,$AX48,SUMIF($B$10:$B$14,\"NCAP_TLIFE\",$AY$10:$AY$14)),0,\"\"))","v":""},{"$f":"IF($B48<>\"PRC_RESID\",\"\",IF(R$7=2005+OFFSET(AGR!$B$49,$AX48,SUMIF($B$10:$B$14,\"NCAP_TLIFE\",$AY$10:$AY$14)),0,\"\"))","v":""},{"$f":"IF($B48<>\"PRC_RESID\",\"\",IF(S$7=2005+OFFSET(AGR!$B$49,$AX48,SUMIF($B$10:$B$14,\"NCAP_TLIFE\",$AY$10:$AY$14)),0,\"\"))","v":""},{"$f":"IF($B48<>\"PRC_RESID\",\"\",IF(T$7=2005+OFFSET(AGR!$B$49,$AX48,SUMIF($B$10:$B$14,\"NCAP_TLIFE\",$AY$10:$AY$14)),0,\"\"))","v":""},{"$f":"IF($B48<>\"PRC_RESID\",\"\",IF(U$7=2005+OFFSET(AGR!$B$49,$AX48,SUMIF($B$10:$B$14,\"NCAP_TLIFE\",$AY$10:$AY$14)),0,\"\"))","v":""},{"$f":"IF($B48<>\"PRC_RESID\",\"\",IF(V$7=2005+OFFSET(AGR!$B$49,$AX48,SUMIF($B$10:$B$14,\"NCAP_TLIFE\",$AY$10:$AY$14)),0,\"\"))","v":""},{"$f":"IF($B48<>\"PRC_RESID\",\"\",IF(W$7=2005+OFFSET(AGR!$B$49,$AX48,SUMIF($B$10:$B$14,\"NCAP_TLIFE\",$AY$10:$AY$14)),0,\"\"))","v":""},{"$f":"IF($B48<>\"PRC_RESID\",\"\",IF(X$7=2005+OFFSET(AGR!$B$49,$AX48,SUMIF($B$10:$B$14,\"NCAP_TLIFE\",$AY$10:$AY$14)),0,\"\"))","v":""},{"$f":"IF($B48<>\"PRC_RESID\",\"\",IF(Y$7=2005+OFFSET(AGR!$B$49,$AX48,SUMIF($B$10:$B$14,\"NCAP_TLIFE\",$AY$10:$AY$14)),0,\"\"))","v":""},{"$f":"IF($B48<>\"PRC_RESID\",\"\",IF(Z$7=2005+OFFSET(AGR!$B$49,$AX48,SUMIF($B$10:$B$14,\"NCAP_TLIFE\",$AY$10:$AY$14)),0,\"\"))","v":""},{"$f":"IF($B48<>\"PRC_RESID\",\"\",IF(AA$7=2005+OFFSET(AGR!$B$49,$AX48,SUMIF($B$10:$B$14,\"NCAP_TLIFE\",$AY$10:$AY$14)),0,\"\"))","v":""},{"$f":"IF($B48<>\"PRC_RESID\",\"\",IF(AB$7=2005+OFFSET(AGR!$B$49,$AX48,SUMIF($B$10:$B$14,\"NCAP_TLIFE\",$AY$10:$AY$14)),0,\"\"))","v":""},{"$f":"IF($B48<>\"PRC_RESID\",\"\",IF(AC$7=2005+OFFSET(AGR!$B$49,$AX48,SUMIF($B$10:$B$14,\"NCAP_TLIFE\",$AY$10:$AY$14)),0,\"\"))","v":""},{"$f":"IF($B48<>\"PRC_RESID\",\"\",IF(AD$7=2005+OFFSET(AGR!$B$49,$AX48,SUMIF($B$10:$B$14,\"NCAP_TLIFE\",$AY$10:$AY$14)),0,\"\"))","v":""},{"$f":"IF($B48<>\"PRC_RESID\",\"\",IF(AE$7=2005+OFFSET(AGR!$B$49,$AX48,SUMIF($B$10:$B$14,\"NCAP_TLIFE\",$AY$10:$AY$14)),0,\"\"))","v":""},{"$f":"IF($B48<>\"PRC_RESID\",\"\",IF(AF$7=2005+OFFSET(AGR!$B$49,$AX48,SUMIF($B$10:$B$14,\"NCAP_TLIFE\",$AY$10:$AY$14)),0,\"\"))","v":""},{"$f":"IF($B48<>\"PRC_RESID\",\"\",IF(AG$7=2005+OFFSET(AGR!$B$49,$AX48,SUMIF($B$10:$B$14,\"NCAP_TLIFE\",$AY$10:$AY$14)),0,\"\"))","v":""},{"$f":"IF($B48<>\"PRC_RESID\",\"\",IF(AH$7=2005+OFFSET(AGR!$B$49,$AX48,SUMIF($B$10:$B$14,\"NCAP_TLIFE\",$AY$10:$AY$14)),0,\"\"))","v":""},null,null,null,null,{"$f":"IF($B48<>\"PRC_RESID\",\"\",IF(AM$7=2005+OFFSET(AGR!$B$49,$AX48,SUMIF($B$10:$B$14,\"NCAP_TLIFE\",$AY$10:$AY$14)),0,\"\"))","v":""},null,null,null,null,{"$f":"IF($B48<>\"PRC_RESID\",\"\",IF(AR$7=2005+OFFSET(AGR!$B$49,$AX48,SUMIF($B$10:$B$14,\"NCAP_TLIFE\",$AY$10:$AY$14)),0,\"\"))","v":""},{"$f":"IF($B48<>\"PRC_RESID\",\"\",IF(AS$7=2005+OFFSET(AGR!$B$49,$AX48,SUMIF($B$10:$B$14,\"NCAP_TLIFE\",$AY$10:$AY$14)),0,\"\"))","v":""},{"$f":"IF($B48<>\"PRC_RESID\",\"\",IF(AT$7=2005+OFFSET(AGR!$B$49,$AX48,SUMIF($B$10:$B$14,\"NCAP_TLIFE\",$AY$10:$AY$14)),0,\"\"))","v":""},{"$f":"IF($B48<>\"PRC_RESID\",\"\",IF(AU$7=2005+OFFSET(AGR!$B$49,$AX48,SUMIF($B$10:$B$14,\"NCAP_TLIFE\",$AY$10:$AY$14)),0,\"\"))","v":""},null,{"$f":"IF(AX47=AGR!$W$72,AW47+1,AW47)","v":2},10]
[{"$f":"IF(LEFT(OFFSET(AGR!$A$49,AX49,0),2)=\"\\I\",\"*\",\"\")","v":""},"NCAP_AFA",{"$f":"IF($A49=\"*\",\"\",OFFSET(AGR!$B$49,AX49,0))","v":"ATODS-E"},{"$f":"IF($A49=\"*\",\"\",VLOOKUP($B49,$B$10:$I$14,D$9,FALSE))","v":"-"},"-","-","-","UP",0,{"$f":"IF($A49=\"*\",\"\",OFFSET(AGR!$B$49,AX49,SUMIF($B$10:$B$14,B49,$AY$10:$AY$14)))","v":0.77659999999999996},{"$f":"IF($B49<>\"PRC_RESID\",\"\",IF(K$7=2005+OFFSET(AGR!$B$49,$AX49,SUMIF($B$10:$B$14,\"NCAP_TLIFE\",$AY$10:$AY$14)),0,\"\"))","v":""},{"$f":"IF($B49<>\"PRC_RESID\",\"\",IF(L$7=2005+OFFSET(AGR!$B$49,$AX49,SUMIF($B$10:$B$14,\"NCAP_TLIFE\",$AY$10:$AY$14)),0,\"\"))","v":""},{"$f":"IF($B49<>\"PRC_RESID\",\"\",IF(M$7=2005+OFFSET(AGR!$B$49,$AX49,SUMIF($B$10:$B$14,\"NCAP_TLIFE\",$AY$10:$AY$14)),0,\"\"))","v":""},{"$f":"IF($B49<>\"PRC_RESID\",\"\",IF(N$7=2005+OFFSET(AGR!$B$49,$AX49,SUMIF($B$10:$B$14,\"NCAP_TLIFE\",$AY$10:$AY$14)),0,\"\"))","v":""},{"$f":"IF($B49<>\"PRC_RESID\",\"\",IF(O$7=2005+OFFSET(AGR!$B$49,$AX49,SUMIF($B$10:$B$14,\"NCAP_TLIFE\",$AY$10:$AY$14)),0,\"\"))","v":""},{"$f":"IF($B49<>\"PRC_RESID\",\"\",IF(P$7=2005+OFFSET(AGR!$B$49,$AX49,SUMIF($B$10:$B$14,\"NCAP_TLIFE\",$AY$10:$AY$14)),0,\"\"))","v":""},{"$f":"IF($B49<>\"PRC_RESID\",\"\",IF(Q$7=2005+OFFSET(AGR!$B$49,$AX49,SUMIF($B$10:$B$14,\"NCAP_TLIFE\",$AY$10:$AY$14)),0,\"\"))","v":""},{"$f":"IF($B49<>\"PRC_RESID\",\"\",IF(R$7=2005+OFFSET(AGR!$B$49,$AX49,SUMIF($B$10:$B$14,\"NCAP_TLIFE\",$AY$10:$AY$14)),0,\"\"))","v":""},{"$f":"IF($B49<>\"PRC_RESID\",\"\",IF(S$7=2005+OFFSET(AGR!$B$49,$AX49,SUMIF($B$10:$B$14,\"NCAP_TLIFE\",$AY$10:$AY$14)),0,\"\"))","v":""},{"$f":"IF($B49<>\"PRC_RESID\",\"\",IF(T$7=2005+OFFSET(AGR!$B$49,$AX49,SUMIF($B$10:$B$14,\"NCAP_TLIFE\",$AY$10:$AY$14)),0,\"\"))","v":""},{"$f":"IF($B49<>\"PRC_RESID\",\"\",IF(U$7=2005+OFFSET(AGR!$B$49,$AX49,SUMIF($B$10:$B$14,\"NCAP_TLIFE\",$AY$10:$AY$14)),0,\"\"))","v":""},{"$f":"IF($B49<>\"PRC_RESID\",\"\",IF(V$7=2005+OFFSET(AGR!$B$49,$AX49,SUMIF($B$10:$B$14,\"NCAP_TLIFE\",$AY$10:$AY$14)),0,\"\"))","v":""},{"$f":"IF($B49<>\"PRC_RESID\",\"\",IF(W$7=2005+OFFSET(AGR!$B$49,$AX49,SUMIF($B$10:$B$14,\"NCAP_TLIFE\",$AY$10:$AY$14)),0,\"\"))","v":""},{"$f":"IF($B49<>\"PRC_RESID\",\"\",IF(X$7=2005+OFFSET(AGR!$B$49,$AX49,SUMIF($B$10:$B$14,\"NCAP_TLIFE\",$AY$10:$AY$14)),0,\"\"))","v":""},{"$f":"IF($B49<>\"PRC_RESID\",\"\",IF(Y$7=2005+OFFSET(AGR!$B$49,$AX49,SUMIF($B$10:$B$14,\"NCAP_TLIFE\",$AY$10:$AY$14)),0,\"\"))","v":""},{"$f":"IF($B49<>\"PRC_RESID\",\"\",IF(Z$7=2005+OFFSET(AGR!$B$49,$AX49,SUMIF($B$10:$B$14,\"NCAP_TLIFE\",$AY$10:$AY$14)),0,\"\"))","v":""},{"$f":"IF($B49<>\"PRC_RESID\",\"\",IF(AA$7=2005+OFFSET(AGR!$B$49,$AX49,SUMIF($B$10:$B$14,\"NCAP_TLIFE\",$AY$10:$AY$14)),0,\"\"))","v":""},{"$f":"IF($B49<>\"PRC_RESID\",\"\",IF(AB$7=2005+OFFSET(AGR!$B$49,$AX49,SUMIF($B$10:$B$14,\"NCAP_TLIFE\",$AY$10:$AY$14)),0,\"\"))","v":""},{"$f":"IF($B49<>\"PRC_RESID\",\"\",IF(AC$7=2005+OFFSET(AGR!$B$49,$AX49,SUMIF($B$10:$B$14,\"NCAP_TLIFE\",$AY$10:$AY$14)),0,\"\"))","v":""},{"$f":"IF($B49<>\"PRC_RESID\",\"\",IF(AD$7=2005+OFFSET(AGR!$B$49,$AX49,SUMIF($B$10:$B$14,\"NCAP_TLIFE\",$AY$10:$AY$14)),0,\"\"))","v":""},{"$f":"IF($B49<>\"PRC_RESID\",\"\",IF(AE$7=2005+OFFSET(AGR!$B$49,$AX49,SUMIF($B$10:$B$14,\"NCAP_TLIFE\",$AY$10:$AY$14)),0,\"\"))","v":""},{"$f":"IF($B49<>\"PRC_RESID\",\"\",IF(AF$7=2005+OFFSET(AGR!$B$49,$AX49,SUMIF($B$10:$B$14,\"NCAP_TLIFE\",$AY$10:$AY$14)),0,\"\"))","v":""},{"$f":"IF($B49<>\"PRC_RESID\",\"\",IF(AG$7=2005+OFFSET(AGR!$B$49,$AX49,SUMIF($B$10:$B$14,\"NCAP_TLIFE\",$AY$10:$AY$14)),0,\"\"))","v":""},{"$f":"IF($B49<>\"PRC_RESID\",\"\",IF(AH$7=2005+OFFSET(AGR!$B$49,$AX49,SUMIF($B$10:$B$14,\"NCAP_TLIFE\",$AY$10:$AY$14)),0,\"\"))","v":""},null,null,null,null,{"$f":"IF($B49<>\"PRC_RESID\",\"\",IF(AM$7=2005+OFFSET(AGR!$B$49,$AX49,SUMIF($B$10:$B$14,\"NCAP_TLIFE\",$AY$10:$AY$14)),0,\"\"))","v":""},null,null,null,null,{"$f":"IF($B49<>\"PRC_RESID\",\"\",IF(AR$7=2005+OFFSET(AGR!$B$49,$AX49,SUMIF($B$10:$B$14,\"NCAP_TLIFE\",$AY$10:$AY$14)),0,\"\"))","v":""},{"$f":"IF($B49<>\"PRC_RESID\",\"\",IF(AS$7=2005+OFFSET(AGR!$B$49,$AX49,SUMIF($B$10:$B$14,\"NCAP_TLIFE\",$AY$10:$AY$14)),0,\"\"))","v":""},{"$f":"IF($B49<>\"PRC_RESID\",\"\",IF(AT$7=2005+OFFSET(AGR!$B$49,$AX49,SUMIF($B$10:$B$14,\"NCAP_TLIFE\",$AY$10:$AY$14)),0,\"\"))","v":""},{"$f":"IF($B49<>\"PRC_RESID\",\"\",IF(AU$7=2005+OFFSET(AGR!$B$49,$AX49,SUMIF($B$10:$B$14,\"NCAP_TLIFE\",$AY$10:$AY$14)),0,\"\"))","v":""},null,{"$f":"IF(AX48=AGR!$W$72,AW48+1,AW48)","v":2},11]
[{"$f":"IF(LEFT(OFFSET(AGR!$A$49,AX50,0),2)=\"\\I\",\"*\",\"\")","v":""},"NCAP_AFA",{"$f":"IF($A50=\"*\",\"\",OFFSET(AGR!$B$49,AX50,0))","v":"ATELC-E"},"-","-","-","-","UP",0,{"$f":"IF($A50=\"*\",\"\",OFFSET(AGR!$B$49,AX50,SUMIF($B$10:$B$14,B50,$AY$10:$AY$14)))","v":0.77659999999999996},{"$f":"IF($B50<>\"PRC_RESID\",\"\",IF(K$7=2005+OFFSET(AGR!$B$49,$AX50,SUMIF($B$10:$B$14,\"NCAP_TLIFE\",$AY$10:$AY$14)),0,\"\"))","v":""},{"$f":"IF($B50<>\"PRC_RESID\",\"\",IF(L$7=2005+OFFSET(AGR!$B$49,$AX50,SUMIF($B$10:$B$14,\"NCAP_TLIFE\",$AY$10:$AY$14)),0,\"\"))","v":""},{"$f":"IF($B50<>\"PRC_RESID\",\"\",IF(M$7=2005+OFFSET(AGR!$B$49,$AX50,SUMIF($B$10:$B$14,\"NCAP_TLIFE\",$AY$10:$AY$14)),0,\"\"))","v":""},{"$f":"IF($B50<>\"PRC_RESID\",\"\",IF(N$7=2005+OFFSET(AGR!$B$49,$AX50,SUMIF($B$10:$B$14,\"NCAP_TLIFE\",$AY$10:$AY$14)),0,\"\"))","v":""},{"$f":"IF($B50<>\"PRC_RESID\",\"\",IF(O$7=2005+OFFSET(AGR!$B$49,$AX50,SUMIF($B$10:$B$14,\"NCAP_TLIFE\",$AY$10:$AY$14)),0,\"\"))","v":""},{"$f":"IF($B50<>\"PRC_RESID\",\"\",IF(P$7=2005+OFFSET(AGR!$B$49,$AX50,SUMIF($B$10:$B$14,\"NCAP_TLIFE\",$AY$10:$AY$14)),0,\"\"))","v":""},{"$f":"IF($B50<>\"PRC_RESID\",\"\",IF(Q$7=2005+OFFSET(AGR!$B$49,$AX50,SUMIF($B$10:$B$14,\"NCAP_TLIFE\",$AY$10:$AY$14)),0,\"\"))","v":""},{"$f":"IF($B50<>\"PRC_RESID\",\"\",IF(R$7=2005+OFFSET(AGR!$B$49,$AX50,SUMIF($B$10:$B$14,\"NCAP_TLIFE\",$AY$10:$AY$14)),0,\"\"))","v":""},{"$f":"IF($B50<>\"PRC_RESID\",\"\",IF(S$7=2005+OFFSET(AGR!$B$49,$AX50,SUMIF($B$10:$B$14,\"NCAP_TLIFE\",$AY$10:$AY$14)),0,\"\"))","v":""},{"$f":"IF($B50<>\"PRC_RESID\",\"\",IF(T$7=2005+OFFSET(AGR!$B$49,$AX50,SUMIF($B$10:$B$14,\"NCAP_TLIFE\",$AY$10:$AY$14)),0,\"\"))","v":""},{"$f":"IF($B50<>\"PRC_RESID\",\"\",IF(U$7=2005+OFFSET(AGR!$B$49,$AX50,SUMIF($B$10:$B$14,\"NCAP_TLIFE\",$AY$10:$AY$14)),0,\"\"))","v":""},{"$f":"IF($B50<>\"PRC_RESID\",\"\",IF(V$7=2005+OFFSET(AGR!$B$49,$AX50,SUMIF($B$10:$B$14,\"NCAP_TLIFE\",$AY$10:$AY$14)),0,\"\"))","v":""},{"$f":"IF($B50<>\"PRC_RESID\",\"\",IF(W$7=2005+OFFSET(AGR!$B$49,$AX50,SUMIF($B$10:$B$14,\"NCAP_TLIFE\",$AY$10:$AY$14)),0,\"\"))","v":""},{"$f":"IF($B50<>\"PRC_RESID\",\"\",IF(X$7=2005+OFFSET(AGR!$B$49,$AX50,SUMIF($B$10:$B$14,\"NCAP_TLIFE\",$AY$10:$AY$14)),0,\"\"))","v":""},{"$f":"IF($B50<>\"PRC_RESID\",\"\",IF(Y$7=2005+OFFSET(AGR!$B$49,$AX50,SUMIF($B$10:$B$14,\"NCAP_TLIFE\",$AY$10:$AY$14)),0,\"\"))","v":""},{"$f":"IF($B50<>\"PRC_RESID\",\"\",IF(Z$7=2005+OFFSET(AGR!$B$49,$AX50,SUMIF($B$10:$B$14,\"NCAP_TLIFE\",$AY$10:$AY$14)),0,\"\"))","v":""},{"$f":"IF($B50<>\"PRC_RESID\",\"\",IF(AA$7=2005+OFFSET(AGR!$B$49,$AX50,SUMIF($B$10:$B$14,\"NCAP_TLIFE\",$AY$10:$AY$14)),0,\"\"))","v":""},{"$f":"IF($B50<>\"PRC_RESID\",\"\",IF(AB$7=2005+OFFSET(AGR!$B$49,$AX50,SUMIF($B$10:$B$14,\"NCAP_TLIFE\",$AY$10:$AY$14)),0,\"\"))","v":""},{"$f":"IF($B50<>\"PRC_RESID\",\"\",IF(AC$7=2005+OFFSET(AGR!$B$49,$AX50,SUMIF($B$10:$B$14,\"NCAP_TLIFE\",$AY$10:$AY$14)),0,\"\"))","v":""},{"$f":"IF($B50<>\"PRC_RESID\",\"\",IF(AD$7=2005+OFFSET(AGR!$B$49,$AX50,SUMIF($B$10:$B$14,\"NCAP_TLIFE\",$AY$10:$AY$14)),0,\"\"))","v":""},{"$f":"IF($B50<>\"PRC_RESID\",\"\",IF(AE$7=2005+OFFSET(AGR!$B$49,$AX50,SUMIF($B$10:$B$14,\"NCAP_TLIFE\",$AY$10:$AY$14)),0,\"\"))","v":""},{"$f":"IF($B50<>\"PRC_RESID\",\"\",IF(AF$7=2005+OFFSET(AGR!$B$49,$AX50,SUMIF($B$10:$B$14,\"NCAP_TLIFE\",$AY$10:$AY$14)),0,\"\"))","v":""},{"$f":"IF($B50<>\"PRC_RESID\",\"\",IF(AG$7=2005+OFFSET(AGR!$B$49,$AX50,SUMIF($B$10:$B$14,\"NCAP_TLIFE\",$AY$10:$AY$14)),0,\"\"))","v":""},{"$f":"IF($B50<>\"PRC_RESID\",\"\",IF(AH$7=2005+OFFSET(AGR!$B$49,$AX50,SUMIF($B$10:$B$14,\"NCAP_TLIFE\",$AY$10:$AY$14)),0,\"\"))","v":""},null,null,null,null,{"$f":"IF($B50<>\"PRC_RESID\",\"\",IF(AM$7=2005+OFFSET(AGR!$B$49,$AX50,SUMIF($B$10:$B$14,\"NCAP_TLIFE\",$AY$10:$AY$14)),0,\"\"))","v":""},null,null,null,null,{"$f":"IF($B50<>\"PRC_RESID\",\"\",IF(AR$7=2005+OFFSET(AGR!$B$49,$AX50,SUMIF($B$10:$B$14,\"NCAP_TLIFE\",$AY$10:$AY$14)),0,\"\"))","v":""},{"$f":"IF($B50<>\"PRC_RESID\",\"\",IF(AS$7=2005+OFFSET(AGR!$B$49,$AX50,SUMIF($B$10:$B$14,\"NCAP_TLIFE\",$AY$10:$AY$14)),0,\"\"))","v":""},{"$f":"IF($B50<>\"PRC_RESID\",\"\",IF(AT$7=2005+OFFSET(AGR!$B$49,$AX50,SUMIF($B$10:$B$14,\"NCAP_TLIFE\",$AY$10:$AY$14)),0,\"\"))","v":""},{"$f":"IF($B50<>\"PRC_RESID\",\"\",IF(AU$7=2005+OFFSET(AGR!$B$49,$AX50,SUMIF($B$10:$B$14,\"NCAP_TLIFE\",$AY$10:$AY$14)),0,\"\"))","v":""},null,{"$f":"IF(AX49=AGR!$W$72,AW49+1,AW49)","v":2},12]
[{"$f":"IF(LEFT(OFFSET(AGR!$A$49,AX51,0),2)=\"\\I\",\"*\",\"\")","v":""},"NCAP_AFA",{"$f":"IF($A51=\"*\",\"\",OFFSET(AGR!$B$49,AX51,0))","v":"ATOGS-E"},"-","-","-","-","UP",0,{"$f":"IF($A51=\"*\",\"\",OFFSET(AGR!$B$49,AX51,SUMIF($B$10:$B$14,B51,$AY$10:$AY$14)))","v":0.77659999999999996},{"$f":"IF($B51<>\"PRC_RESID\",\"\",IF(K$7=2005+OFFSET(AGR!$B$49,$AX51,SUMIF($B$10:$B$14,\"NCAP_TLIFE\",$AY$10:$AY$14)),0,\"\"))","v":""},{"$f":"IF($B51<>\"PRC_RESID\",\"\",IF(L$7=2005+OFFSET(AGR!$B$49,$AX51,SUMIF($B$10:$B$14,\"NCAP_TLIFE\",$AY$10:$AY$14)),0,\"\"))","v":""},{"$f":"IF($B51<>\"PRC_RESID\",\"\",IF(M$7=2005+OFFSET(AGR!$B$49,$AX51,SUMIF($B$10:$B$14,\"NCAP_TLIFE\",$AY$10:$AY$14)),0,\"\"))","v":""},{"$f":"IF($B51<>\"PRC_RESID\",\"\",IF(N$7=2005+OFFSET(AGR!$B$49,$AX51,SUMIF($B$10:$B$14,\"NCAP_TLIFE\",$AY$10:$AY$14)),0,\"\"))","v":""},{"$f":"IF($B51<>\"PRC_RESID\",\"\",IF(O$7=2005+OFFSET(AGR!$B$49,$AX51,SUMIF($B$10:$B$14,\"NCAP_TLIFE\",$AY$10:$AY$14)),0,\"\"))","v":""},{"$f":"IF($B51<>\"PRC_RESID\",\"\",IF(P$7=2005+OFFSET(AGR!$B$49,$AX51,SUMIF($B$10:$B$14,\"NCAP_TLIFE\",$AY$10:$AY$14)),0,\"\"))","v":""},{"$f":"IF($B51<>\"PRC_RESID\",\"\",IF(Q$7=2005+OFFSET(AGR!$B$49,$AX51,SUMIF($B$10:$B$14,\"NCAP_TLIFE\",$AY$10:$AY$14)),0,\"\"))","v":""},{"$f":"IF($B51<>\"PRC_RESID\",\"\",IF(R$7=2005+OFFSET(AGR!$B$49,$AX51,SUMIF($B$10:$B$14,\"NCAP_TLIFE\",$AY$10:$AY$14)),0,\"\"))","v":""},{"$f":"IF($B51<>\"PRC_RESID\",\"\",IF(S$7=2005+OFFSET(AGR!$B$49,$AX51,SUMIF($B$10:$B$14,\"NCAP_TLIFE\",$AY$10:$AY$14)),0,\"\"))","v":""},{"$f":"IF($B51<>\"PRC_RESID\",\"\",IF(T$7=2005+OFFSET(AGR!$B$49,$AX51,SUMIF($B$10:$B$14,\"NCAP_TLIFE\",$AY$10:$AY$14)),0,\"\"))","v":""},{"$f":"IF($B51<>\"PRC_RESID\",\"\",IF(U$7=2005+OFFSET(AGR!$B$49,$AX51,SUMIF($B$10:$B$14,\"NCAP_TLIFE\",$AY$10:$AY$14)),0,\"\"))","v":""},{"$f":"IF($B51<>\"PRC_RESID\",\"\",IF(V$7=2005+OFFSET(AGR!$B$49,$AX51,SUMIF($B$10:$B$14,\"NCAP_TLIFE\",$AY$10:$AY$14)),0,\"\"))","v":""},{"$f":"IF($B51<>\"PRC_RESID\",\"\",IF(W$7=2005+OFFSET(AGR!$B$49,$AX51,SUMIF($B$10:$B$14,\"NCAP_TLIFE\",$AY$10:$AY$14)),0,\"\"))","v":""},{"$f":"IF($B51<>\"PRC_RESID\",\"\",IF(X$7=2005+OFFSET(AGR!$B$49,$AX51,SUMIF($B$10:$B$14,\"NCAP_TLIFE\",$AY$10:$AY$14)),0,\"\"))","v":""},{"$f":"IF($B51<>\"PRC_RESID\",\"\",IF(Y$7=2005+OFFSET(AGR!$B$49,$AX51,SUMIF($B$10:$B$14,\"NCAP_TLIFE\",$AY$10:$AY$14)),0,\"\"))","v":""},{"$f":"IF($B51<>\"PRC_RESID\",\"\",IF(Z$7=2005+OFFSET(AGR!$B$49,$AX51,SUMIF($B$10:$B$14,\"NCAP_TLIFE\",$AY$10:$AY$14)),0,\"\"))","v":""},{"$f":"IF($B51<>\"PRC_RESID\",\"\",IF(AA$7=2005+OFFSET(AGR!$B$49,$AX51,SUMIF($B$10:$B$14,\"NCAP_TLIFE\",$AY$10:$AY$14)),0,\"\"))","v":""},{"$f":"IF($B51<>\"PRC_RESID\",\"\",IF(AB$7=2005+OFFSET(AGR!$B$49,$AX51,SUMIF($B$10:$B$14,\"NCAP_TLIFE\",$AY$10:$AY$14)),0,\"\"))","v":""},{"$f":"IF($B51<>\"PRC_RESID\",\"\",IF(AC$7=2005+OFFSET(AGR!$B$49,$AX51,SUMIF($B$10:$B$14,\"NCAP_TLIFE\",$AY$10:$AY$14)),0,\"\"))","v":""},{"$f":"IF($B51<>\"PRC_RESID\",\"\",IF(AD$7=2005+OFFSET(AGR!$B$49,$AX51,SUMIF($B$10:$B$14,\"NCAP_TLIFE\",$AY$10:$AY$14)),0,\"\"))","v":""},{"$f":"IF($B51<>\"PRC_RESID\",\"\",IF(AE$7=2005+OFFSET(AGR!$B$49,$AX51,SUMIF($B$10:$B$14,\"NCAP_TLIFE\",$AY$10:$AY$14)),0,\"\"))","v":""},{"$f":"IF($B51<>\"PRC_RESID\",\"\",IF(AF$7=2005+OFFSET(AGR!$B$49,$AX51,SUMIF($B$10:$B$14,\"NCAP_TLIFE\",$AY$10:$AY$14)),0,\"\"))","v":""},{"$f":"IF($B51<>\"PRC_RESID\",\"\",IF(AG$7=2005+OFFSET(AGR!$B$49,$AX51,SUMIF($B$10:$B$14,\"NCAP_TLIFE\",$AY$10:$AY$14)),0,\"\"))","v":""},{"$f":"IF($B51<>\"PRC_RESID\",\"\",IF(AH$7=2005+OFFSET(AGR!$B$49,$AX51,SUMIF($B$10:$B$14,\"NCAP_TLIFE\",$AY$10:$AY$14)),0,\"\"))","v":""},null,null,null,null,{"$f":"IF($B51<>\"PRC_RESID\",\"\",IF(AM$7=2005+OFFSET(AGR!$B$49,$AX51,SUMIF($B$10:$B$14,\"NCAP_TLIFE\",$AY$10:$AY$14)),0,\"\"))","v":""},null,null,null,null,{"$f":"IF($B51<>\"PRC_RESID\",\"\",IF(AR$7=2005+OFFSET(AGR!$B$49,$AX51,SUMIF($B$10:$B$14,\"NCAP_TLIFE\",$AY$10:$AY$14)),0,\"\"))","v":""},{"$f":"IF($B51<>\"PRC_RESID\",\"\",IF(AS$7=2005+OFFSET(AGR!$B$49,$AX51,SUMIF($B$10:$B$14,\"NCAP_TLIFE\",$AY$10:$AY$14)),0,\"\"))","v":""},{"$f":"IF($B51<>\"PRC_RESID\",\"\",IF(AT$7=2005+OFFSET(AGR!$B$49,$AX51,SUMIF($B$10:$B$14,\"NCAP_TLIFE\",$AY$10:$AY$14)),0,\"\"))","v":""},{"$f":"IF($B51<>\"PRC_RESID\",\"\",IF(AU$7=2005+OFFSET(AGR!$B$49,$AX51,SUMIF($B$10:$B$14,\"NCAP_TLIFE\",$AY$10:$AY$14)),0,\"\"))","v":""},null,{"$f":"IF(AX50=AGR!$W$72,AW50+1,AW50)","v":2},13]
[{"$f":"IF(LEFT(OFFSET(AGR!$A$49,AX52,0),2)=\"\\I\",\"*\",\"\")","v":"*"},"",{"$f":"IF($A52=\"*\",\"\",OFFSET(AGR!$B$49,AX52,0))","v":""},"","","","","","",{"$f":"IF($A52=\"*\",\"\",OFFSET(AGR!$B$49,AX52,SUMIF($B$10:$B$14,B52,$AY$10:$AY$14)))","v":""},{"$f":"IF($B52<>\"PRC_RESID\",\"\",IF(K$7=2005+OFFSET(AGR!$B$49,$AX52,SUMIF($B$10:$B$14,\"NCAP_TLIFE\",$AY$10:$AY$14)),0,\"\"))","v":""},{"$f":"IF($B52<>\"PRC_RESID\",\"\",IF(L$7=2005+OFFSET(AGR!$B$49,$AX52,SUMIF($B$10:$B$14,\"NCAP_TLIFE\",$AY$10:$AY$14)),0,\"\"))","v":""},{"$f":"IF($B52<>\"PRC_RESID\",\"\",IF(M$7=2005+OFFSET(AGR!$B$49,$AX52,SUMIF($B$10:$B$14,\"NCAP_TLIFE\",$AY$10:$AY$14)),0,\"\"))","v":""},{"$f":"IF($B52<>\"PRC_RESID\",\"\",IF(N$7=2005+OFFSET(AGR!$B$49,$AX52,SUMIF($B$10:$B$14,\"NCAP_TLIFE\",$AY$10:$AY$14)),0,\"\"))","v":""},{"$f":"IF($B52<>\"PRC_RESID\",\"\",IF(O$7=2005+OFFSET(AGR!$B$49,$AX52,SUMIF($B$10:$B$14,\"NCAP_TLIFE\",$AY$10:$AY$14)),0,\"\"))","v":""},{"$f":"IF($B52<>\"PRC_RESID\",\"\",IF(P$7=2005+OFFSET(AGR!$B$49,$AX52,SUMIF($B$10:$B$14,\"NCAP_TLIFE\",$AY$10:$AY$14)),0,\"\"))","v":""},{"$f":"IF($B52<>\"PRC_RESID\",\"\",IF(Q$7=2005+OFFSET(AGR!$B$49,$AX52,SUMIF($B$10:$B$14,\"NCAP_TLIFE\",$AY$10:$AY$14)),0,\"\"))","v":""},{"$f":"IF($B52<>\"PRC_RESID\",\"\",IF(R$7=2005+OFFSET(AGR!$B$49,$AX52,SUMIF($B$10:$B$14,\"NCAP_TLIFE\",$AY$10:$AY$14)),0,\"\"))","v":""},{"$f":"IF($B52<>\"PRC_RESID\",\"\",IF(S$7=2005+OFFSET(AGR!$B$49,$AX52,SUMIF($B$10:$B$14,\"NCAP_TLIFE\",$AY$10:$AY$14)),0,\"\"))","v":""},{"$f":"IF($B52<>\"PRC_RESID\",\"\",IF(T$7=2005+OFFSET(AGR!$B$49,$AX52,SUMIF($B$10:$B$14,\"NCAP_TLIFE\",$AY$10:$AY$14)),0,\"\"))","v":""},{"$f":"IF($B52<>\"PRC_RESID\",\"\",IF(U$7=2005+OFFSET(AGR!$B$49,$AX52,SUMIF($B$10:$B$14,\"NCAP_TLIFE\",$AY$10:$AY$14)),0,\"\"))","v":""},{"$f":"IF($B52<>\"PRC_RESID\",\"\",IF(V$7=2005+OFFSET(AGR!$B$49,$AX52,SUMIF($B$10:$B$14,\"NCAP_TLIFE\",$AY$10:$AY$14)),0,\"\"))","v":""},{"$f":"IF($B52<>\"PRC_RESID\",\"\",IF(W$7=2005+OFFSET(AGR!$B$49,$AX52,SUMIF($B$10:$B$14,\"NCAP_TLIFE\",$AY$10:$AY$14)),0,\"\"))","v":""},{"$f":"IF($B52<>\"PRC_RESID\",\"\",IF(X$7=2005+OFFSET(AGR!$B$49,$AX52,SUMIF($B$10:$B$14,\"NCAP_TLIFE\",$AY$10:$AY$14)),0,\"\"))","v":""},{"$f":"IF($B52<>\"PRC_RESID\",\"\",IF(Y$7=2005+OFFSET(AGR!$B$49,$AX52,SUMIF($B$10:$B$14,\"NCAP_TLIFE\",$AY$10:$AY$14)),0,\"\"))","v":""},{"$f":"IF($B52<>\"PRC_RESID\",\"\",IF(Z$7=2005+OFFSET(AGR!$B$49,$AX52,SUMIF($B$10:$B$14,\"NCAP_TLIFE\",$AY$10:$AY$14)),0,\"\"))","v":""},{"$f":"IF($B52<>\"PRC_RESID\",\"\",IF(AA$7=2005+OFFSET(AGR!$B$49,$AX52,SUMIF($B$10:$B$14,\"NCAP_TLIFE\",$AY$10:$AY$14)),0,\"\"))","v":""},{"$f":"IF($B52<>\"PRC_RESID\",\"\",IF(AB$7=2005+OFFSET(AGR!$B$49,$AX52,SUMIF($B$10:$B$14,\"NCAP_TLIFE\",$AY$10:$AY$14)),0,\"\"))","v":""},{"$f":"IF($B52<>\"PRC_RESID\",\"\",IF(AC$7=2005+OFFSET(AGR!$B$49,$AX52,SUMIF($B$10:$B$14,\"NCAP_TLIFE\",$AY$10:$AY$14)),0,\"\"))","v":""},{"$f":"IF($B52<>\"PRC_RESID\",\"\",IF(AD$7=2005+OFFSET(AGR!$B$49,$AX52,SUMIF($B$10:$B$14,\"NCAP_TLIFE\",$AY$10:$AY$14)),0,\"\"))","v":""},{"$f":"IF($B52<>\"PRC_RESID\",\"\",IF(AE$7=2005+OFFSET(AGR!$B$49,$AX52,SUMIF($B$10:$B$14,\"NCAP_TLIFE\",$AY$10:$AY$14)),0,\"\"))","v":""},{"$f":"IF($B52<>\"PRC_RESID\",\"\",IF(AF$7=2005+OFFSET(AGR!$B$49,$AX52,SUMIF($B$10:$B$14,\"NCAP_TLIFE\",$AY$10:$AY$14)),0,\"\"))","v":""},{"$f":"IF($B52<>\"PRC_RESID\",\"\",IF(AG$7=2005+OFFSET(AGR!$B$49,$AX52,SUMIF($B$10:$B$14,\"NCAP_TLIFE\",$AY$10:$AY$14)),0,\"\"))","v":""},{"$f":"IF($B52<>\"PRC_RESID\",\"\",IF(AH$7=2005+OFFSET(AGR!$B$49,$AX52,SUMIF($B$10:$B$14,\"NCAP_TLIFE\",$AY$10:$AY$14)),0,\"\"))","v":""},null,null,null,null,{"$f":"IF($B52<>\"PRC_RESID\",\"\",IF(AM$7=2005+OFFSET(AGR!$B$49,$AX52,SUMIF($B$10:$B$14,\"NCAP_TLIFE\",$AY$10:$AY$14)),0,\"\"))","v":""},null,null,null,null,{"$f":"IF($B52<>\"PRC_RESID\",\"\",IF(AR$7=2005+OFFSET(AGR!$B$49,$AX52,SUMIF($B$10:$B$14,\"NCAP_TLIFE\",$AY$10:$AY$14)),0,\"\"))","v":""},{"$f":"IF($B52<>\"PRC_RESID\",\"\",IF(AS$7=2005+OFFSET(AGR!$B$49,$AX52,SUMIF($B$10:$B$14,\"NCAP_TLIFE\",$AY$10:$AY$14)),0,\"\"))","v":""},{"$f":"IF($B52<>\"PRC_RESID\",\"\",IF(AT$7=2005+OFFSET(AGR!$B$49,$AX52,SUMIF($B$10:$B$14,\"NCAP_TLIFE\",$AY$10:$AY$14)),0,\"\"))","v":""},{"$f":"IF($B52<>\"PRC_RESID\",\"\",IF(AU$7=2005+OFFSET(AGR!$B$49,$AX52,SUMIF($B$10:$B$14,\"NCAP_TLIFE\",$AY$10:$AY$14)),0,\"\"))","v":""},null,{"$f":"IF(AX51=AGR!$W$72,AW51+1,AW51)","v":2},14]
[{"$f":"IF(LEFT(OFFSET(AGR!$A$49,AX53,0),2)=\"\\I\",\"*\",\"\")","v":"*"},"",{"$f":"IF($A53=\"*\",\"\",OFFSET(AGR!$B$49,AX53,0))","v":""},"","","","","","",{"$f":"IF($A53=\"*\",\"\",OFFSET(AGR!$B$49,AX53,SUMIF($B$10:$B$14,B53,$AY$10:$AY$14)))","v":""},{"$f":"IF($B53<>\"PRC_RESID\",\"\",IF(K$7=2005+OFFSET(AGR!$B$49,$AX53,SUMIF($B$10:$B$14,\"NCAP_TLIFE\",$AY$10:$AY$14)),0,\"\"))","v":""},{"$f":"IF($B53<>\"PRC_RESID\",\"\",IF(L$7=2005+OFFSET(AGR!$B$49,$AX53,SUMIF($B$10:$B$14,\"NCAP_TLIFE\",$AY$10:$AY$14)),0,\"\"))","v":""},{"$f":"IF($B53<>\"PRC_RESID\",\"\",IF(M$7=2005+OFFSET(AGR!$B$49,$AX53,SUMIF($B$10:$B$14,\"NCAP_TLIFE\",$AY$10:$AY$14)),0,\"\"))","v":""},{"$f":"IF($B53<>\"PRC_RESID\",\"\",IF(N$7=2005+OFFSET(AGR!$B$49,$AX53,SUMIF($B$10:$B$14,\"NCAP_TLIFE\",$AY$10:$AY$14)),0,\"\"))","v":""},{"$f":"IF($B53<>\"PRC_RESID\",\"\",IF(O$7=2005+OFFSET(AGR!$B$49,$AX53,SUMIF($B$10:$B$14,\"NCAP_TLIFE\",$AY$10:$AY$14)),0,\"\"))","v":""},{"$f":"IF($B53<>\"PRC_RESID\",\"\",IF(P$7=2005+OFFSET(AGR!$B$49,$AX53,SUMIF($B$10:$B$14,\"NCAP_TLIFE\",$AY$10:$AY$14)),0,\"\"))","v":""},{"$f":"IF($B53<>\"PRC_RESID\",\"\",IF(Q$7=2005+OFFSET(AGR!$B$49,$AX53,SUMIF($B$10:$B$14,\"NCAP_TLIFE\",$AY$10:$AY$14)),0,\"\"))","v":""},{"$f":"IF($B53<>\"PRC_RESID\",\"\",IF(R$7=2005+OFFSET(AGR!$B$49,$AX53,SUMIF($B$10:$B$14,\"NCAP_TLIFE\",$AY$10:$AY$14)),0,\"\"))","v":""},{"$f":"IF($B53<>\"PRC_RESID\",\"\",IF(S$7=2005+OFFSET(AGR!$B$49,$AX53,SUMIF($B$10:$B$14,\"NCAP_TLIFE\",$AY$10:$AY$14)),0,\"\"))","v":""},{"$f":"IF($B53<>\"PRC_RESID\",\"\",IF(T$7=2005+OFFSET(AGR!$B$49,$AX53,SUMIF($B$10:$B$14,\"NCAP_TLIFE\",$AY$10:$AY$14)),0,\"\"))","v":""},{"$f":"IF($B53<>\"PRC_RESID\",\"\",IF(U$7=2005+OFFSET(AGR!$B$49,$AX53,SUMIF($B$10:$B$14,\"NCAP_TLIFE\",$AY$10:$AY$14)),0,\"\"))","v":""},{"$f":"IF($B53<>\"PRC_RESID\",\"\",IF(V$7=2005+OFFSET(AGR!$B$49,$AX53,SUMIF($B$10:$B$14,\"NCAP_TLIFE\",$AY$10:$AY$14)),0,\"\"))","v":""},{"$f":"IF($B53<>\"PRC_RESID\",\"\",IF(W$7=2005+OFFSET(AGR!$B$49,$AX53,SUMIF($B$10:$B$14,\"NCAP_TLIFE\",$AY$10:$AY$14)),0,\"\"))","v":""},{"$f":"IF($B53<>\"PRC_RESID\",\"\",IF(X$7=2005+OFFSET(AGR!$B$49,$AX53,SUMIF($B$10:$B$14,\"NCAP_TLIFE\",$AY$10:$AY$14)),0,\"\"))","v":""},{"$f":"IF($B53<>\"PRC_RESID\",\"\",IF(Y$7=2005+OFFSET(AGR!$B$49,$AX53,SUMIF($B$10:$B$14,\"NCAP_TLIFE\",$AY$10:$AY$14)),0,\"\"))","v":""},{"$f":"IF($B53<>\"PRC_RESID\",\"\",IF(Z$7=2005+OFFSET(AGR!$B$49,$AX53,SUMIF($B$10:$B$14,\"NCAP_TLIFE\",$AY$10:$AY$14)),0,\"\"))","v":""},{"$f":"IF($B53<>\"PRC_RESID\",\"\",IF(AA$7=2005+OFFSET(AGR!$B$49,$AX53,SUMIF($B$10:$B$14,\"NCAP_TLIFE\",$AY$10:$AY$14)),0,\"\"))","v":""},{"$f":"IF($B53<>\"PRC_RESID\",\"\",IF(AB$7=2005+OFFSET(AGR!$B$49,$AX53,SUMIF($B$10:$B$14,\"NCAP_TLIFE\",$AY$10:$AY$14)),0,\"\"))","v":""},{"$f":"IF($B53<>\"PRC_RESID\",\"\",IF(AC$7=2005+OFFSET(AGR!$B$49,$AX53,SUMIF($B$10:$B$14,\"NCAP_TLIFE\",$AY$10:$AY$14)),0,\"\"))","v":""},{"$f":"IF($B53<>\"PRC_RESID\",\"\",IF(AD$7=2005+OFFSET(AGR!$B$49,$AX53,SUMIF($B$10:$B$14,\"NCAP_TLIFE\",$AY$10:$AY$14)),0,\"\"))","v":""},{"$f":"IF($B53<>\"PRC_RESID\",\"\",IF(AE$7=2005+OFFSET(AGR!$B$49,$AX53,SUMIF($B$10:$B$14,\"NCAP_TLIFE\",$AY$10:$AY$14)),0,\"\"))","v":""},{"$f":"IF($B53<>\"PRC_RESID\",\"\",IF(AF$7=2005+OFFSET(AGR!$B$49,$AX53,SUMIF($B$10:$B$14,\"NCAP_TLIFE\",$AY$10:$AY$14)),0,\"\"))","v":""},{"$f":"IF($B53<>\"PRC_RESID\",\"\",IF(AG$7=2005+OFFSET(AGR!$B$49,$AX53,SUMIF($B$10:$B$14,\"NCAP_TLIFE\",$AY$10:$AY$14)),0,\"\"))","v":""},{"$f":"IF($B53<>\"PRC_RESID\",\"\",IF(AH$7=2005+OFFSET(AGR!$B$49,$AX53,SUMIF($B$10:$B$14,\"NCAP_TLIFE\",$AY$10:$AY$14)),0,\"\"))","v":""},null,null,null,null,{"$f":"IF($B53<>\"PRC_RESID\",\"\",IF(AM$7=2005+OFFSET(AGR!$B$49,$AX53,SUMIF($B$10:$B$14,\"NCAP_TLIFE\",$AY$10:$AY$14)),0,\"\"))","v":""},null,null,null,null,{"$f":"IF($B53<>\"PRC_RESID\",\"\",IF(AR$7=2005+OFFSET(AGR!$B$49,$AX53,SUMIF($B$10:$B$14,\"NCAP_TLIFE\",$AY$10:$AY$14)),0,\"\"))","v":""},{"$f":"IF($B53<>\"PRC_RESID\",\"\",IF(AS$7=2005+OFFSET(AGR!$B$49,$AX53,SUMIF($B$10:$B$14,\"NCAP_TLIFE\",$AY$10:$AY$14)),0,\"\"))","v":""},{"$f":"IF($B53<>\"PRC_RESID\",\"\",IF(AT$7=2005+OFFSET(AGR!$B$49,$AX53,SUMIF($B$10:$B$14,\"NCAP_TLIFE\",$AY$10:$AY$14)),0,\"\"))","v":""},{"$f":"IF($B53<>\"PRC_RESID\",\"\",IF(AU$7=2005+OFFSET(AGR!$B$49,$AX53,SUMIF($B$10:$B$14,\"NCAP_TLIFE\",$AY$10:$AY$14)),0,\"\"))","v":""},null,{"$f":"IF(AX52=AGR!$W$72,AW52+1,AW52)","v":2},15]
[{"$f":"IF(LEFT(OFFSET(AGR!$A$49,AX54,0),2)=\"\\I\",\"*\",\"\")","v":""},"NCAP_AFA",{"$f":"IF($A54=\"*\",\"\",OFFSET(AGR!$B$49,AX54,0))","v":"AIODS-E"},"-","-","-","-","UP",0,{"$f":"IF($A54=\"*\",\"\",OFFSET(AGR!$B$49,AX54,SUMIF($B$10:$B$14,B54,$AY$10:$AY$14)))","v":0.81399999999999995},{"$f":"IF($B54<>\"PRC_RESID\",\"\",IF(K$7=2005+OFFSET(AGR!$B$49,$AX54,SUMIF($B$10:$B$14,\"NCAP_TLIFE\",$AY$10:$AY$14)),0,\"\"))","v":""},{"$f":"IF($B54<>\"PRC_RESID\",\"\",IF(L$7=2005+OFFSET(AGR!$B$49,$AX54,SUMIF($B$10:$B$14,\"NCAP_TLIFE\",$AY$10:$AY$14)),0,\"\"))","v":""},{"$f":"IF($B54<>\"PRC_RESID\",\"\",IF(M$7=2005+OFFSET(AGR!$B$49,$AX54,SUMIF($B$10:$B$14,\"NCAP_TLIFE\",$AY$10:$AY$14)),0,\"\"))","v":""},{"$f":"IF($B54<>\"PRC_RESID\",\"\",IF(N$7=2005+OFFSET(AGR!$B$49,$AX54,SUMIF($B$10:$B$14,\"NCAP_TLIFE\",$AY$10:$AY$14)),0,\"\"))","v":""},{"$f":"IF($B54<>\"PRC_RESID\",\"\",IF(O$7=2005+OFFSET(AGR!$B$49,$AX54,SUMIF($B$10:$B$14,\"NCAP_TLIFE\",$AY$10:$AY$14)),0,\"\"))","v":""},{"$f":"IF($B54<>\"PRC_RESID\",\"\",IF(P$7=2005+OFFSET(AGR!$B$49,$AX54,SUMIF($B$10:$B$14,\"NCAP_TLIFE\",$AY$10:$AY$14)),0,\"\"))","v":""},{"$f":"IF($B54<>\"PRC_RESID\",\"\",IF(Q$7=2005+OFFSET(AGR!$B$49,$AX54,SUMIF($B$10:$B$14,\"NCAP_TLIFE\",$AY$10:$AY$14)),0,\"\"))","v":""},{"$f":"IF($B54<>\"PRC_RESID\",\"\",IF(R$7=2005+OFFSET(AGR!$B$49,$AX54,SUMIF($B$10:$B$14,\"NCAP_TLIFE\",$AY$10:$AY$14)),0,\"\"))","v":""},{"$f":"IF($B54<>\"PRC_RESID\",\"\",IF(S$7=2005+OFFSET(AGR!$B$49,$AX54,SUMIF($B$10:$B$14,\"NCAP_TLIFE\",$AY$10:$AY$14)),0,\"\"))","v":""},{"$f":"IF($B54<>\"PRC_RESID\",\"\",IF(T$7=2005+OFFSET(AGR!$B$49,$AX54,SUMIF($B$10:$B$14,\"NCAP_TLIFE\",$AY$10:$AY$14)),0,\"\"))","v":""},{"$f":"IF($B54<>\"PRC_RESID\",\"\",IF(U$7=2005+OFFSET(AGR!$B$49,$AX54,SUMIF($B$10:$B$14,\"NCAP_TLIFE\",$AY$10:$AY$14)),0,\"\"))","v":""},{"$f":"IF($B54<>\"PRC_RESID\",\"\",IF(V$7=2005+OFFSET(AGR!$B$49,$AX54,SUMIF($B$10:$B$14,\"NCAP_TLIFE\",$AY$10:$AY$14)),0,\"\"))","v":""},{"$f":"IF($B54<>\"PRC_RESID\",\"\",IF(W$7=2005+OFFSET(AGR!$B$49,$AX54,SUMIF($B$10:$B$14,\"NCAP_TLIFE\",$AY$10:$AY$14)),0,\"\"))","v":""},{"$f":"IF($B54<>\"PRC_RESID\",\"\",IF(X$7=2005+OFFSET(AGR!$B$49,$AX54,SUMIF($B$10:$B$14,\"NCAP_TLIFE\",$AY$10:$AY$14)),0,\"\"))","v":""},{"$f":"IF($B54<>\"PRC_RESID\",\"\",IF(Y$7=2005+OFFSET(AGR!$B$49,$AX54,SUMIF($B$10:$B$14,\"NCAP_TLIFE\",$AY$10:$AY$14)),0,\"\"))","v":""},{"$f":"IF($B54<>\"PRC_RESID\",\"\",IF(Z$7=2005+OFFSET(AGR!$B$49,$AX54,SUMIF($B$10:$B$14,\"NCAP_TLIFE\",$AY$10:$AY$14)),0,\"\"))","v":""},{"$f":"IF($B54<>\"PRC_RESID\",\"\",IF(AA$7=2005+OFFSET(AGR!$B$49,$AX54,SUMIF($B$10:$B$14,\"NCAP_TLIFE\",$AY$10:$AY$14)),0,\"\"))","v":""},{"$f":"IF($B54<>\"PRC_RESID\",\"\",IF(AB$7=2005+OFFSET(AGR!$B$49,$AX54,SUMIF($B$10:$B$14,\"NCAP_TLIFE\",$AY$10:$AY$14)),0,\"\"))","v":""},{"$f":"IF($B54<>\"PRC_RESID\",\"\",IF(AC$7=2005+OFFSET(AGR!$B$49,$AX54,SUMIF($B$10:$B$14,\"NCAP_TLIFE\",$AY$10:$AY$14)),0,\"\"))","v":""},{"$f":"IF($B54<>\"PRC_RESID\",\"\",IF(AD$7=2005+OFFSET(AGR!$B$49,$AX54,SUMIF($B$10:$B$14,\"NCAP_TLIFE\",$AY$10:$AY$14)),0,\"\"))","v":""},{"$f":"IF($B54<>\"PRC_RESID\",\"\",IF(AE$7=2005+OFFSET(AGR!$B$49,$AX54,SUMIF($B$10:$B$14,\"NCAP_TLIFE\",$AY$10:$AY$14)),0,\"\"))","v":""},{"$f":"IF($B54<>\"PRC_RESID\",\"\",IF(AF$7=2005+OFFSET(AGR!$B$49,$AX54,SUMIF($B$10:$B$14,\"NCAP_TLIFE\",$AY$10:$AY$14)),0,\"\"))","v":""},{"$f":"IF($B54<>\"PRC_RESID\",\"\",IF(AG$7=2005+OFFSET(AGR!$B$49,$AX54,SUMIF($B$10:$B$14,\"NCAP_TLIFE\",$AY$10:$AY$14)),0,\"\"))","v":""},{"$f":"IF($B54<>\"PRC_RESID\",\"\",IF(AH$7=2005+OFFSET(AGR!$B$49,$AX54,SUMIF($B$10:$B$14,\"NCAP_TLIFE\",$AY$10:$AY$14)),0,\"\"))","v":""},null,null,null,null,{"$f":"IF($B54<>\"PRC_RESID\",\"\",IF(AM$7=2005+OFFSET(AGR!$B$49,$AX54,SUMIF($B$10:$B$14,\"NCAP_TLIFE\",$AY$10:$AY$14)),0,\"\"))","v":""},null,null,null,null,{"$f":"IF($B54<>\"PRC_RESID\",\"\",IF(AR$7=2005+OFFSET(AGR!$B$49,$AX54,SUMIF($B$10:$B$14,\"NCAP_TLIFE\",$AY$10:$AY$14)),0,\"\"))","v":""},{"$f":"IF($B54<>\"PRC_RESID\",\"\",IF(AS$7=2005+OFFSET(AGR!$B$49,$AX54,SUMIF($B$10:$B$14,\"NCAP_TLIFE\",$AY$10:$AY$14)),0,\"\"))","v":""},{"$f":"IF($B54<>\"PRC_RESID\",\"\",IF(AT$7=2005+OFFSET(AGR!$B$49,$AX54,SUMIF($B$10:$B$14,\"NCAP_TLIFE\",$AY$10:$AY$14)),0,\"\"))","v":""},{"$f":"IF($B54<>\"PRC_RESID\",\"\",IF(AU$7=2005+OFFSET(AGR!$B$49,$AX54,SUMIF($B$10:$B$14,\"NCAP_TLIFE\",$AY$10:$AY$14)),0,\"\"))","v":""},null,{"$f":"IF(AX53=AGR!$W$72,AW53+1,AW53)","v":2},16]
[{"$f":"IF(LEFT(OFFSET(AGR!$A$49,AX55,0),2)=\"\\I\",\"*\",\"\")","v":""},"NCAP_AFA",{"$f":"IF($A55=\"*\",\"\",OFFSET(AGR!$B$49,AX55,0))","v":"AIELC-E"},"-","-","-","-","UP",0,{"$f":"IF($A55=\"*\",\"\",OFFSET(AGR!$B$49,AX55,SUMIF($B$10:$B$14,B55,$AY$10:$AY$14)))","v":0.81399999999999995},{"$f":"IF($B55<>\"PRC_RESID\",\"\",IF(K$7=2005+OFFSET(AGR!$B$49,$AX55,SUMIF($B$10:$B$14,\"NCAP_TLIFE\",$AY$10:$AY$14)),0,\"\"))","v":""},{"$f":"IF($B55<>\"PRC_RESID\",\"\",IF(L$7=2005+OFFSET(AGR!$B$49,$AX55,SUMIF($B$10:$B$14,\"NCAP_TLIFE\",$AY$10:$AY$14)),0,\"\"))","v":""},{"$f":"IF($B55<>\"PRC_RESID\",\"\",IF(M$7=2005+OFFSET(AGR!$B$49,$AX55,SUMIF($B$10:$B$14,\"NCAP_TLIFE\",$AY$10:$AY$14)),0,\"\"))","v":""},{"$f":"IF($B55<>\"PRC_RESID\",\"\",IF(N$7=2005+OFFSET(AGR!$B$49,$AX55,SUMIF($B$10:$B$14,\"NCAP_TLIFE\",$AY$10:$AY$14)),0,\"\"))","v":""},{"$f":"IF($B55<>\"PRC_RESID\",\"\",IF(O$7=2005+OFFSET(AGR!$B$49,$AX55,SUMIF($B$10:$B$14,\"NCAP_TLIFE\",$AY$10:$AY$14)),0,\"\"))","v":""},{"$f":"IF($B55<>\"PRC_RESID\",\"\",IF(P$7=2005+OFFSET(AGR!$B$49,$AX55,SUMIF($B$10:$B$14,\"NCAP_TLIFE\",$AY$10:$AY$14)),0,\"\"))","v":""},{"$f":"IF($B55<>\"PRC_RESID\",\"\",IF(Q$7=2005+OFFSET(AGR!$B$49,$AX55,SUMIF($B$10:$B$14,\"NCAP_TLIFE\",$AY$10:$AY$14)),0,\"\"))","v":""},{"$f":"IF($B55<>\"PRC_RESID\",\"\",IF(R$7=2005+OFFSET(AGR!$B$49,$AX55,SUMIF($B$10:$B$14,\"NCAP_TLIFE\",$AY$10:$AY$14)),0,\"\"))","v":""},{"$f":"IF($B55<>\"PRC_RESID\",\"\",IF(S$7=2005+OFFSET(AGR!$B$49,$AX55,SUMIF($B$10:$B$14,\"NCAP_TLIFE\",$AY$10:$AY$14)),0,\"\"))","v":""},{"$f":"IF($B55<>\"PRC_RESID\",\"\",IF(T$7=2005+OFFSET(AGR!$B$49,$AX55,SUMIF($B$10:$B$14,\"NCAP_TLIFE\",$AY$10:$AY$14)),0,\"\"))","v":""},{"$f":"IF($B55<>\"PRC_RESID\",\"\",IF(U$7=2005+OFFSET(AGR!$B$49,$AX55,SUMIF($B$10:$B$14,\"NCAP_TLIFE\",$AY$10:$AY$14)),0,\"\"))","v":""},{"$f":"IF($B55<>\"PRC_RESID\",\"\",IF(V$7=2005+OFFSET(AGR!$B$49,$AX55,SUMIF($B$10:$B$14,\"NCAP_TLIFE\",$AY$10:$AY$14)),0,\"\"))","v":""},{"$f":"IF($B55<>\"PRC_RESID\",\"\",IF(W$7=2005+OFFSET(AGR!$B$49,$AX55,SUMIF($B$10:$B$14,\"NCAP_TLIFE\",$AY$10:$AY$14)),0,\"\"))","v":""},{"$f":"IF($B55<>\"PRC_RESID\",\"\",IF(X$7=2005+OFFSET(AGR!$B$49,$AX55,SUMIF($B$10:$B$14,\"NCAP_TLIFE\",$AY$10:$AY$14)),0,\"\"))","v":""},{"$f":"IF($B55<>\"PRC_RESID\",\"\",IF(Y$7=2005+OFFSET(AGR!$B$49,$AX55,SUMIF($B$10:$B$14,\"NCAP_TLIFE\",$AY$10:$AY$14)),0,\"\"))","v":""},{"$f":"IF($B55<>\"PRC_RESID\",\"\",IF(Z$7=2005+OFFSET(AGR!$B$49,$AX55,SUMIF($B$10:$B$14,\"NCAP_TLIFE\",$AY$10:$AY$14)),0,\"\"))","v":""},{"$f":"IF($B55<>\"PRC_RESID\",\"\",IF(AA$7=2005+OFFSET(AGR!$B$49,$AX55,SUMIF($B$10:$B$14,\"NCAP_TLIFE\",$AY$10:$AY$14)),0,\"\"))","v":""},{"$f":"IF($B55<>\"PRC_RESID\",\"\",IF(AB$7=2005+OFFSET(AGR!$B$49,$AX55,SUMIF($B$10:$B$14,\"NCAP_TLIFE\",$AY$10:$AY$14)),0,\"\"))","v":""},{"$f":"IF($B55<>\"PRC_RESID\",\"\",IF(AC$7=2005+OFFSET(AGR!$B$49,$AX55,SUMIF($B$10:$B$14,\"NCAP_TLIFE\",$AY$10:$AY$14)),0,\"\"))","v":""},{"$f":"IF($B55<>\"PRC_RESID\",\"\",IF(AD$7=2005+OFFSET(AGR!$B$49,$AX55,SUMIF($B$10:$B$14,\"NCAP_TLIFE\",$AY$10:$AY$14)),0,\"\"))","v":""},{"$f":"IF($B55<>\"PRC_RESID\",\"\",IF(AE$7=2005+OFFSET(AGR!$B$49,$AX55,SUMIF($B$10:$B$14,\"NCAP_TLIFE\",$AY$10:$AY$14)),0,\"\"))","v":""},{"$f":"IF($B55<>\"PRC_RESID\",\"\",IF(AF$7=2005+OFFSET(AGR!$B$49,$AX55,SUMIF($B$10:$B$14,\"NCAP_TLIFE\",$AY$10:$AY$14)),0,\"\"))","v":""},{"$f":"IF($B55<>\"PRC_RESID\",\"\",IF(AG$7=2005+OFFSET(AGR!$B$49,$AX55,SUMIF($B$10:$B$14,\"NCAP_TLIFE\",$AY$10:$AY$14)),0,\"\"))","v":""},{"$f":"IF($B55<>\"PRC_RESID\",\"\",IF(AH$7=2005+OFFSET(AGR!$B$49,$AX55,SUMIF($B$10:$B$14,\"NCAP_TLIFE\",$AY$10:$AY$14)),0,\"\"))","v":""},null,null,null,null,{"$f":"IF($B55<>\"PRC_RESID\",\"\",IF(AM$7=2005+OFFSET(AGR!$B$49,$AX55,SUMIF($B$10:$B$14,\"NCAP_TLIFE\",$AY$10:$AY$14)),0,\"\"))","v":""},null,null,null,null,{"$f":"IF($B55<>\"PRC_RESID\",\"\",IF(AR$7=2005+OFFSET(AGR!$B$49,$AX55,SUMIF($B$10:$B$14,\"NCAP_TLIFE\",$AY$10:$AY$14)),0,\"\"))","v":""},{"$f":"IF($B55<>\"PRC_RESID\",\"\",IF(AS$7=2005+OFFSET(AGR!$B$49,$AX55,SUMIF($B$10:$B$14,\"NCAP_TLIFE\",$AY$10:$AY$14)),0,\"\"))","v":""},{"$f":"IF($B55<>\"PRC_RESID\",\"\",IF(AT$7=2005+OFFSET(AGR!$B$49,$AX55,SUMIF($B$10:$B$14,\"NCAP_TLIFE\",$AY$10:$AY$14)),0,\"\"))","v":""},{"$f":"IF($B55<>\"PRC_RESID\",\"\",IF(AU$7=2005+OFFSET(AGR!$B$49,$AX55,SUMIF($B$10:$B$14,\"NCAP_TLIFE\",$AY$10:$AY$14)),0,\"\"))","v":""},null,{"$f":"IF(AX54=AGR!$W$72,AW54+1,AW54)","v":2},17]
[{"$f":"IF(LEFT(OFFSET(AGR!$A$49,AX56,0),2)=\"\\I\",\"*\",\"\")","v":""},"NCAP_AFA",{"$f":"IF($A56=\"*\",\"\",OFFSET(AGR!$B$49,AX56,0))","v":"AIOGS-E"},"-","-","-","-","UP",0,{"$f":"IF($A56=\"*\",\"\",OFFSET(AGR!$B$49,AX56,SUMIF($B$10:$B$14,B56,$AY$10:$AY$14)))","v":0.81399999999999995},{"$f":"IF($B56<>\"PRC_RESID\",\"\",IF(K$7=2005+OFFSET(AGR!$B$49,$AX56,SUMIF($B$10:$B$14,\"NCAP_TLIFE\",$AY$10:$AY$14)),0,\"\"))","v":""},{"$f":"IF($B56<>\"PRC_RESID\",\"\",IF(L$7=2005+OFFSET(AGR!$B$49,$AX56,SUMIF($B$10:$B$14,\"NCAP_TLIFE\",$AY$10:$AY$14)),0,\"\"))","v":""},{"$f":"IF($B56<>\"PRC_RESID\",\"\",IF(M$7=2005+OFFSET(AGR!$B$49,$AX56,SUMIF($B$10:$B$14,\"NCAP_TLIFE\",$AY$10:$AY$14)),0,\"\"))","v":""},{"$f":"IF($B56<>\"PRC_RESID\",\"\",IF(N$7=2005+OFFSET(AGR!$B$49,$AX56,SUMIF($B$10:$B$14,\"NCAP_TLIFE\",$AY$10:$AY$14)),0,\"\"))","v":""},{"$f":"IF($B56<>\"PRC_RESID\",\"\",IF(O$7=2005+OFFSET(AGR!$B$49,$AX56,SUMIF($B$10:$B$14,\"NCAP_TLIFE\",$AY$10:$AY$14)),0,\"\"))","v":""},{"$f":"IF($B56<>\"PRC_RESID\",\"\",IF(P$7=2005+OFFSET(AGR!$B$49,$AX56,SUMIF($B$10:$B$14,\"NCAP_TLIFE\",$AY$10:$AY$14)),0,\"\"))","v":""},{"$f":"IF($B56<>\"PRC_RESID\",\"\",IF(Q$7=2005+OFFSET(AGR!$B$49,$AX56,SUMIF($B$10:$B$14,\"NCAP_TLIFE\",$AY$10:$AY$14)),0,\"\"))","v":""},{"$f":"IF($B56<>\"PRC_RESID\",\"\",IF(R$7=2005+OFFSET(AGR!$B$49,$AX56,SUMIF($B$10:$B$14,\"NCAP_TLIFE\",$AY$10:$AY$14)),0,\"\"))","v":""},{"$f":"IF($B56<>\"PRC_RESID\",\"\",IF(S$7=2005+OFFSET(AGR!$B$49,$AX56,SUMIF($B$10:$B$14,\"NCAP_TLIFE\",$AY$10:$AY$14)),0,\"\"))","v":""},{"$f":"IF($B56<>\"PRC_RESID\",\"\",IF(T$7=2005+OFFSET(AGR!$B$49,$AX56,SUMIF($B$10:$B$14,\"NCAP_TLIFE\",$AY$10:$AY$14)),0,\"\"))","v":""},{"$f":"IF($B56<>\"PRC_RESID\",\"\",IF(U$7=2005+OFFSET(AGR!$B$49,$AX56,SUMIF($B$10:$B$14,\"NCAP_TLIFE\",$AY$10:$AY$14)),0,\"\"))","v":""},{"$f":"IF($B56<>\"PRC_RESID\",\"\",IF(V$7=2005+OFFSET(AGR!$B$49,$AX56,SUMIF($B$10:$B$14,\"NCAP_TLIFE\",$AY$10:$AY$14)),0,\"\"))","v":""},{"$f":"IF($B56<>\"PRC_RESID\",\"\",IF(W$7=2005+OFFSET(AGR!$B$49,$AX56,SUMIF($B$10:$B$14,\"NCAP_TLIFE\",$AY$10:$AY$14)),0,\"\"))","v":""},{"$f":"IF($B56<>\"PRC_RESID\",\"\",IF(X$7=2005+OFFSET(AGR!$B$49,$AX56,SUMIF($B$10:$B$14,\"NCAP_TLIFE\",$AY$10:$AY$14)),0,\"\"))","v":""},{"$f":"IF($B56<>\"PRC_RESID\",\"\",IF(Y$7=2005+OFFSET(AGR!$B$49,$AX56,SUMIF($B$10:$B$14,\"NCAP_TLIFE\",$AY$10:$AY$14)),0,\"\"))","v":""},{"$f":"IF($B56<>\"PRC_RESID\",\"\",IF(Z$7=2005+OFFSET(AGR!$B$49,$AX56,SUMIF($B$10:$B$14,\"NCAP_TLIFE\",$AY$10:$AY$14)),0,\"\"))","v":""},{"$f":"IF($B56<>\"PRC_RESID\",\"\",IF(AA$7=2005+OFFSET(AGR!$B$49,$AX56,SUMIF($B$10:$B$14,\"NCAP_TLIFE\",$AY$10:$AY$14)),0,\"\"))","v":""},{"$f":"IF($B56<>\"PRC_RESID\",\"\",IF(AB$7=2005+OFFSET(AGR!$B$49,$AX56,SUMIF($B$10:$B$14,\"NCAP_TLIFE\",$AY$10:$AY$14)),0,\"\"))","v":""},{"$f":"IF($B56<>\"PRC_RESID\",\"\",IF(AC$7=2005+OFFSET(AGR!$B$49,$AX56,SUMIF($B$10:$B$14,\"NCAP_TLIFE\",$AY$10:$AY$14)),0,\"\"))","v":""},{"$f":"IF($B56<>\"PRC_RESID\",\"\",IF(AD$7=2005+OFFSET(AGR!$B$49,$AX56,SUMIF($B$10:$B$14,\"NCAP_TLIFE\",$AY$10:$AY$14)),0,\"\"))","v":""},{"$f":"IF($B56<>\"PRC_RESID\",\"\",IF(AE$7=2005+OFFSET(AGR!$B$49,$AX56,SUMIF($B$10:$B$14,\"NCAP_TLIFE\",$AY$10:$AY$14)),0,\"\"))","v":""},{"$f":"IF($B56<>\"PRC_RESID\",\"\",IF(AF$7=2005+OFFSET(AGR!$B$49,$AX56,SUMIF($B$10:$B$14,\"NCAP_TLIFE\",$AY$10:$AY$14)),0,\"\"))","v":""},{"$f":"IF($B56<>\"PRC_RESID\",\"\",IF(AG$7=2005+OFFSET(AGR!$B$49,$AX56,SUMIF($B$10:$B$14,\"NCAP_TLIFE\",$AY$10:$AY$14)),0,\"\"))","v":""},{"$f":"IF($B56<>\"PRC_RESID\",\"\",IF(AH$7=2005+OFFSET(AGR!$B$49,$AX56,SUMIF($B$10:$B$14,\"NCAP_TLIFE\",$AY$10:$AY$14)),0,\"\"))","v":""},null,null,null,null,{"$f":"IF($B56<>\"PRC_RESID\",\"\",IF(AM$7=2005+OFFSET(AGR!$B$49,$AX56,SUMIF($B$10:$B$14,\"NCAP_TLIFE\",$AY$10:$AY$14)),0,\"\"))","v":""},null,null,null,null,{"$f":"IF($B56<>\"PRC_RESID\",\"\",IF(AR$7=2005+OFFSET(AGR!$B$49,$AX56,SUMIF($B$10:$B$14,\"NCAP_TLIFE\",$AY$10:$AY$14)),0,\"\"))","v":""},{"$f":"IF($B56<>\"PRC_RESID\",\"\",IF(AS$7=2005+OFFSET(AGR!$B$49,$AX56,SUMIF($B$10:$B$14,\"NCAP_TLIFE\",$AY$10:$AY$14)),0,\"\"))","v":""},{"$f":"IF($B56<>\"PRC_RESID\",\"\",IF(AT$7=2005+OFFSET(AGR!$B$49,$AX56,SUMIF($B$10:$B$14,\"NCAP_TLIFE\",$AY$10:$AY$14)),0,\"\"))","v":""},{"$f":"IF($B56<>\"PRC_RESID\",\"\",IF(AU$7=2005+OFFSET(AGR!$B$49,$AX56,SUMIF($B$10:$B$14,\"NCAP_TLIFE\",$AY$10:$AY$14)),0,\"\"))","v":""},null,{"$f":"IF(AX55=AGR!$W$72,AW55+1,AW55)","v":2},18]
[{"$f":"IF(LEFT(OFFSET(AGR!$A$49,AX57,0),2)=\"\\I\",\"*\",\"\")","v":"*"},"",{"$f":"IF($A57=\"*\",\"\",OFFSET(AGR!$B$49,AX57,0))","v":""},"","","","","","",{"$f":"IF($A57=\"*\",\"\",OFFSET(AGR!$B$49,AX57,SUMIF($B$10:$B$14,B57,$AY$10:$AY$14)))","v":""},{"$f":"IF($B57<>\"PRC_RESID\",\"\",IF(K$7=2005+OFFSET(AGR!$B$49,$AX57,SUMIF($B$10:$B$14,\"NCAP_TLIFE\",$AY$10:$AY$14)),0,\"\"))","v":""},{"$f":"IF($B57<>\"PRC_RESID\",\"\",IF(L$7=2005+OFFSET(AGR!$B$49,$AX57,SUMIF($B$10:$B$14,\"NCAP_TLIFE\",$AY$10:$AY$14)),0,\"\"))","v":""},{"$f":"IF($B57<>\"PRC_RESID\",\"\",IF(M$7=2005+OFFSET(AGR!$B$49,$AX57,SUMIF($B$10:$B$14,\"NCAP_TLIFE\",$AY$10:$AY$14)),0,\"\"))","v":""},{"$f":"IF($B57<>\"PRC_RESID\",\"\",IF(N$7=2005+OFFSET(AGR!$B$49,$AX57,SUMIF($B$10:$B$14,\"NCAP_TLIFE\",$AY$10:$AY$14)),0,\"\"))","v":""},{"$f":"IF($B57<>\"PRC_RESID\",\"\",IF(O$7=2005+OFFSET(AGR!$B$49,$AX57,SUMIF($B$10:$B$14,\"NCAP_TLIFE\",$AY$10:$AY$14)),0,\"\"))","v":""},{"$f":"IF($B57<>\"PRC_RESID\",\"\",IF(P$7=2005+OFFSET(AGR!$B$49,$AX57,SUMIF($B$10:$B$14,\"NCAP_TLIFE\",$AY$10:$AY$14)),0,\"\"))","v":""},{"$f":"IF($B57<>\"PRC_RESID\",\"\",IF(Q$7=2005+OFFSET(AGR!$B$49,$AX57,SUMIF($B$10:$B$14,\"NCAP_TLIFE\",$AY$10:$AY$14)),0,\"\"))","v":""},{"$f":"IF($B57<>\"PRC_RESID\",\"\",IF(R$7=2005+OFFSET(AGR!$B$49,$AX57,SUMIF($B$10:$B$14,\"NCAP_TLIFE\",$AY$10:$AY$14)),0,\"\"))","v":""},{"$f":"IF($B57<>\"PRC_RESID\",\"\",IF(S$7=2005+OFFSET(AGR!$B$49,$AX57,SUMIF($B$10:$B$14,\"NCAP_TLIFE\",$AY$10:$AY$14)),0,\"\"))","v":""},{"$f":"IF($B57<>\"PRC_RESID\",\"\",IF(T$7=2005+OFFSET(AGR!$B$49,$AX57,SUMIF($B$10:$B$14,\"NCAP_TLIFE\",$AY$10:$AY$14)),0,\"\"))","v":""},{"$f":"IF($B57<>\"PRC_RESID\",\"\",IF(U$7=2005+OFFSET(AGR!$B$49,$AX57,SUMIF($B$10:$B$14,\"NCAP_TLIFE\",$AY$10:$AY$14)),0,\"\"))","v":""},{"$f":"IF($B57<>\"PRC_RESID\",\"\",IF(V$7=2005+OFFSET(AGR!$B$49,$AX57,SUMIF($B$10:$B$14,\"NCAP_TLIFE\",$AY$10:$AY$14)),0,\"\"))","v":""},{"$f":"IF($B57<>\"PRC_RESID\",\"\",IF(W$7=2005+OFFSET(AGR!$B$49,$AX57,SUMIF($B$10:$B$14,\"NCAP_TLIFE\",$AY$10:$AY$14)),0,\"\"))","v":""},{"$f":"IF($B57<>\"PRC_RESID\",\"\",IF(X$7=2005+OFFSET(AGR!$B$49,$AX57,SUMIF($B$10:$B$14,\"NCAP_TLIFE\",$AY$10:$AY$14)),0,\"\"))","v":""},{"$f":"IF($B57<>\"PRC_RESID\",\"\",IF(Y$7=2005+OFFSET(AGR!$B$49,$AX57,SUMIF($B$10:$B$14,\"NCAP_TLIFE\",$AY$10:$AY$14)),0,\"\"))","v":""},{"$f":"IF($B57<>\"PRC_RESID\",\"\",IF(Z$7=2005+OFFSET(AGR!$B$49,$AX57,SUMIF($B$10:$B$14,\"NCAP_TLIFE\",$AY$10:$AY$14)),0,\"\"))","v":""},{"$f":"IF($B57<>\"PRC_RESID\",\"\",IF(AA$7=2005+OFFSET(AGR!$B$49,$AX57,SUMIF($B$10:$B$14,\"NCAP_TLIFE\",$AY$10:$AY$14)),0,\"\"))","v":""},{"$f":"IF($B57<>\"PRC_RESID\",\"\",IF(AB$7=2005+OFFSET(AGR!$B$49,$AX57,SUMIF($B$10:$B$14,\"NCAP_TLIFE\",$AY$10:$AY$14)),0,\"\"))","v":""},{"$f":"IF($B57<>\"PRC_RESID\",\"\",IF(AC$7=2005+OFFSET(AGR!$B$49,$AX57,SUMIF($B$10:$B$14,\"NCAP_TLIFE\",$AY$10:$AY$14)),0,\"\"))","v":""},{"$f":"IF($B57<>\"PRC_RESID\",\"\",IF(AD$7=2005+OFFSET(AGR!$B$49,$AX57,SUMIF($B$10:$B$14,\"NCAP_TLIFE\",$AY$10:$AY$14)),0,\"\"))","v":""},{"$f":"IF($B57<>\"PRC_RESID\",\"\",IF(AE$7=2005+OFFSET(AGR!$B$49,$AX57,SUMIF($B$10:$B$14,\"NCAP_TLIFE\",$AY$10:$AY$14)),0,\"\"))","v":""},{"$f":"IF($B57<>\"PRC_RESID\",\"\",IF(AF$7=2005+OFFSET(AGR!$B$49,$AX57,SUMIF($B$10:$B$14,\"NCAP_TLIFE\",$AY$10:$AY$14)),0,\"\"))","v":""},{"$f":"IF($B57<>\"PRC_RESID\",\"\",IF(AG$7=2005+OFFSET(AGR!$B$49,$AX57,SUMIF($B$10:$B$14,\"NCAP_TLIFE\",$AY$10:$AY$14)),0,\"\"))","v":""},{"$f":"IF($B57<>\"PRC_RESID\",\"\",IF(AH$7=2005+OFFSET(AGR!$B$49,$AX57,SUMIF($B$10:$B$14,\"NCAP_TLIFE\",$AY$10:$AY$14)),0,\"\"))","v":""},null,null,null,null,{"$f":"IF($B57<>\"PRC_RESID\",\"\",IF(AM$7=2005+OFFSET(AGR!$B$49,$AX57,SUMIF($B$10:$B$14,\"NCAP_TLIFE\",$AY$10:$AY$14)),0,\"\"))","v":""},null,null,null,null,{"$f":"IF($B57<>\"PRC_RESID\",\"\",IF(AR$7=2005+OFFSET(AGR!$B$49,$AX57,SUMIF($B$10:$B$14,\"NCAP_TLIFE\",$AY$10:$AY$14)),0,\"\"))","v":""},{"$f":"IF($B57<>\"PRC_RESID\",\"\",IF(AS$7=2005+OFFSET(AGR!$B$49,$AX57,SUMIF($B$10:$B$14,\"NCAP_TLIFE\",$AY$10:$AY$14)),0,\"\"))","v":""},{"$f":"IF($B57<>\"PRC_RESID\",\"\",IF(AT$7=2005+OFFSET(AGR!$B$49,$AX57,SUMIF($B$10:$B$14,\"NCAP_TLIFE\",$AY$10:$AY$14)),0,\"\"))","v":""},{"$f":"IF($B57<>\"PRC_RESID\",\"\",IF(AU$7=2005+OFFSET(AGR!$B$49,$AX57,SUMIF($B$10:$B$14,\"NCAP_TLIFE\",$AY$10:$AY$14)),0,\"\"))","v":""},null,{"$f":"IF(AX56=AGR!$W$72,AW56+1,AW56)","v":2},19]
[{"$f":"IF(LEFT(OFFSET(AGR!$A$49,AX58,0),2)=\"\\I\",\"*\",\"\")","v":"*"},"",{"$f":"IF($A58=\"*\",\"\",OFFSET(AGR!$B$49,AX58,0))","v":""},"","","","","","",{"$f":"IF($A58=\"*\",\"\",OFFSET(AGR!$B$49,AX58,SUMIF($B$10:$B$14,B58,$AY$10:$AY$14)))","v":""},{"$f":"IF($B58<>\"PRC_RESID\",\"\",IF(K$7=2005+OFFSET(AGR!$B$49,$AX58,SUMIF($B$10:$B$14,\"NCAP_TLIFE\",$AY$10:$AY$14)),0,\"\"))","v":""},{"$f":"IF($B58<>\"PRC_RESID\",\"\",IF(L$7=2005+OFFSET(AGR!$B$49,$AX58,SUMIF($B$10:$B$14,\"NCAP_TLIFE\",$AY$10:$AY$14)),0,\"\"))","v":""},{"$f":"IF($B58<>\"PRC_RESID\",\"\",IF(M$7=2005+OFFSET(AGR!$B$49,$AX58,SUMIF($B$10:$B$14,\"NCAP_TLIFE\",$AY$10:$AY$14)),0,\"\"))","v":""},{"$f":"IF($B58<>\"PRC_RESID\",\"\",IF(N$7=2005+OFFSET(AGR!$B$49,$AX58,SUMIF($B$10:$B$14,\"NCAP_TLIFE\",$AY$10:$AY$14)),0,\"\"))","v":""},{"$f":"IF($B58<>\"PRC_RESID\",\"\",IF(O$7=2005+OFFSET(AGR!$B$49,$AX58,SUMIF($B$10:$B$14,\"NCAP_TLIFE\",$AY$10:$AY$14)),0,\"\"))","v":""},{"$f":"IF($B58<>\"PRC_RESID\",\"\",IF(P$7=2005+OFFSET(AGR!$B$49,$AX58,SUMIF($B$10:$B$14,\"NCAP_TLIFE\",$AY$10:$AY$14)),0,\"\"))","v":""},{"$f":"IF($B58<>\"PRC_RESID\",\"\",IF(Q$7=2005+OFFSET(AGR!$B$49,$AX58,SUMIF($B$10:$B$14,\"NCAP_TLIFE\",$AY$10:$AY$14)),0,\"\"))","v":""},{"$f":"IF($B58<>\"PRC_RESID\",\"\",IF(R$7=2005+OFFSET(AGR!$B$49,$AX58,SUMIF($B$10:$B$14,\"NCAP_TLIFE\",$AY$10:$AY$14)),0,\"\"))","v":""},{"$f":"IF($B58<>\"PRC_RESID\",\"\",IF(S$7=2005+OFFSET(AGR!$B$49,$AX58,SUMIF($B$10:$B$14,\"NCAP_TLIFE\",$AY$10:$AY$14)),0,\"\"))","v":""},{"$f":"IF($B58<>\"PRC_RESID\",\"\",IF(T$7=2005+OFFSET(AGR!$B$49,$AX58,SUMIF($B$10:$B$14,\"NCAP_TLIFE\",$AY$10:$AY$14)),0,\"\"))","v":""},{"$f":"IF($B58<>\"PRC_RESID\",\"\",IF(U$7=2005+OFFSET(AGR!$B$49,$AX58,SUMIF($B$10:$B$14,\"NCAP_TLIFE\",$AY$10:$AY$14)),0,\"\"))","v":""},{"$f":"IF($B58<>\"PRC_RESID\",\"\",IF(V$7=2005+OFFSET(AGR!$B$49,$AX58,SUMIF($B$10:$B$14,\"NCAP_TLIFE\",$AY$10:$AY$14)),0,\"\"))","v":""},{"$f":"IF($B58<>\"PRC_RESID\",\"\",IF(W$7=2005+OFFSET(AGR!$B$49,$AX58,SUMIF($B$10:$B$14,\"NCAP_TLIFE\",$AY$10:$AY$14)),0,\"\"))","v":""},{"$f":"IF($B58<>\"PRC_RESID\",\"\",IF(X$7=2005+OFFSET(AGR!$B$49,$AX58,SUMIF($B$10:$B$14,\"NCAP_TLIFE\",$AY$10:$AY$14)),0,\"\"))","v":""},{"$f":"IF($B58<>\"PRC_RESID\",\"\",IF(Y$7=2005+OFFSET(AGR!$B$49,$AX58,SUMIF($B$10:$B$14,\"NCAP_TLIFE\",$AY$10:$AY$14)),0,\"\"))","v":""},{"$f":"IF($B58<>\"PRC_RESID\",\"\",IF(Z$7=2005+OFFSET(AGR!$B$49,$AX58,SUMIF($B$10:$B$14,\"NCAP_TLIFE\",$AY$10:$AY$14)),0,\"\"))","v":""},{"$f":"IF($B58<>\"PRC_RESID\",\"\",IF(AA$7=2005+OFFSET(AGR!$B$49,$AX58,SUMIF($B$10:$B$14,\"NCAP_TLIFE\",$AY$10:$AY$14)),0,\"\"))","v":""},{"$f":"IF($B58<>\"PRC_RESID\",\"\",IF(AB$7=2005+OFFSET(AGR!$B$49,$AX58,SUMIF($B$10:$B$14,\"NCAP_TLIFE\",$AY$10:$AY$14)),0,\"\"))","v":""},{"$f":"IF($B58<>\"PRC_RESID\",\"\",IF(AC$7=2005+OFFSET(AGR!$B$49,$AX58,SUMIF($B$10:$B$14,\"NCAP_TLIFE\",$AY$10:$AY$14)),0,\"\"))","v":""},{"$f":"IF($B58<>\"PRC_RESID\",\"\",IF(AD$7=2005+OFFSET(AGR!$B$49,$AX58,SUMIF($B$10:$B$14,\"NCAP_TLIFE\",$AY$10:$AY$14)),0,\"\"))","v":""},{"$f":"IF($B58<>\"PRC_RESID\",\"\",IF(AE$7=2005+OFFSET(AGR!$B$49,$AX58,SUMIF($B$10:$B$14,\"NCAP_TLIFE\",$AY$10:$AY$14)),0,\"\"))","v":""},{"$f":"IF($B58<>\"PRC_RESID\",\"\",IF(AF$7=2005+OFFSET(AGR!$B$49,$AX58,SUMIF($B$10:$B$14,\"NCAP_TLIFE\",$AY$10:$AY$14)),0,\"\"))","v":""},{"$f":"IF($B58<>\"PRC_RESID\",\"\",IF(AG$7=2005+OFFSET(AGR!$B$49,$AX58,SUMIF($B$10:$B$14,\"NCAP_TLIFE\",$AY$10:$AY$14)),0,\"\"))","v":""},{"$f":"IF($B58<>\"PRC_RESID\",\"\",IF(AH$7=2005+OFFSET(AGR!$B$49,$AX58,SUMIF($B$10:$B$14,\"NCAP_TLIFE\",$AY$10:$AY$14)),0,\"\"))","v":""},null,null,null,null,{"$f":"IF($B58<>\"PRC_RESID\",\"\",IF(AM$7=2005+OFFSET(AGR!$B$49,$AX58,SUMIF($B$10:$B$14,\"NCAP_TLIFE\",$AY$10:$AY$14)),0,\"\"))","v":""},null,null,null,null,{"$f":"IF($B58<>\"PRC_RESID\",\"\",IF(AR$7=2005+OFFSET(AGR!$B$49,$AX58,SUMIF($B$10:$B$14,\"NCAP_TLIFE\",$AY$10:$AY$14)),0,\"\"))","v":""},{"$f":"IF($B58<>\"PRC_RESID\",\"\",IF(AS$7=2005+OFFSET(AGR!$B$49,$AX58,SUMIF($B$10:$B$14,\"NCAP_TLIFE\",$AY$10:$AY$14)),0,\"\"))","v":""},{"$f":"IF($B58<>\"PRC_RESID\",\"\",IF(AT$7=2005+OFFSET(AGR!$B$49,$AX58,SUMIF($B$10:$B$14,\"NCAP_TLIFE\",$AY$10:$AY$14)),0,\"\"))","v":""},{"$f":"IF($B58<>\"PRC_RESID\",\"\",IF(AU$7=2005+OFFSET(AGR!$B$49,$AX58,SUMIF($B$10:$B$14,\"NCAP_TLIFE\",$AY$10:$AY$14)),0,\"\"))","v":""},null,{"$f":"IF(AX57=AGR!$W$72,AW57+1,AW57)","v":2},20]
[{"$f":"IF(LEFT(OFFSET(AGR!$A$49,AX59,0),2)=\"\\I\",\"*\",\"\")","v":""},"NCAP_AFA",{"$f":"IF($A59=\"*\",\"\",OFFSET(AGR!$B$49,AX59,0))","v":"AOELC-E"},"-","-","-","-","UP",0,{"$f":"IF($A59=\"*\",\"\",OFFSET(AGR!$B$49,AX59,SUMIF($B$10:$B$14,B59,$AY$10:$AY$14)))","v":1},{"$f":"IF($B59<>\"PRC_RESID\",\"\",IF(K$7=2005+OFFSET(AGR!$B$49,$AX59,SUMIF($B$10:$B$14,\"NCAP_TLIFE\",$AY$10:$AY$14)),0,\"\"))","v":""},{"$f":"IF($B59<>\"PRC_RESID\",\"\",IF(L$7=2005+OFFSET(AGR!$B$49,$AX59,SUMIF($B$10:$B$14,\"NCAP_TLIFE\",$AY$10:$AY$14)),0,\"\"))","v":""},{"$f":"IF($B59<>\"PRC_RESID\",\"\",IF(M$7=2005+OFFSET(AGR!$B$49,$AX59,SUMIF($B$10:$B$14,\"NCAP_TLIFE\",$AY$10:$AY$14)),0,\"\"))","v":""},{"$f":"IF($B59<>\"PRC_RESID\",\"\",IF(N$7=2005+OFFSET(AGR!$B$49,$AX59,SUMIF($B$10:$B$14,\"NCAP_TLIFE\",$AY$10:$AY$14)),0,\"\"))","v":""},{"$f":"IF($B59<>\"PRC_RESID\",\"\",IF(O$7=2005+OFFSET(AGR!$B$49,$AX59,SUMIF($B$10:$B$14,\"NCAP_TLIFE\",$AY$10:$AY$14)),0,\"\"))","v":""},{"$f":"IF($B59<>\"PRC_RESID\",\"\",IF(P$7=2005+OFFSET(AGR!$B$49,$AX59,SUMIF($B$10:$B$14,\"NCAP_TLIFE\",$AY$10:$AY$14)),0,\"\"))","v":""},{"$f":"IF($B59<>\"PRC_RESID\",\"\",IF(Q$7=2005+OFFSET(AGR!$B$49,$AX59,SUMIF($B$10:$B$14,\"NCAP_TLIFE\",$AY$10:$AY$14)),0,\"\"))","v":""},{"$f":"IF($B59<>\"PRC_RESID\",\"\",IF(R$7=2005+OFFSET(AGR!$B$49,$AX59,SUMIF($B$10:$B$14,\"NCAP_TLIFE\",$AY$10:$AY$14)),0,\"\"))","v":""},{"$f":"IF($B59<>\"PRC_RESID\",\"\",IF(S$7=2005+OFFSET(AGR!$B$49,$AX59,SUMIF($B$10:$B$14,\"NCAP_TLIFE\",$AY$10:$AY$14)),0,\"\"))","v":""},{"$f":"IF($B59<>\"PRC_RESID\",\"\",IF(T$7=2005+OFFSET(AGR!$B$49,$AX59,SUMIF($B$10:$B$14,\"NCAP_TLIFE\",$AY$10:$AY$14)),0,\"\"))","v":""},{"$f":"IF($B59<>\"PRC_RESID\",\"\",IF(U$7=2005+OFFSET(AGR!$B$49,$AX59,SUMIF($B$10:$B$14,\"NCAP_TLIFE\",$AY$10:$AY$14)),0,\"\"))","v":""},{"$f":"IF($B59<>\"PRC_RESID\",\"\",IF(V$7=2005+OFFSET(AGR!$B$49,$AX59,SUMIF($B$10:$B$14,\"NCAP_TLIFE\",$AY$10:$AY$14)),0,\"\"))","v":""},{"$f":"IF($B59<>\"PRC_RESID\",\"\",IF(W$7=2005+OFFSET(AGR!$B$49,$AX59,SUMIF($B$10:$B$14,\"NCAP_TLIFE\",$AY$10:$AY$14)),0,\"\"))","v":""},{"$f":"IF($B59<>\"PRC_RESID\",\"\",IF(X$7=2005+OFFSET(AGR!$B$49,$AX59,SUMIF($B$10:$B$14,\"NCAP_TLIFE\",$AY$10:$AY$14)),0,\"\"))","v":""},{"$f":"IF($B59<>\"PRC_RESID\",\"\",IF(Y$7=2005+OFFSET(AGR!$B$49,$AX59,SUMIF($B$10:$B$14,\"NCAP_TLIFE\",$AY$10:$AY$14)),0,\"\"))","v":""},{"$f":"IF($B59<>\"PRC_RESID\",\"\",IF(Z$7=2005+OFFSET(AGR!$B$49,$AX59,SUMIF($B$10:$B$14,\"NCAP_TLIFE\",$AY$10:$AY$14)),0,\"\"))","v":""},{"$f":"IF($B59<>\"PRC_RESID\",\"\",IF(AA$7=2005+OFFSET(AGR!$B$49,$AX59,SUMIF($B$10:$B$14,\"NCAP_TLIFE\",$AY$10:$AY$14)),0,\"\"))","v":""},{"$f":"IF($B59<>\"PRC_RESID\",\"\",IF(AB$7=2005+OFFSET(AGR!$B$49,$AX59,SUMIF($B$10:$B$14,\"NCAP_TLIFE\",$AY$10:$AY$14)),0,\"\"))","v":""},{"$f":"IF($B59<>\"PRC_RESID\",\"\",IF(AC$7=2005+OFFSET(AGR!$B$49,$AX59,SUMIF($B$10:$B$14,\"NCAP_TLIFE\",$AY$10:$AY$14)),0,\"\"))","v":""},{"$f":"IF($B59<>\"PRC_RESID\",\"\",IF(AD$7=2005+OFFSET(AGR!$B$49,$AX59,SUMIF($B$10:$B$14,\"NCAP_TLIFE\",$AY$10:$AY$14)),0,\"\"))","v":""},{"$f":"IF($B59<>\"PRC_RESID\",\"\",IF(AE$7=2005+OFFSET(AGR!$B$49,$AX59,SUMIF($B$10:$B$14,\"NCAP_TLIFE\",$AY$10:$AY$14)),0,\"\"))","v":""},{"$f":"IF($B59<>\"PRC_RESID\",\"\",IF(AF$7=2005+OFFSET(AGR!$B$49,$AX59,SUMIF($B$10:$B$14,\"NCAP_TLIFE\",$AY$10:$AY$14)),0,\"\"))","v":""},{"$f":"IF($B59<>\"PRC_RESID\",\"\",IF(AG$7=2005+OFFSET(AGR!$B$49,$AX59,SUMIF($B$10:$B$14,\"NCAP_TLIFE\",$AY$10:$AY$14)),0,\"\"))","v":""},{"$f":"IF($B59<>\"PRC_RESID\",\"\",IF(AH$7=2005+OFFSET(AGR!$B$49,$AX59,SUMIF($B$10:$B$14,\"NCAP_TLIFE\",$AY$10:$AY$14)),0,\"\"))","v":""},null,null,null,null,{"$f":"IF($B59<>\"PRC_RESID\",\"\",IF(AM$7=2005+OFFSET(AGR!$B$49,$AX59,SUMIF($B$10:$B$14,\"NCAP_TLIFE\",$AY$10:$AY$14)),0,\"\"))","v":""},null,null,null,null,{"$f":"IF($B59<>\"PRC_RESID\",\"\",IF(AR$7=2005+OFFSET(AGR!$B$49,$AX59,SUMIF($B$10:$B$14,\"NCAP_TLIFE\",$AY$10:$AY$14)),0,\"\"))","v":""},{"$f":"IF($B59<>\"PRC_RESID\",\"\",IF(AS$7=2005+OFFSET(AGR!$B$49,$AX59,SUMIF($B$10:$B$14,\"NCAP_TLIFE\",$AY$10:$AY$14)),0,\"\"))","v":""},{"$f":"IF($B59<>\"PRC_RESID\",\"\",IF(AT$7=2005+OFFSET(AGR!$B$49,$AX59,SUMIF($B$10:$B$14,\"NCAP_TLIFE\",$AY$10:$AY$14)),0,\"\"))","v":""},{"$f":"IF($B59<>\"PRC_RESID\",\"\",IF(AU$7=2005+OFFSET(AGR!$B$49,$AX59,SUMIF($B$10:$B$14,\"NCAP_TLIFE\",$AY$10:$AY$14)),0,\"\"))","v":""},null,{"$f":"IF(AX58=AGR!$W$72,AW58+1,AW58)","v":2},21]
[{"$f":"IF(LEFT(OFFSET(AGR!$A$49,AX60,0),2)=\"\\I\",\"*\",\"\")","v":"*"},"",{"$f":"IF($A60=\"*\",\"\",OFFSET(AGR!$B$49,AX60,0))","v":""},"","","","","","",{"$f":"IF($A60=\"*\",\"\",OFFSET(AGR!$B$49,AX60,SUMIF($B$10:$B$14,B60,$AY$10:$AY$14)))","v":""},{"$f":"IF($B60<>\"PRC_RESID\",\"\",IF(K$7=2005+OFFSET(AGR!$B$49,$AX60,SUMIF($B$10:$B$14,\"NCAP_TLIFE\",$AY$10:$AY$14)),0,\"\"))","v":""},{"$f":"IF($B60<>\"PRC_RESID\",\"\",IF(L$7=2005+OFFSET(AGR!$B$49,$AX60,SUMIF($B$10:$B$14,\"NCAP_TLIFE\",$AY$10:$AY$14)),0,\"\"))","v":""},{"$f":"IF($B60<>\"PRC_RESID\",\"\",IF(M$7=2005+OFFSET(AGR!$B$49,$AX60,SUMIF($B$10:$B$14,\"NCAP_TLIFE\",$AY$10:$AY$14)),0,\"\"))","v":""},{"$f":"IF($B60<>\"PRC_RESID\",\"\",IF(N$7=2005+OFFSET(AGR!$B$49,$AX60,SUMIF($B$10:$B$14,\"NCAP_TLIFE\",$AY$10:$AY$14)),0,\"\"))","v":""},{"$f":"IF($B60<>\"PRC_RESID\",\"\",IF(O$7=2005+OFFSET(AGR!$B$49,$AX60,SUMIF($B$10:$B$14,\"NCAP_TLIFE\",$AY$10:$AY$14)),0,\"\"))","v":""},{"$f":"IF($B60<>\"PRC_RESID\",\"\",IF(P$7=2005+OFFSET(AGR!$B$49,$AX60,SUMIF($B$10:$B$14,\"NCAP_TLIFE\",$AY$10:$AY$14)),0,\"\"))","v":""},{"$f":"IF($B60<>\"PRC_RESID\",\"\",IF(Q$7=2005+OFFSET(AGR!$B$49,$AX60,SUMIF($B$10:$B$14,\"NCAP_TLIFE\",$AY$10:$AY$14)),0,\"\"))","v":""},{"$f":"IF($B60<>\"PRC_RESID\",\"\",IF(R$7=2005+OFFSET(AGR!$B$49,$AX60,SUMIF($B$10:$B$14,\"NCAP_TLIFE\",$AY$10:$AY$14)),0,\"\"))","v":""},{"$f":"IF($B60<>\"PRC_RESID\",\"\",IF(S$7=2005+OFFSET(AGR!$B$49,$AX60,SUMIF($B$10:$B$14,\"NCAP_TLIFE\",$AY$10:$AY$14)),0,\"\"))","v":""},{"$f":"IF($B60<>\"PRC_RESID\",\"\",IF(T$7=2005+OFFSET(AGR!$B$49,$AX60,SUMIF($B$10:$B$14,\"NCAP_TLIFE\",$AY$10:$AY$14)),0,\"\"))","v":""},{"$f":"IF($B60<>\"PRC_RESID\",\"\",IF(U$7=2005+OFFSET(AGR!$B$49,$AX60,SUMIF($B$10:$B$14,\"NCAP_TLIFE\",$AY$10:$AY$14)),0,\"\"))","v":""},{"$f":"IF($B60<>\"PRC_RESID\",\"\",IF(V$7=2005+OFFSET(AGR!$B$49,$AX60,SUMIF($B$10:$B$14,\"NCAP_TLIFE\",$AY$10:$AY$14)),0,\"\"))","v":""},{"$f":"IF($B60<>\"PRC_RESID\",\"\",IF(W$7=2005+OFFSET(AGR!$B$49,$AX60,SUMIF($B$10:$B$14,\"NCAP_TLIFE\",$AY$10:$AY$14)),0,\"\"))","v":""},{"$f":"IF($B60<>\"PRC_RESID\",\"\",IF(X$7=2005+OFFSET(AGR!$B$49,$AX60,SUMIF($B$10:$B$14,\"NCAP_TLIFE\",$AY$10:$AY$14)),0,\"\"))","v":""},{"$f":"IF($B60<>\"PRC_RESID\",\"\",IF(Y$7=2005+OFFSET(AGR!$B$49,$AX60,SUMIF($B$10:$B$14,\"NCAP_TLIFE\",$AY$10:$AY$14)),0,\"\"))","v":""},{"$f":"IF($B60<>\"PRC_RESID\",\"\",IF(Z$7=2005+OFFSET(AGR!$B$49,$AX60,SUMIF($B$10:$B$14,\"NCAP_TLIFE\",$AY$10:$AY$14)),0,\"\"))","v":""},{"$f":"IF($B60<>\"PRC_RESID\",\"\",IF(AA$7=2005+OFFSET(AGR!$B$49,$AX60,SUMIF($B$10:$B$14,\"NCAP_TLIFE\",$AY$10:$AY$14)),0,\"\"))","v":""},{"$f":"IF($B60<>\"PRC_RESID\",\"\",IF(AB$7=2005+OFFSET(AGR!$B$49,$AX60,SUMIF($B$10:$B$14,\"NCAP_TLIFE\",$AY$10:$AY$14)),0,\"\"))","v":""},{"$f":"IF($B60<>\"PRC_RESID\",\"\",IF(AC$7=2005+OFFSET(AGR!$B$49,$AX60,SUMIF($B$10:$B$14,\"NCAP_TLIFE\",$AY$10:$AY$14)),0,\"\"))","v":""},{"$f":"IF($B60<>\"PRC_RESID\",\"\",IF(AD$7=2005+OFFSET(AGR!$B$49,$AX60,SUMIF($B$10:$B$14,\"NCAP_TLIFE\",$AY$10:$AY$14)),0,\"\"))","v":""},{"$f":"IF($B60<>\"PRC_RESID\",\"\",IF(AE$7=2005+OFFSET(AGR!$B$49,$AX60,SUMIF($B$10:$B$14,\"NCAP_TLIFE\",$AY$10:$AY$14)),0,\"\"))","v":""},{"$f":"IF($B60<>\"PRC_RESID\",\"\",IF(AF$7=2005+OFFSET(AGR!$B$49,$AX60,SUMIF($B$10:$B$14,\"NCAP_TLIFE\",$AY$10:$AY$14)),0,\"\"))","v":""},{"$f":"IF($B60<>\"PRC_RESID\",\"\",IF(AG$7=2005+OFFSET(AGR!$B$49,$AX60,SUMIF($B$10:$B$14,\"NCAP_TLIFE\",$AY$10:$AY$14)),0,\"\"))","v":""},{"$f":"IF($B60<>\"PRC_RESID\",\"\",IF(AH$7=2005+OFFSET(AGR!$B$49,$AX60,SUMIF($B$10:$B$14,\"NCAP_TLIFE\",$AY$10:$AY$14)),0,\"\"))","v":""},null,null,null,null,{"$f":"IF($B60<>\"PRC_RESID\",\"\",IF(AM$7=2005+OFFSET(AGR!$B$49,$AX60,SUMIF($B$10:$B$14,\"NCAP_TLIFE\",$AY$10:$AY$14)),0,\"\"))","v":""},null,null,null,null,{"$f":"IF($B60<>\"PRC_RESID\",\"\",IF(AR$7=2005+OFFSET(AGR!$B$49,$AX60,SUMIF($B$10:$B$14,\"NCAP_TLIFE\",$AY$10:$AY$14)),0,\"\"))","v":""},{"$f":"IF($B60<>\"PRC_RESID\",\"\",IF(AS$7=2005+OFFSET(AGR!$B$49,$AX60,SUMIF($B$10:$B$14,\"NCAP_TLIFE\",$AY$10:$AY$14)),0,\"\"))","v":""},{"$f":"IF($B60<>\"PRC_RESID\",\"\",IF(AT$7=2005+OFFSET(AGR!$B$49,$AX60,SUMIF($B$10:$B$14,\"NCAP_TLIFE\",$AY$10:$AY$14)),0,\"\"))","v":""},{"$f":"IF($B60<>\"PRC_RESID\",\"\",IF(AU$7=2005+OFFSET(AGR!$B$49,$AX60,SUMIF($B$10:$B$14,\"NCAP_TLIFE\",$AY$10:$AY$14)),0,\"\"))","v":""},null,{"$f":"IF(AX59=AGR!$W$72,AW59+1,AW59)","v":2},22]
[{"$f":"IF(LEFT(OFFSET(AGR!$A$49,AX61,0),2)=\"\\I\",\"*\",\"\")","v":"*"},"",{"$f":"IF($A61=\"*\",\"\",OFFSET(AGR!$B$49,AX61,0))","v":""},"","","","","","",{"$f":"IF($A61=\"*\",\"\",OFFSET(AGR!$B$49,AX61,SUMIF($B$10:$B$14,B61,$AY$10:$AY$14)))","v":""},{"$f":"IF($B61<>\"PRC_RESID\",\"\",IF(K$7=2005+OFFSET(AGR!$B$49,$AX61,SUMIF($B$10:$B$14,\"NCAP_TLIFE\",$AY$10:$AY$14)),0,\"\"))","v":""},{"$f":"IF($B61<>\"PRC_RESID\",\"\",IF(L$7=2005+OFFSET(AGR!$B$49,$AX61,SUMIF($B$10:$B$14,\"NCAP_TLIFE\",$AY$10:$AY$14)),0,\"\"))","v":""},{"$f":"IF($B61<>\"PRC_RESID\",\"\",IF(M$7=2005+OFFSET(AGR!$B$49,$AX61,SUMIF($B$10:$B$14,\"NCAP_TLIFE\",$AY$10:$AY$14)),0,\"\"))","v":""},{"$f":"IF($B61<>\"PRC_RESID\",\"\",IF(N$7=2005+OFFSET(AGR!$B$49,$AX61,SUMIF($B$10:$B$14,\"NCAP_TLIFE\",$AY$10:$AY$14)),0,\"\"))","v":""},{"$f":"IF($B61<>\"PRC_RESID\",\"\",IF(O$7=2005+OFFSET(AGR!$B$49,$AX61,SUMIF($B$10:$B$14,\"NCAP_TLIFE\",$AY$10:$AY$14)),0,\"\"))","v":""},{"$f":"IF($B61<>\"PRC_RESID\",\"\",IF(P$7=2005+OFFSET(AGR!$B$49,$AX61,SUMIF($B$10:$B$14,\"NCAP_TLIFE\",$AY$10:$AY$14)),0,\"\"))","v":""},{"$f":"IF($B61<>\"PRC_RESID\",\"\",IF(Q$7=2005+OFFSET(AGR!$B$49,$AX61,SUMIF($B$10:$B$14,\"NCAP_TLIFE\",$AY$10:$AY$14)),0,\"\"))","v":""},{"$f":"IF($B61<>\"PRC_RESID\",\"\",IF(R$7=2005+OFFSET(AGR!$B$49,$AX61,SUMIF($B$10:$B$14,\"NCAP_TLIFE\",$AY$10:$AY$14)),0,\"\"))","v":""},{"$f":"IF($B61<>\"PRC_RESID\",\"\",IF(S$7=2005+OFFSET(AGR!$B$49,$AX61,SUMIF($B$10:$B$14,\"NCAP_TLIFE\",$AY$10:$AY$14)),0,\"\"))","v":""},{"$f":"IF($B61<>\"PRC_RESID\",\"\",IF(T$7=2005+OFFSET(AGR!$B$49,$AX61,SUMIF($B$10:$B$14,\"NCAP_TLIFE\",$AY$10:$AY$14)),0,\"\"))","v":""},{"$f":"IF($B61<>\"PRC_RESID\",\"\",IF(U$7=2005+OFFSET(AGR!$B$49,$AX61,SUMIF($B$10:$B$14,\"NCAP_TLIFE\",$AY$10:$AY$14)),0,\"\"))","v":""},{"$f":"IF($B61<>\"PRC_RESID\",\"\",IF(V$7=2005+OFFSET(AGR!$B$49,$AX61,SUMIF($B$10:$B$14,\"NCAP_TLIFE\",$AY$10:$AY$14)),0,\"\"))","v":""},{"$f":"IF($B61<>\"PRC_RESID\",\"\",IF(W$7=2005+OFFSET(AGR!$B$49,$AX61,SUMIF($B$10:$B$14,\"NCAP_TLIFE\",$AY$10:$AY$14)),0,\"\"))","v":""},{"$f":"IF($B61<>\"PRC_RESID\",\"\",IF(X$7=2005+OFFSET(AGR!$B$49,$AX61,SUMIF($B$10:$B$14,\"NCAP_TLIFE\",$AY$10:$AY$14)),0,\"\"))","v":""},{"$f":"IF($B61<>\"PRC_RESID\",\"\",IF(Y$7=2005+OFFSET(AGR!$B$49,$AX61,SUMIF($B$10:$B$14,\"NCAP_TLIFE\",$AY$10:$AY$14)),0,\"\"))","v":""},{"$f":"IF($B61<>\"PRC_RESID\",\"\",IF(Z$7=2005+OFFSET(AGR!$B$49,$AX61,SUMIF($B$10:$B$14,\"NCAP_TLIFE\",$AY$10:$AY$14)),0,\"\"))","v":""},{"$f":"IF($B61<>\"PRC_RESID\",\"\",IF(AA$7=2005+OFFSET(AGR!$B$49,$AX61,SUMIF($B$10:$B$14,\"NCAP_TLIFE\",$AY$10:$AY$14)),0,\"\"))","v":""},{"$f":"IF($B61<>\"PRC_RESID\",\"\",IF(AB$7=2005+OFFSET(AGR!$B$49,$AX61,SUMIF($B$10:$B$14,\"NCAP_TLIFE\",$AY$10:$AY$14)),0,\"\"))","v":""},{"$f":"IF($B61<>\"PRC_RESID\",\"\",IF(AC$7=2005+OFFSET(AGR!$B$49,$AX61,SUMIF($B$10:$B$14,\"NCAP_TLIFE\",$AY$10:$AY$14)),0,\"\"))","v":""},{"$f":"IF($B61<>\"PRC_RESID\",\"\",IF(AD$7=2005+OFFSET(AGR!$B$49,$AX61,SUMIF($B$10:$B$14,\"NCAP_TLIFE\",$AY$10:$AY$14)),0,\"\"))","v":""},{"$f":"IF($B61<>\"PRC_RESID\",\"\",IF(AE$7=2005+OFFSET(AGR!$B$49,$AX61,SUMIF($B$10:$B$14,\"NCAP_TLIFE\",$AY$10:$AY$14)),0,\"\"))","v":""},{"$f":"IF($B61<>\"PRC_RESID\",\"\",IF(AF$7=2005+OFFSET(AGR!$B$49,$AX61,SUMIF($B$10:$B$14,\"NCAP_TLIFE\",$AY$10:$AY$14)),0,\"\"))","v":""},{"$f":"IF($B61<>\"PRC_RESID\",\"\",IF(AG$7=2005+OFFSET(AGR!$B$49,$AX61,SUMIF($B$10:$B$14,\"NCAP_TLIFE\",$AY$10:$AY$14)),0,\"\"))","v":""},{"$f":"IF($B61<>\"PRC_RESID\",\"\",IF(AH$7=2005+OFFSET(AGR!$B$49,$AX61,SUMIF($B$10:$B$14,\"NCAP_TLIFE\",$AY$10:$AY$14)),0,\"\"))","v":""},null,null,null,null,{"$f":"IF($B61<>\"PRC_RESID\",\"\",IF(AM$7=2005+OFFSET(AGR!$B$49,$AX61,SUMIF($B$10:$B$14,\"NCAP_TLIFE\",$AY$10:$AY$14)),0,\"\"))","v":""},null,null,null,null,{"$f":"IF($B61<>\"PRC_RESID\",\"\",IF(AR$7=2005+OFFSET(AGR!$B$49,$AX61,SUMIF($B$10:$B$14,\"NCAP_TLIFE\",$AY$10:$AY$14)),0,\"\"))","v":""},{"$f":"IF($B61<>\"PRC_RESID\",\"\",IF(AS$7=2005+OFFSET(AGR!$B$49,$AX61,SUMIF($B$10:$B$14,\"NCAP_TLIFE\",$AY$10:$AY$14)),0,\"\"))","v":""},{"$f":"IF($B61<>\"PRC_RESID\",\"\",IF(AT$7=2005+OFFSET(AGR!$B$49,$AX61,SUMIF($B$10:$B$14,\"NCAP_TLIFE\",$AY$10:$AY$14)),0,\"\"))","v":""},{"$f":"IF($B61<>\"PRC_RESID\",\"\",IF(AU$7=2005+OFFSET(AGR!$B$49,$AX61,SUMIF($B$10:$B$14,\"NCAP_TLIFE\",$AY$10:$AY$14)),0,\"\"))","v":""},null,{"$f":"IF(AX60=AGR!$W$72,AW60+1,AW60)","v":2},23]
[{"$f":"IF(LEFT(OFFSET(AGR!$A$49,AX62,0),2)=\"\\I\",\"*\",\"\")","v":""},"NCAP_BND",{"$f":"IF($A62=\"*\",\"\",OFFSET(AGR!$B$49,AX62,0))","v":"AHCOA-E"},"-","-","-","-","UP",0,{"$f":"IF($A62=\"*\",\"\",OFFSET(AGR!$B$49,AX62,SUMIF($B$10:$B$14,B62,$AY$10:$AY$14)))","v":7.1105048234644131E-3},{"$f":"IF($B62<>\"PRC_RESID\",\"\",IF(K$7=2005+OFFSET(AGR!$B$49,$AX62,SUMIF($B$10:$B$14,\"NCAP_TLIFE\",$AY$10:$AY$14)),0,\"\"))","v":""},{"$f":"IF($B62<>\"PRC_RESID\",\"\",IF(L$7=2005+OFFSET(AGR!$B$49,$AX62,SUMIF($B$10:$B$14,\"NCAP_TLIFE\",$AY$10:$AY$14)),0,\"\"))","v":""},{"$f":"IF($B62<>\"PRC_RESID\",\"\",IF(M$7=2005+OFFSET(AGR!$B$49,$AX62,SUMIF($B$10:$B$14,\"NCAP_TLIFE\",$AY$10:$AY$14)),0,\"\"))","v":""},{"$f":"IF($B62<>\"PRC_RESID\",\"\",IF(N$7=2005+OFFSET(AGR!$B$49,$AX62,SUMIF($B$10:$B$14,\"NCAP_TLIFE\",$AY$10:$AY$14)),0,\"\"))","v":""},{"$f":"IF($B62<>\"PRC_RESID\",\"\",IF(O$7=2005+OFFSET(AGR!$B$49,$AX62,SUMIF($B$10:$B$14,\"NCAP_TLIFE\",$AY$10:$AY$14)),0,\"\"))","v":""},{"$f":"IF($B62<>\"PRC_RESID\",\"\",IF(P$7=2005+OFFSET(AGR!$B$49,$AX62,SUMIF($B$10:$B$14,\"NCAP_TLIFE\",$AY$10:$AY$14)),0,\"\"))","v":""},{"$f":"IF($B62<>\"PRC_RESID\",\"\",IF(Q$7=2005+OFFSET(AGR!$B$49,$AX62,SUMIF($B$10:$B$14,\"NCAP_TLIFE\",$AY$10:$AY$14)),0,\"\"))","v":""},{"$f":"IF($B62<>\"PRC_RESID\",\"\",IF(R$7=2005+OFFSET(AGR!$B$49,$AX62,SUMIF($B$10:$B$14,\"NCAP_TLIFE\",$AY$10:$AY$14)),0,\"\"))","v":""},{"$f":"IF($B62<>\"PRC_RESID\",\"\",IF(S$7=2005+OFFSET(AGR!$B$49,$AX62,SUMIF($B$10:$B$14,\"NCAP_TLIFE\",$AY$10:$AY$14)),0,\"\"))","v":""},{"$f":"IF($B62<>\"PRC_RESID\",\"\",IF(T$7=2005+OFFSET(AGR!$B$49,$AX62,SUMIF($B$10:$B$14,\"NCAP_TLIFE\",$AY$10:$AY$14)),0,\"\"))","v":""},{"$f":"IF($B62<>\"PRC_RESID\",\"\",IF(U$7=2005+OFFSET(AGR!$B$49,$AX62,SUMIF($B$10:$B$14,\"NCAP_TLIFE\",$AY$10:$AY$14)),0,\"\"))","v":""},{"$f":"IF($B62<>\"PRC_RESID\",\"\",IF(V$7=2005+OFFSET(AGR!$B$49,$AX62,SUMIF($B$10:$B$14,\"NCAP_TLIFE\",$AY$10:$AY$14)),0,\"\"))","v":""},{"$f":"IF($B62<>\"PRC_RESID\",\"\",IF(W$7=2005+OFFSET(AGR!$B$49,$AX62,SUMIF($B$10:$B$14,\"NCAP_TLIFE\",$AY$10:$AY$14)),0,\"\"))","v":""},{"$f":"IF($B62<>\"PRC_RESID\",\"\",IF(X$7=2005+OFFSET(AGR!$B$49,$AX62,SUMIF($B$10:$B$14,\"NCAP_TLIFE\",$AY$10:$AY$14)),0,\"\"))","v":""},{"$f":"IF($B62<>\"PRC_RESID\",\"\",IF(Y$7=2005+OFFSET(AGR!$B$49,$AX62,SUMIF($B$10:$B$14,\"NCAP_TLIFE\",$AY$10:$AY$14)),0,\"\"))","v":""},{"$f":"IF($B62<>\"PRC_RESID\",\"\",IF(Z$7=2005+OFFSET(AGR!$B$49,$AX62,SUMIF($B$10:$B$14,\"NCAP_TLIFE\",$AY$10:$AY$14)),0,\"\"))","v":""},{"$f":"IF($B62<>\"PRC_RESID\",\"\",IF(AA$7=2005+OFFSET(AGR!$B$49,$AX62,SUMIF($B$10:$B$14,\"NCAP_TLIFE\",$AY$10:$AY$14)),0,\"\"))","v":""},{"$f":"IF($B62<>\"PRC_RESID\",\"\",IF(AB$7=2005+OFFSET(AGR!$B$49,$AX62,SUMIF($B$10:$B$14,\"NCAP_TLIFE\",$AY$10:$AY$14)),0,\"\"))","v":""},{"$f":"IF($B62<>\"PRC_RESID\",\"\",IF(AC$7=2005+OFFSET(AGR!$B$49,$AX62,SUMIF($B$10:$B$14,\"NCAP_TLIFE\",$AY$10:$AY$14)),0,\"\"))","v":""},{"$f":"IF($B62<>\"PRC_RESID\",\"\",IF(AD$7=2005+OFFSET(AGR!$B$49,$AX62,SUMIF($B$10:$B$14,\"NCAP_TLIFE\",$AY$10:$AY$14)),0,\"\"))","v":""},{"$f":"IF($B62<>\"PRC_RESID\",\"\",IF(AE$7=2005+OFFSET(AGR!$B$49,$AX62,SUMIF($B$10:$B$14,\"NCAP_TLIFE\",$AY$10:$AY$14)),0,\"\"))","v":""},{"$f":"IF($B62<>\"PRC_RESID\",\"\",IF(AF$7=2005+OFFSET(AGR!$B$49,$AX62,SUMIF($B$10:$B$14,\"NCAP_TLIFE\",$AY$10:$AY$14)),0,\"\"))","v":""},{"$f":"IF($B62<>\"PRC_RESID\",\"\",IF(AG$7=2005+OFFSET(AGR!$B$49,$AX62,SUMIF($B$10:$B$14,\"NCAP_TLIFE\",$AY$10:$AY$14)),0,\"\"))","v":""},{"$f":"IF($B62<>\"PRC_RESID\",\"\",IF(AH$7=2005+OFFSET(AGR!$B$49,$AX62,SUMIF($B$10:$B$14,\"NCAP_TLIFE\",$AY$10:$AY$14)),0,\"\"))","v":""},null,null,null,null,{"$f":"IF($B62<>\"PRC_RESID\",\"\",IF(AM$7=2005+OFFSET(AGR!$B$49,$AX62,SUMIF($B$10:$B$14,\"NCAP_TLIFE\",$AY$10:$AY$14)),0,\"\"))","v":""},null,null,null,null,{"$f":"IF($B62<>\"PRC_RESID\",\"\",IF(AR$7=2005+OFFSET(AGR!$B$49,$AX62,SUMIF($B$10:$B$14,\"NCAP_TLIFE\",$AY$10:$AY$14)),0,\"\"))","v":""},{"$f":"IF($B62<>\"PRC_RESID\",\"\",IF(AS$7=2005+OFFSET(AGR!$B$49,$AX62,SUMIF($B$10:$B$14,\"NCAP_TLIFE\",$AY$10:$AY$14)),0,\"\"))","v":""},{"$f":"IF($B62<>\"PRC_RESID\",\"\",IF(AT$7=2005+OFFSET(AGR!$B$49,$AX62,SUMIF($B$10:$B$14,\"NCAP_TLIFE\",$AY$10:$AY$14)),0,\"\"))","v":""},{"$f":"IF($B62<>\"PRC_RESID\",\"\",IF(AU$7=2005+OFFSET(AGR!$B$49,$AX62,SUMIF($B$10:$B$14,\"NCAP_TLIFE\",$AY$10:$AY$14)),0,\"\"))","v":""},null,{"$f":"IF(AX61=AGR!$W$72,AW61+1,AW61)","v":3},1]
[{"$f":"IF(LEFT(OFFSET(AGR!$A$49,AX63,0),2)=\"\\I\",\"*\",\"\")","v":""},"NCAP_BND",{"$f":"IF($A63=\"*\",\"\",OFFSET(AGR!$B$49,AX63,0))","v":"AHOHF-E"},"-","-","-","-","UP",0,{"$f":"IF($A63=\"*\",\"\",OFFSET(AGR!$B$49,AX63,SUMIF($B$10:$B$14,B63,$AY$10:$AY$14)))","v":1.7695525266478121E-2},{"$f":"IF($B63<>\"PRC_RESID\",\"\",IF(K$7=2005+OFFSET(AGR!$B$49,$AX63,SUMIF($B$10:$B$14,\"NCAP_TLIFE\",$AY$10:$AY$14)),0,\"\"))","v":""},{"$f":"IF($B63<>\"PRC_RESID\",\"\",IF(L$7=2005+OFFSET(AGR!$B$49,$AX63,SUMIF($B$10:$B$14,\"NCAP_TLIFE\",$AY$10:$AY$14)),0,\"\"))","v":""},{"$f":"IF($B63<>\"PRC_RESID\",\"\",IF(M$7=2005+OFFSET(AGR!$B$49,$AX63,SUMIF($B$10:$B$14,\"NCAP_TLIFE\",$AY$10:$AY$14)),0,\"\"))","v":""},{"$f":"IF($B63<>\"PRC_RESID\",\"\",IF(N$7=2005+OFFSET(AGR!$B$49,$AX63,SUMIF($B$10:$B$14,\"NCAP_TLIFE\",$AY$10:$AY$14)),0,\"\"))","v":""},{"$f":"IF($B63<>\"PRC_RESID\",\"\",IF(O$7=2005+OFFSET(AGR!$B$49,$AX63,SUMIF($B$10:$B$14,\"NCAP_TLIFE\",$AY$10:$AY$14)),0,\"\"))","v":""},{"$f":"IF($B63<>\"PRC_RESID\",\"\",IF(P$7=2005+OFFSET(AGR!$B$49,$AX63,SUMIF($B$10:$B$14,\"NCAP_TLIFE\",$AY$10:$AY$14)),0,\"\"))","v":""},{"$f":"IF($B63<>\"PRC_RESID\",\"\",IF(Q$7=2005+OFFSET(AGR!$B$49,$AX63,SUMIF($B$10:$B$14,\"NCAP_TLIFE\",$AY$10:$AY$14)),0,\"\"))","v":""},{"$f":"IF($B63<>\"PRC_RESID\",\"\",IF(R$7=2005+OFFSET(AGR!$B$49,$AX63,SUMIF($B$10:$B$14,\"NCAP_TLIFE\",$AY$10:$AY$14)),0,\"\"))","v":""},{"$f":"IF($B63<>\"PRC_RESID\",\"\",IF(S$7=2005+OFFSET(AGR!$B$49,$AX63,SUMIF($B$10:$B$14,\"NCAP_TLIFE\",$AY$10:$AY$14)),0,\"\"))","v":""},{"$f":"IF($B63<>\"PRC_RESID\",\"\",IF(T$7=2005+OFFSET(AGR!$B$49,$AX63,SUMIF($B$10:$B$14,\"NCAP_TLIFE\",$AY$10:$AY$14)),0,\"\"))","v":""},{"$f":"IF($B63<>\"PRC_RESID\",\"\",IF(U$7=2005+OFFSET(AGR!$B$49,$AX63,SUMIF($B$10:$B$14,\"NCAP_TLIFE\",$AY$10:$AY$14)),0,\"\"))","v":""},{"$f":"IF($B63<>\"PRC_RESID\",\"\",IF(V$7=2005+OFFSET(AGR!$B$49,$AX63,SUMIF($B$10:$B$14,\"NCAP_TLIFE\",$AY$10:$AY$14)),0,\"\"))","v":""},{"$f":"IF($B63<>\"PRC_RESID\",\"\",IF(W$7=2005+OFFSET(AGR!$B$49,$AX63,SUMIF($B$10:$B$14,\"NCAP_TLIFE\",$AY$10:$AY$14)),0,\"\"))","v":""},{"$f":"IF($B63<>\"PRC_RESID\",\"\",IF(X$7=2005+OFFSET(AGR!$B$49,$AX63,SUMIF($B$10:$B$14,\"NCAP_TLIFE\",$AY$10:$AY$14)),0,\"\"))","v":""},{"$f":"IF($B63<>\"PRC_RESID\",\"\",IF(Y$7=2005+OFFSET(AGR!$B$49,$AX63,SUMIF($B$10:$B$14,\"NCAP_TLIFE\",$AY$10:$AY$14)),0,\"\"))","v":""},{"$f":"IF($B63<>\"PRC_RESID\",\"\",IF(Z$7=2005+OFFSET(AGR!$B$49,$AX63,SUMIF($B$10:$B$14,\"NCAP_TLIFE\",$AY$10:$AY$14)),0,\"\"))","v":""},{"$f":"IF($B63<>\"PRC_RESID\",\"\",IF(AA$7=2005+OFFSET(AGR!$B$49,$AX63,SUMIF($B$10:$B$14,\"NCAP_TLIFE\",$AY$10:$AY$14)),0,\"\"))","v":""},{"$f":"IF($B63<>\"PRC_RESID\",\"\",IF(AB$7=2005+OFFSET(AGR!$B$49,$AX63,SUMIF($B$10:$B$14,\"NCAP_TLIFE\",$AY$10:$AY$14)),0,\"\"))","v":""},{"$f":"IF($B63<>\"PRC_RESID\",\"\",IF(AC$7=2005+OFFSET(AGR!$B$49,$AX63,SUMIF($B$10:$B$14,\"NCAP_TLIFE\",$AY$10:$AY$14)),0,\"\"))","v":""},{"$f":"IF($B63<>\"PRC_RESID\",\"\",IF(AD$7=2005+OFFSET(AGR!$B$49,$AX63,SUMIF($B$10:$B$14,\"NCAP_TLIFE\",$AY$10:$AY$14)),0,\"\"))","v":""},{"$f":"IF($B63<>\"PRC_RESID\",\"\",IF(AE$7=2005+OFFSET(AGR!$B$49,$AX63,SUMIF($B$10:$B$14,\"NCAP_TLIFE\",$AY$10:$AY$14)),0,\"\"))","v":""},{"$f":"IF($B63<>\"PRC_RESID\",\"\",IF(AF$7=2005+OFFSET(AGR!$B$49,$AX63,SUMIF($B$10:$B$14,\"NCAP_TLIFE\",$AY$10:$AY$14)),0,\"\"))","v":""},{"$f":"IF($B63<>\"PRC_RESID\",\"\",IF(AG$7=2005+OFFSET(AGR!$B$49,$AX63,SUMIF($B$10:$B$14,\"NCAP_TLIFE\",$AY$10:$AY$14)),0,\"\"))","v":""},{"$f":"IF($B63<>\"PRC_RESID\",\"\",IF(AH$7=2005+OFFSET(AGR!$B$49,$AX63,SUMIF($B$10:$B$14,\"NCAP_TLIFE\",$AY$10:$AY$14)),0,\"\"))","v":""},null,null,null,null,{"$f":"IF($B63<>\"PRC_RESID\",\"\",IF(AM$7=2005+OFFSET(AGR!$B$49,$AX63,SUMIF($B$10:$B$14,\"NCAP_TLIFE\",$AY$10:$AY$14)),0,\"\"))","v":""},null,null,null,null,{"$f":"IF($B63<>\"PRC_RESID\",\"\",IF(AR$7=2005+OFFSET(AGR!$B$49,$AX63,SUMIF($B$10:$B$14,\"NCAP_TLIFE\",$AY$10:$AY$14)),0,\"\"))","v":""},{"$f":"IF($B63<>\"PRC_RESID\",\"\",IF(AS$7=2005+OFFSET(AGR!$B$49,$AX63,SUMIF($B$10:$B$14,\"NCAP_TLIFE\",$AY$10:$AY$14)),0,\"\"))","v":""},{"$f":"IF($B63<>\"PRC_RESID\",\"\",IF(AT$7=2005+OFFSET(AGR!$B$49,$AX63,SUMIF($B$10:$B$14,\"NCAP_TLIFE\",$AY$10:$AY$14)),0,\"\"))","v":""},{"$f":"IF($B63<>\"PRC_RESID\",\"\",IF(AU$7=2005+OFFSET(AGR!$B$49,$AX63,SUMIF($B$10:$B$14,\"NCAP_TLIFE\",$AY$10:$AY$14)),0,\"\"))","v":""},null,{"$f":"IF(AX62=AGR!$W$72,AW62+1,AW62)","v":3},2]
[{"$f":"IF(LEFT(OFFSET(AGR!$A$49,AX64,0),2)=\"\\I\",\"*\",\"\")","v":""},"NCAP_BND",{"$f":"IF($A64=\"*\",\"\",OFFSET(AGR!$B$49,AX64,0))","v":"AHOKE-E"},"-","-","-","-","UP",0,{"$f":"IF($A64=\"*\",\"\",OFFSET(AGR!$B$49,AX64,SUMIF($B$10:$B$14,B64,$AY$10:$AY$14)))","v":2.5179427215966551E-2},{"$f":"IF($B64<>\"PRC_RESID\",\"\",IF(K$7=2005+OFFSET(AGR!$B$49,$AX64,SUMIF($B$10:$B$14,\"NCAP_TLIFE\",$AY$10:$AY$14)),0,\"\"))","v":""},{"$f":"IF($B64<>\"PRC_RESID\",\"\",IF(L$7=2005+OFFSET(AGR!$B$49,$AX64,SUMIF($B$10:$B$14,\"NCAP_TLIFE\",$AY$10:$AY$14)),0,\"\"))","v":""},{"$f":"IF($B64<>\"PRC_RESID\",\"\",IF(M$7=2005+OFFSET(AGR!$B$49,$AX64,SUMIF($B$10:$B$14,\"NCAP_TLIFE\",$AY$10:$AY$14)),0,\"\"))","v":""},{"$f":"IF($B64<>\"PRC_RESID\",\"\",IF(N$7=2005+OFFSET(AGR!$B$49,$AX64,SUMIF($B$10:$B$14,\"NCAP_TLIFE\",$AY$10:$AY$14)),0,\"\"))","v":""},{"$f":"IF($B64<>\"PRC_RESID\",\"\",IF(O$7=2005+OFFSET(AGR!$B$49,$AX64,SUMIF($B$10:$B$14,\"NCAP_TLIFE\",$AY$10:$AY$14)),0,\"\"))","v":""},{"$f":"IF($B64<>\"PRC_RESID\",\"\",IF(P$7=2005+OFFSET(AGR!$B$49,$AX64,SUMIF($B$10:$B$14,\"NCAP_TLIFE\",$AY$10:$AY$14)),0,\"\"))","v":""},{"$f":"IF($B64<>\"PRC_RESID\",\"\",IF(Q$7=2005+OFFSET(AGR!$B$49,$AX64,SUMIF($B$10:$B$14,\"NCAP_TLIFE\",$AY$10:$AY$14)),0,\"\"))","v":""},{"$f":"IF($B64<>\"PRC_RESID\",\"\",IF(R$7=2005+OFFSET(AGR!$B$49,$AX64,SUMIF($B$10:$B$14,\"NCAP_TLIFE\",$AY$10:$AY$14)),0,\"\"))","v":""},{"$f":"IF($B64<>\"PRC_RESID\",\"\",IF(S$7=2005+OFFSET(AGR!$B$49,$AX64,SUMIF($B$10:$B$14,\"NCAP_TLIFE\",$AY$10:$AY$14)),0,\"\"))","v":""},{"$f":"IF($B64<>\"PRC_RESID\",\"\",IF(T$7=2005+OFFSET(AGR!$B$49,$AX64,SUMIF($B$10:$B$14,\"NCAP_TLIFE\",$AY$10:$AY$14)),0,\"\"))","v":""},{"$f":"IF($B64<>\"PRC_RESID\",\"\",IF(U$7=2005+OFFSET(AGR!$B$49,$AX64,SUMIF($B$10:$B$14,\"NCAP_TLIFE\",$AY$10:$AY$14)),0,\"\"))","v":""},{"$f":"IF($B64<>\"PRC_RESID\",\"\",IF(V$7=2005+OFFSET(AGR!$B$49,$AX64,SUMIF($B$10:$B$14,\"NCAP_TLIFE\",$AY$10:$AY$14)),0,\"\"))","v":""},{"$f":"IF($B64<>\"PRC_RESID\",\"\",IF(W$7=2005+OFFSET(AGR!$B$49,$AX64,SUMIF($B$10:$B$14,\"NCAP_TLIFE\",$AY$10:$AY$14)),0,\"\"))","v":""},{"$f":"IF($B64<>\"PRC_RESID\",\"\",IF(X$7=2005+OFFSET(AGR!$B$49,$AX64,SUMIF($B$10:$B$14,\"NCAP_TLIFE\",$AY$10:$AY$14)),0,\"\"))","v":""},{"$f":"IF($B64<>\"PRC_RESID\",\"\",IF(Y$7=2005+OFFSET(AGR!$B$49,$AX64,SUMIF($B$10:$B$14,\"NCAP_TLIFE\",$AY$10:$AY$14)),0,\"\"))","v":""},{"$f":"IF($B64<>\"PRC_RESID\",\"\",IF(Z$7=2005+OFFSET(AGR!$B$49,$AX64,SUMIF($B$10:$B$14,\"NCAP_TLIFE\",$AY$10:$AY$14)),0,\"\"))","v":""},{"$f":"IF($B64<>\"PRC_RESID\",\"\",IF(AA$7=2005+OFFSET(AGR!$B$49,$AX64,SUMIF($B$10:$B$14,\"NCAP_TLIFE\",$AY$10:$AY$14)),0,\"\"))","v":""},{"$f":"IF($B64<>\"PRC_RESID\",\"\",IF(AB$7=2005+OFFSET(AGR!$B$49,$AX64,SUMIF($B$10:$B$14,\"NCAP_TLIFE\",$AY$10:$AY$14)),0,\"\"))","v":""},{"$f":"IF($B64<>\"PRC_RESID\",\"\",IF(AC$7=2005+OFFSET(AGR!$B$49,$AX64,SUMIF($B$10:$B$14,\"NCAP_TLIFE\",$AY$10:$AY$14)),0,\"\"))","v":""},{"$f":"IF($B64<>\"PRC_RESID\",\"\",IF(AD$7=2005+OFFSET(AGR!$B$49,$AX64,SUMIF($B$10:$B$14,\"NCAP_TLIFE\",$AY$10:$AY$14)),0,\"\"))","v":""},{"$f":"IF($B64<>\"PRC_RESID\",\"\",IF(AE$7=2005+OFFSET(AGR!$B$49,$AX64,SUMIF($B$10:$B$14,\"NCAP_TLIFE\",$AY$10:$AY$14)),0,\"\"))","v":""},{"$f":"IF($B64<>\"PRC_RESID\",\"\",IF(AF$7=2005+OFFSET(AGR!$B$49,$AX64,SUMIF($B$10:$B$14,\"NCAP_TLIFE\",$AY$10:$AY$14)),0,\"\"))","v":""},{"$f":"IF($B64<>\"PRC_RESID\",\"\",IF(AG$7=2005+OFFSET(AGR!$B$49,$AX64,SUMIF($B$10:$B$14,\"NCAP_TLIFE\",$AY$10:$AY$14)),0,\"\"))","v":""},{"$f":"IF($B64<>\"PRC_RESID\",\"\",IF(AH$7=2005+OFFSET(AGR!$B$49,$AX64,SUMIF($B$10:$B$14,\"NCAP_TLIFE\",$AY$10:$AY$14)),0,\"\"))","v":""},null,null,null,null,{"$f":"IF($B64<>\"PRC_RESID\",\"\",IF(AM$7=2005+OFFSET(AGR!$B$49,$AX64,SUMIF($B$10:$B$14,\"NCAP_TLIFE\",$AY$10:$AY$14)),0,\"\"))","v":""},null,null,null,null,{"$f":"IF($B64<>\"PRC_RESID\",\"\",IF(AR$7=2005+OFFSET(AGR!$B$49,$AX64,SUMIF($B$10:$B$14,\"NCAP_TLIFE\",$AY$10:$AY$14)),0,\"\"))","v":""},{"$f":"IF($B64<>\"PRC_RESID\",\"\",IF(AS$7=2005+OFFSET(AGR!$B$49,$AX64,SUMIF($B$10:$B$14,\"NCAP_TLIFE\",$AY$10:$AY$14)),0,\"\"))","v":""},{"$f":"IF($B64<>\"PRC_RESID\",\"\",IF(AT$7=2005+OFFSET(AGR!$B$49,$AX64,SUMIF($B$10:$B$14,\"NCAP_TLIFE\",$AY$10:$AY$14)),0,\"\"))","v":""},{"$f":"IF($B64<>\"PRC_RESID\",\"\",IF(AU$7=2005+OFFSET(AGR!$B$49,$AX64,SUMIF($B$10:$B$14,\"NCAP_TLIFE\",$AY$10:$AY$14)),0,\"\"))","v":""},null,{"$f":"IF(AX63=AGR!$W$72,AW63+1,AW63)","v":3},3]
[{"$f":"IF(LEFT(OFFSET(AGR!$A$49,AX65,0),2)=\"\\I\",\"*\",\"\")","v":""},"NCAP_BND",{"$f":"IF($A65=\"*\",\"\",OFFSET(AGR!$B$49,AX65,0))","v":"AHOLP-E"},"-","-","-","-","UP",0,{"$f":"IF($A65=\"*\",\"\",OFFSET(AGR!$B$49,AX65,SUMIF($B$10:$B$14,B65,$AY$10:$AY$14)))","v":1.4542694090912808E-5},{"$f":"IF($B65<>\"PRC_RESID\",\"\",IF(K$7=2005+OFFSET(AGR!$B$49,$AX65,SUMIF($B$10:$B$14,\"NCAP_TLIFE\",$AY$10:$AY$14)),0,\"\"))","v":""},{"$f":"IF($B65<>\"PRC_RESID\",\"\",IF(L$7=2005+OFFSET(AGR!$B$49,$AX65,SUMIF($B$10:$B$14,\"NCAP_TLIFE\",$AY$10:$AY$14)),0,\"\"))","v":""},{"$f":"IF($B65<>\"PRC_RESID\",\"\",IF(M$7=2005+OFFSET(AGR!$B$49,$AX65,SUMIF($B$10:$B$14,\"NCAP_TLIFE\",$AY$10:$AY$14)),0,\"\"))","v":""},{"$f":"IF($B65<>\"PRC_RESID\",\"\",IF(N$7=2005+OFFSET(AGR!$B$49,$AX65,SUMIF($B$10:$B$14,\"NCAP_TLIFE\",$AY$10:$AY$14)),0,\"\"))","v":""},{"$f":"IF($B65<>\"PRC_RESID\",\"\",IF(O$7=2005+OFFSET(AGR!$B$49,$AX65,SUMIF($B$10:$B$14,\"NCAP_TLIFE\",$AY$10:$AY$14)),0,\"\"))","v":""},{"$f":"IF($B65<>\"PRC_RESID\",\"\",IF(P$7=2005+OFFSET(AGR!$B$49,$AX65,SUMIF($B$10:$B$14,\"NCAP_TLIFE\",$AY$10:$AY$14)),0,\"\"))","v":""},{"$f":"IF($B65<>\"PRC_RESID\",\"\",IF(Q$7=2005+OFFSET(AGR!$B$49,$AX65,SUMIF($B$10:$B$14,\"NCAP_TLIFE\",$AY$10:$AY$14)),0,\"\"))","v":""},{"$f":"IF($B65<>\"PRC_RESID\",\"\",IF(R$7=2005+OFFSET(AGR!$B$49,$AX65,SUMIF($B$10:$B$14,\"NCAP_TLIFE\",$AY$10:$AY$14)),0,\"\"))","v":""},{"$f":"IF($B65<>\"PRC_RESID\",\"\",IF(S$7=2005+OFFSET(AGR!$B$49,$AX65,SUMIF($B$10:$B$14,\"NCAP_TLIFE\",$AY$10:$AY$14)),0,\"\"))","v":""},{"$f":"IF($B65<>\"PRC_RESID\",\"\",IF(T$7=2005+OFFSET(AGR!$B$49,$AX65,SUMIF($B$10:$B$14,\"NCAP_TLIFE\",$AY$10:$AY$14)),0,\"\"))","v":""},{"$f":"IF($B65<>\"PRC_RESID\",\"\",IF(U$7=2005+OFFSET(AGR!$B$49,$AX65,SUMIF($B$10:$B$14,\"NCAP_TLIFE\",$AY$10:$AY$14)),0,\"\"))","v":""},{"$f":"IF($B65<>\"PRC_RESID\",\"\",IF(V$7=2005+OFFSET(AGR!$B$49,$AX65,SUMIF($B$10:$B$14,\"NCAP_TLIFE\",$AY$10:$AY$14)),0,\"\"))","v":""},{"$f":"IF($B65<>\"PRC_RESID\",\"\",IF(W$7=2005+OFFSET(AGR!$B$49,$AX65,SUMIF($B$10:$B$14,\"NCAP_TLIFE\",$AY$10:$AY$14)),0,\"\"))","v":""},{"$f":"IF($B65<>\"PRC_RESID\",\"\",IF(X$7=2005+OFFSET(AGR!$B$49,$AX65,SUMIF($B$10:$B$14,\"NCAP_TLIFE\",$AY$10:$AY$14)),0,\"\"))","v":""},{"$f":"IF($B65<>\"PRC_RESID\",\"\",IF(Y$7=2005+OFFSET(AGR!$B$49,$AX65,SUMIF($B$10:$B$14,\"NCAP_TLIFE\",$AY$10:$AY$14)),0,\"\"))","v":""},{"$f":"IF($B65<>\"PRC_RESID\",\"\",IF(Z$7=2005+OFFSET(AGR!$B$49,$AX65,SUMIF($B$10:$B$14,\"NCAP_TLIFE\",$AY$10:$AY$14)),0,\"\"))","v":""},{"$f":"IF($B65<>\"PRC_RESID\",\"\",IF(AA$7=2005+OFFSET(AGR!$B$49,$AX65,SUMIF($B$10:$B$14,\"NCAP_TLIFE\",$AY$10:$AY$14)),0,\"\"))","v":""},{"$f":"IF($B65<>\"PRC_RESID\",\"\",IF(AB$7=2005+OFFSET(AGR!$B$49,$AX65,SUMIF($B$10:$B$14,\"NCAP_TLIFE\",$AY$10:$AY$14)),0,\"\"))","v":""},{"$f":"IF($B65<>\"PRC_RESID\",\"\",IF(AC$7=2005+OFFSET(AGR!$B$49,$AX65,SUMIF($B$10:$B$14,\"NCAP_TLIFE\",$AY$10:$AY$14)),0,\"\"))","v":""},{"$f":"IF($B65<>\"PRC_RESID\",\"\",IF(AD$7=2005+OFFSET(AGR!$B$49,$AX65,SUMIF($B$10:$B$14,\"NCAP_TLIFE\",$AY$10:$AY$14)),0,\"\"))","v":""},{"$f":"IF($B65<>\"PRC_RESID\",\"\",IF(AE$7=2005+OFFSET(AGR!$B$49,$AX65,SUMIF($B$10:$B$14,\"NCAP_TLIFE\",$AY$10:$AY$14)),0,\"\"))","v":""},{"$f":"IF($B65<>\"PRC_RESID\",\"\",IF(AF$7=2005+OFFSET(AGR!$B$49,$AX65,SUMIF($B$10:$B$14,\"NCAP_TLIFE\",$AY$10:$AY$14)),0,\"\"))","v":""},{"$f":"IF($B65<>\"PRC_RESID\",\"\",IF(AG$7=2005+OFFSET(AGR!$B$49,$AX65,SUMIF($B$10:$B$14,\"NCAP_TLIFE\",$AY$10:$AY$14)),0,\"\"))","v":""},{"$f":"IF($B65<>\"PRC_RESID\",\"\",IF(AH$7=2005+OFFSET(AGR!$B$49,$AX65,SUMIF($B$10:$B$14,\"NCAP_TLIFE\",$AY$10:$AY$14)),0,\"\"))","v":""},null,null,null,null,{"$f":"IF($B65<>\"PRC_RESID\",\"\",IF(AM$7=2005+OFFSET(AGR!$B$49,$AX65,SUMIF($B$10:$B$14,\"NCAP_TLIFE\",$AY$10:$AY$14)),0,\"\"))","v":""},null,null,null,null,{"$f":"IF($B65<>\"PRC_RESID\",\"\",IF(AR$7=2005+OFFSET(AGR!$B$49,$AX65,SUMIF($B$10:$B$14,\"NCAP_TLIFE\",$AY$10:$AY$14)),0,\"\"))","v":""},{"$f":"IF($B65<>\"PRC_RESID\",\"\",IF(AS$7=2005+OFFSET(AGR!$B$49,$AX65,SUMIF($B$10:$B$14,\"NCAP_TLIFE\",$AY$10:$AY$14)),0,\"\"))","v":""},{"$f":"IF($B65<>\"PRC_RESID\",\"\",IF(AT$7=2005+OFFSET(AGR!$B$49,$AX65,SUMIF($B$10:$B$14,\"NCAP_TLIFE\",$AY$10:$AY$14)),0,\"\"))","v":""},{"$f":"IF($B65<>\"PRC_RESID\",\"\",IF(AU$7=2005+OFFSET(AGR!$B$49,$AX65,SUMIF($B$10:$B$14,\"NCAP_TLIFE\",$AY$10:$AY$14)),0,\"\"))","v":""},null,{"$f":"IF(AX64=AGR!$W$72,AW64+1,AW64)","v":3},4]
[{"$f":"IF(LEFT(OFFSET(AGR!$A$49,AX66,0),2)=\"\\I\",\"*\",\"\")","v":""},"NCAP_BND",{"$f":"IF($A66=\"*\",\"\",OFFSET(AGR!$B$49,AX66,0))","v":"AHELC-E"},"-","-","-","-","UP",0,{"$f":"IF($A66=\"*\",\"\",OFFSET(AGR!$B$49,AX66,SUMIF($B$10:$B$14,B66,$AY$10:$AY$14)))","v":0},{"$f":"IF($B66<>\"PRC_RESID\",\"\",IF(K$7=2005+OFFSET(AGR!$B$49,$AX66,SUMIF($B$10:$B$14,\"NCAP_TLIFE\",$AY$10:$AY$14)),0,\"\"))","v":""},{"$f":"IF($B66<>\"PRC_RESID\",\"\",IF(L$7=2005+OFFSET(AGR!$B$49,$AX66,SUMIF($B$10:$B$14,\"NCAP_TLIFE\",$AY$10:$AY$14)),0,\"\"))","v":""},{"$f":"IF($B66<>\"PRC_RESID\",\"\",IF(M$7=2005+OFFSET(AGR!$B$49,$AX66,SUMIF($B$10:$B$14,\"NCAP_TLIFE\",$AY$10:$AY$14)),0,\"\"))","v":""},{"$f":"IF($B66<>\"PRC_RESID\",\"\",IF(N$7=2005+OFFSET(AGR!$B$49,$AX66,SUMIF($B$10:$B$14,\"NCAP_TLIFE\",$AY$10:$AY$14)),0,\"\"))","v":""},{"$f":"IF($B66<>\"PRC_RESID\",\"\",IF(O$7=2005+OFFSET(AGR!$B$49,$AX66,SUMIF($B$10:$B$14,\"NCAP_TLIFE\",$AY$10:$AY$14)),0,\"\"))","v":""},{"$f":"IF($B66<>\"PRC_RESID\",\"\",IF(P$7=2005+OFFSET(AGR!$B$49,$AX66,SUMIF($B$10:$B$14,\"NCAP_TLIFE\",$AY$10:$AY$14)),0,\"\"))","v":""},{"$f":"IF($B66<>\"PRC_RESID\",\"\",IF(Q$7=2005+OFFSET(AGR!$B$49,$AX66,SUMIF($B$10:$B$14,\"NCAP_TLIFE\",$AY$10:$AY$14)),0,\"\"))","v":""},{"$f":"IF($B66<>\"PRC_RESID\",\"\",IF(R$7=2005+OFFSET(AGR!$B$49,$AX66,SUMIF($B$10:$B$14,\"NCAP_TLIFE\",$AY$10:$AY$14)),0,\"\"))","v":""},{"$f":"IF($B66<>\"PRC_RESID\",\"\",IF(S$7=2005+OFFSET(AGR!$B$49,$AX66,SUMIF($B$10:$B$14,\"NCAP_TLIFE\",$AY$10:$AY$14)),0,\"\"))","v":""},{"$f":"IF($B66<>\"PRC_RESID\",\"\",IF(T$7=2005+OFFSET(AGR!$B$49,$AX66,SUMIF($B$10:$B$14,\"NCAP_TLIFE\",$AY$10:$AY$14)),0,\"\"))","v":""},{"$f":"IF($B66<>\"PRC_RESID\",\"\",IF(U$7=2005+OFFSET(AGR!$B$49,$AX66,SUMIF($B$10:$B$14,\"NCAP_TLIFE\",$AY$10:$AY$14)),0,\"\"))","v":""},{"$f":"IF($B66<>\"PRC_RESID\",\"\",IF(V$7=2005+OFFSET(AGR!$B$49,$AX66,SUMIF($B$10:$B$14,\"NCAP_TLIFE\",$AY$10:$AY$14)),0,\"\"))","v":""},{"$f":"IF($B66<>\"PRC_RESID\",\"\",IF(W$7=2005+OFFSET(AGR!$B$49,$AX66,SUMIF($B$10:$B$14,\"NCAP_TLIFE\",$AY$10:$AY$14)),0,\"\"))","v":""},{"$f":"IF($B66<>\"PRC_RESID\",\"\",IF(X$7=2005+OFFSET(AGR!$B$49,$AX66,SUMIF($B$10:$B$14,\"NCAP_TLIFE\",$AY$10:$AY$14)),0,\"\"))","v":""},{"$f":"IF($B66<>\"PRC_RESID\",\"\",IF(Y$7=2005+OFFSET(AGR!$B$49,$AX66,SUMIF($B$10:$B$14,\"NCAP_TLIFE\",$AY$10:$AY$14)),0,\"\"))","v":""},{"$f":"IF($B66<>\"PRC_RESID\",\"\",IF(Z$7=2005+OFFSET(AGR!$B$49,$AX66,SUMIF($B$10:$B$14,\"NCAP_TLIFE\",$AY$10:$AY$14)),0,\"\"))","v":""},{"$f":"IF($B66<>\"PRC_RESID\",\"\",IF(AA$7=2005+OFFSET(AGR!$B$49,$AX66,SUMIF($B$10:$B$14,\"NCAP_TLIFE\",$AY$10:$AY$14)),0,\"\"))","v":""},{"$f":"IF($B66<>\"PRC_RESID\",\"\",IF(AB$7=2005+OFFSET(AGR!$B$49,$AX66,SUMIF($B$10:$B$14,\"NCAP_TLIFE\",$AY$10:$AY$14)),0,\"\"))","v":""},{"$f":"IF($B66<>\"PRC_RESID\",\"\",IF(AC$7=2005+OFFSET(AGR!$B$49,$AX66,SUMIF($B$10:$B$14,\"NCAP_TLIFE\",$AY$10:$AY$14)),0,\"\"))","v":""},{"$f":"IF($B66<>\"PRC_RESID\",\"\",IF(AD$7=2005+OFFSET(AGR!$B$49,$AX66,SUMIF($B$10:$B$14,\"NCAP_TLIFE\",$AY$10:$AY$14)),0,\"\"))","v":""},{"$f":"IF($B66<>\"PRC_RESID\",\"\",IF(AE$7=2005+OFFSET(AGR!$B$49,$AX66,SUMIF($B$10:$B$14,\"NCAP_TLIFE\",$AY$10:$AY$14)),0,\"\"))","v":""},{"$f":"IF($B66<>\"PRC_RESID\",\"\",IF(AF$7=2005+OFFSET(AGR!$B$49,$AX66,SUMIF($B$10:$B$14,\"NCAP_TLIFE\",$AY$10:$AY$14)),0,\"\"))","v":""},{"$f":"IF($B66<>\"PRC_RESID\",\"\",IF(AG$7=2005+OFFSET(AGR!$B$49,$AX66,SUMIF($B$10:$B$14,\"NCAP_TLIFE\",$AY$10:$AY$14)),0,\"\"))","v":""},{"$f":"IF($B66<>\"PRC_RESID\",\"\",IF(AH$7=2005+OFFSET(AGR!$B$49,$AX66,SUMIF($B$10:$B$14,\"NCAP_TLIFE\",$AY$10:$AY$14)),0,\"\"))","v":""},null,null,null,null,{"$f":"IF($B66<>\"PRC_RESID\",\"\",IF(AM$7=2005+OFFSET(AGR!$B$49,$AX66,SUMIF($B$10:$B$14,\"NCAP_TLIFE\",$AY$10:$AY$14)),0,\"\"))","v":""},null,null,null,null,{"$f":"IF($B66<>\"PRC_RESID\",\"\",IF(AR$7=2005+OFFSET(AGR!$B$49,$AX66,SUMIF($B$10:$B$14,\"NCAP_TLIFE\",$AY$10:$AY$14)),0,\"\"))","v":""},{"$f":"IF($B66<>\"PRC_RESID\",\"\",IF(AS$7=2005+OFFSET(AGR!$B$49,$AX66,SUMIF($B$10:$B$14,\"NCAP_TLIFE\",$AY$10:$AY$14)),0,\"\"))","v":""},{"$f":"IF($B66<>\"PRC_RESID\",\"\",IF(AT$7=2005+OFFSET(AGR!$B$49,$AX66,SUMIF($B$10:$B$14,\"NCAP_TLIFE\",$AY$10:$AY$14)),0,\"\"))","v":""},{"$f":"IF($B66<>\"PRC_RESID\",\"\",IF(AU$7=2005+OFFSET(AGR!$B$49,$AX66,SUMIF($B$10:$B$14,\"NCAP_TLIFE\",$AY$10:$AY$14)),0,\"\"))","v":""},null,{"$f":"IF(AX65=AGR!$W$72,AW65+1,AW65)","v":3},5]
[{"$f":"IF(LEFT(OFFSET(AGR!$A$49,AX67,0),2)=\"\\I\",\"*\",\"\")","v":"*"},"",{"$f":"IF($A67=\"*\",\"\",OFFSET(AGR!$B$49,AX67,0))","v":""},"","","","","","",{"$f":"IF($A67=\"*\",\"\",OFFSET(AGR!$B$49,AX67,SUMIF($B$10:$B$14,B67,$AY$10:$AY$14)))","v":""},{"$f":"IF($B67<>\"PRC_RESID\",\"\",IF(K$7=2005+OFFSET(AGR!$B$49,$AX67,SUMIF($B$10:$B$14,\"NCAP_TLIFE\",$AY$10:$AY$14)),0,\"\"))","v":""},{"$f":"IF($B67<>\"PRC_RESID\",\"\",IF(L$7=2005+OFFSET(AGR!$B$49,$AX67,SUMIF($B$10:$B$14,\"NCAP_TLIFE\",$AY$10:$AY$14)),0,\"\"))","v":""},{"$f":"IF($B67<>\"PRC_RESID\",\"\",IF(M$7=2005+OFFSET(AGR!$B$49,$AX67,SUMIF($B$10:$B$14,\"NCAP_TLIFE\",$AY$10:$AY$14)),0,\"\"))","v":""},{"$f":"IF($B67<>\"PRC_RESID\",\"\",IF(N$7=2005+OFFSET(AGR!$B$49,$AX67,SUMIF($B$10:$B$14,\"NCAP_TLIFE\",$AY$10:$AY$14)),0,\"\"))","v":""},{"$f":"IF($B67<>\"PRC_RESID\",\"\",IF(O$7=2005+OFFSET(AGR!$B$49,$AX67,SUMIF($B$10:$B$14,\"NCAP_TLIFE\",$AY$10:$AY$14)),0,\"\"))","v":""},{"$f":"IF($B67<>\"PRC_RESID\",\"\",IF(P$7=2005+OFFSET(AGR!$B$49,$AX67,SUMIF($B$10:$B$14,\"NCAP_TLIFE\",$AY$10:$AY$14)),0,\"\"))","v":""},{"$f":"IF($B67<>\"PRC_RESID\",\"\",IF(Q$7=2005+OFFSET(AGR!$B$49,$AX67,SUMIF($B$10:$B$14,\"NCAP_TLIFE\",$AY$10:$AY$14)),0,\"\"))","v":""},{"$f":"IF($B67<>\"PRC_RESID\",\"\",IF(R$7=2005+OFFSET(AGR!$B$49,$AX67,SUMIF($B$10:$B$14,\"NCAP_TLIFE\",$AY$10:$AY$14)),0,\"\"))","v":""},{"$f":"IF($B67<>\"PRC_RESID\",\"\",IF(S$7=2005+OFFSET(AGR!$B$49,$AX67,SUMIF($B$10:$B$14,\"NCAP_TLIFE\",$AY$10:$AY$14)),0,\"\"))","v":""},{"$f":"IF($B67<>\"PRC_RESID\",\"\",IF(T$7=2005+OFFSET(AGR!$B$49,$AX67,SUMIF($B$10:$B$14,\"NCAP_TLIFE\",$AY$10:$AY$14)),0,\"\"))","v":""},{"$f":"IF($B67<>\"PRC_RESID\",\"\",IF(U$7=2005+OFFSET(AGR!$B$49,$AX67,SUMIF($B$10:$B$14,\"NCAP_TLIFE\",$AY$10:$AY$14)),0,\"\"))","v":""},{"$f":"IF($B67<>\"PRC_RESID\",\"\",IF(V$7=2005+OFFSET(AGR!$B$49,$AX67,SUMIF($B$10:$B$14,\"NCAP_TLIFE\",$AY$10:$AY$14)),0,\"\"))","v":""},{"$f":"IF($B67<>\"PRC_RESID\",\"\",IF(W$7=2005+OFFSET(AGR!$B$49,$AX67,SUMIF($B$10:$B$14,\"NCAP_TLIFE\",$AY$10:$AY$14)),0,\"\"))","v":""},{"$f":"IF($B67<>\"PRC_RESID\",\"\",IF(X$7=2005+OFFSET(AGR!$B$49,$AX67,SUMIF($B$10:$B$14,\"NCAP_TLIFE\",$AY$10:$AY$14)),0,\"\"))","v":""},{"$f":"IF($B67<>\"PRC_RESID\",\"\",IF(Y$7=2005+OFFSET(AGR!$B$49,$AX67,SUMIF($B$10:$B$14,\"NCAP_TLIFE\",$AY$10:$AY$14)),0,\"\"))","v":""},{"$f":"IF($B67<>\"PRC_RESID\",\"\",IF(Z$7=2005+OFFSET(AGR!$B$49,$AX67,SUMIF($B$10:$B$14,\"NCAP_TLIFE\",$AY$10:$AY$14)),0,\"\"))","v":""},{"$f":"IF($B67<>\"PRC_RESID\",\"\",IF(AA$7=2005+OFFSET(AGR!$B$49,$AX67,SUMIF($B$10:$B$14,\"NCAP_TLIFE\",$AY$10:$AY$14)),0,\"\"))","v":""},{"$f":"IF($B67<>\"PRC_RESID\",\"\",IF(AB$7=2005+OFFSET(AGR!$B$49,$AX67,SUMIF($B$10:$B$14,\"NCAP_TLIFE\",$AY$10:$AY$14)),0,\"\"))","v":""},{"$f":"IF($B67<>\"PRC_RESID\",\"\",IF(AC$7=2005+OFFSET(AGR!$B$49,$AX67,SUMIF($B$10:$B$14,\"NCAP_TLIFE\",$AY$10:$AY$14)),0,\"\"))","v":""},{"$f":"IF($B67<>\"PRC_RESID\",\"\",IF(AD$7=2005+OFFSET(AGR!$B$49,$AX67,SUMIF($B$10:$B$14,\"NCAP_TLIFE\",$AY$10:$AY$14)),0,\"\"))","v":""},{"$f":"IF($B67<>\"PRC_RESID\",\"\",IF(AE$7=2005+OFFSET(AGR!$B$49,$AX67,SUMIF($B$10:$B$14,\"NCAP_TLIFE\",$AY$10:$AY$14)),0,\"\"))","v":""},{"$f":"IF($B67<>\"PRC_RESID\",\"\",IF(AF$7=2005+OFFSET(AGR!$B$49,$AX67,SUMIF($B$10:$B$14,\"NCAP_TLIFE\",$AY$10:$AY$14)),0,\"\"))","v":""},{"$f":"IF($B67<>\"PRC_RESID\",\"\",IF(AG$7=2005+OFFSET(AGR!$B$49,$AX67,SUMIF($B$10:$B$14,\"NCAP_TLIFE\",$AY$10:$AY$14)),0,\"\"))","v":""},{"$f":"IF($B67<>\"PRC_RESID\",\"\",IF(AH$7=2005+OFFSET(AGR!$B$49,$AX67,SUMIF($B$10:$B$14,\"NCAP_TLIFE\",$AY$10:$AY$14)),0,\"\"))","v":""},null,null,null,null,{"$f":"IF($B67<>\"PRC_RESID\",\"\",IF(AM$7=2005+OFFSET(AGR!$B$49,$AX67,SUMIF($B$10:$B$14,\"NCAP_TLIFE\",$AY$10:$AY$14)),0,\"\"))","v":""},null,null,null,null,{"$f":"IF($B67<>\"PRC_RESID\",\"\",IF(AR$7=2005+OFFSET(AGR!$B$49,$AX67,SUMIF($B$10:$B$14,\"NCAP_TLIFE\",$AY$10:$AY$14)),0,\"\"))","v":""},{"$f":"IF($B67<>\"PRC_RESID\",\"\",IF(AS$7=2005+OFFSET(AGR!$B$49,$AX67,SUMIF($B$10:$B$14,\"NCAP_TLIFE\",$AY$10:$AY$14)),0,\"\"))","v":""},{"$f":"IF($B67<>\"PRC_RESID\",\"\",IF(AT$7=2005+OFFSET(AGR!$B$49,$AX67,SUMIF($B$10:$B$14,\"NCAP_TLIFE\",$AY$10:$AY$14)),0,\"\"))","v":""},{"$f":"IF($B67<>\"PRC_RESID\",\"\",IF(AU$7=2005+OFFSET(AGR!$B$49,$AX67,SUMIF($B$10:$B$14,\"NCAP_TLIFE\",$AY$10:$AY$14)),0,\"\"))","v":""},null,{"$f":"IF(AX66=AGR!$W$72,AW66+1,AW66)","v":3},6]
[{"$f":"IF(LEFT(OFFSET(AGR!$A$49,AX68,0),2)=\"\\I\",\"*\",\"\")","v":"*"},"",{"$f":"IF($A68=\"*\",\"\",OFFSET(AGR!$B$49,AX68,0))","v":""},{"$f":"IF($A68=\"*\",\"\",VLOOKUP($B68,$B$10:$I$14,D$9,FALSE))","v":""},"","","","","",{"$f":"IF($A68=\"*\",\"\",OFFSET(AGR!$B$49,AX68,SUMIF($B$10:$B$14,B68,$AY$10:$AY$14)))","v":""},{"$f":"IF($B68<>\"PRC_RESID\",\"\",IF(K$7=2005+OFFSET(AGR!$B$49,$AX68,SUMIF($B$10:$B$14,\"NCAP_TLIFE\",$AY$10:$AY$14)),0,\"\"))","v":""},{"$f":"IF($B68<>\"PRC_RESID\",\"\",IF(L$7=2005+OFFSET(AGR!$B$49,$AX68,SUMIF($B$10:$B$14,\"NCAP_TLIFE\",$AY$10:$AY$14)),0,\"\"))","v":""},{"$f":"IF($B68<>\"PRC_RESID\",\"\",IF(M$7=2005+OFFSET(AGR!$B$49,$AX68,SUMIF($B$10:$B$14,\"NCAP_TLIFE\",$AY$10:$AY$14)),0,\"\"))","v":""},{"$f":"IF($B68<>\"PRC_RESID\",\"\",IF(N$7=2005+OFFSET(AGR!$B$49,$AX68,SUMIF($B$10:$B$14,\"NCAP_TLIFE\",$AY$10:$AY$14)),0,\"\"))","v":""},{"$f":"IF($B68<>\"PRC_RESID\",\"\",IF(O$7=2005+OFFSET(AGR!$B$49,$AX68,SUMIF($B$10:$B$14,\"NCAP_TLIFE\",$AY$10:$AY$14)),0,\"\"))","v":""},{"$f":"IF($B68<>\"PRC_RESID\",\"\",IF(P$7=2005+OFFSET(AGR!$B$49,$AX68,SUMIF($B$10:$B$14,\"NCAP_TLIFE\",$AY$10:$AY$14)),0,\"\"))","v":""},{"$f":"IF($B68<>\"PRC_RESID\",\"\",IF(Q$7=2005+OFFSET(AGR!$B$49,$AX68,SUMIF($B$10:$B$14,\"NCAP_TLIFE\",$AY$10:$AY$14)),0,\"\"))","v":""},{"$f":"IF($B68<>\"PRC_RESID\",\"\",IF(R$7=2005+OFFSET(AGR!$B$49,$AX68,SUMIF($B$10:$B$14,\"NCAP_TLIFE\",$AY$10:$AY$14)),0,\"\"))","v":""},{"$f":"IF($B68<>\"PRC_RESID\",\"\",IF(S$7=2005+OFFSET(AGR!$B$49,$AX68,SUMIF($B$10:$B$14,\"NCAP_TLIFE\",$AY$10:$AY$14)),0,\"\"))","v":""},{"$f":"IF($B68<>\"PRC_RESID\",\"\",IF(T$7=2005+OFFSET(AGR!$B$49,$AX68,SUMIF($B$10:$B$14,\"NCAP_TLIFE\",$AY$10:$AY$14)),0,\"\"))","v":""},{"$f":"IF($B68<>\"PRC_RESID\",\"\",IF(U$7=2005+OFFSET(AGR!$B$49,$AX68,SUMIF($B$10:$B$14,\"NCAP_TLIFE\",$AY$10:$AY$14)),0,\"\"))","v":""},{"$f":"IF($B68<>\"PRC_RESID\",\"\",IF(V$7=2005+OFFSET(AGR!$B$49,$AX68,SUMIF($B$10:$B$14,\"NCAP_TLIFE\",$AY$10:$AY$14)),0,\"\"))","v":""},{"$f":"IF($B68<>\"PRC_RESID\",\"\",IF(W$7=2005+OFFSET(AGR!$B$49,$AX68,SUMIF($B$10:$B$14,\"NCAP_TLIFE\",$AY$10:$AY$14)),0,\"\"))","v":""},{"$f":"IF($B68<>\"PRC_RESID\",\"\",IF(X$7=2005+OFFSET(AGR!$B$49,$AX68,SUMIF($B$10:$B$14,\"NCAP_TLIFE\",$AY$10:$AY$14)),0,\"\"))","v":""},{"$f":"IF($B68<>\"PRC_RESID\",\"\",IF(Y$7=2005+OFFSET(AGR!$B$49,$AX68,SUMIF($B$10:$B$14,\"NCAP_TLIFE\",$AY$10:$AY$14)),0,\"\"))","v":""},{"$f":"IF($B68<>\"PRC_RESID\",\"\",IF(Z$7=2005+OFFSET(AGR!$B$49,$AX68,SUMIF($B$10:$B$14,\"NCAP_TLIFE\",$AY$10:$AY$14)),0,\"\"))","v":""},{"$f":"IF($B68<>\"PRC_RESID\",\"\",IF(AA$7=2005+OFFSET(AGR!$B$49,$AX68,SUMIF($B$10:$B$14,\"NCAP_TLIFE\",$AY$10:$AY$14)),0,\"\"))","v":""},{"$f":"IF($B68<>\"PRC_RESID\",\"\",IF(AB$7=2005+OFFSET(AGR!$B$49,$AX68,SUMIF($B$10:$B$14,\"NCAP_TLIFE\",$AY$10:$AY$14)),0,\"\"))","v":""},{"$f":"IF($B68<>\"PRC_RESID\",\"\",IF(AC$7=2005+OFFSET(AGR!$B$49,$AX68,SUMIF($B$10:$B$14,\"NCAP_TLIFE\",$AY$10:$AY$14)),0,\"\"))","v":""},{"$f":"IF($B68<>\"PRC_RESID\",\"\",IF(AD$7=2005+OFFSET(AGR!$B$49,$AX68,SUMIF($B$10:$B$14,\"NCAP_TLIFE\",$AY$10:$AY$14)),0,\"\"))","v":""},{"$f":"IF($B68<>\"PRC_RESID\",\"\",IF(AE$7=2005+OFFSET(AGR!$B$49,$AX68,SUMIF($B$10:$B$14,\"NCAP_TLIFE\",$AY$10:$AY$14)),0,\"\"))","v":""},{"$f":"IF($B68<>\"PRC_RESID\",\"\",IF(AF$7=2005+OFFSET(AGR!$B$49,$AX68,SUMIF($B$10:$B$14,\"NCAP_TLIFE\",$AY$10:$AY$14)),0,\"\"))","v":""},{"$f":"IF($B68<>\"PRC_RESID\",\"\",IF(AG$7=2005+OFFSET(AGR!$B$49,$AX68,SUMIF($B$10:$B$14,\"NCAP_TLIFE\",$AY$10:$AY$14)),0,\"\"))","v":""},{"$f":"IF($B68<>\"PRC_RESID\",\"\",IF(AH$7=2005+OFFSET(AGR!$B$49,$AX68,SUMIF($B$10:$B$14,\"NCAP_TLIFE\",$AY$10:$AY$14)),0,\"\"))","v":""},null,null,null,null,{"$f":"IF($B68<>\"PRC_RESID\",\"\",IF(AM$7=2005+OFFSET(AGR!$B$49,$AX68,SUMIF($B$10:$B$14,\"NCAP_TLIFE\",$AY$10:$AY$14)),0,\"\"))","v":""},null,null,null,null,{"$f":"IF($B68<>\"PRC_RESID\",\"\",IF(AR$7=2005+OFFSET(AGR!$B$49,$AX68,SUMIF($B$10:$B$14,\"NCAP_TLIFE\",$AY$10:$AY$14)),0,\"\"))","v":""},{"$f":"IF($B68<>\"PRC_RESID\",\"\",IF(AS$7=2005+OFFSET(AGR!$B$49,$AX68,SUMIF($B$10:$B$14,\"NCAP_TLIFE\",$AY$10:$AY$14)),0,\"\"))","v":""},{"$f":"IF($B68<>\"PRC_RESID\",\"\",IF(AT$7=2005+OFFSET(AGR!$B$49,$AX68,SUMIF($B$10:$B$14,\"NCAP_TLIFE\",$AY$10:$AY$14)),0,\"\"))","v":""},{"$f":"IF($B68<>\"PRC_RESID\",\"\",IF(AU$7=2005+OFFSET(AGR!$B$49,$AX68,SUMIF($B$10:$B$14,\"NCAP_TLIFE\",$AY$10:$AY$14)),0,\"\"))","v":""},null,{"$f":"IF(AX67=AGR!$W$72,AW67+1,AW67)","v":3},7]
[{"$f":"IF(LEFT(OFFSET(AGR!$A$49,AX69,0),2)=\"\\I\",\"*\",\"\")","v":""},"NCAP_BND",{"$f":"IF($A69=\"*\",\"\",OFFSET(AGR!$B$49,AX69,0))","v":"APELC-E"},"-","-","-","-","UP",0,{"$f":"IF($A69=\"*\",\"\",OFFSET(AGR!$B$49,AX69,SUMIF($B$10:$B$14,B69,$AY$10:$AY$14)))","v":0.05},{"$f":"IF($B69<>\"PRC_RESID\",\"\",IF(K$7=2005+OFFSET(AGR!$B$49,$AX69,SUMIF($B$10:$B$14,\"NCAP_TLIFE\",$AY$10:$AY$14)),0,\"\"))","v":""},{"$f":"IF($B69<>\"PRC_RESID\",\"\",IF(L$7=2005+OFFSET(AGR!$B$49,$AX69,SUMIF($B$10:$B$14,\"NCAP_TLIFE\",$AY$10:$AY$14)),0,\"\"))","v":""},{"$f":"IF($B69<>\"PRC_RESID\",\"\",IF(M$7=2005+OFFSET(AGR!$B$49,$AX69,SUMIF($B$10:$B$14,\"NCAP_TLIFE\",$AY$10:$AY$14)),0,\"\"))","v":""},{"$f":"IF($B69<>\"PRC_RESID\",\"\",IF(N$7=2005+OFFSET(AGR!$B$49,$AX69,SUMIF($B$10:$B$14,\"NCAP_TLIFE\",$AY$10:$AY$14)),0,\"\"))","v":""},{"$f":"IF($B69<>\"PRC_RESID\",\"\",IF(O$7=2005+OFFSET(AGR!$B$49,$AX69,SUMIF($B$10:$B$14,\"NCAP_TLIFE\",$AY$10:$AY$14)),0,\"\"))","v":""},{"$f":"IF($B69<>\"PRC_RESID\",\"\",IF(P$7=2005+OFFSET(AGR!$B$49,$AX69,SUMIF($B$10:$B$14,\"NCAP_TLIFE\",$AY$10:$AY$14)),0,\"\"))","v":""},{"$f":"IF($B69<>\"PRC_RESID\",\"\",IF(Q$7=2005+OFFSET(AGR!$B$49,$AX69,SUMIF($B$10:$B$14,\"NCAP_TLIFE\",$AY$10:$AY$14)),0,\"\"))","v":""},{"$f":"IF($B69<>\"PRC_RESID\",\"\",IF(R$7=2005+OFFSET(AGR!$B$49,$AX69,SUMIF($B$10:$B$14,\"NCAP_TLIFE\",$AY$10:$AY$14)),0,\"\"))","v":""},{"$f":"IF($B69<>\"PRC_RESID\",\"\",IF(S$7=2005+OFFSET(AGR!$B$49,$AX69,SUMIF($B$10:$B$14,\"NCAP_TLIFE\",$AY$10:$AY$14)),0,\"\"))","v":""},{"$f":"IF($B69<>\"PRC_RESID\",\"\",IF(T$7=2005+OFFSET(AGR!$B$49,$AX69,SUMIF($B$10:$B$14,\"NCAP_TLIFE\",$AY$10:$AY$14)),0,\"\"))","v":""},{"$f":"IF($B69<>\"PRC_RESID\",\"\",IF(U$7=2005+OFFSET(AGR!$B$49,$AX69,SUMIF($B$10:$B$14,\"NCAP_TLIFE\",$AY$10:$AY$14)),0,\"\"))","v":""},{"$f":"IF($B69<>\"PRC_RESID\",\"\",IF(V$7=2005+OFFSET(AGR!$B$49,$AX69,SUMIF($B$10:$B$14,\"NCAP_TLIFE\",$AY$10:$AY$14)),0,\"\"))","v":""},{"$f":"IF($B69<>\"PRC_RESID\",\"\",IF(W$7=2005+OFFSET(AGR!$B$49,$AX69,SUMIF($B$10:$B$14,\"NCAP_TLIFE\",$AY$10:$AY$14)),0,\"\"))","v":""},{"$f":"IF($B69<>\"PRC_RESID\",\"\",IF(X$7=2005+OFFSET(AGR!$B$49,$AX69,SUMIF($B$10:$B$14,\"NCAP_TLIFE\",$AY$10:$AY$14)),0,\"\"))","v":""},{"$f":"IF($B69<>\"PRC_RESID\",\"\",IF(Y$7=2005+OFFSET(AGR!$B$49,$AX69,SUMIF($B$10:$B$14,\"NCAP_TLIFE\",$AY$10:$AY$14)),0,\"\"))","v":""},{"$f":"IF($B69<>\"PRC_RESID\",\"\",IF(Z$7=2005+OFFSET(AGR!$B$49,$AX69,SUMIF($B$10:$B$14,\"NCAP_TLIFE\",$AY$10:$AY$14)),0,\"\"))","v":""},{"$f":"IF($B69<>\"PRC_RESID\",\"\",IF(AA$7=2005+OFFSET(AGR!$B$49,$AX69,SUMIF($B$10:$B$14,\"NCAP_TLIFE\",$AY$10:$AY$14)),0,\"\"))","v":""},{"$f":"IF($B69<>\"PRC_RESID\",\"\",IF(AB$7=2005+OFFSET(AGR!$B$49,$AX69,SUMIF($B$10:$B$14,\"NCAP_TLIFE\",$AY$10:$AY$14)),0,\"\"))","v":""},{"$f":"IF($B69<>\"PRC_RESID\",\"\",IF(AC$7=2005+OFFSET(AGR!$B$49,$AX69,SUMIF($B$10:$B$14,\"NCAP_TLIFE\",$AY$10:$AY$14)),0,\"\"))","v":""},{"$f":"IF($B69<>\"PRC_RESID\",\"\",IF(AD$7=2005+OFFSET(AGR!$B$49,$AX69,SUMIF($B$10:$B$14,\"NCAP_TLIFE\",$AY$10:$AY$14)),0,\"\"))","v":""},{"$f":"IF($B69<>\"PRC_RESID\",\"\",IF(AE$7=2005+OFFSET(AGR!$B$49,$AX69,SUMIF($B$10:$B$14,\"NCAP_TLIFE\",$AY$10:$AY$14)),0,\"\"))","v":""},{"$f":"IF($B69<>\"PRC_RESID\",\"\",IF(AF$7=2005+OFFSET(AGR!$B$49,$AX69,SUMIF($B$10:$B$14,\"NCAP_TLIFE\",$AY$10:$AY$14)),0,\"\"))","v":""},{"$f":"IF($B69<>\"PRC_RESID\",\"\",IF(AG$7=2005+OFFSET(AGR!$B$49,$AX69,SUMIF($B$10:$B$14,\"NCAP_TLIFE\",$AY$10:$AY$14)),0,\"\"))","v":""},{"$f":"IF($B69<>\"PRC_RESID\",\"\",IF(AH$7=2005+OFFSET(AGR!$B$49,$AX69,SUMIF($B$10:$B$14,\"NCAP_TLIFE\",$AY$10:$AY$14)),0,\"\"))","v":""},null,null,null,null,{"$f":"IF($B69<>\"PRC_RESID\",\"\",IF(AM$7=2005+OFFSET(AGR!$B$49,$AX69,SUMIF($B$10:$B$14,\"NCAP_TLIFE\",$AY$10:$AY$14)),0,\"\"))","v":""},null,null,null,null,{"$f":"IF($B69<>\"PRC_RESID\",\"\",IF(AR$7=2005+OFFSET(AGR!$B$49,$AX69,SUMIF($B$10:$B$14,\"NCAP_TLIFE\",$AY$10:$AY$14)),0,\"\"))","v":""},{"$f":"IF($B69<>\"PRC_RESID\",\"\",IF(AS$7=2005+OFFSET(AGR!$B$49,$AX69,SUMIF($B$10:$B$14,\"NCAP_TLIFE\",$AY$10:$AY$14)),0,\"\"))","v":""},{"$f":"IF($B69<>\"PRC_RESID\",\"\",IF(AT$7=2005+OFFSET(AGR!$B$49,$AX69,SUMIF($B$10:$B$14,\"NCAP_TLIFE\",$AY$10:$AY$14)),0,\"\"))","v":""},{"$f":"IF($B69<>\"PRC_RESID\",\"\",IF(AU$7=2005+OFFSET(AGR!$B$49,$AX69,SUMIF($B$10:$B$14,\"NCAP_TLIFE\",$AY$10:$AY$14)),0,\"\"))","v":""},null,{"$f":"IF(AX68=AGR!$W$72,AW68+1,AW68)","v":3},8]
[{"$f":"IF(LEFT(OFFSET(AGR!$A$49,AX70,0),2)=\"\\I\",\"*\",\"\")","v":"*"},"",{"$f":"IF($A70=\"*\",\"\",OFFSET(AGR!$B$49,AX70,0))","v":""},"","","","","","",{"$f":"IF($A70=\"*\",\"\",OFFSET(AGR!$B$49,AX70,SUMIF($B$10:$B$14,B70,$AY$10:$AY$14)))","v":""},{"$f":"IF($B70<>\"PRC_RESID\",\"\",IF(K$7=2005+OFFSET(AGR!$B$49,$AX70,SUMIF($B$10:$B$14,\"NCAP_TLIFE\",$AY$10:$AY$14)),0,\"\"))","v":""},{"$f":"IF($B70<>\"PRC_RESID\",\"\",IF(L$7=2005+OFFSET(AGR!$B$49,$AX70,SUMIF($B$10:$B$14,\"NCAP_TLIFE\",$AY$10:$AY$14)),0,\"\"))","v":""},{"$f":"IF($B70<>\"PRC_RESID\",\"\",IF(M$7=2005+OFFSET(AGR!$B$49,$AX70,SUMIF($B$10:$B$14,\"NCAP_TLIFE\",$AY$10:$AY$14)),0,\"\"))","v":""},{"$f":"IF($B70<>\"PRC_RESID\",\"\",IF(N$7=2005+OFFSET(AGR!$B$49,$AX70,SUMIF($B$10:$B$14,\"NCAP_TLIFE\",$AY$10:$AY$14)),0,\"\"))","v":""},{"$f":"IF($B70<>\"PRC_RESID\",\"\",IF(O$7=2005+OFFSET(AGR!$B$49,$AX70,SUMIF($B$10:$B$14,\"NCAP_TLIFE\",$AY$10:$AY$14)),0,\"\"))","v":""},{"$f":"IF($B70<>\"PRC_RESID\",\"\",IF(P$7=2005+OFFSET(AGR!$B$49,$AX70,SUMIF($B$10:$B$14,\"NCAP_TLIFE\",$AY$10:$AY$14)),0,\"\"))","v":""},{"$f":"IF($B70<>\"PRC_RESID\",\"\",IF(Q$7=2005+OFFSET(AGR!$B$49,$AX70,SUMIF($B$10:$B$14,\"NCAP_TLIFE\",$AY$10:$AY$14)),0,\"\"))","v":""},{"$f":"IF($B70<>\"PRC_RESID\",\"\",IF(R$7=2005+OFFSET(AGR!$B$49,$AX70,SUMIF($B$10:$B$14,\"NCAP_TLIFE\",$AY$10:$AY$14)),0,\"\"))","v":""},{"$f":"IF($B70<>\"PRC_RESID\",\"\",IF(S$7=2005+OFFSET(AGR!$B$49,$AX70,SUMIF($B$10:$B$14,\"NCAP_TLIFE\",$AY$10:$AY$14)),0,\"\"))","v":""},{"$f":"IF($B70<>\"PRC_RESID\",\"\",IF(T$7=2005+OFFSET(AGR!$B$49,$AX70,SUMIF($B$10:$B$14,\"NCAP_TLIFE\",$AY$10:$AY$14)),0,\"\"))","v":""},{"$f":"IF($B70<>\"PRC_RESID\",\"\",IF(U$7=2005+OFFSET(AGR!$B$49,$AX70,SUMIF($B$10:$B$14,\"NCAP_TLIFE\",$AY$10:$AY$14)),0,\"\"))","v":""},{"$f":"IF($B70<>\"PRC_RESID\",\"\",IF(V$7=2005+OFFSET(AGR!$B$49,$AX70,SUMIF($B$10:$B$14,\"NCAP_TLIFE\",$AY$10:$AY$14)),0,\"\"))","v":""},{"$f":"IF($B70<>\"PRC_RESID\",\"\",IF(W$7=2005+OFFSET(AGR!$B$49,$AX70,SUMIF($B$10:$B$14,\"NCAP_TLIFE\",$AY$10:$AY$14)),0,\"\"))","v":""},{"$f":"IF($B70<>\"PRC_RESID\",\"\",IF(X$7=2005+OFFSET(AGR!$B$49,$AX70,SUMIF($B$10:$B$14,\"NCAP_TLIFE\",$AY$10:$AY$14)),0,\"\"))","v":""},{"$f":"IF($B70<>\"PRC_RESID\",\"\",IF(Y$7=2005+OFFSET(AGR!$B$49,$AX70,SUMIF($B$10:$B$14,\"NCAP_TLIFE\",$AY$10:$AY$14)),0,\"\"))","v":""},{"$f":"IF($B70<>\"PRC_RESID\",\"\",IF(Z$7=2005+OFFSET(AGR!$B$49,$AX70,SUMIF($B$10:$B$14,\"NCAP_TLIFE\",$AY$10:$AY$14)),0,\"\"))","v":""},{"$f":"IF($B70<>\"PRC_RESID\",\"\",IF(AA$7=2005+OFFSET(AGR!$B$49,$AX70,SUMIF($B$10:$B$14,\"NCAP_TLIFE\",$AY$10:$AY$14)),0,\"\"))","v":""},{"$f":"IF($B70<>\"PRC_RESID\",\"\",IF(AB$7=2005+OFFSET(AGR!$B$49,$AX70,SUMIF($B$10:$B$14,\"NCAP_TLIFE\",$AY$10:$AY$14)),0,\"\"))","v":""},{"$f":"IF($B70<>\"PRC_RESID\",\"\",IF(AC$7=2005+OFFSET(AGR!$B$49,$AX70,SUMIF($B$10:$B$14,\"NCAP_TLIFE\",$AY$10:$AY$14)),0,\"\"))","v":""},{"$f":"IF($B70<>\"PRC_RESID\",\"\",IF(AD$7=2005+OFFSET(AGR!$B$49,$AX70,SUMIF($B$10:$B$14,\"NCAP_TLIFE\",$AY$10:$AY$14)),0,\"\"))","v":""},{"$f":"IF($B70<>\"PRC_RESID\",\"\",IF(AE$7=2005+OFFSET(AGR!$B$49,$AX70,SUMIF($B$10:$B$14,\"NCAP_TLIFE\",$AY$10:$AY$14)),0,\"\"))","v":""},{"$f":"IF($B70<>\"PRC_RESID\",\"\",IF(AF$7=2005+OFFSET(AGR!$B$49,$AX70,SUMIF($B$10:$B$14,\"NCAP_TLIFE\",$AY$10:$AY$14)),0,\"\"))","v":""},{"$f":"IF($B70<>\"PRC_RESID\",\"\",IF(AG$7=2005+OFFSET(AGR!$B$49,$AX70,SUMIF($B$10:$B$14,\"NCAP_TLIFE\",$AY$10:$AY$14)),0,\"\"))","v":""},{"$f":"IF($B70<>\"PRC_RESID\",\"\",IF(AH$7=2005+OFFSET(AGR!$B$49,$AX70,SUMIF($B$10:$B$14,\"NCAP_TLIFE\",$AY$10:$AY$14)),0,\"\"))","v":""},null,null,null,null,{"$f":"IF($B70<>\"PRC_RESID\",\"\",IF(AM$7=2005+OFFSET(AGR!$B$49,$AX70,SUMIF($B$10:$B$14,\"NCAP_TLIFE\",$AY$10:$AY$14)),0,\"\"))","v":""},null,null,null,null,{"$f":"IF($B70<>\"PRC_RESID\",\"\",IF(AR$7=2005+OFFSET(AGR!$B$49,$AX70,SUMIF($B$10:$B$14,\"NCAP_TLIFE\",$AY$10:$AY$14)),0,\"\"))","v":""},{"$f":"IF($B70<>\"PRC_RESID\",\"\",IF(AS$7=2005+OFFSET(AGR!$B$49,$AX70,SUMIF($B$10:$B$14,\"NCAP_TLIFE\",$AY$10:$AY$14)),0,\"\"))","v":""},{"$f":"IF($B70<>\"PRC_RESID\",\"\",IF(AT$7=2005+OFFSET(AGR!$B$49,$AX70,SUMIF($B$10:$B$14,\"NCAP_TLIFE\",$AY$10:$AY$14)),0,\"\"))","v":""},{"$f":"IF($B70<>\"PRC_RESID\",\"\",IF(AU$7=2005+OFFSET(AGR!$B$49,$AX70,SUMIF($B$10:$B$14,\"NCAP_TLIFE\",$AY$10:$AY$14)),0,\"\"))","v":""},null,{"$f":"IF(AX69=AGR!$W$72,AW69+1,AW69)","v":3},9]
[{"$f":"IF(LEFT(OFFSET(AGR!$A$49,AX71,0),2)=\"\\I\",\"*\",\"\")","v":"*"},"",{"$f":"IF($A71=\"*\",\"\",OFFSET(AGR!$B$49,AX71,0))","v":""},"","","","","","",{"$f":"IF($A71=\"*\",\"\",OFFSET(AGR!$B$49,AX71,SUMIF($B$10:$B$14,B71,$AY$10:$AY$14)))","v":""},{"$f":"IF($B71<>\"PRC_RESID\",\"\",IF(K$7=2005+OFFSET(AGR!$B$49,$AX71,SUMIF($B$10:$B$14,\"NCAP_TLIFE\",$AY$10:$AY$14)),0,\"\"))","v":""},{"$f":"IF($B71<>\"PRC_RESID\",\"\",IF(L$7=2005+OFFSET(AGR!$B$49,$AX71,SUMIF($B$10:$B$14,\"NCAP_TLIFE\",$AY$10:$AY$14)),0,\"\"))","v":""},{"$f":"IF($B71<>\"PRC_RESID\",\"\",IF(M$7=2005+OFFSET(AGR!$B$49,$AX71,SUMIF($B$10:$B$14,\"NCAP_TLIFE\",$AY$10:$AY$14)),0,\"\"))","v":""},{"$f":"IF($B71<>\"PRC_RESID\",\"\",IF(N$7=2005+OFFSET(AGR!$B$49,$AX71,SUMIF($B$10:$B$14,\"NCAP_TLIFE\",$AY$10:$AY$14)),0,\"\"))","v":""},{"$f":"IF($B71<>\"PRC_RESID\",\"\",IF(O$7=2005+OFFSET(AGR!$B$49,$AX71,SUMIF($B$10:$B$14,\"NCAP_TLIFE\",$AY$10:$AY$14)),0,\"\"))","v":""},{"$f":"IF($B71<>\"PRC_RESID\",\"\",IF(P$7=2005+OFFSET(AGR!$B$49,$AX71,SUMIF($B$10:$B$14,\"NCAP_TLIFE\",$AY$10:$AY$14)),0,\"\"))","v":""},{"$f":"IF($B71<>\"PRC_RESID\",\"\",IF(Q$7=2005+OFFSET(AGR!$B$49,$AX71,SUMIF($B$10:$B$14,\"NCAP_TLIFE\",$AY$10:$AY$14)),0,\"\"))","v":""},{"$f":"IF($B71<>\"PRC_RESID\",\"\",IF(R$7=2005+OFFSET(AGR!$B$49,$AX71,SUMIF($B$10:$B$14,\"NCAP_TLIFE\",$AY$10:$AY$14)),0,\"\"))","v":""},{"$f":"IF($B71<>\"PRC_RESID\",\"\",IF(S$7=2005+OFFSET(AGR!$B$49,$AX71,SUMIF($B$10:$B$14,\"NCAP_TLIFE\",$AY$10:$AY$14)),0,\"\"))","v":""},{"$f":"IF($B71<>\"PRC_RESID\",\"\",IF(T$7=2005+OFFSET(AGR!$B$49,$AX71,SUMIF($B$10:$B$14,\"NCAP_TLIFE\",$AY$10:$AY$14)),0,\"\"))","v":""},{"$f":"IF($B71<>\"PRC_RESID\",\"\",IF(U$7=2005+OFFSET(AGR!$B$49,$AX71,SUMIF($B$10:$B$14,\"NCAP_TLIFE\",$AY$10:$AY$14)),0,\"\"))","v":""},{"$f":"IF($B71<>\"PRC_RESID\",\"\",IF(V$7=2005+OFFSET(AGR!$B$49,$AX71,SUMIF($B$10:$B$14,\"NCAP_TLIFE\",$AY$10:$AY$14)),0,\"\"))","v":""},{"$f":"IF($B71<>\"PRC_RESID\",\"\",IF(W$7=2005+OFFSET(AGR!$B$49,$AX71,SUMIF($B$10:$B$14,\"NCAP_TLIFE\",$AY$10:$AY$14)),0,\"\"))","v":""},{"$f":"IF($B71<>\"PRC_RESID\",\"\",IF(X$7=2005+OFFSET(AGR!$B$49,$AX71,SUMIF($B$10:$B$14,\"NCAP_TLIFE\",$AY$10:$AY$14)),0,\"\"))","v":""},{"$f":"IF($B71<>\"PRC_RESID\",\"\",IF(Y$7=2005+OFFSET(AGR!$B$49,$AX71,SUMIF($B$10:$B$14,\"NCAP_TLIFE\",$AY$10:$AY$14)),0,\"\"))","v":""},{"$f":"IF($B71<>\"PRC_RESID\",\"\",IF(Z$7=2005+OFFSET(AGR!$B$49,$AX71,SUMIF($B$10:$B$14,\"NCAP_TLIFE\",$AY$10:$AY$14)),0,\"\"))","v":""},{"$f":"IF($B71<>\"PRC_RESID\",\"\",IF(AA$7=2005+OFFSET(AGR!$B$49,$AX71,SUMIF($B$10:$B$14,\"NCAP_TLIFE\",$AY$10:$AY$14)),0,\"\"))","v":""},{"$f":"IF($B71<>\"PRC_RESID\",\"\",IF(AB$7=2005+OFFSET(AGR!$B$49,$AX71,SUMIF($B$10:$B$14,\"NCAP_TLIFE\",$AY$10:$AY$14)),0,\"\"))","v":""},{"$f":"IF($B71<>\"PRC_RESID\",\"\",IF(AC$7=2005+OFFSET(AGR!$B$49,$AX71,SUMIF($B$10:$B$14,\"NCAP_TLIFE\",$AY$10:$AY$14)),0,\"\"))","v":""},{"$f":"IF($B71<>\"PRC_RESID\",\"\",IF(AD$7=2005+OFFSET(AGR!$B$49,$AX71,SUMIF($B$10:$B$14,\"NCAP_TLIFE\",$AY$10:$AY$14)),0,\"\"))","v":""},{"$f":"IF($B71<>\"PRC_RESID\",\"\",IF(AE$7=2005+OFFSET(AGR!$B$49,$AX71,SUMIF($B$10:$B$14,\"NCAP_TLIFE\",$AY$10:$AY$14)),0,\"\"))","v":""},{"$f":"IF($B71<>\"PRC_RESID\",\"\",IF(AF$7=2005+OFFSET(AGR!$B$49,$AX71,SUMIF($B$10:$B$14,\"NCAP_TLIFE\",$AY$10:$AY$14)),0,\"\"))","v":""},{"$f":"IF($B71<>\"PRC_RESID\",\"\",IF(AG$7=2005+OFFSET(AGR!$B$49,$AX71,SUMIF($B$10:$B$14,\"NCAP_TLIFE\",$AY$10:$AY$14)),0,\"\"))","v":""},{"$f":"IF($B71<>\"PRC_RESID\",\"\",IF(AH$7=2005+OFFSET(AGR!$B$49,$AX71,SUMIF($B$10:$B$14,\"NCAP_TLIFE\",$AY$10:$AY$14)),0,\"\"))","v":""},null,null,null,null,{"$f":"IF($B71<>\"PRC_RESID\",\"\",IF(AM$7=2005+OFFSET(AGR!$B$49,$AX71,SUMIF($B$10:$B$14,\"NCAP_TLIFE\",$AY$10:$AY$14)),0,\"\"))","v":""},null,null,null,null,{"$f":"IF($B71<>\"PRC_RESID\",\"\",IF(AR$7=2005+OFFSET(AGR!$B$49,$AX71,SUMIF($B$10:$B$14,\"NCAP_TLIFE\",$AY$10:$AY$14)),0,\"\"))","v":""},{"$f":"IF($B71<>\"PRC_RESID\",\"\",IF(AS$7=2005+OFFSET(AGR!$B$49,$AX71,SUMIF($B$10:$B$14,\"NCAP_TLIFE\",$AY$10:$AY$14)),0,\"\"))","v":""},{"$f":"IF($B71<>\"PRC_RESID\",\"\",IF(AT$7=2005+OFFSET(AGR!$B$49,$AX71,SUMIF($B$10:$B$14,\"NCAP_TLIFE\",$AY$10:$AY$14)),0,\"\"))","v":""},{"$f":"IF($B71<>\"PRC_RESID\",\"\",IF(AU$7=2005+OFFSET(AGR!$B$49,$AX71,SUMIF($B$10:$B$14,\"NCAP_TLIFE\",$AY$10:$AY$14)),0,\"\"))","v":""},null,{"$f":"IF(AX70=AGR!$W$72,AW70+1,AW70)","v":3},10]
[{"$f":"IF(LEFT(OFFSET(AGR!$A$49,AX72,0),2)=\"\\I\",\"*\",\"\")","v":""},"NCAP_BND",{"$f":"IF($A72=\"*\",\"\",OFFSET(AGR!$B$49,AX72,0))","v":"ATODS-E"},"-","-","-","-","UP",0,{"$f":"IF($A72=\"*\",\"\",OFFSET(AGR!$B$49,AX72,SUMIF($B$10:$B$14,B72,$AY$10:$AY$14)))","v":4.5929009239731658E-2},{"$f":"IF($B72<>\"PRC_RESID\",\"\",IF(K$7=2005+OFFSET(AGR!$B$49,$AX72,SUMIF($B$10:$B$14,\"NCAP_TLIFE\",$AY$10:$AY$14)),0,\"\"))","v":""},{"$f":"IF($B72<>\"PRC_RESID\",\"\",IF(L$7=2005+OFFSET(AGR!$B$49,$AX72,SUMIF($B$10:$B$14,\"NCAP_TLIFE\",$AY$10:$AY$14)),0,\"\"))","v":""},{"$f":"IF($B72<>\"PRC_RESID\",\"\",IF(M$7=2005+OFFSET(AGR!$B$49,$AX72,SUMIF($B$10:$B$14,\"NCAP_TLIFE\",$AY$10:$AY$14)),0,\"\"))","v":""},{"$f":"IF($B72<>\"PRC_RESID\",\"\",IF(N$7=2005+OFFSET(AGR!$B$49,$AX72,SUMIF($B$10:$B$14,\"NCAP_TLIFE\",$AY$10:$AY$14)),0,\"\"))","v":""},{"$f":"IF($B72<>\"PRC_RESID\",\"\",IF(O$7=2005+OFFSET(AGR!$B$49,$AX72,SUMIF($B$10:$B$14,\"NCAP_TLIFE\",$AY$10:$AY$14)),0,\"\"))","v":""},{"$f":"IF($B72<>\"PRC_RESID\",\"\",IF(P$7=2005+OFFSET(AGR!$B$49,$AX72,SUMIF($B$10:$B$14,\"NCAP_TLIFE\",$AY$10:$AY$14)),0,\"\"))","v":""},{"$f":"IF($B72<>\"PRC_RESID\",\"\",IF(Q$7=2005+OFFSET(AGR!$B$49,$AX72,SUMIF($B$10:$B$14,\"NCAP_TLIFE\",$AY$10:$AY$14)),0,\"\"))","v":""},{"$f":"IF($B72<>\"PRC_RESID\",\"\",IF(R$7=2005+OFFSET(AGR!$B$49,$AX72,SUMIF($B$10:$B$14,\"NCAP_TLIFE\",$AY$10:$AY$14)),0,\"\"))","v":""},{"$f":"IF($B72<>\"PRC_RESID\",\"\",IF(S$7=2005+OFFSET(AGR!$B$49,$AX72,SUMIF($B$10:$B$14,\"NCAP_TLIFE\",$AY$10:$AY$14)),0,\"\"))","v":""},{"$f":"IF($B72<>\"PRC_RESID\",\"\",IF(T$7=2005+OFFSET(AGR!$B$49,$AX72,SUMIF($B$10:$B$14,\"NCAP_TLIFE\",$AY$10:$AY$14)),0,\"\"))","v":""},{"$f":"IF($B72<>\"PRC_RESID\",\"\",IF(U$7=2005+OFFSET(AGR!$B$49,$AX72,SUMIF($B$10:$B$14,\"NCAP_TLIFE\",$AY$10:$AY$14)),0,\"\"))","v":""},{"$f":"IF($B72<>\"PRC_RESID\",\"\",IF(V$7=2005+OFFSET(AGR!$B$49,$AX72,SUMIF($B$10:$B$14,\"NCAP_TLIFE\",$AY$10:$AY$14)),0,\"\"))","v":""},{"$f":"IF($B72<>\"PRC_RESID\",\"\",IF(W$7=2005+OFFSET(AGR!$B$49,$AX72,SUMIF($B$10:$B$14,\"NCAP_TLIFE\",$AY$10:$AY$14)),0,\"\"))","v":""},{"$f":"IF($B72<>\"PRC_RESID\",\"\",IF(X$7=2005+OFFSET(AGR!$B$49,$AX72,SUMIF($B$10:$B$14,\"NCAP_TLIFE\",$AY$10:$AY$14)),0,\"\"))","v":""},{"$f":"IF($B72<>\"PRC_RESID\",\"\",IF(Y$7=2005+OFFSET(AGR!$B$49,$AX72,SUMIF($B$10:$B$14,\"NCAP_TLIFE\",$AY$10:$AY$14)),0,\"\"))","v":""},{"$f":"IF($B72<>\"PRC_RESID\",\"\",IF(Z$7=2005+OFFSET(AGR!$B$49,$AX72,SUMIF($B$10:$B$14,\"NCAP_TLIFE\",$AY$10:$AY$14)),0,\"\"))","v":""},{"$f":"IF($B72<>\"PRC_RESID\",\"\",IF(AA$7=2005+OFFSET(AGR!$B$49,$AX72,SUMIF($B$10:$B$14,\"NCAP_TLIFE\",$AY$10:$AY$14)),0,\"\"))","v":""},{"$f":"IF($B72<>\"PRC_RESID\",\"\",IF(AB$7=2005+OFFSET(AGR!$B$49,$AX72,SUMIF($B$10:$B$14,\"NCAP_TLIFE\",$AY$10:$AY$14)),0,\"\"))","v":""},{"$f":"IF($B72<>\"PRC_RESID\",\"\",IF(AC$7=2005+OFFSET(AGR!$B$49,$AX72,SUMIF($B$10:$B$14,\"NCAP_TLIFE\",$AY$10:$AY$14)),0,\"\"))","v":""},{"$f":"IF($B72<>\"PRC_RESID\",\"\",IF(AD$7=2005+OFFSET(AGR!$B$49,$AX72,SUMIF($B$10:$B$14,\"NCAP_TLIFE\",$AY$10:$AY$14)),0,\"\"))","v":""},{"$f":"IF($B72<>\"PRC_RESID\",\"\",IF(AE$7=2005+OFFSET(AGR!$B$49,$AX72,SUMIF($B$10:$B$14,\"NCAP_TLIFE\",$AY$10:$AY$14)),0,\"\"))","v":""},{"$f":"IF($B72<>\"PRC_RESID\",\"\",IF(AF$7=2005+OFFSET(AGR!$B$49,$AX72,SUMIF($B$10:$B$14,\"NCAP_TLIFE\",$AY$10:$AY$14)),0,\"\"))","v":""},{"$f":"IF($B72<>\"PRC_RESID\",\"\",IF(AG$7=2005+OFFSET(AGR!$B$49,$AX72,SUMIF($B$10:$B$14,\"NCAP_TLIFE\",$AY$10:$AY$14)),0,\"\"))","v":""},{"$f":"IF($B72<>\"PRC_RESID\",\"\",IF(AH$7=2005+OFFSET(AGR!$B$49,$AX72,SUMIF($B$10:$B$14,\"NCAP_TLIFE\",$AY$10:$AY$14)),0,\"\"))","v":""},null,null,null,null,{"$f":"IF($B72<>\"PRC_RESID\",\"\",IF(AM$7=2005+OFFSET(AGR!$B$49,$AX72,SUMIF($B$10:$B$14,\"NCAP_TLIFE\",$AY$10:$AY$14)),0,\"\"))","v":""},null,null,null,null,{"$f":"IF($B72<>\"PRC_RESID\",\"\",IF(AR$7=2005+OFFSET(AGR!$B$49,$AX72,SUMIF($B$10:$B$14,\"NCAP_TLIFE\",$AY$10:$AY$14)),0,\"\"))","v":""},{"$f":"IF($B72<>\"PRC_RESID\",\"\",IF(AS$7=2005+OFFSET(AGR!$B$49,$AX72,SUMIF($B$10:$B$14,\"NCAP_TLIFE\",$AY$10:$AY$14)),0,\"\"))","v":""},{"$f":"IF($B72<>\"PRC_RESID\",\"\",IF(AT$7=2005+OFFSET(AGR!$B$49,$AX72,SUMIF($B$10:$B$14,\"NCAP_TLIFE\",$AY$10:$AY$14)),0,\"\"))","v":""},{"$f":"IF($B72<>\"PRC_RESID\",\"\",IF(AU$7=2005+OFFSET(AGR!$B$49,$AX72,SUMIF($B$10:$B$14,\"NCAP_TLIFE\",$AY$10:$AY$14)),0,\"\"))","v":""},null,{"$f":"IF(AX71=AGR!$W$72,AW71+1,AW71)","v":3},11]
[{"$f":"IF(LEFT(OFFSET(AGR!$A$49,AX73,0),2)=\"\\I\",\"*\",\"\")","v":""},"NCAP_BND",{"$f":"IF($A73=\"*\",\"\",OFFSET(AGR!$B$49,AX73,0))","v":"ATELC-E"},"-","-","-","-","UP",0,{"$f":"IF($A73=\"*\",\"\",OFFSET(AGR!$B$49,AX73,SUMIF($B$10:$B$14,B73,$AY$10:$AY$14)))","v":0},{"$f":"IF($B73<>\"PRC_RESID\",\"\",IF(K$7=2005+OFFSET(AGR!$B$49,$AX73,SUMIF($B$10:$B$14,\"NCAP_TLIFE\",$AY$10:$AY$14)),0,\"\"))","v":""},{"$f":"IF($B73<>\"PRC_RESID\",\"\",IF(L$7=2005+OFFSET(AGR!$B$49,$AX73,SUMIF($B$10:$B$14,\"NCAP_TLIFE\",$AY$10:$AY$14)),0,\"\"))","v":""},{"$f":"IF($B73<>\"PRC_RESID\",\"\",IF(M$7=2005+OFFSET(AGR!$B$49,$AX73,SUMIF($B$10:$B$14,\"NCAP_TLIFE\",$AY$10:$AY$14)),0,\"\"))","v":""},{"$f":"IF($B73<>\"PRC_RESID\",\"\",IF(N$7=2005+OFFSET(AGR!$B$49,$AX73,SUMIF($B$10:$B$14,\"NCAP_TLIFE\",$AY$10:$AY$14)),0,\"\"))","v":""},{"$f":"IF($B73<>\"PRC_RESID\",\"\",IF(O$7=2005+OFFSET(AGR!$B$49,$AX73,SUMIF($B$10:$B$14,\"NCAP_TLIFE\",$AY$10:$AY$14)),0,\"\"))","v":""},{"$f":"IF($B73<>\"PRC_RESID\",\"\",IF(P$7=2005+OFFSET(AGR!$B$49,$AX73,SUMIF($B$10:$B$14,\"NCAP_TLIFE\",$AY$10:$AY$14)),0,\"\"))","v":""},{"$f":"IF($B73<>\"PRC_RESID\",\"\",IF(Q$7=2005+OFFSET(AGR!$B$49,$AX73,SUMIF($B$10:$B$14,\"NCAP_TLIFE\",$AY$10:$AY$14)),0,\"\"))","v":""},{"$f":"IF($B73<>\"PRC_RESID\",\"\",IF(R$7=2005+OFFSET(AGR!$B$49,$AX73,SUMIF($B$10:$B$14,\"NCAP_TLIFE\",$AY$10:$AY$14)),0,\"\"))","v":""},{"$f":"IF($B73<>\"PRC_RESID\",\"\",IF(S$7=2005+OFFSET(AGR!$B$49,$AX73,SUMIF($B$10:$B$14,\"NCAP_TLIFE\",$AY$10:$AY$14)),0,\"\"))","v":""},{"$f":"IF($B73<>\"PRC_RESID\",\"\",IF(T$7=2005+OFFSET(AGR!$B$49,$AX73,SUMIF($B$10:$B$14,\"NCAP_TLIFE\",$AY$10:$AY$14)),0,\"\"))","v":""},{"$f":"IF($B73<>\"PRC_RESID\",\"\",IF(U$7=2005+OFFSET(AGR!$B$49,$AX73,SUMIF($B$10:$B$14,\"NCAP_TLIFE\",$AY$10:$AY$14)),0,\"\"))","v":""},{"$f":"IF($B73<>\"PRC_RESID\",\"\",IF(V$7=2005+OFFSET(AGR!$B$49,$AX73,SUMIF($B$10:$B$14,\"NCAP_TLIFE\",$AY$10:$AY$14)),0,\"\"))","v":""},{"$f":"IF($B73<>\"PRC_RESID\",\"\",IF(W$7=2005+OFFSET(AGR!$B$49,$AX73,SUMIF($B$10:$B$14,\"NCAP_TLIFE\",$AY$10:$AY$14)),0,\"\"))","v":""},{"$f":"IF($B73<>\"PRC_RESID\",\"\",IF(X$7=2005+OFFSET(AGR!$B$49,$AX73,SUMIF($B$10:$B$14,\"NCAP_TLIFE\",$AY$10:$AY$14)),0,\"\"))","v":""},{"$f":"IF($B73<>\"PRC_RESID\",\"\",IF(Y$7=2005+OFFSET(AGR!$B$49,$AX73,SUMIF($B$10:$B$14,\"NCAP_TLIFE\",$AY$10:$AY$14)),0,\"\"))","v":""},{"$f":"IF($B73<>\"PRC_RESID\",\"\",IF(Z$7=2005+OFFSET(AGR!$B$49,$AX73,SUMIF($B$10:$B$14,\"NCAP_TLIFE\",$AY$10:$AY$14)),0,\"\"))","v":""},{"$f":"IF($B73<>\"PRC_RESID\",\"\",IF(AA$7=2005+OFFSET(AGR!$B$49,$AX73,SUMIF($B$10:$B$14,\"NCAP_TLIFE\",$AY$10:$AY$14)),0,\"\"))","v":""},{"$f":"IF($B73<>\"PRC_RESID\",\"\",IF(AB$7=2005+OFFSET(AGR!$B$49,$AX73,SUMIF($B$10:$B$14,\"NCAP_TLIFE\",$AY$10:$AY$14)),0,\"\"))","v":""},{"$f":"IF($B73<>\"PRC_RESID\",\"\",IF(AC$7=2005+OFFSET(AGR!$B$49,$AX73,SUMIF($B$10:$B$14,\"NCAP_TLIFE\",$AY$10:$AY$14)),0,\"\"))","v":""},{"$f":"IF($B73<>\"PRC_RESID\",\"\",IF(AD$7=2005+OFFSET(AGR!$B$49,$AX73,SUMIF($B$10:$B$14,\"NCAP_TLIFE\",$AY$10:$AY$14)),0,\"\"))","v":""},{"$f":"IF($B73<>\"PRC_RESID\",\"\",IF(AE$7=2005+OFFSET(AGR!$B$49,$AX73,SUMIF($B$10:$B$14,\"NCAP_TLIFE\",$AY$10:$AY$14)),0,\"\"))","v":""},{"$f":"IF($B73<>\"PRC_RESID\",\"\",IF(AF$7=2005+OFFSET(AGR!$B$49,$AX73,SUMIF($B$10:$B$14,\"NCAP_TLIFE\",$AY$10:$AY$14)),0,\"\"))","v":""},{"$f":"IF($B73<>\"PRC_RESID\",\"\",IF(AG$7=2005+OFFSET(AGR!$B$49,$AX73,SUMIF($B$10:$B$14,\"NCAP_TLIFE\",$AY$10:$AY$14)),0,\"\"))","v":""},{"$f":"IF($B73<>\"PRC_RESID\",\"\",IF(AH$7=2005+OFFSET(AGR!$B$49,$AX73,SUMIF($B$10:$B$14,\"NCAP_TLIFE\",$AY$10:$AY$14)),0,\"\"))","v":""},null,null,null,null,{"$f":"IF($B73<>\"PRC_RESID\",\"\",IF(AM$7=2005+OFFSET(AGR!$B$49,$AX73,SUMIF($B$10:$B$14,\"NCAP_TLIFE\",$AY$10:$AY$14)),0,\"\"))","v":""},null,null,null,null,{"$f":"IF($B73<>\"PRC_RESID\",\"\",IF(AR$7=2005+OFFSET(AGR!$B$49,$AX73,SUMIF($B$10:$B$14,\"NCAP_TLIFE\",$AY$10:$AY$14)),0,\"\"))","v":""},{"$f":"IF($B73<>\"PRC_RESID\",\"\",IF(AS$7=2005+OFFSET(AGR!$B$49,$AX73,SUMIF($B$10:$B$14,\"NCAP_TLIFE\",$AY$10:$AY$14)),0,\"\"))","v":""},{"$f":"IF($B73<>\"PRC_RESID\",\"\",IF(AT$7=2005+OFFSET(AGR!$B$49,$AX73,SUMIF($B$10:$B$14,\"NCAP_TLIFE\",$AY$10:$AY$14)),0,\"\"))","v":""},{"$f":"IF($B73<>\"PRC_RESID\",\"\",IF(AU$7=2005+OFFSET(AGR!$B$49,$AX73,SUMIF($B$10:$B$14,\"NCAP_TLIFE\",$AY$10:$AY$14)),0,\"\"))","v":""},null,{"$f":"IF(AX72=AGR!$W$72,AW72+1,AW72)","v":3},12]
[{"$f":"IF(LEFT(OFFSET(AGR!$A$49,AX74,0),2)=\"\\I\",\"*\",\"\")","v":""},"NCAP_BND",{"$f":"IF($A74=\"*\",\"\",OFFSET(AGR!$B$49,AX74,0))","v":"ATOGS-E"},"-","-","-","-","UP",0,{"$f":"IF($A74=\"*\",\"\",OFFSET(AGR!$B$49,AX74,SUMIF($B$10:$B$14,B74,$AY$10:$AY$14)))","v":4.070990760268344E-3},{"$f":"IF($B74<>\"PRC_RESID\",\"\",IF(K$7=2005+OFFSET(AGR!$B$49,$AX74,SUMIF($B$10:$B$14,\"NCAP_TLIFE\",$AY$10:$AY$14)),0,\"\"))","v":""},{"$f":"IF($B74<>\"PRC_RESID\",\"\",IF(L$7=2005+OFFSET(AGR!$B$49,$AX74,SUMIF($B$10:$B$14,\"NCAP_TLIFE\",$AY$10:$AY$14)),0,\"\"))","v":""},{"$f":"IF($B74<>\"PRC_RESID\",\"\",IF(M$7=2005+OFFSET(AGR!$B$49,$AX74,SUMIF($B$10:$B$14,\"NCAP_TLIFE\",$AY$10:$AY$14)),0,\"\"))","v":""},{"$f":"IF($B74<>\"PRC_RESID\",\"\",IF(N$7=2005+OFFSET(AGR!$B$49,$AX74,SUMIF($B$10:$B$14,\"NCAP_TLIFE\",$AY$10:$AY$14)),0,\"\"))","v":""},{"$f":"IF($B74<>\"PRC_RESID\",\"\",IF(O$7=2005+OFFSET(AGR!$B$49,$AX74,SUMIF($B$10:$B$14,\"NCAP_TLIFE\",$AY$10:$AY$14)),0,\"\"))","v":""},{"$f":"IF($B74<>\"PRC_RESID\",\"\",IF(P$7=2005+OFFSET(AGR!$B$49,$AX74,SUMIF($B$10:$B$14,\"NCAP_TLIFE\",$AY$10:$AY$14)),0,\"\"))","v":""},{"$f":"IF($B74<>\"PRC_RESID\",\"\",IF(Q$7=2005+OFFSET(AGR!$B$49,$AX74,SUMIF($B$10:$B$14,\"NCAP_TLIFE\",$AY$10:$AY$14)),0,\"\"))","v":""},{"$f":"IF($B74<>\"PRC_RESID\",\"\",IF(R$7=2005+OFFSET(AGR!$B$49,$AX74,SUMIF($B$10:$B$14,\"NCAP_TLIFE\",$AY$10:$AY$14)),0,\"\"))","v":""},{"$f":"IF($B74<>\"PRC_RESID\",\"\",IF(S$7=2005+OFFSET(AGR!$B$49,$AX74,SUMIF($B$10:$B$14,\"NCAP_TLIFE\",$AY$10:$AY$14)),0,\"\"))","v":""},{"$f":"IF($B74<>\"PRC_RESID\",\"\",IF(T$7=2005+OFFSET(AGR!$B$49,$AX74,SUMIF($B$10:$B$14,\"NCAP_TLIFE\",$AY$10:$AY$14)),0,\"\"))","v":""},{"$f":"IF($B74<>\"PRC_RESID\",\"\",IF(U$7=2005+OFFSET(AGR!$B$49,$AX74,SUMIF($B$10:$B$14,\"NCAP_TLIFE\",$AY$10:$AY$14)),0,\"\"))","v":""},{"$f":"IF($B74<>\"PRC_RESID\",\"\",IF(V$7=2005+OFFSET(AGR!$B$49,$AX74,SUMIF($B$10:$B$14,\"NCAP_TLIFE\",$AY$10:$AY$14)),0,\"\"))","v":""},{"$f":"IF($B74<>\"PRC_RESID\",\"\",IF(W$7=2005+OFFSET(AGR!$B$49,$AX74,SUMIF($B$10:$B$14,\"NCAP_TLIFE\",$AY$10:$AY$14)),0,\"\"))","v":""},{"$f":"IF($B74<>\"PRC_RESID\",\"\",IF(X$7=2005+OFFSET(AGR!$B$49,$AX74,SUMIF($B$10:$B$14,\"NCAP_TLIFE\",$AY$10:$AY$14)),0,\"\"))","v":""},{"$f":"IF($B74<>\"PRC_RESID\",\"\",IF(Y$7=2005+OFFSET(AGR!$B$49,$AX74,SUMIF($B$10:$B$14,\"NCAP_TLIFE\",$AY$10:$AY$14)),0,\"\"))","v":""},{"$f":"IF($B74<>\"PRC_RESID\",\"\",IF(Z$7=2005+OFFSET(AGR!$B$49,$AX74,SUMIF($B$10:$B$14,\"NCAP_TLIFE\",$AY$10:$AY$14)),0,\"\"))","v":""},{"$f":"IF($B74<>\"PRC_RESID\",\"\",IF(AA$7=2005+OFFSET(AGR!$B$49,$AX74,SUMIF($B$10:$B$14,\"NCAP_TLIFE\",$AY$10:$AY$14)),0,\"\"))","v":""},{"$f":"IF($B74<>\"PRC_RESID\",\"\",IF(AB$7=2005+OFFSET(AGR!$B$49,$AX74,SUMIF($B$10:$B$14,\"NCAP_TLIFE\",$AY$10:$AY$14)),0,\"\"))","v":""},{"$f":"IF($B74<>\"PRC_RESID\",\"\",IF(AC$7=2005+OFFSET(AGR!$B$49,$AX74,SUMIF($B$10:$B$14,\"NCAP_TLIFE\",$AY$10:$AY$14)),0,\"\"))","v":""},{"$f":"IF($B74<>\"PRC_RESID\",\"\",IF(AD$7=2005+OFFSET(AGR!$B$49,$AX74,SUMIF($B$10:$B$14,\"NCAP_TLIFE\",$AY$10:$AY$14)),0,\"\"))","v":""},{"$f":"IF($B74<>\"PRC_RESID\",\"\",IF(AE$7=2005+OFFSET(AGR!$B$49,$AX74,SUMIF($B$10:$B$14,\"NCAP_TLIFE\",$AY$10:$AY$14)),0,\"\"))","v":""},{"$f":"IF($B74<>\"PRC_RESID\",\"\",IF(AF$7=2005+OFFSET(AGR!$B$49,$AX74,SUMIF($B$10:$B$14,\"NCAP_TLIFE\",$AY$10:$AY$14)),0,\"\"))","v":""},{"$f":"IF($B74<>\"PRC_RESID\",\"\",IF(AG$7=2005+OFFSET(AGR!$B$49,$AX74,SUMIF($B$10:$B$14,\"NCAP_TLIFE\",$AY$10:$AY$14)),0,\"\"))","v":""},{"$f":"IF($B74<>\"PRC_RESID\",\"\",IF(AH$7=2005+OFFSET(AGR!$B$49,$AX74,SUMIF($B$10:$B$14,\"NCAP_TLIFE\",$AY$10:$AY$14)),0,\"\"))","v":""},null,null,null,null,{"$f":"IF($B74<>\"PRC_RESID\",\"\",IF(AM$7=2005+OFFSET(AGR!$B$49,$AX74,SUMIF($B$10:$B$14,\"NCAP_TLIFE\",$AY$10:$AY$14)),0,\"\"))","v":""},null,null,null,null,{"$f":"IF($B74<>\"PRC_RESID\",\"\",IF(AR$7=2005+OFFSET(AGR!$B$49,$AX74,SUMIF($B$10:$B$14,\"NCAP_TLIFE\",$AY$10:$AY$14)),0,\"\"))","v":""},{"$f":"IF($B74<>\"PRC_RESID\",\"\",IF(AS$7=2005+OFFSET(AGR!$B$49,$AX74,SUMIF($B$10:$B$14,\"NCAP_TLIFE\",$AY$10:$AY$14)),0,\"\"))","v":""},{"$f":"IF($B74<>\"PRC_RESID\",\"\",IF(AT$7=2005+OFFSET(AGR!$B$49,$AX74,SUMIF($B$10:$B$14,\"NCAP_TLIFE\",$AY$10:$AY$14)),0,\"\"))","v":""},{"$f":"IF($B74<>\"PRC_RESID\",\"\",IF(AU$7=2005+OFFSET(AGR!$B$49,$AX74,SUMIF($B$10:$B$14,\"NCAP_TLIFE\",$AY$10:$AY$14)),0,\"\"))","v":""},null,{"$f":"IF(AX73=AGR!$W$72,AW73+1,AW73)","v":3},13]
[{"$f":"IF(LEFT(OFFSET(AGR!$A$49,AX75,0),2)=\"\\I\",\"*\",\"\")","v":"*"},"",{"$f":"IF($A75=\"*\",\"\",OFFSET(AGR!$B$49,AX75,0))","v":""},"","","","","","",{"$f":"IF($A75=\"*\",\"\",OFFSET(AGR!$B$49,AX75,SUMIF($B$10:$B$14,B75,$AY$10:$AY$14)))","v":""},{"$f":"IF($B75<>\"PRC_RESID\",\"\",IF(K$7=2005+OFFSET(AGR!$B$49,$AX75,SUMIF($B$10:$B$14,\"NCAP_TLIFE\",$AY$10:$AY$14)),0,\"\"))","v":""},{"$f":"IF($B75<>\"PRC_RESID\",\"\",IF(L$7=2005+OFFSET(AGR!$B$49,$AX75,SUMIF($B$10:$B$14,\"NCAP_TLIFE\",$AY$10:$AY$14)),0,\"\"))","v":""},{"$f":"IF($B75<>\"PRC_RESID\",\"\",IF(M$7=2005+OFFSET(AGR!$B$49,$AX75,SUMIF($B$10:$B$14,\"NCAP_TLIFE\",$AY$10:$AY$14)),0,\"\"))","v":""},{"$f":"IF($B75<>\"PRC_RESID\",\"\",IF(N$7=2005+OFFSET(AGR!$B$49,$AX75,SUMIF($B$10:$B$14,\"NCAP_TLIFE\",$AY$10:$AY$14)),0,\"\"))","v":""},{"$f":"IF($B75<>\"PRC_RESID\",\"\",IF(O$7=2005+OFFSET(AGR!$B$49,$AX75,SUMIF($B$10:$B$14,\"NCAP_TLIFE\",$AY$10:$AY$14)),0,\"\"))","v":""},{"$f":"IF($B75<>\"PRC_RESID\",\"\",IF(P$7=2005+OFFSET(AGR!$B$49,$AX75,SUMIF($B$10:$B$14,\"NCAP_TLIFE\",$AY$10:$AY$14)),0,\"\"))","v":""},{"$f":"IF($B75<>\"PRC_RESID\",\"\",IF(Q$7=2005+OFFSET(AGR!$B$49,$AX75,SUMIF($B$10:$B$14,\"NCAP_TLIFE\",$AY$10:$AY$14)),0,\"\"))","v":""},{"$f":"IF($B75<>\"PRC_RESID\",\"\",IF(R$7=2005+OFFSET(AGR!$B$49,$AX75,SUMIF($B$10:$B$14,\"NCAP_TLIFE\",$AY$10:$AY$14)),0,\"\"))","v":""},{"$f":"IF($B75<>\"PRC_RESID\",\"\",IF(S$7=2005+OFFSET(AGR!$B$49,$AX75,SUMIF($B$10:$B$14,\"NCAP_TLIFE\",$AY$10:$AY$14)),0,\"\"))","v":""},{"$f":"IF($B75<>\"PRC_RESID\",\"\",IF(T$7=2005+OFFSET(AGR!$B$49,$AX75,SUMIF($B$10:$B$14,\"NCAP_TLIFE\",$AY$10:$AY$14)),0,\"\"))","v":""},{"$f":"IF($B75<>\"PRC_RESID\",\"\",IF(U$7=2005+OFFSET(AGR!$B$49,$AX75,SUMIF($B$10:$B$14,\"NCAP_TLIFE\",$AY$10:$AY$14)),0,\"\"))","v":""},{"$f":"IF($B75<>\"PRC_RESID\",\"\",IF(V$7=2005+OFFSET(AGR!$B$49,$AX75,SUMIF($B$10:$B$14,\"NCAP_TLIFE\",$AY$10:$AY$14)),0,\"\"))","v":""},{"$f":"IF($B75<>\"PRC_RESID\",\"\",IF(W$7=2005+OFFSET(AGR!$B$49,$AX75,SUMIF($B$10:$B$14,\"NCAP_TLIFE\",$AY$10:$AY$14)),0,\"\"))","v":""},{"$f":"IF($B75<>\"PRC_RESID\",\"\",IF(X$7=2005+OFFSET(AGR!$B$49,$AX75,SUMIF($B$10:$B$14,\"NCAP_TLIFE\",$AY$10:$AY$14)),0,\"\"))","v":""},{"$f":"IF($B75<>\"PRC_RESID\",\"\",IF(Y$7=2005+OFFSET(AGR!$B$49,$AX75,SUMIF($B$10:$B$14,\"NCAP_TLIFE\",$AY$10:$AY$14)),0,\"\"))","v":""},{"$f":"IF($B75<>\"PRC_RESID\",\"\",IF(Z$7=2005+OFFSET(AGR!$B$49,$AX75,SUMIF($B$10:$B$14,\"NCAP_TLIFE\",$AY$10:$AY$14)),0,\"\"))","v":""},{"$f":"IF($B75<>\"PRC_RESID\",\"\",IF(AA$7=2005+OFFSET(AGR!$B$49,$AX75,SUMIF($B$10:$B$14,\"NCAP_TLIFE\",$AY$10:$AY$14)),0,\"\"))","v":""},{"$f":"IF($B75<>\"PRC_RESID\",\"\",IF(AB$7=2005+OFFSET(AGR!$B$49,$AX75,SUMIF($B$10:$B$14,\"NCAP_TLIFE\",$AY$10:$AY$14)),0,\"\"))","v":""},{"$f":"IF($B75<>\"PRC_RESID\",\"\",IF(AC$7=2005+OFFSET(AGR!$B$49,$AX75,SUMIF($B$10:$B$14,\"NCAP_TLIFE\",$AY$10:$AY$14)),0,\"\"))","v":""},{"$f":"IF($B75<>\"PRC_RESID\",\"\",IF(AD$7=2005+OFFSET(AGR!$B$49,$AX75,SUMIF($B$10:$B$14,\"NCAP_TLIFE\",$AY$10:$AY$14)),0,\"\"))","v":""},{"$f":"IF($B75<>\"PRC_RESID\",\"\",IF(AE$7=2005+OFFSET(AGR!$B$49,$AX75,SUMIF($B$10:$B$14,\"NCAP_TLIFE\",$AY$10:$AY$14)),0,\"\"))","v":""},{"$f":"IF($B75<>\"PRC_RESID\",\"\",IF(AF$7=2005+OFFSET(AGR!$B$49,$AX75,SUMIF($B$10:$B$14,\"NCAP_TLIFE\",$AY$10:$AY$14)),0,\"\"))","v":""},{"$f":"IF($B75<>\"PRC_RESID\",\"\",IF(AG$7=2005+OFFSET(AGR!$B$49,$AX75,SUMIF($B$10:$B$14,\"NCAP_TLIFE\",$AY$10:$AY$14)),0,\"\"))","v":""},{"$f":"IF($B75<>\"PRC_RESID\",\"\",IF(AH$7=2005+OFFSET(AGR!$B$49,$AX75,SUMIF($B$10:$B$14,\"NCAP_TLIFE\",$AY$10:$AY$14)),0,\"\"))","v":""},null,null,null,null,{"$f":"IF($B75<>\"PRC_RESID\",\"\",IF(AM$7=2005+OFFSET(AGR!$B$49,$AX75,SUMIF($B$10:$B$14,\"NCAP_TLIFE\",$AY$10:$AY$14)),0,\"\"))","v":""},null,null,null,null,{"$f":"IF($B75<>\"PRC_RESID\",\"\",IF(AR$7=2005+OFFSET(AGR!$B$49,$AX75,SUMIF($B$10:$B$14,\"NCAP_TLIFE\",$AY$10:$AY$14)),0,\"\"))","v":""},{"$f":"IF($B75<>\"PRC_RESID\",\"\",IF(AS$7=2005+OFFSET(AGR!$B$49,$AX75,SUMIF($B$10:$B$14,\"NCAP_TLIFE\",$AY$10:$AY$14)),0,\"\"))","v":""},{"$f":"IF($B75<>\"PRC_RESID\",\"\",IF(AT$7=2005+OFFSET(AGR!$B$49,$AX75,SUMIF($B$10:$B$14,\"NCAP_TLIFE\",$AY$10:$AY$14)),0,\"\"))","v":""},{"$f":"IF($B75<>\"PRC_RESID\",\"\",IF(AU$7=2005+OFFSET(AGR!$B$49,$AX75,SUMIF($B$10:$B$14,\"NCAP_TLIFE\",$AY$10:$AY$14)),0,\"\"))","v":""},null,{"$f":"IF(AX74=AGR!$W$72,AW74+1,AW74)","v":3},14]
[{"$f":"IF(LEFT(OFFSET(AGR!$A$49,AX76,0),2)=\"\\I\",\"*\",\"\")","v":"*"},"",{"$f":"IF($A76=\"*\",\"\",OFFSET(AGR!$B$49,AX76,0))","v":""},"","","","","","",{"$f":"IF($A76=\"*\",\"\",OFFSET(AGR!$B$49,AX76,SUMIF($B$10:$B$14,B76,$AY$10:$AY$14)))","v":""},{"$f":"IF($B76<>\"PRC_RESID\",\"\",IF(K$7=2005+OFFSET(AGR!$B$49,$AX76,SUMIF($B$10:$B$14,\"NCAP_TLIFE\",$AY$10:$AY$14)),0,\"\"))","v":""},{"$f":"IF($B76<>\"PRC_RESID\",\"\",IF(L$7=2005+OFFSET(AGR!$B$49,$AX76,SUMIF($B$10:$B$14,\"NCAP_TLIFE\",$AY$10:$AY$14)),0,\"\"))","v":""},{"$f":"IF($B76<>\"PRC_RESID\",\"\",IF(M$7=2005+OFFSET(AGR!$B$49,$AX76,SUMIF($B$10:$B$14,\"NCAP_TLIFE\",$AY$10:$AY$14)),0,\"\"))","v":""},{"$f":"IF($B76<>\"PRC_RESID\",\"\",IF(N$7=2005+OFFSET(AGR!$B$49,$AX76,SUMIF($B$10:$B$14,\"NCAP_TLIFE\",$AY$10:$AY$14)),0,\"\"))","v":""},{"$f":"IF($B76<>\"PRC_RESID\",\"\",IF(O$7=2005+OFFSET(AGR!$B$49,$AX76,SUMIF($B$10:$B$14,\"NCAP_TLIFE\",$AY$10:$AY$14)),0,\"\"))","v":""},{"$f":"IF($B76<>\"PRC_RESID\",\"\",IF(P$7=2005+OFFSET(AGR!$B$49,$AX76,SUMIF($B$10:$B$14,\"NCAP_TLIFE\",$AY$10:$AY$14)),0,\"\"))","v":""},{"$f":"IF($B76<>\"PRC_RESID\",\"\",IF(Q$7=2005+OFFSET(AGR!$B$49,$AX76,SUMIF($B$10:$B$14,\"NCAP_TLIFE\",$AY$10:$AY$14)),0,\"\"))","v":""},{"$f":"IF($B76<>\"PRC_RESID\",\"\",IF(R$7=2005+OFFSET(AGR!$B$49,$AX76,SUMIF($B$10:$B$14,\"NCAP_TLIFE\",$AY$10:$AY$14)),0,\"\"))","v":""},{"$f":"IF($B76<>\"PRC_RESID\",\"\",IF(S$7=2005+OFFSET(AGR!$B$49,$AX76,SUMIF($B$10:$B$14,\"NCAP_TLIFE\",$AY$10:$AY$14)),0,\"\"))","v":""},{"$f":"IF($B76<>\"PRC_RESID\",\"\",IF(T$7=2005+OFFSET(AGR!$B$49,$AX76,SUMIF($B$10:$B$14,\"NCAP_TLIFE\",$AY$10:$AY$14)),0,\"\"))","v":""},{"$f":"IF($B76<>\"PRC_RESID\",\"\",IF(U$7=2005+OFFSET(AGR!$B$49,$AX76,SUMIF($B$10:$B$14,\"NCAP_TLIFE\",$AY$10:$AY$14)),0,\"\"))","v":""},{"$f":"IF($B76<>\"PRC_RESID\",\"\",IF(V$7=2005+OFFSET(AGR!$B$49,$AX76,SUMIF($B$10:$B$14,\"NCAP_TLIFE\",$AY$10:$AY$14)),0,\"\"))","v":""},{"$f":"IF($B76<>\"PRC_RESID\",\"\",IF(W$7=2005+OFFSET(AGR!$B$49,$AX76,SUMIF($B$10:$B$14,\"NCAP_TLIFE\",$AY$10:$AY$14)),0,\"\"))","v":""},{"$f":"IF($B76<>\"PRC_RESID\",\"\",IF(X$7=2005+OFFSET(AGR!$B$49,$AX76,SUMIF($B$10:$B$14,\"NCAP_TLIFE\",$AY$10:$AY$14)),0,\"\"))","v":""},{"$f":"IF($B76<>\"PRC_RESID\",\"\",IF(Y$7=2005+OFFSET(AGR!$B$49,$AX76,SUMIF($B$10:$B$14,\"NCAP_TLIFE\",$AY$10:$AY$14)),0,\"\"))","v":""},{"$f":"IF($B76<>\"PRC_RESID\",\"\",IF(Z$7=2005+OFFSET(AGR!$B$49,$AX76,SUMIF($B$10:$B$14,\"NCAP_TLIFE\",$AY$10:$AY$14)),0,\"\"))","v":""},{"$f":"IF($B76<>\"PRC_RESID\",\"\",IF(AA$7=2005+OFFSET(AGR!$B$49,$AX76,SUMIF($B$10:$B$14,\"NCAP_TLIFE\",$AY$10:$AY$14)),0,\"\"))","v":""},{"$f":"IF($B76<>\"PRC_RESID\",\"\",IF(AB$7=2005+OFFSET(AGR!$B$49,$AX76,SUMIF($B$10:$B$14,\"NCAP_TLIFE\",$AY$10:$AY$14)),0,\"\"))","v":""},{"$f":"IF($B76<>\"PRC_RESID\",\"\",IF(AC$7=2005+OFFSET(AGR!$B$49,$AX76,SUMIF($B$10:$B$14,\"NCAP_TLIFE\",$AY$10:$AY$14)),0,\"\"))","v":""},{"$f":"IF($B76<>\"PRC_RESID\",\"\",IF(AD$7=2005+OFFSET(AGR!$B$49,$AX76,SUMIF($B$10:$B$14,\"NCAP_TLIFE\",$AY$10:$AY$14)),0,\"\"))","v":""},{"$f":"IF($B76<>\"PRC_RESID\",\"\",IF(AE$7=2005+OFFSET(AGR!$B$49,$AX76,SUMIF($B$10:$B$14,\"NCAP_TLIFE\",$AY$10:$AY$14)),0,\"\"))","v":""},{"$f":"IF($B76<>\"PRC_RESID\",\"\",IF(AF$7=2005+OFFSET(AGR!$B$49,$AX76,SUMIF($B$10:$B$14,\"NCAP_TLIFE\",$AY$10:$AY$14)),0,\"\"))","v":""},{"$f":"IF($B76<>\"PRC_RESID\",\"\",IF(AG$7=2005+OFFSET(AGR!$B$49,$AX76,SUMIF($B$10:$B$14,\"NCAP_TLIFE\",$AY$10:$AY$14)),0,\"\"))","v":""},{"$f":"IF($B76<>\"PRC_RESID\",\"\",IF(AH$7=2005+OFFSET(AGR!$B$49,$AX76,SUMIF($B$10:$B$14,\"NCAP_TLIFE\",$AY$10:$AY$14)),0,\"\"))","v":""},null,null,null,null,{"$f":"IF($B76<>\"PRC_RESID\",\"\",IF(AM$7=2005+OFFSET(AGR!$B$49,$AX76,SUMIF($B$10:$B$14,\"NCAP_TLIFE\",$AY$10:$AY$14)),0,\"\"))","v":""},null,null,null,null,{"$f":"IF($B76<>\"PRC_RESID\",\"\",IF(AR$7=2005+OFFSET(AGR!$B$49,$AX76,SUMIF($B$10:$B$14,\"NCAP_TLIFE\",$AY$10:$AY$14)),0,\"\"))","v":""},{"$f":"IF($B76<>\"PRC_RESID\",\"\",IF(AS$7=2005+OFFSET(AGR!$B$49,$AX76,SUMIF($B$10:$B$14,\"NCAP_TLIFE\",$AY$10:$AY$14)),0,\"\"))","v":""},{"$f":"IF($B76<>\"PRC_RESID\",\"\",IF(AT$7=2005+OFFSET(AGR!$B$49,$AX76,SUMIF($B$10:$B$14,\"NCAP_TLIFE\",$AY$10:$AY$14)),0,\"\"))","v":""},{"$f":"IF($B76<>\"PRC_RESID\",\"\",IF(AU$7=2005+OFFSET(AGR!$B$49,$AX76,SUMIF($B$10:$B$14,\"NCAP_TLIFE\",$AY$10:$AY$14)),0,\"\"))","v":""},null,{"$f":"IF(AX75=AGR!$W$72,AW75+1,AW75)","v":3},15]
[{"$f":"IF(LEFT(OFFSET(AGR!$A$49,AX77,0),2)=\"\\I\",\"*\",\"\")","v":""},"NCAP_BND",{"$f":"IF($A77=\"*\",\"\",OFFSET(AGR!$B$49,AX77,0))","v":"AIODS-E"},"-","-","-","-","UP",0,{"$f":"IF($A77=\"*\",\"\",OFFSET(AGR!$B$49,AX77,SUMIF($B$10:$B$14,B77,$AY$10:$AY$14)))","v":2.0301624129930394E-3},{"$f":"IF($B77<>\"PRC_RESID\",\"\",IF(K$7=2005+OFFSET(AGR!$B$49,$AX77,SUMIF($B$10:$B$14,\"NCAP_TLIFE\",$AY$10:$AY$14)),0,\"\"))","v":""},{"$f":"IF($B77<>\"PRC_RESID\",\"\",IF(L$7=2005+OFFSET(AGR!$B$49,$AX77,SUMIF($B$10:$B$14,\"NCAP_TLIFE\",$AY$10:$AY$14)),0,\"\"))","v":""},{"$f":"IF($B77<>\"PRC_RESID\",\"\",IF(M$7=2005+OFFSET(AGR!$B$49,$AX77,SUMIF($B$10:$B$14,\"NCAP_TLIFE\",$AY$10:$AY$14)),0,\"\"))","v":""},{"$f":"IF($B77<>\"PRC_RESID\",\"\",IF(N$7=2005+OFFSET(AGR!$B$49,$AX77,SUMIF($B$10:$B$14,\"NCAP_TLIFE\",$AY$10:$AY$14)),0,\"\"))","v":""},{"$f":"IF($B77<>\"PRC_RESID\",\"\",IF(O$7=2005+OFFSET(AGR!$B$49,$AX77,SUMIF($B$10:$B$14,\"NCAP_TLIFE\",$AY$10:$AY$14)),0,\"\"))","v":""},{"$f":"IF($B77<>\"PRC_RESID\",\"\",IF(P$7=2005+OFFSET(AGR!$B$49,$AX77,SUMIF($B$10:$B$14,\"NCAP_TLIFE\",$AY$10:$AY$14)),0,\"\"))","v":""},{"$f":"IF($B77<>\"PRC_RESID\",\"\",IF(Q$7=2005+OFFSET(AGR!$B$49,$AX77,SUMIF($B$10:$B$14,\"NCAP_TLIFE\",$AY$10:$AY$14)),0,\"\"))","v":""},{"$f":"IF($B77<>\"PRC_RESID\",\"\",IF(R$7=2005+OFFSET(AGR!$B$49,$AX77,SUMIF($B$10:$B$14,\"NCAP_TLIFE\",$AY$10:$AY$14)),0,\"\"))","v":""},{"$f":"IF($B77<>\"PRC_RESID\",\"\",IF(S$7=2005+OFFSET(AGR!$B$49,$AX77,SUMIF($B$10:$B$14,\"NCAP_TLIFE\",$AY$10:$AY$14)),0,\"\"))","v":""},{"$f":"IF($B77<>\"PRC_RESID\",\"\",IF(T$7=2005+OFFSET(AGR!$B$49,$AX77,SUMIF($B$10:$B$14,\"NCAP_TLIFE\",$AY$10:$AY$14)),0,\"\"))","v":""},{"$f":"IF($B77<>\"PRC_RESID\",\"\",IF(U$7=2005+OFFSET(AGR!$B$49,$AX77,SUMIF($B$10:$B$14,\"NCAP_TLIFE\",$AY$10:$AY$14)),0,\"\"))","v":""},{"$f":"IF($B77<>\"PRC_RESID\",\"\",IF(V$7=2005+OFFSET(AGR!$B$49,$AX77,SUMIF($B$10:$B$14,\"NCAP_TLIFE\",$AY$10:$AY$14)),0,\"\"))","v":""},{"$f":"IF($B77<>\"PRC_RESID\",\"\",IF(W$7=2005+OFFSET(AGR!$B$49,$AX77,SUMIF($B$10:$B$14,\"NCAP_TLIFE\",$AY$10:$AY$14)),0,\"\"))","v":""},{"$f":"IF($B77<>\"PRC_RESID\",\"\",IF(X$7=2005+OFFSET(AGR!$B$49,$AX77,SUMIF($B$10:$B$14,\"NCAP_TLIFE\",$AY$10:$AY$14)),0,\"\"))","v":""},{"$f":"IF($B77<>\"PRC_RESID\",\"\",IF(Y$7=2005+OFFSET(AGR!$B$49,$AX77,SUMIF($B$10:$B$14,\"NCAP_TLIFE\",$AY$10:$AY$14)),0,\"\"))","v":""},{"$f":"IF($B77<>\"PRC_RESID\",\"\",IF(Z$7=2005+OFFSET(AGR!$B$49,$AX77,SUMIF($B$10:$B$14,\"NCAP_TLIFE\",$AY$10:$AY$14)),0,\"\"))","v":""},{"$f":"IF($B77<>\"PRC_RESID\",\"\",IF(AA$7=2005+OFFSET(AGR!$B$49,$AX77,SUMIF($B$10:$B$14,\"NCAP_TLIFE\",$AY$10:$AY$14)),0,\"\"))","v":""},{"$f":"IF($B77<>\"PRC_RESID\",\"\",IF(AB$7=2005+OFFSET(AGR!$B$49,$AX77,SUMIF($B$10:$B$14,\"NCAP_TLIFE\",$AY$10:$AY$14)),0,\"\"))","v":""},{"$f":"IF($B77<>\"PRC_RESID\",\"\",IF(AC$7=2005+OFFSET(AGR!$B$49,$AX77,SUMIF($B$10:$B$14,\"NCAP_TLIFE\",$AY$10:$AY$14)),0,\"\"))","v":""},{"$f":"IF($B77<>\"PRC_RESID\",\"\",IF(AD$7=2005+OFFSET(AGR!$B$49,$AX77,SUMIF($B$10:$B$14,\"NCAP_TLIFE\",$AY$10:$AY$14)),0,\"\"))","v":""},{"$f":"IF($B77<>\"PRC_RESID\",\"\",IF(AE$7=2005+OFFSET(AGR!$B$49,$AX77,SUMIF($B$10:$B$14,\"NCAP_TLIFE\",$AY$10:$AY$14)),0,\"\"))","v":""},{"$f":"IF($B77<>\"PRC_RESID\",\"\",IF(AF$7=2005+OFFSET(AGR!$B$49,$AX77,SUMIF($B$10:$B$14,\"NCAP_TLIFE\",$AY$10:$AY$14)),0,\"\"))","v":""},{"$f":"IF($B77<>\"PRC_RESID\",\"\",IF(AG$7=2005+OFFSET(AGR!$B$49,$AX77,SUMIF($B$10:$B$14,\"NCAP_TLIFE\",$AY$10:$AY$14)),0,\"\"))","v":""},{"$f":"IF($B77<>\"PRC_RESID\",\"\",IF(AH$7=2005+OFFSET(AGR!$B$49,$AX77,SUMIF($B$10:$B$14,\"NCAP_TLIFE\",$AY$10:$AY$14)),0,\"\"))","v":""},null,null,null,null,{"$f":"IF($B77<>\"PRC_RESID\",\"\",IF(AM$7=2005+OFFSET(AGR!$B$49,$AX77,SUMIF($B$10:$B$14,\"NCAP_TLIFE\",$AY$10:$AY$14)),0,\"\"))","v":""},null,null,null,null,{"$f":"IF($B77<>\"PRC_RESID\",\"\",IF(AR$7=2005+OFFSET(AGR!$B$49,$AX77,SUMIF($B$10:$B$14,\"NCAP_TLIFE\",$AY$10:$AY$14)),0,\"\"))","v":""},{"$f":"IF($B77<>\"PRC_RESID\",\"\",IF(AS$7=2005+OFFSET(AGR!$B$49,$AX77,SUMIF($B$10:$B$14,\"NCAP_TLIFE\",$AY$10:$AY$14)),0,\"\"))","v":""},{"$f":"IF($B77<>\"PRC_RESID\",\"\",IF(AT$7=2005+OFFSET(AGR!$B$49,$AX77,SUMIF($B$10:$B$14,\"NCAP_TLIFE\",$AY$10:$AY$14)),0,\"\"))","v":""},{"$f":"IF($B77<>\"PRC_RESID\",\"\",IF(AU$7=2005+OFFSET(AGR!$B$49,$AX77,SUMIF($B$10:$B$14,\"NCAP_TLIFE\",$AY$10:$AY$14)),0,\"\"))","v":""},null,{"$f":"IF(AX76=AGR!$W$72,AW76+1,AW76)","v":3},16]
[{"$f":"IF(LEFT(OFFSET(AGR!$A$49,AX78,0),2)=\"\\I\",\"*\",\"\")","v":""},"NCAP_BND",{"$f":"IF($A78=\"*\",\"\",OFFSET(AGR!$B$49,AX78,0))","v":"AIELC-E"},"-","-","-","-","UP",0,{"$f":"IF($A78=\"*\",\"\",OFFSET(AGR!$B$49,AX78,SUMIF($B$10:$B$14,B78,$AY$10:$AY$14)))","v":4.7389791183294672E-2},{"$f":"IF($B78<>\"PRC_RESID\",\"\",IF(K$7=2005+OFFSET(AGR!$B$49,$AX78,SUMIF($B$10:$B$14,\"NCAP_TLIFE\",$AY$10:$AY$14)),0,\"\"))","v":""},{"$f":"IF($B78<>\"PRC_RESID\",\"\",IF(L$7=2005+OFFSET(AGR!$B$49,$AX78,SUMIF($B$10:$B$14,\"NCAP_TLIFE\",$AY$10:$AY$14)),0,\"\"))","v":""},{"$f":"IF($B78<>\"PRC_RESID\",\"\",IF(M$7=2005+OFFSET(AGR!$B$49,$AX78,SUMIF($B$10:$B$14,\"NCAP_TLIFE\",$AY$10:$AY$14)),0,\"\"))","v":""},{"$f":"IF($B78<>\"PRC_RESID\",\"\",IF(N$7=2005+OFFSET(AGR!$B$49,$AX78,SUMIF($B$10:$B$14,\"NCAP_TLIFE\",$AY$10:$AY$14)),0,\"\"))","v":""},{"$f":"IF($B78<>\"PRC_RESID\",\"\",IF(O$7=2005+OFFSET(AGR!$B$49,$AX78,SUMIF($B$10:$B$14,\"NCAP_TLIFE\",$AY$10:$AY$14)),0,\"\"))","v":""},{"$f":"IF($B78<>\"PRC_RESID\",\"\",IF(P$7=2005+OFFSET(AGR!$B$49,$AX78,SUMIF($B$10:$B$14,\"NCAP_TLIFE\",$AY$10:$AY$14)),0,\"\"))","v":""},{"$f":"IF($B78<>\"PRC_RESID\",\"\",IF(Q$7=2005+OFFSET(AGR!$B$49,$AX78,SUMIF($B$10:$B$14,\"NCAP_TLIFE\",$AY$10:$AY$14)),0,\"\"))","v":""},{"$f":"IF($B78<>\"PRC_RESID\",\"\",IF(R$7=2005+OFFSET(AGR!$B$49,$AX78,SUMIF($B$10:$B$14,\"NCAP_TLIFE\",$AY$10:$AY$14)),0,\"\"))","v":""},{"$f":"IF($B78<>\"PRC_RESID\",\"\",IF(S$7=2005+OFFSET(AGR!$B$49,$AX78,SUMIF($B$10:$B$14,\"NCAP_TLIFE\",$AY$10:$AY$14)),0,\"\"))","v":""},{"$f":"IF($B78<>\"PRC_RESID\",\"\",IF(T$7=2005+OFFSET(AGR!$B$49,$AX78,SUMIF($B$10:$B$14,\"NCAP_TLIFE\",$AY$10:$AY$14)),0,\"\"))","v":""},{"$f":"IF($B78<>\"PRC_RESID\",\"\",IF(U$7=2005+OFFSET(AGR!$B$49,$AX78,SUMIF($B$10:$B$14,\"NCAP_TLIFE\",$AY$10:$AY$14)),0,\"\"))","v":""},{"$f":"IF($B78<>\"PRC_RESID\",\"\",IF(V$7=2005+OFFSET(AGR!$B$49,$AX78,SUMIF($B$10:$B$14,\"NCAP_TLIFE\",$AY$10:$AY$14)),0,\"\"))","v":""},{"$f":"IF($B78<>\"PRC_RESID\",\"\",IF(W$7=2005+OFFSET(AGR!$B$49,$AX78,SUMIF($B$10:$B$14,\"NCAP_TLIFE\",$AY$10:$AY$14)),0,\"\"))","v":""},{"$f":"IF($B78<>\"PRC_RESID\",\"\",IF(X$7=2005+OFFSET(AGR!$B$49,$AX78,SUMIF($B$10:$B$14,\"NCAP_TLIFE\",$AY$10:$AY$14)),0,\"\"))","v":""},{"$f":"IF($B78<>\"PRC_RESID\",\"\",IF(Y$7=2005+OFFSET(AGR!$B$49,$AX78,SUMIF($B$10:$B$14,\"NCAP_TLIFE\",$AY$10:$AY$14)),0,\"\"))","v":""},{"$f":"IF($B78<>\"PRC_RESID\",\"\",IF(Z$7=2005+OFFSET(AGR!$B$49,$AX78,SUMIF($B$10:$B$14,\"NCAP_TLIFE\",$AY$10:$AY$14)),0,\"\"))","v":""},{"$f":"IF($B78<>\"PRC_RESID\",\"\",IF(AA$7=2005+OFFSET(AGR!$B$49,$AX78,SUMIF($B$10:$B$14,\"NCAP_TLIFE\",$AY$10:$AY$14)),0,\"\"))","v":""},{"$f":"IF($B78<>\"PRC_RESID\",\"\",IF(AB$7=2005+OFFSET(AGR!$B$49,$AX78,SUMIF($B$10:$B$14,\"NCAP_TLIFE\",$AY$10:$AY$14)),0,\"\"))","v":""},{"$f":"IF($B78<>\"PRC_RESID\",\"\",IF(AC$7=2005+OFFSET(AGR!$B$49,$AX78,SUMIF($B$10:$B$14,\"NCAP_TLIFE\",$AY$10:$AY$14)),0,\"\"))","v":""},{"$f":"IF($B78<>\"PRC_RESID\",\"\",IF(AD$7=2005+OFFSET(AGR!$B$49,$AX78,SUMIF($B$10:$B$14,\"NCAP_TLIFE\",$AY$10:$AY$14)),0,\"\"))","v":""},{"$f":"IF($B78<>\"PRC_RESID\",\"\",IF(AE$7=2005+OFFSET(AGR!$B$49,$AX78,SUMIF($B$10:$B$14,\"NCAP_TLIFE\",$AY$10:$AY$14)),0,\"\"))","v":""},{"$f":"IF($B78<>\"PRC_RESID\",\"\",IF(AF$7=2005+OFFSET(AGR!$B$49,$AX78,SUMIF($B$10:$B$14,\"NCAP_TLIFE\",$AY$10:$AY$14)),0,\"\"))","v":""},{"$f":"IF($B78<>\"PRC_RESID\",\"\",IF(AG$7=2005+OFFSET(AGR!$B$49,$AX78,SUMIF($B$10:$B$14,\"NCAP_TLIFE\",$AY$10:$AY$14)),0,\"\"))","v":""},{"$f":"IF($B78<>\"PRC_RESID\",\"\",IF(AH$7=2005+OFFSET(AGR!$B$49,$AX78,SUMIF($B$10:$B$14,\"NCAP_TLIFE\",$AY$10:$AY$14)),0,\"\"))","v":""},null,null,null,null,{"$f":"IF($B78<>\"PRC_RESID\",\"\",IF(AM$7=2005+OFFSET(AGR!$B$49,$AX78,SUMIF($B$10:$B$14,\"NCAP_TLIFE\",$AY$10:$AY$14)),0,\"\"))","v":""},null,null,null,null,{"$f":"IF($B78<>\"PRC_RESID\",\"\",IF(AR$7=2005+OFFSET(AGR!$B$49,$AX78,SUMIF($B$10:$B$14,\"NCAP_TLIFE\",$AY$10:$AY$14)),0,\"\"))","v":""},{"$f":"IF($B78<>\"PRC_RESID\",\"\",IF(AS$7=2005+OFFSET(AGR!$B$49,$AX78,SUMIF($B$10:$B$14,\"NCAP_TLIFE\",$AY$10:$AY$14)),0,\"\"))","v":""},{"$f":"IF($B78<>\"PRC_RESID\",\"\",IF(AT$7=2005+OFFSET(AGR!$B$49,$AX78,SUMIF($B$10:$B$14,\"NCAP_TLIFE\",$AY$10:$AY$14)),0,\"\"))","v":""},{"$f":"IF($B78<>\"PRC_RESID\",\"\",IF(AU$7=2005+OFFSET(AGR!$B$49,$AX78,SUMIF($B$10:$B$14,\"NCAP_TLIFE\",$AY$10:$AY$14)),0,\"\"))","v":""},null,{"$f":"IF(AX77=AGR!$W$72,AW77+1,AW77)","v":3},17]
[{"$f":"IF(LEFT(OFFSET(AGR!$A$49,AX79,0),2)=\"\\I\",\"*\",\"\")","v":""},"NCAP_BND",{"$f":"IF($A79=\"*\",\"\",OFFSET(AGR!$B$49,AX79,0))","v":"AIOGS-E"},"-","-","-","-","UP",0,{"$f":"IF($A79=\"*\",\"\",OFFSET(AGR!$B$49,AX79,SUMIF($B$10:$B$14,B79,$AY$10:$AY$14)))","v":5.8004640371229707E-4},{"$f":"IF($B79<>\"PRC_RESID\",\"\",IF(K$7=2005+OFFSET(AGR!$B$49,$AX79,SUMIF($B$10:$B$14,\"NCAP_TLIFE\",$AY$10:$AY$14)),0,\"\"))","v":""},{"$f":"IF($B79<>\"PRC_RESID\",\"\",IF(L$7=2005+OFFSET(AGR!$B$49,$AX79,SUMIF($B$10:$B$14,\"NCAP_TLIFE\",$AY$10:$AY$14)),0,\"\"))","v":""},{"$f":"IF($B79<>\"PRC_RESID\",\"\",IF(M$7=2005+OFFSET(AGR!$B$49,$AX79,SUMIF($B$10:$B$14,\"NCAP_TLIFE\",$AY$10:$AY$14)),0,\"\"))","v":""},{"$f":"IF($B79<>\"PRC_RESID\",\"\",IF(N$7=2005+OFFSET(AGR!$B$49,$AX79,SUMIF($B$10:$B$14,\"NCAP_TLIFE\",$AY$10:$AY$14)),0,\"\"))","v":""},{"$f":"IF($B79<>\"PRC_RESID\",\"\",IF(O$7=2005+OFFSET(AGR!$B$49,$AX79,SUMIF($B$10:$B$14,\"NCAP_TLIFE\",$AY$10:$AY$14)),0,\"\"))","v":""},{"$f":"IF($B79<>\"PRC_RESID\",\"\",IF(P$7=2005+OFFSET(AGR!$B$49,$AX79,SUMIF($B$10:$B$14,\"NCAP_TLIFE\",$AY$10:$AY$14)),0,\"\"))","v":""},{"$f":"IF($B79<>\"PRC_RESID\",\"\",IF(Q$7=2005+OFFSET(AGR!$B$49,$AX79,SUMIF($B$10:$B$14,\"NCAP_TLIFE\",$AY$10:$AY$14)),0,\"\"))","v":""},{"$f":"IF($B79<>\"PRC_RESID\",\"\",IF(R$7=2005+OFFSET(AGR!$B$49,$AX79,SUMIF($B$10:$B$14,\"NCAP_TLIFE\",$AY$10:$AY$14)),0,\"\"))","v":""},{"$f":"IF($B79<>\"PRC_RESID\",\"\",IF(S$7=2005+OFFSET(AGR!$B$49,$AX79,SUMIF($B$10:$B$14,\"NCAP_TLIFE\",$AY$10:$AY$14)),0,\"\"))","v":""},{"$f":"IF($B79<>\"PRC_RESID\",\"\",IF(T$7=2005+OFFSET(AGR!$B$49,$AX79,SUMIF($B$10:$B$14,\"NCAP_TLIFE\",$AY$10:$AY$14)),0,\"\"))","v":""},{"$f":"IF($B79<>\"PRC_RESID\",\"\",IF(U$7=2005+OFFSET(AGR!$B$49,$AX79,SUMIF($B$10:$B$14,\"NCAP_TLIFE\",$AY$10:$AY$14)),0,\"\"))","v":""},{"$f":"IF($B79<>\"PRC_RESID\",\"\",IF(V$7=2005+OFFSET(AGR!$B$49,$AX79,SUMIF($B$10:$B$14,\"NCAP_TLIFE\",$AY$10:$AY$14)),0,\"\"))","v":""},{"$f":"IF($B79<>\"PRC_RESID\",\"\",IF(W$7=2005+OFFSET(AGR!$B$49,$AX79,SUMIF($B$10:$B$14,\"NCAP_TLIFE\",$AY$10:$AY$14)),0,\"\"))","v":""},{"$f":"IF($B79<>\"PRC_RESID\",\"\",IF(X$7=2005+OFFSET(AGR!$B$49,$AX79,SUMIF($B$10:$B$14,\"NCAP_TLIFE\",$AY$10:$AY$14)),0,\"\"))","v":""},{"$f":"IF($B79<>\"PRC_RESID\",\"\",IF(Y$7=2005+OFFSET(AGR!$B$49,$AX79,SUMIF($B$10:$B$14,\"NCAP_TLIFE\",$AY$10:$AY$14)),0,\"\"))","v":""},{"$f":"IF($B79<>\"PRC_RESID\",\"\",IF(Z$7=2005+OFFSET(AGR!$B$49,$AX79,SUMIF($B$10:$B$14,\"NCAP_TLIFE\",$AY$10:$AY$14)),0,\"\"))","v":""},{"$f":"IF($B79<>\"PRC_RESID\",\"\",IF(AA$7=2005+OFFSET(AGR!$B$49,$AX79,SUMIF($B$10:$B$14,\"NCAP_TLIFE\",$AY$10:$AY$14)),0,\"\"))","v":""},{"$f":"IF($B79<>\"PRC_RESID\",\"\",IF(AB$7=2005+OFFSET(AGR!$B$49,$AX79,SUMIF($B$10:$B$14,\"NCAP_TLIFE\",$AY$10:$AY$14)),0,\"\"))","v":""},{"$f":"IF($B79<>\"PRC_RESID\",\"\",IF(AC$7=2005+OFFSET(AGR!$B$49,$AX79,SUMIF($B$10:$B$14,\"NCAP_TLIFE\",$AY$10:$AY$14)),0,\"\"))","v":""},{"$f":"IF($B79<>\"PRC_RESID\",\"\",IF(AD$7=2005+OFFSET(AGR!$B$49,$AX79,SUMIF($B$10:$B$14,\"NCAP_TLIFE\",$AY$10:$AY$14)),0,\"\"))","v":""},{"$f":"IF($B79<>\"PRC_RESID\",\"\",IF(AE$7=2005+OFFSET(AGR!$B$49,$AX79,SUMIF($B$10:$B$14,\"NCAP_TLIFE\",$AY$10:$AY$14)),0,\"\"))","v":""},{"$f":"IF($B79<>\"PRC_RESID\",\"\",IF(AF$7=2005+OFFSET(AGR!$B$49,$AX79,SUMIF($B$10:$B$14,\"NCAP_TLIFE\",$AY$10:$AY$14)),0,\"\"))","v":""},{"$f":"IF($B79<>\"PRC_RESID\",\"\",IF(AG$7=2005+OFFSET(AGR!$B$49,$AX79,SUMIF($B$10:$B$14,\"NCAP_TLIFE\",$AY$10:$AY$14)),0,\"\"))","v":""},{"$f":"IF($B79<>\"PRC_RESID\",\"\",IF(AH$7=2005+OFFSET(AGR!$B$49,$AX79,SUMIF($B$10:$B$14,\"NCAP_TLIFE\",$AY$10:$AY$14)),0,\"\"))","v":""},null,null,null,null,{"$f":"IF($B79<>\"PRC_RESID\",\"\",IF(AM$7=2005+OFFSET(AGR!$B$49,$AX79,SUMIF($B$10:$B$14,\"NCAP_TLIFE\",$AY$10:$AY$14)),0,\"\"))","v":""},null,null,null,null,{"$f":"IF($B79<>\"PRC_RESID\",\"\",IF(AR$7=2005+OFFSET(AGR!$B$49,$AX79,SUMIF($B$10:$B$14,\"NCAP_TLIFE\",$AY$10:$AY$14)),0,\"\"))","v":""},{"$f":"IF($B79<>\"PRC_RESID\",\"\",IF(AS$7=2005+OFFSET(AGR!$B$49,$AX79,SUMIF($B$10:$B$14,\"NCAP_TLIFE\",$AY$10:$AY$14)),0,\"\"))","v":""},{"$f":"IF($B79<>\"PRC_RESID\",\"\",IF(AT$7=2005+OFFSET(AGR!$B$49,$AX79,SUMIF($B$10:$B$14,\"NCAP_TLIFE\",$AY$10:$AY$14)),0,\"\"))","v":""},{"$f":"IF($B79<>\"PRC_RESID\",\"\",IF(AU$7=2005+OFFSET(AGR!$B$49,$AX79,SUMIF($B$10:$B$14,\"NCAP_TLIFE\",$AY$10:$AY$14)),0,\"\"))","v":""},null,{"$f":"IF(AX78=AGR!$W$72,AW78+1,AW78)","v":3},18]
[{"$f":"IF(LEFT(OFFSET(AGR!$A$49,AX80,0),2)=\"\\I\",\"*\",\"\")","v":"*"},{"$f":"IF(A80=\"*\",\"\",VLOOKUP(\"*\"&AW80,$A$9:$B$14,2,FALSE))","v":""},{"$f":"IF($A80=\"*\",\"\",OFFSET(AGR!$B$49,AX80,0))","v":""},"","","","","","",{"$f":"IF($A80=\"*\",\"\",OFFSET(AGR!$B$49,AX80,SUMIF($B$10:$B$14,B80,$AY$10:$AY$14)))","v":""},{"$f":"IF($B80<>\"PRC_RESID\",\"\",IF(K$7=2005+OFFSET(AGR!$B$49,$AX80,SUMIF($B$10:$B$14,\"NCAP_TLIFE\",$AY$10:$AY$14)),0,\"\"))","v":""},{"$f":"IF($B80<>\"PRC_RESID\",\"\",IF(L$7=2005+OFFSET(AGR!$B$49,$AX80,SUMIF($B$10:$B$14,\"NCAP_TLIFE\",$AY$10:$AY$14)),0,\"\"))","v":""},{"$f":"IF($B80<>\"PRC_RESID\",\"\",IF(M$7=2005+OFFSET(AGR!$B$49,$AX80,SUMIF($B$10:$B$14,\"NCAP_TLIFE\",$AY$10:$AY$14)),0,\"\"))","v":""},{"$f":"IF($B80<>\"PRC_RESID\",\"\",IF(N$7=2005+OFFSET(AGR!$B$49,$AX80,SUMIF($B$10:$B$14,\"NCAP_TLIFE\",$AY$10:$AY$14)),0,\"\"))","v":""},{"$f":"IF($B80<>\"PRC_RESID\",\"\",IF(O$7=2005+OFFSET(AGR!$B$49,$AX80,SUMIF($B$10:$B$14,\"NCAP_TLIFE\",$AY$10:$AY$14)),0,\"\"))","v":""},{"$f":"IF($B80<>\"PRC_RESID\",\"\",IF(P$7=2005+OFFSET(AGR!$B$49,$AX80,SUMIF($B$10:$B$14,\"NCAP_TLIFE\",$AY$10:$AY$14)),0,\"\"))","v":""},{"$f":"IF($B80<>\"PRC_RESID\",\"\",IF(Q$7=2005+OFFSET(AGR!$B$49,$AX80,SUMIF($B$10:$B$14,\"NCAP_TLIFE\",$AY$10:$AY$14)),0,\"\"))","v":""},{"$f":"IF($B80<>\"PRC_RESID\",\"\",IF(R$7=2005+OFFSET(AGR!$B$49,$AX80,SUMIF($B$10:$B$14,\"NCAP_TLIFE\",$AY$10:$AY$14)),0,\"\"))","v":""},{"$f":"IF($B80<>\"PRC_RESID\",\"\",IF(S$7=2005+OFFSET(AGR!$B$49,$AX80,SUMIF($B$10:$B$14,\"NCAP_TLIFE\",$AY$10:$AY$14)),0,\"\"))","v":""},{"$f":"IF($B80<>\"PRC_RESID\",\"\",IF(T$7=2005+OFFSET(AGR!$B$49,$AX80,SUMIF($B$10:$B$14,\"NCAP_TLIFE\",$AY$10:$AY$14)),0,\"\"))","v":""},{"$f":"IF($B80<>\"PRC_RESID\",\"\",IF(U$7=2005+OFFSET(AGR!$B$49,$AX80,SUMIF($B$10:$B$14,\"NCAP_TLIFE\",$AY$10:$AY$14)),0,\"\"))","v":""},{"$f":"IF($B80<>\"PRC_RESID\",\"\",IF(V$7=2005+OFFSET(AGR!$B$49,$AX80,SUMIF($B$10:$B$14,\"NCAP_TLIFE\",$AY$10:$AY$14)),0,\"\"))","v":""},{"$f":"IF($B80<>\"PRC_RESID\",\"\",IF(W$7=2005+OFFSET(AGR!$B$49,$AX80,SUMIF($B$10:$B$14,\"NCAP_TLIFE\",$AY$10:$AY$14)),0,\"\"))","v":""},{"$f":"IF($B80<>\"PRC_RESID\",\"\",IF(X$7=2005+OFFSET(AGR!$B$49,$AX80,SUMIF($B$10:$B$14,\"NCAP_TLIFE\",$AY$10:$AY$14)),0,\"\"))","v":""},{"$f":"IF($B80<>\"PRC_RESID\",\"\",IF(Y$7=2005+OFFSET(AGR!$B$49,$AX80,SUMIF($B$10:$B$14,\"NCAP_TLIFE\",$AY$10:$AY$14)),0,\"\"))","v":""},{"$f":"IF($B80<>\"PRC_RESID\",\"\",IF(Z$7=2005+OFFSET(AGR!$B$49,$AX80,SUMIF($B$10:$B$14,\"NCAP_TLIFE\",$AY$10:$AY$14)),0,\"\"))","v":""},{"$f":"IF($B80<>\"PRC_RESID\",\"\",IF(AA$7=2005+OFFSET(AGR!$B$49,$AX80,SUMIF($B$10:$B$14,\"NCAP_TLIFE\",$AY$10:$AY$14)),0,\"\"))","v":""},{"$f":"IF($B80<>\"PRC_RESID\",\"\",IF(AB$7=2005+OFFSET(AGR!$B$49,$AX80,SUMIF($B$10:$B$14,\"NCAP_TLIFE\",$AY$10:$AY$14)),0,\"\"))","v":""},{"$f":"IF($B80<>\"PRC_RESID\",\"\",IF(AC$7=2005+OFFSET(AGR!$B$49,$AX80,SUMIF($B$10:$B$14,\"NCAP_TLIFE\",$AY$10:$AY$14)),0,\"\"))","v":""},{"$f":"IF($B80<>\"PRC_RESID\",\"\",IF(AD$7=2005+OFFSET(AGR!$B$49,$AX80,SUMIF($B$10:$B$14,\"NCAP_TLIFE\",$AY$10:$AY$14)),0,\"\"))","v":""},{"$f":"IF($B80<>\"PRC_RESID\",\"\",IF(AE$7=2005+OFFSET(AGR!$B$49,$AX80,SUMIF($B$10:$B$14,\"NCAP_TLIFE\",$AY$10:$AY$14)),0,\"\"))","v":""},{"$f":"IF($B80<>\"PRC_RESID\",\"\",IF(AF$7=2005+OFFSET(AGR!$B$49,$AX80,SUMIF($B$10:$B$14,\"NCAP_TLIFE\",$AY$10:$AY$14)),0,\"\"))","v":""},{"$f":"IF($B80<>\"PRC_RESID\",\"\",IF(AG$7=2005+OFFSET(AGR!$B$49,$AX80,SUMIF($B$10:$B$14,\"NCAP_TLIFE\",$AY$10:$AY$14)),0,\"\"))","v":""},{"$f":"IF($B80<>\"PRC_RESID\",\"\",IF(AH$7=2005+OFFSET(AGR!$B$49,$AX80,SUMIF($B$10:$B$14,\"NCAP_TLIFE\",$AY$10:$AY$14)),0,\"\"))","v":""},null,null,null,null,{"$f":"IF($B80<>\"PRC_RESID\",\"\",IF(AM$7=2005+OFFSET(AGR!$B$49,$AX80,SUMIF($B$10:$B$14,\"NCAP_TLIFE\",$AY$10:$AY$14)),0,\"\"))","v":""},null,null,null,null,{"$f":"IF($B80<>\"PRC_RESID\",\"\",IF(AR$7=2005+OFFSET(AGR!$B$49,$AX80,SUMIF($B$10:$B$14,\"NCAP_TLIFE\",$AY$10:$AY$14)),0,\"\"))","v":""},{"$f":"IF($B80<>\"PRC_RESID\",\"\",IF(AS$7=2005+OFFSET(AGR!$B$49,$AX80,SUMIF($B$10:$B$14,\"NCAP_TLIFE\",$AY$10:$AY$14)),0,\"\"))","v":""},{"$f":"IF($B80<>\"PRC_RESID\",\"\",IF(AT$7=2005+OFFSET(AGR!$B$49,$AX80,SUMIF($B$10:$B$14,\"NCAP_TLIFE\",$AY$10:$AY$14)),0,\"\"))","v":""},{"$f":"IF($B80<>\"PRC_RESID\",\"\",IF(AU$7=2005+OFFSET(AGR!$B$49,$AX80,SUMIF($B$10:$B$14,\"NCAP_TLIFE\",$AY$10:$AY$14)),0,\"\"))","v":""},null,{"$f":"IF(AX79=AGR!$W$72,AW79+1,AW79)","v":3},19]
[{"$f":"IF(LEFT(OFFSET(AGR!$A$49,AX81,0),2)=\"\\I\",\"*\",\"\")","v":"*"},"",{"$f":"IF($A81=\"*\",\"\",OFFSET(AGR!$B$49,AX81,0))","v":""},"","","","","","",{"$f":"IF($A81=\"*\",\"\",OFFSET(AGR!$B$49,AX81,SUMIF($B$10:$B$14,B81,$AY$10:$AY$14)))","v":""},{"$f":"IF($B81<>\"PRC_RESID\",\"\",IF(K$7=2005+OFFSET(AGR!$B$49,$AX81,SUMIF($B$10:$B$14,\"NCAP_TLIFE\",$AY$10:$AY$14)),0,\"\"))","v":""},{"$f":"IF($B81<>\"PRC_RESID\",\"\",IF(L$7=2005+OFFSET(AGR!$B$49,$AX81,SUMIF($B$10:$B$14,\"NCAP_TLIFE\",$AY$10:$AY$14)),0,\"\"))","v":""},{"$f":"IF($B81<>\"PRC_RESID\",\"\",IF(M$7=2005+OFFSET(AGR!$B$49,$AX81,SUMIF($B$10:$B$14,\"NCAP_TLIFE\",$AY$10:$AY$14)),0,\"\"))","v":""},{"$f":"IF($B81<>\"PRC_RESID\",\"\",IF(N$7=2005+OFFSET(AGR!$B$49,$AX81,SUMIF($B$10:$B$14,\"NCAP_TLIFE\",$AY$10:$AY$14)),0,\"\"))","v":""},{"$f":"IF($B81<>\"PRC_RESID\",\"\",IF(O$7=2005+OFFSET(AGR!$B$49,$AX81,SUMIF($B$10:$B$14,\"NCAP_TLIFE\",$AY$10:$AY$14)),0,\"\"))","v":""},{"$f":"IF($B81<>\"PRC_RESID\",\"\",IF(P$7=2005+OFFSET(AGR!$B$49,$AX81,SUMIF($B$10:$B$14,\"NCAP_TLIFE\",$AY$10:$AY$14)),0,\"\"))","v":""},{"$f":"IF($B81<>\"PRC_RESID\",\"\",IF(Q$7=2005+OFFSET(AGR!$B$49,$AX81,SUMIF($B$10:$B$14,\"NCAP_TLIFE\",$AY$10:$AY$14)),0,\"\"))","v":""},{"$f":"IF($B81<>\"PRC_RESID\",\"\",IF(R$7=2005+OFFSET(AGR!$B$49,$AX81,SUMIF($B$10:$B$14,\"NCAP_TLIFE\",$AY$10:$AY$14)),0,\"\"))","v":""},{"$f":"IF($B81<>\"PRC_RESID\",\"\",IF(S$7=2005+OFFSET(AGR!$B$49,$AX81,SUMIF($B$10:$B$14,\"NCAP_TLIFE\",$AY$10:$AY$14)),0,\"\"))","v":""},{"$f":"IF($B81<>\"PRC_RESID\",\"\",IF(T$7=2005+OFFSET(AGR!$B$49,$AX81,SUMIF($B$10:$B$14,\"NCAP_TLIFE\",$AY$10:$AY$14)),0,\"\"))","v":""},{"$f":"IF($B81<>\"PRC_RESID\",\"\",IF(U$7=2005+OFFSET(AGR!$B$49,$AX81,SUMIF($B$10:$B$14,\"NCAP_TLIFE\",$AY$10:$AY$14)),0,\"\"))","v":""},{"$f":"IF($B81<>\"PRC_RESID\",\"\",IF(V$7=2005+OFFSET(AGR!$B$49,$AX81,SUMIF($B$10:$B$14,\"NCAP_TLIFE\",$AY$10:$AY$14)),0,\"\"))","v":""},{"$f":"IF($B81<>\"PRC_RESID\",\"\",IF(W$7=2005+OFFSET(AGR!$B$49,$AX81,SUMIF($B$10:$B$14,\"NCAP_TLIFE\",$AY$10:$AY$14)),0,\"\"))","v":""},{"$f":"IF($B81<>\"PRC_RESID\",\"\",IF(X$7=2005+OFFSET(AGR!$B$49,$AX81,SUMIF($B$10:$B$14,\"NCAP_TLIFE\",$AY$10:$AY$14)),0,\"\"))","v":""},{"$f":"IF($B81<>\"PRC_RESID\",\"\",IF(Y$7=2005+OFFSET(AGR!$B$49,$AX81,SUMIF($B$10:$B$14,\"NCAP_TLIFE\",$AY$10:$AY$14)),0,\"\"))","v":""},{"$f":"IF($B81<>\"PRC_RESID\",\"\",IF(Z$7=2005+OFFSET(AGR!$B$49,$AX81,SUMIF($B$10:$B$14,\"NCAP_TLIFE\",$AY$10:$AY$14)),0,\"\"))","v":""},{"$f":"IF($B81<>\"PRC_RESID\",\"\",IF(AA$7=2005+OFFSET(AGR!$B$49,$AX81,SUMIF($B$10:$B$14,\"NCAP_TLIFE\",$AY$10:$AY$14)),0,\"\"))","v":""},{"$f":"IF($B81<>\"PRC_RESID\",\"\",IF(AB$7=2005+OFFSET(AGR!$B$49,$AX81,SUMIF($B$10:$B$14,\"NCAP_TLIFE\",$AY$10:$AY$14)),0,\"\"))","v":""},{"$f":"IF($B81<>\"PRC_RESID\",\"\",IF(AC$7=2005+OFFSET(AGR!$B$49,$AX81,SUMIF($B$10:$B$14,\"NCAP_TLIFE\",$AY$10:$AY$14)),0,\"\"))","v":""},{"$f":"IF($B81<>\"PRC_RESID\",\"\",IF(AD$7=2005+OFFSET(AGR!$B$49,$AX81,SUMIF($B$10:$B$14,\"NCAP_TLIFE\",$AY$10:$AY$14)),0,\"\"))","v":""},{"$f":"IF($B81<>\"PRC_RESID\",\"\",IF(AE$7=2005+OFFSET(AGR!$B$49,$AX81,SUMIF($B$10:$B$14,\"NCAP_TLIFE\",$AY$10:$AY$14)),0,\"\"))","v":""},{"$f":"IF($B81<>\"PRC_RESID\",\"\",IF(AF$7=2005+OFFSET(AGR!$B$49,$AX81,SUMIF($B$10:$B$14,\"NCAP_TLIFE\",$AY$10:$AY$14)),0,\"\"))","v":""},{"$f":"IF($B81<>\"PRC_RESID\",\"\",IF(AG$7=2005+OFFSET(AGR!$B$49,$AX81,SUMIF($B$10:$B$14,\"NCAP_TLIFE\",$AY$10:$AY$14)),0,\"\"))","v":""},{"$f":"IF($B81<>\"PRC_RESID\",\"\",IF(AH$7=2005+OFFSET(AGR!$B$49,$AX81,SUMIF($B$10:$B$14,\"NCAP_TLIFE\",$AY$10:$AY$14)),0,\"\"))","v":""},null,null,null,null,{"$f":"IF($B81<>\"PRC_RESID\",\"\",IF(AM$7=2005+OFFSET(AGR!$B$49,$AX81,SUMIF($B$10:$B$14,\"NCAP_TLIFE\",$AY$10:$AY$14)),0,\"\"))","v":""},null,null,null,null,{"$f":"IF($B81<>\"PRC_RESID\",\"\",IF(AR$7=2005+OFFSET(AGR!$B$49,$AX81,SUMIF($B$10:$B$14,\"NCAP_TLIFE\",$AY$10:$AY$14)),0,\"\"))","v":""},{"$f":"IF($B81<>\"PRC_RESID\",\"\",IF(AS$7=2005+OFFSET(AGR!$B$49,$AX81,SUMIF($B$10:$B$14,\"NCAP_TLIFE\",$AY$10:$AY$14)),0,\"\"))","v":""},{"$f":"IF($B81<>\"PRC_RESID\",\"\",IF(AT$7=2005+OFFSET(AGR!$B$49,$AX81,SUMIF($B$10:$B$14,\"NCAP_TLIFE\",$AY$10:$AY$14)),0,\"\"))","v":""},{"$f":"IF($B81<>\"PRC_RESID\",\"\",IF(AU$7=2005+OFFSET(AGR!$B$49,$AX81,SUMIF($B$10:$B$14,\"NCAP_TLIFE\",$AY$10:$AY$14)),0,\"\"))","v":""},null,{"$f":"IF(AX80=AGR!$W$72,AW80+1,AW80)","v":3},20]
[{"$f":"IF(LEFT(OFFSET(AGR!$A$49,AX82,0),2)=\"\\I\",\"*\",\"\")","v":""},"NCAP_BND",{"$f":"IF($A82=\"*\",\"\",OFFSET(AGR!$B$49,AX82,0))","v":"AOELC-E"},"-","-","-","-","UP",0,{"$f":"IF($A82=\"*\",\"\",OFFSET(AGR!$B$49,AX82,SUMIF($B$10:$B$14,B82,$AY$10:$AY$14)))","v":0.05},{"$f":"IF($B82<>\"PRC_RESID\",\"\",IF(K$7=2005+OFFSET(AGR!$B$49,$AX82,SUMIF($B$10:$B$14,\"NCAP_TLIFE\",$AY$10:$AY$14)),0,\"\"))","v":""},{"$f":"IF($B82<>\"PRC_RESID\",\"\",IF(L$7=2005+OFFSET(AGR!$B$49,$AX82,SUMIF($B$10:$B$14,\"NCAP_TLIFE\",$AY$10:$AY$14)),0,\"\"))","v":""},{"$f":"IF($B82<>\"PRC_RESID\",\"\",IF(M$7=2005+OFFSET(AGR!$B$49,$AX82,SUMIF($B$10:$B$14,\"NCAP_TLIFE\",$AY$10:$AY$14)),0,\"\"))","v":""},{"$f":"IF($B82<>\"PRC_RESID\",\"\",IF(N$7=2005+OFFSET(AGR!$B$49,$AX82,SUMIF($B$10:$B$14,\"NCAP_TLIFE\",$AY$10:$AY$14)),0,\"\"))","v":""},{"$f":"IF($B82<>\"PRC_RESID\",\"\",IF(O$7=2005+OFFSET(AGR!$B$49,$AX82,SUMIF($B$10:$B$14,\"NCAP_TLIFE\",$AY$10:$AY$14)),0,\"\"))","v":""},{"$f":"IF($B82<>\"PRC_RESID\",\"\",IF(P$7=2005+OFFSET(AGR!$B$49,$AX82,SUMIF($B$10:$B$14,\"NCAP_TLIFE\",$AY$10:$AY$14)),0,\"\"))","v":""},{"$f":"IF($B82<>\"PRC_RESID\",\"\",IF(Q$7=2005+OFFSET(AGR!$B$49,$AX82,SUMIF($B$10:$B$14,\"NCAP_TLIFE\",$AY$10:$AY$14)),0,\"\"))","v":""},{"$f":"IF($B82<>\"PRC_RESID\",\"\",IF(R$7=2005+OFFSET(AGR!$B$49,$AX82,SUMIF($B$10:$B$14,\"NCAP_TLIFE\",$AY$10:$AY$14)),0,\"\"))","v":""},{"$f":"IF($B82<>\"PRC_RESID\",\"\",IF(S$7=2005+OFFSET(AGR!$B$49,$AX82,SUMIF($B$10:$B$14,\"NCAP_TLIFE\",$AY$10:$AY$14)),0,\"\"))","v":""},{"$f":"IF($B82<>\"PRC_RESID\",\"\",IF(T$7=2005+OFFSET(AGR!$B$49,$AX82,SUMIF($B$10:$B$14,\"NCAP_TLIFE\",$AY$10:$AY$14)),0,\"\"))","v":""},{"$f":"IF($B82<>\"PRC_RESID\",\"\",IF(U$7=2005+OFFSET(AGR!$B$49,$AX82,SUMIF($B$10:$B$14,\"NCAP_TLIFE\",$AY$10:$AY$14)),0,\"\"))","v":""},{"$f":"IF($B82<>\"PRC_RESID\",\"\",IF(V$7=2005+OFFSET(AGR!$B$49,$AX82,SUMIF($B$10:$B$14,\"NCAP_TLIFE\",$AY$10:$AY$14)),0,\"\"))","v":""},{"$f":"IF($B82<>\"PRC_RESID\",\"\",IF(W$7=2005+OFFSET(AGR!$B$49,$AX82,SUMIF($B$10:$B$14,\"NCAP_TLIFE\",$AY$10:$AY$14)),0,\"\"))","v":""},{"$f":"IF($B82<>\"PRC_RESID\",\"\",IF(X$7=2005+OFFSET(AGR!$B$49,$AX82,SUMIF($B$10:$B$14,\"NCAP_TLIFE\",$AY$10:$AY$14)),0,\"\"))","v":""},{"$f":"IF($B82<>\"PRC_RESID\",\"\",IF(Y$7=2005+OFFSET(AGR!$B$49,$AX82,SUMIF($B$10:$B$14,\"NCAP_TLIFE\",$AY$10:$AY$14)),0,\"\"))","v":""},{"$f":"IF($B82<>\"PRC_RESID\",\"\",IF(Z$7=2005+OFFSET(AGR!$B$49,$AX82,SUMIF($B$10:$B$14,\"NCAP_TLIFE\",$AY$10:$AY$14)),0,\"\"))","v":""},{"$f":"IF($B82<>\"PRC_RESID\",\"\",IF(AA$7=2005+OFFSET(AGR!$B$49,$AX82,SUMIF($B$10:$B$14,\"NCAP_TLIFE\",$AY$10:$AY$14)),0,\"\"))","v":""},{"$f":"IF($B82<>\"PRC_RESID\",\"\",IF(AB$7=2005+OFFSET(AGR!$B$49,$AX82,SUMIF($B$10:$B$14,\"NCAP_TLIFE\",$AY$10:$AY$14)),0,\"\"))","v":""},{"$f":"IF($B82<>\"PRC_RESID\",\"\",IF(AC$7=2005+OFFSET(AGR!$B$49,$AX82,SUMIF($B$10:$B$14,\"NCAP_TLIFE\",$AY$10:$AY$14)),0,\"\"))","v":""},{"$f":"IF($B82<>\"PRC_RESID\",\"\",IF(AD$7=2005+OFFSET(AGR!$B$49,$AX82,SUMIF($B$10:$B$14,\"NCAP_TLIFE\",$AY$10:$AY$14)),0,\"\"))","v":""},{"$f":"IF($B82<>\"PRC_RESID\",\"\",IF(AE$7=2005+OFFSET(AGR!$B$49,$AX82,SUMIF($B$10:$B$14,\"NCAP_TLIFE\",$AY$10:$AY$14)),0,\"\"))","v":""},{"$f":"IF($B82<>\"PRC_RESID\",\"\",IF(AF$7=2005+OFFSET(AGR!$B$49,$AX82,SUMIF($B$10:$B$14,\"NCAP_TLIFE\",$AY$10:$AY$14)),0,\"\"))","v":""},{"$f":"IF($B82<>\"PRC_RESID\",\"\",IF(AG$7=2005+OFFSET(AGR!$B$49,$AX82,SUMIF($B$10:$B$14,\"NCAP_TLIFE\",$AY$10:$AY$14)),0,\"\"))","v":""},{"$f":"IF($B82<>\"PRC_RESID\",\"\",IF(AH$7=2005+OFFSET(AGR!$B$49,$AX82,SUMIF($B$10:$B$14,\"NCAP_TLIFE\",$AY$10:$AY$14)),0,\"\"))","v":""},null,null,null,null,{"$f":"IF($B82<>\"PRC_RESID\",\"\",IF(AM$7=2005+OFFSET(AGR!$B$49,$AX82,SUMIF($B$10:$B$14,\"NCAP_TLIFE\",$AY$10:$AY$14)),0,\"\"))","v":""},null,null,null,null,{"$f":"IF($B82<>\"PRC_RESID\",\"\",IF(AR$7=2005+OFFSET(AGR!$B$49,$AX82,SUMIF($B$10:$B$14,\"NCAP_TLIFE\",$AY$10:$AY$14)),0,\"\"))","v":""},{"$f":"IF($B82<>\"PRC_RESID\",\"\",IF(AS$7=2005+OFFSET(AGR!$B$49,$AX82,SUMIF($B$10:$B$14,\"NCAP_TLIFE\",$AY$10:$AY$14)),0,\"\"))","v":""},{"$f":"IF($B82<>\"PRC_RESID\",\"\",IF(AT$7=2005+OFFSET(AGR!$B$49,$AX82,SUMIF($B$10:$B$14,\"NCAP_TLIFE\",$AY$10:$AY$14)),0,\"\"))","v":""},{"$f":"IF($B82<>\"PRC_RESID\",\"\",IF(AU$7=2005+OFFSET(AGR!$B$49,$AX82,SUMIF($B$10:$B$14,\"NCAP_TLIFE\",$AY$10:$AY$14)),0,\"\"))","v":""},null,{"$f":"IF(AX81=AGR!$W$72,AW81+1,AW81)","v":3},{"$f":"IF(AW82=AW81,AX81+1,1)","v":21}]
[{"$f":"IF(LEFT(OFFSET(AGR!$A$49,AX83,0),2)=\"\\I\",\"*\",\"\")","v":"*"},"",{"$f":"IF($A83=\"*\",\"\",OFFSET(AGR!$B$49,AX83,0))","v":""},"","","","","","",{"$f":"IF($A83=\"*\",\"\",OFFSET(AGR!$B$49,AX83,SUMIF($B$10:$B$14,B83,$AY$10:$AY$14)))","v":""},{"$f":"IF($B83<>\"PRC_RESID\",\"\",IF(K$7=2005+OFFSET(AGR!$B$49,$AX83,SUMIF($B$10:$B$14,\"NCAP_TLIFE\",$AY$10:$AY$14)),0,\"\"))","v":""},{"$f":"IF($B83<>\"PRC_RESID\",\"\",IF(L$7=2005+OFFSET(AGR!$B$49,$AX83,SUMIF($B$10:$B$14,\"NCAP_TLIFE\",$AY$10:$AY$14)),0,\"\"))","v":""},{"$f":"IF($B83<>\"PRC_RESID\",\"\",IF(M$7=2005+OFFSET(AGR!$B$49,$AX83,SUMIF($B$10:$B$14,\"NCAP_TLIFE\",$AY$10:$AY$14)),0,\"\"))","v":""},{"$f":"IF($B83<>\"PRC_RESID\",\"\",IF(N$7=2005+OFFSET(AGR!$B$49,$AX83,SUMIF($B$10:$B$14,\"NCAP_TLIFE\",$AY$10:$AY$14)),0,\"\"))","v":""},{"$f":"IF($B83<>\"PRC_RESID\",\"\",IF(O$7=2005+OFFSET(AGR!$B$49,$AX83,SUMIF($B$10:$B$14,\"NCAP_TLIFE\",$AY$10:$AY$14)),0,\"\"))","v":""},{"$f":"IF($B83<>\"PRC_RESID\",\"\",IF(P$7=2005+OFFSET(AGR!$B$49,$AX83,SUMIF($B$10:$B$14,\"NCAP_TLIFE\",$AY$10:$AY$14)),0,\"\"))","v":""},{"$f":"IF($B83<>\"PRC_RESID\",\"\",IF(Q$7=2005+OFFSET(AGR!$B$49,$AX83,SUMIF($B$10:$B$14,\"NCAP_TLIFE\",$AY$10:$AY$14)),0,\"\"))","v":""},{"$f":"IF($B83<>\"PRC_RESID\",\"\",IF(R$7=2005+OFFSET(AGR!$B$49,$AX83,SUMIF($B$10:$B$14,\"NCAP_TLIFE\",$AY$10:$AY$14)),0,\"\"))","v":""},{"$f":"IF($B83<>\"PRC_RESID\",\"\",IF(S$7=2005+OFFSET(AGR!$B$49,$AX83,SUMIF($B$10:$B$14,\"NCAP_TLIFE\",$AY$10:$AY$14)),0,\"\"))","v":""},{"$f":"IF($B83<>\"PRC_RESID\",\"\",IF(T$7=2005+OFFSET(AGR!$B$49,$AX83,SUMIF($B$10:$B$14,\"NCAP_TLIFE\",$AY$10:$AY$14)),0,\"\"))","v":""},{"$f":"IF($B83<>\"PRC_RESID\",\"\",IF(U$7=2005+OFFSET(AGR!$B$49,$AX83,SUMIF($B$10:$B$14,\"NCAP_TLIFE\",$AY$10:$AY$14)),0,\"\"))","v":""},{"$f":"IF($B83<>\"PRC_RESID\",\"\",IF(V$7=2005+OFFSET(AGR!$B$49,$AX83,SUMIF($B$10:$B$14,\"NCAP_TLIFE\",$AY$10:$AY$14)),0,\"\"))","v":""},{"$f":"IF($B83<>\"PRC_RESID\",\"\",IF(W$7=2005+OFFSET(AGR!$B$49,$AX83,SUMIF($B$10:$B$14,\"NCAP_TLIFE\",$AY$10:$AY$14)),0,\"\"))","v":""},{"$f":"IF($B83<>\"PRC_RESID\",\"\",IF(X$7=2005+OFFSET(AGR!$B$49,$AX83,SUMIF($B$10:$B$14,\"NCAP_TLIFE\",$AY$10:$AY$14)),0,\"\"))","v":""},{"$f":"IF($B83<>\"PRC_RESID\",\"\",IF(Y$7=2005+OFFSET(AGR!$B$49,$AX83,SUMIF($B$10:$B$14,\"NCAP_TLIFE\",$AY$10:$AY$14)),0,\"\"))","v":""},{"$f":"IF($B83<>\"PRC_RESID\",\"\",IF(Z$7=2005+OFFSET(AGR!$B$49,$AX83,SUMIF($B$10:$B$14,\"NCAP_TLIFE\",$AY$10:$AY$14)),0,\"\"))","v":""},{"$f":"IF($B83<>\"PRC_RESID\",\"\",IF(AA$7=2005+OFFSET(AGR!$B$49,$AX83,SUMIF($B$10:$B$14,\"NCAP_TLIFE\",$AY$10:$AY$14)),0,\"\"))","v":""},{"$f":"IF($B83<>\"PRC_RESID\",\"\",IF(AB$7=2005+OFFSET(AGR!$B$49,$AX83,SUMIF($B$10:$B$14,\"NCAP_TLIFE\",$AY$10:$AY$14)),0,\"\"))","v":""},{"$f":"IF($B83<>\"PRC_RESID\",\"\",IF(AC$7=2005+OFFSET(AGR!$B$49,$AX83,SUMIF($B$10:$B$14,\"NCAP_TLIFE\",$AY$10:$AY$14)),0,\"\"))","v":""},{"$f":"IF($B83<>\"PRC_RESID\",\"\",IF(AD$7=2005+OFFSET(AGR!$B$49,$AX83,SUMIF($B$10:$B$14,\"NCAP_TLIFE\",$AY$10:$AY$14)),0,\"\"))","v":""},{"$f":"IF($B83<>\"PRC_RESID\",\"\",IF(AE$7=2005+OFFSET(AGR!$B$49,$AX83,SUMIF($B$10:$B$14,\"NCAP_TLIFE\",$AY$10:$AY$14)),0,\"\"))","v":""},{"$f":"IF($B83<>\"PRC_RESID\",\"\",IF(AF$7=2005+OFFSET(AGR!$B$49,$AX83,SUMIF($B$10:$B$14,\"NCAP_TLIFE\",$AY$10:$AY$14)),0,\"\"))","v":""},{"$f":"IF($B83<>\"PRC_RESID\",\"\",IF(AG$7=2005+OFFSET(AGR!$B$49,$AX83,SUMIF($B$10:$B$14,\"NCAP_TLIFE\",$AY$10:$AY$14)),0,\"\"))","v":""},{"$f":"IF($B83<>\"PRC_RESID\",\"\",IF(AH$7=2005+OFFSET(AGR!$B$49,$AX83,SUMIF($B$10:$B$14,\"NCAP_TLIFE\",$AY$10:$AY$14)),0,\"\"))","v":""},null,null,null,null,{"$f":"IF($B83<>\"PRC_RESID\",\"\",IF(AM$7=2005+OFFSET(AGR!$B$49,$AX83,SUMIF($B$10:$B$14,\"NCAP_TLIFE\",$AY$10:$AY$14)),0,\"\"))","v":""},null,null,null,null,{"$f":"IF($B83<>\"PRC_RESID\",\"\",IF(AR$7=2005+OFFSET(AGR!$B$49,$AX83,SUMIF($B$10:$B$14,\"NCAP_TLIFE\",$AY$10:$AY$14)),0,\"\"))","v":""},{"$f":"IF($B83<>\"PRC_RESID\",\"\",IF(AS$7=2005+OFFSET(AGR!$B$49,$AX83,SUMIF($B$10:$B$14,\"NCAP_TLIFE\",$AY$10:$AY$14)),0,\"\"))","v":""},{"$f":"IF($B83<>\"PRC_RESID\",\"\",IF(AT$7=2005+OFFSET(AGR!$B$49,$AX83,SUMIF($B$10:$B$14,\"NCAP_TLIFE\",$AY$10:$AY$14)),0,\"\"))","v":""},{"$f":"IF($B83<>\"PRC_RESID\",\"\",IF(AU$7=2005+OFFSET(AGR!$B$49,$AX83,SUMIF($B$10:$B$14,\"NCAP_TLIFE\",$AY$10:$AY$14)),0,\"\"))","v":""},null,{"$f":"IF(AX82=AGR!$W$72,AW82+1,AW82)","v":3},22]
[{"$f":"IF(LEFT(OFFSET(AGR!$A$49,AX84,0),2)=\"\\I\",\"*\",\"\")","v":"*"},"",{"$f":"IF($A84=\"*\",\"\",OFFSET(AGR!$B$49,AX84,0))","v":""},"","","","","","",{"$f":"IF($A84=\"*\",\"\",OFFSET(AGR!$B$49,AX84,SUMIF($B$10:$B$14,B84,$AY$10:$AY$14)))","v":""},{"$f":"IF($B84<>\"PRC_RESID\",\"\",IF(K$7=2005+OFFSET(AGR!$B$49,$AX84,SUMIF($B$10:$B$14,\"NCAP_TLIFE\",$AY$10:$AY$14)),0,\"\"))","v":""},{"$f":"IF($B84<>\"PRC_RESID\",\"\",IF(L$7=2005+OFFSET(AGR!$B$49,$AX84,SUMIF($B$10:$B$14,\"NCAP_TLIFE\",$AY$10:$AY$14)),0,\"\"))","v":""},{"$f":"IF($B84<>\"PRC_RESID\",\"\",IF(M$7=2005+OFFSET(AGR!$B$49,$AX84,SUMIF($B$10:$B$14,\"NCAP_TLIFE\",$AY$10:$AY$14)),0,\"\"))","v":""},{"$f":"IF($B84<>\"PRC_RESID\",\"\",IF(N$7=2005+OFFSET(AGR!$B$49,$AX84,SUMIF($B$10:$B$14,\"NCAP_TLIFE\",$AY$10:$AY$14)),0,\"\"))","v":""},{"$f":"IF($B84<>\"PRC_RESID\",\"\",IF(O$7=2005+OFFSET(AGR!$B$49,$AX84,SUMIF($B$10:$B$14,\"NCAP_TLIFE\",$AY$10:$AY$14)),0,\"\"))","v":""},{"$f":"IF($B84<>\"PRC_RESID\",\"\",IF(P$7=2005+OFFSET(AGR!$B$49,$AX84,SUMIF($B$10:$B$14,\"NCAP_TLIFE\",$AY$10:$AY$14)),0,\"\"))","v":""},{"$f":"IF($B84<>\"PRC_RESID\",\"\",IF(Q$7=2005+OFFSET(AGR!$B$49,$AX84,SUMIF($B$10:$B$14,\"NCAP_TLIFE\",$AY$10:$AY$14)),0,\"\"))","v":""},{"$f":"IF($B84<>\"PRC_RESID\",\"\",IF(R$7=2005+OFFSET(AGR!$B$49,$AX84,SUMIF($B$10:$B$14,\"NCAP_TLIFE\",$AY$10:$AY$14)),0,\"\"))","v":""},{"$f":"IF($B84<>\"PRC_RESID\",\"\",IF(S$7=2005+OFFSET(AGR!$B$49,$AX84,SUMIF($B$10:$B$14,\"NCAP_TLIFE\",$AY$10:$AY$14)),0,\"\"))","v":""},{"$f":"IF($B84<>\"PRC_RESID\",\"\",IF(T$7=2005+OFFSET(AGR!$B$49,$AX84,SUMIF($B$10:$B$14,\"NCAP_TLIFE\",$AY$10:$AY$14)),0,\"\"))","v":""},{"$f":"IF($B84<>\"PRC_RESID\",\"\",IF(U$7=2005+OFFSET(AGR!$B$49,$AX84,SUMIF($B$10:$B$14,\"NCAP_TLIFE\",$AY$10:$AY$14)),0,\"\"))","v":""},{"$f":"IF($B84<>\"PRC_RESID\",\"\",IF(V$7=2005+OFFSET(AGR!$B$49,$AX84,SUMIF($B$10:$B$14,\"NCAP_TLIFE\",$AY$10:$AY$14)),0,\"\"))","v":""},{"$f":"IF($B84<>\"PRC_RESID\",\"\",IF(W$7=2005+OFFSET(AGR!$B$49,$AX84,SUMIF($B$10:$B$14,\"NCAP_TLIFE\",$AY$10:$AY$14)),0,\"\"))","v":""},{"$f":"IF($B84<>\"PRC_RESID\",\"\",IF(X$7=2005+OFFSET(AGR!$B$49,$AX84,SUMIF($B$10:$B$14,\"NCAP_TLIFE\",$AY$10:$AY$14)),0,\"\"))","v":""},{"$f":"IF($B84<>\"PRC_RESID\",\"\",IF(Y$7=2005+OFFSET(AGR!$B$49,$AX84,SUMIF($B$10:$B$14,\"NCAP_TLIFE\",$AY$10:$AY$14)),0,\"\"))","v":""},{"$f":"IF($B84<>\"PRC_RESID\",\"\",IF(Z$7=2005+OFFSET(AGR!$B$49,$AX84,SUMIF($B$10:$B$14,\"NCAP_TLIFE\",$AY$10:$AY$14)),0,\"\"))","v":""},{"$f":"IF($B84<>\"PRC_RESID\",\"\",IF(AA$7=2005+OFFSET(AGR!$B$49,$AX84,SUMIF($B$10:$B$14,\"NCAP_TLIFE\",$AY$10:$AY$14)),0,\"\"))","v":""},{"$f":"IF($B84<>\"PRC_RESID\",\"\",IF(AB$7=2005+OFFSET(AGR!$B$49,$AX84,SUMIF($B$10:$B$14,\"NCAP_TLIFE\",$AY$10:$AY$14)),0,\"\"))","v":""},{"$f":"IF($B84<>\"PRC_RESID\",\"\",IF(AC$7=2005+OFFSET(AGR!$B$49,$AX84,SUMIF($B$10:$B$14,\"NCAP_TLIFE\",$AY$10:$AY$14)),0,\"\"))","v":""},{"$f":"IF($B84<>\"PRC_RESID\",\"\",IF(AD$7=2005+OFFSET(AGR!$B$49,$AX84,SUMIF($B$10:$B$14,\"NCAP_TLIFE\",$AY$10:$AY$14)),0,\"\"))","v":""},{"$f":"IF($B84<>\"PRC_RESID\",\"\",IF(AE$7=2005+OFFSET(AGR!$B$49,$AX84,SUMIF($B$10:$B$14,\"NCAP_TLIFE\",$AY$10:$AY$14)),0,\"\"))","v":""},{"$f":"IF($B84<>\"PRC_RESID\",\"\",IF(AF$7=2005+OFFSET(AGR!$B$49,$AX84,SUMIF($B$10:$B$14,\"NCAP_TLIFE\",$AY$10:$AY$14)),0,\"\"))","v":""},{"$f":"IF($B84<>\"PRC_RESID\",\"\",IF(AG$7=2005+OFFSET(AGR!$B$49,$AX84,SUMIF($B$10:$B$14,\"NCAP_TLIFE\",$AY$10:$AY$14)),0,\"\"))","v":""},{"$f":"IF($B84<>\"PRC_RESID\",\"\",IF(AH$7=2005+OFFSET(AGR!$B$49,$AX84,SUMIF($B$10:$B$14,\"NCAP_TLIFE\",$AY$10:$AY$14)),0,\"\"))","v":""},null,null,null,null,{"$f":"IF($B84<>\"PRC_RESID\",\"\",IF(AM$7=2005+OFFSET(AGR!$B$49,$AX84,SUMIF($B$10:$B$14,\"NCAP_TLIFE\",$AY$10:$AY$14)),0,\"\"))","v":""},null,null,null,null,{"$f":"IF($B84<>\"PRC_RESID\",\"\",IF(AR$7=2005+OFFSET(AGR!$B$49,$AX84,SUMIF($B$10:$B$14,\"NCAP_TLIFE\",$AY$10:$AY$14)),0,\"\"))","v":""},{"$f":"IF($B84<>\"PRC_RESID\",\"\",IF(AS$7=2005+OFFSET(AGR!$B$49,$AX84,SUMIF($B$10:$B$14,\"NCAP_TLIFE\",$AY$10:$AY$14)),0,\"\"))","v":""},{"$f":"IF($B84<>\"PRC_RESID\",\"\",IF(AT$7=2005+OFFSET(AGR!$B$49,$AX84,SUMIF($B$10:$B$14,\"NCAP_TLIFE\",$AY$10:$AY$14)),0,\"\"))","v":""},{"$f":"IF($B84<>\"PRC_RESID\",\"\",IF(AU$7=2005+OFFSET(AGR!$B$49,$AX84,SUMIF($B$10:$B$14,\"NCAP_TLIFE\",$AY$10:$AY$14)),0,\"\"))","v":""},null,{"$f":"IF(AX83=AGR!$W$72,AW83+1,AW83)","v":3},23]
[{"$f":"IF(LEFT(OFFSET(AGR!$A$49,AX85,0),2)=\"\\I\",\"*\",\"\")","v":""},"NCAP_TLIFE",{"$f":"IF($A85=\"*\",\"\",OFFSET(AGR!$B$49,AX85,0))","v":"AHCOA-E"},"-","-","-","-","-",0,{"$f":"IF($A85=\"*\",\"\",OFFSET(AGR!$B$49,AX85,SUMIF($B$10:$B$14,B85,$AY$10:$AY$14)))","v":15},{"$f":"IF($B85<>\"PRC_RESID\",\"\",IF(K$7=2005+OFFSET(AGR!$B$49,$AX85,SUMIF($B$10:$B$14,\"NCAP_TLIFE\",$AY$10:$AY$14)),0,\"\"))","v":""},{"$f":"IF($B85<>\"PRC_RESID\",\"\",IF(L$7=2005+OFFSET(AGR!$B$49,$AX85,SUMIF($B$10:$B$14,\"NCAP_TLIFE\",$AY$10:$AY$14)),0,\"\"))","v":""},{"$f":"IF($B85<>\"PRC_RESID\",\"\",IF(M$7=2005+OFFSET(AGR!$B$49,$AX85,SUMIF($B$10:$B$14,\"NCAP_TLIFE\",$AY$10:$AY$14)),0,\"\"))","v":""},{"$f":"IF($B85<>\"PRC_RESID\",\"\",IF(N$7=2005+OFFSET(AGR!$B$49,$AX85,SUMIF($B$10:$B$14,\"NCAP_TLIFE\",$AY$10:$AY$14)),0,\"\"))","v":""},{"$f":"IF($B85<>\"PRC_RESID\",\"\",IF(O$7=2005+OFFSET(AGR!$B$49,$AX85,SUMIF($B$10:$B$14,\"NCAP_TLIFE\",$AY$10:$AY$14)),0,\"\"))","v":""},{"$f":"IF($B85<>\"PRC_RESID\",\"\",IF(P$7=2005+OFFSET(AGR!$B$49,$AX85,SUMIF($B$10:$B$14,\"NCAP_TLIFE\",$AY$10:$AY$14)),0,\"\"))","v":""},{"$f":"IF($B85<>\"PRC_RESID\",\"\",IF(Q$7=2005+OFFSET(AGR!$B$49,$AX85,SUMIF($B$10:$B$14,\"NCAP_TLIFE\",$AY$10:$AY$14)),0,\"\"))","v":""},{"$f":"IF($B85<>\"PRC_RESID\",\"\",IF(R$7=2005+OFFSET(AGR!$B$49,$AX85,SUMIF($B$10:$B$14,\"NCAP_TLIFE\",$AY$10:$AY$14)),0,\"\"))","v":""},{"$f":"IF($B85<>\"PRC_RESID\",\"\",IF(S$7=2005+OFFSET(AGR!$B$49,$AX85,SUMIF($B$10:$B$14,\"NCAP_TLIFE\",$AY$10:$AY$14)),0,\"\"))","v":""},{"$f":"IF($B85<>\"PRC_RESID\",\"\",IF(T$7=2005+OFFSET(AGR!$B$49,$AX85,SUMIF($B$10:$B$14,\"NCAP_TLIFE\",$AY$10:$AY$14)),0,\"\"))","v":""},{"$f":"IF($B85<>\"PRC_RESID\",\"\",IF(U$7=2005+OFFSET(AGR!$B$49,$AX85,SUMIF($B$10:$B$14,\"NCAP_TLIFE\",$AY$10:$AY$14)),0,\"\"))","v":""},{"$f":"IF($B85<>\"PRC_RESID\",\"\",IF(V$7=2005+OFFSET(AGR!$B$49,$AX85,SUMIF($B$10:$B$14,\"NCAP_TLIFE\",$AY$10:$AY$14)),0,\"\"))","v":""},{"$f":"IF($B85<>\"PRC_RESID\",\"\",IF(W$7=2005+OFFSET(AGR!$B$49,$AX85,SUMIF($B$10:$B$14,\"NCAP_TLIFE\",$AY$10:$AY$14)),0,\"\"))","v":""},{"$f":"IF($B85<>\"PRC_RESID\",\"\",IF(X$7=2005+OFFSET(AGR!$B$49,$AX85,SUMIF($B$10:$B$14,\"NCAP_TLIFE\",$AY$10:$AY$14)),0,\"\"))","v":""},{"$f":"IF($B85<>\"PRC_RESID\",\"\",IF(Y$7=2005+OFFSET(AGR!$B$49,$AX85,SUMIF($B$10:$B$14,\"NCAP_TLIFE\",$AY$10:$AY$14)),0,\"\"))","v":""},{"$f":"IF($B85<>\"PRC_RESID\",\"\",IF(Z$7=2005+OFFSET(AGR!$B$49,$AX85,SUMIF($B$10:$B$14,\"NCAP_TLIFE\",$AY$10:$AY$14)),0,\"\"))","v":""},{"$f":"IF($B85<>\"PRC_RESID\",\"\",IF(AA$7=2005+OFFSET(AGR!$B$49,$AX85,SUMIF($B$10:$B$14,\"NCAP_TLIFE\",$AY$10:$AY$14)),0,\"\"))","v":""},{"$f":"IF($B85<>\"PRC_RESID\",\"\",IF(AB$7=2005+OFFSET(AGR!$B$49,$AX85,SUMIF($B$10:$B$14,\"NCAP_TLIFE\",$AY$10:$AY$14)),0,\"\"))","v":""},{"$f":"IF($B85<>\"PRC_RESID\",\"\",IF(AC$7=2005+OFFSET(AGR!$B$49,$AX85,SUMIF($B$10:$B$14,\"NCAP_TLIFE\",$AY$10:$AY$14)),0,\"\"))","v":""},{"$f":"IF($B85<>\"PRC_RESID\",\"\",IF(AD$7=2005+OFFSET(AGR!$B$49,$AX85,SUMIF($B$10:$B$14,\"NCAP_TLIFE\",$AY$10:$AY$14)),0,\"\"))","v":""},{"$f":"IF($B85<>\"PRC_RESID\",\"\",IF(AE$7=2005+OFFSET(AGR!$B$49,$AX85,SUMIF($B$10:$B$14,\"NCAP_TLIFE\",$AY$10:$AY$14)),0,\"\"))","v":""},{"$f":"IF($B85<>\"PRC_RESID\",\"\",IF(AF$7=2005+OFFSET(AGR!$B$49,$AX85,SUMIF($B$10:$B$14,\"NCAP_TLIFE\",$AY$10:$AY$14)),0,\"\"))","v":""},{"$f":"IF($B85<>\"PRC_RESID\",\"\",IF(AG$7=2005+OFFSET(AGR!$B$49,$AX85,SUMIF($B$10:$B$14,\"NCAP_TLIFE\",$AY$10:$AY$14)),0,\"\"))","v":""},{"$f":"IF($B85<>\"PRC_RESID\",\"\",IF(AH$7=2005+OFFSET(AGR!$B$49,$AX85,SUMIF($B$10:$B$14,\"NCAP_TLIFE\",$AY$10:$AY$14)),0,\"\"))","v":""},null,null,null,null,{"$f":"IF($B85<>\"PRC_RESID\",\"\",IF(AM$7=2005+OFFSET(AGR!$B$49,$AX85,SUMIF($B$10:$B$14,\"NCAP_TLIFE\",$AY$10:$AY$14)),0,\"\"))","v":""},null,null,null,null,{"$f":"IF($B85<>\"PRC_RESID\",\"\",IF(AR$7=2005+OFFSET(AGR!$B$49,$AX85,SUMIF($B$10:$B$14,\"NCAP_TLIFE\",$AY$10:$AY$14)),0,\"\"))","v":""},{"$f":"IF($B85<>\"PRC_RESID\",\"\",IF(AS$7=2005+OFFSET(AGR!$B$49,$AX85,SUMIF($B$10:$B$14,\"NCAP_TLIFE\",$AY$10:$AY$14)),0,\"\"))","v":""},{"$f":"IF($B85<>\"PRC_RESID\",\"\",IF(AT$7=2005+OFFSET(AGR!$B$49,$AX85,SUMIF($B$10:$B$14,\"NCAP_TLIFE\",$AY$10:$AY$14)),0,\"\"))","v":""},{"$f":"IF($B85<>\"PRC_RESID\",\"\",IF(AU$7=2005+OFFSET(AGR!$B$49,$AX85,SUMIF($B$10:$B$14,\"NCAP_TLIFE\",$AY$10:$AY$14)),0,\"\"))","v":""},null,{"$f":"IF(AX84=AGR!$W$72,AW84+1,AW84)","v":4},1]
[{"$f":"IF(LEFT(OFFSET(AGR!$A$49,AX86,0),2)=\"\\I\",\"*\",\"\")","v":""},"NCAP_TLIFE",{"$f":"IF($A86=\"*\",\"\",OFFSET(AGR!$B$49,AX86,0))","v":"AHOHF-E"},"-","-","-","-","-",0,{"$f":"IF($A86=\"*\",\"\",OFFSET(AGR!$B$49,AX86,SUMIF($B$10:$B$14,B86,$AY$10:$AY$14)))","v":15},{"$f":"IF($B86<>\"PRC_RESID\",\"\",IF(K$7=2005+OFFSET(AGR!$B$49,$AX86,SUMIF($B$10:$B$14,\"NCAP_TLIFE\",$AY$10:$AY$14)),0,\"\"))","v":""},{"$f":"IF($B86<>\"PRC_RESID\",\"\",IF(L$7=2005+OFFSET(AGR!$B$49,$AX86,SUMIF($B$10:$B$14,\"NCAP_TLIFE\",$AY$10:$AY$14)),0,\"\"))","v":""},{"$f":"IF($B86<>\"PRC_RESID\",\"\",IF(M$7=2005+OFFSET(AGR!$B$49,$AX86,SUMIF($B$10:$B$14,\"NCAP_TLIFE\",$AY$10:$AY$14)),0,\"\"))","v":""},{"$f":"IF($B86<>\"PRC_RESID\",\"\",IF(N$7=2005+OFFSET(AGR!$B$49,$AX86,SUMIF($B$10:$B$14,\"NCAP_TLIFE\",$AY$10:$AY$14)),0,\"\"))","v":""},{"$f":"IF($B86<>\"PRC_RESID\",\"\",IF(O$7=2005+OFFSET(AGR!$B$49,$AX86,SUMIF($B$10:$B$14,\"NCAP_TLIFE\",$AY$10:$AY$14)),0,\"\"))","v":""},{"$f":"IF($B86<>\"PRC_RESID\",\"\",IF(P$7=2005+OFFSET(AGR!$B$49,$AX86,SUMIF($B$10:$B$14,\"NCAP_TLIFE\",$AY$10:$AY$14)),0,\"\"))","v":""},{"$f":"IF($B86<>\"PRC_RESID\",\"\",IF(Q$7=2005+OFFSET(AGR!$B$49,$AX86,SUMIF($B$10:$B$14,\"NCAP_TLIFE\",$AY$10:$AY$14)),0,\"\"))","v":""},{"$f":"IF($B86<>\"PRC_RESID\",\"\",IF(R$7=2005+OFFSET(AGR!$B$49,$AX86,SUMIF($B$10:$B$14,\"NCAP_TLIFE\",$AY$10:$AY$14)),0,\"\"))","v":""},{"$f":"IF($B86<>\"PRC_RESID\",\"\",IF(S$7=2005+OFFSET(AGR!$B$49,$AX86,SUMIF($B$10:$B$14,\"NCAP_TLIFE\",$AY$10:$AY$14)),0,\"\"))","v":""},{"$f":"IF($B86<>\"PRC_RESID\",\"\",IF(T$7=2005+OFFSET(AGR!$B$49,$AX86,SUMIF($B$10:$B$14,\"NCAP_TLIFE\",$AY$10:$AY$14)),0,\"\"))","v":""},{"$f":"IF($B86<>\"PRC_RESID\",\"\",IF(U$7=2005+OFFSET(AGR!$B$49,$AX86,SUMIF($B$10:$B$14,\"NCAP_TLIFE\",$AY$10:$AY$14)),0,\"\"))","v":""},{"$f":"IF($B86<>\"PRC_RESID\",\"\",IF(V$7=2005+OFFSET(AGR!$B$49,$AX86,SUMIF($B$10:$B$14,\"NCAP_TLIFE\",$AY$10:$AY$14)),0,\"\"))","v":""},{"$f":"IF($B86<>\"PRC_RESID\",\"\",IF(W$7=2005+OFFSET(AGR!$B$49,$AX86,SUMIF($B$10:$B$14,\"NCAP_TLIFE\",$AY$10:$AY$14)),0,\"\"))","v":""},{"$f":"IF($B86<>\"PRC_RESID\",\"\",IF(X$7=2005+OFFSET(AGR!$B$49,$AX86,SUMIF($B$10:$B$14,\"NCAP_TLIFE\",$AY$10:$AY$14)),0,\"\"))","v":""},{"$f":"IF($B86<>\"PRC_RESID\",\"\",IF(Y$7=2005+OFFSET(AGR!$B$49,$AX86,SUMIF($B$10:$B$14,\"NCAP_TLIFE\",$AY$10:$AY$14)),0,\"\"))","v":""},{"$f":"IF($B86<>\"PRC_RESID\",\"\",IF(Z$7=2005+OFFSET(AGR!$B$49,$AX86,SUMIF($B$10:$B$14,\"NCAP_TLIFE\",$AY$10:$AY$14)),0,\"\"))","v":""},{"$f":"IF($B86<>\"PRC_RESID\",\"\",IF(AA$7=2005+OFFSET(AGR!$B$49,$AX86,SUMIF($B$10:$B$14,\"NCAP_TLIFE\",$AY$10:$AY$14)),0,\"\"))","v":""},{"$f":"IF($B86<>\"PRC_RESID\",\"\",IF(AB$7=2005+OFFSET(AGR!$B$49,$AX86,SUMIF($B$10:$B$14,\"NCAP_TLIFE\",$AY$10:$AY$14)),0,\"\"))","v":""},{"$f":"IF($B86<>\"PRC_RESID\",\"\",IF(AC$7=2005+OFFSET(AGR!$B$49,$AX86,SUMIF($B$10:$B$14,\"NCAP_TLIFE\",$AY$10:$AY$14)),0,\"\"))","v":""},{"$f":"IF($B86<>\"PRC_RESID\",\"\",IF(AD$7=2005+OFFSET(AGR!$B$49,$AX86,SUMIF($B$10:$B$14,\"NCAP_TLIFE\",$AY$10:$AY$14)),0,\"\"))","v":""},{"$f":"IF($B86<>\"PRC_RESID\",\"\",IF(AE$7=2005+OFFSET(AGR!$B$49,$AX86,SUMIF($B$10:$B$14,\"NCAP_TLIFE\",$AY$10:$AY$14)),0,\"\"))","v":""},{"$f":"IF($B86<>\"PRC_RESID\",\"\",IF(AF$7=2005+OFFSET(AGR!$B$49,$AX86,SUMIF($B$10:$B$14,\"NCAP_TLIFE\",$AY$10:$AY$14)),0,\"\"))","v":""},{"$f":"IF($B86<>\"PRC_RESID\",\"\",IF(AG$7=2005+OFFSET(AGR!$B$49,$AX86,SUMIF($B$10:$B$14,\"NCAP_TLIFE\",$AY$10:$AY$14)),0,\"\"))","v":""},{"$f":"IF($B86<>\"PRC_RESID\",\"\",IF(AH$7=2005+OFFSET(AGR!$B$49,$AX86,SUMIF($B$10:$B$14,\"NCAP_TLIFE\",$AY$10:$AY$14)),0,\"\"))","v":""},null,null,null,null,{"$f":"IF($B86<>\"PRC_RESID\",\"\",IF(AM$7=2005+OFFSET(AGR!$B$49,$AX86,SUMIF($B$10:$B$14,\"NCAP_TLIFE\",$AY$10:$AY$14)),0,\"\"))","v":""},null,null,null,null,{"$f":"IF($B86<>\"PRC_RESID\",\"\",IF(AR$7=2005+OFFSET(AGR!$B$49,$AX86,SUMIF($B$10:$B$14,\"NCAP_TLIFE\",$AY$10:$AY$14)),0,\"\"))","v":""},{"$f":"IF($B86<>\"PRC_RESID\",\"\",IF(AS$7=2005+OFFSET(AGR!$B$49,$AX86,SUMIF($B$10:$B$14,\"NCAP_TLIFE\",$AY$10:$AY$14)),0,\"\"))","v":""},{"$f":"IF($B86<>\"PRC_RESID\",\"\",IF(AT$7=2005+OFFSET(AGR!$B$49,$AX86,SUMIF($B$10:$B$14,\"NCAP_TLIFE\",$AY$10:$AY$14)),0,\"\"))","v":""},{"$f":"IF($B86<>\"PRC_RESID\",\"\",IF(AU$7=2005+OFFSET(AGR!$B$49,$AX86,SUMIF($B$10:$B$14,\"NCAP_TLIFE\",$AY$10:$AY$14)),0,\"\"))","v":""},null,{"$f":"IF(AX85=AGR!$W$72,AW85+1,AW85)","v":4},2]
[{"$f":"IF(LEFT(OFFSET(AGR!$A$49,AX87,0),2)=\"\\I\",\"*\",\"\")","v":""},"NCAP_TLIFE",{"$f":"IF($A87=\"*\",\"\",OFFSET(AGR!$B$49,AX87,0))","v":"AHOKE-E"},"-","-","-","-","-",0,{"$f":"IF($A87=\"*\",\"\",OFFSET(AGR!$B$49,AX87,SUMIF($B$10:$B$14,B87,$AY$10:$AY$14)))","v":15},{"$f":"IF($B87<>\"PRC_RESID\",\"\",IF(K$7=2005+OFFSET(AGR!$B$49,$AX87,SUMIF($B$10:$B$14,\"NCAP_TLIFE\",$AY$10:$AY$14)),0,\"\"))","v":""},{"$f":"IF($B87<>\"PRC_RESID\",\"\",IF(L$7=2005+OFFSET(AGR!$B$49,$AX87,SUMIF($B$10:$B$14,\"NCAP_TLIFE\",$AY$10:$AY$14)),0,\"\"))","v":""},{"$f":"IF($B87<>\"PRC_RESID\",\"\",IF(M$7=2005+OFFSET(AGR!$B$49,$AX87,SUMIF($B$10:$B$14,\"NCAP_TLIFE\",$AY$10:$AY$14)),0,\"\"))","v":""},{"$f":"IF($B87<>\"PRC_RESID\",\"\",IF(N$7=2005+OFFSET(AGR!$B$49,$AX87,SUMIF($B$10:$B$14,\"NCAP_TLIFE\",$AY$10:$AY$14)),0,\"\"))","v":""},{"$f":"IF($B87<>\"PRC_RESID\",\"\",IF(O$7=2005+OFFSET(AGR!$B$49,$AX87,SUMIF($B$10:$B$14,\"NCAP_TLIFE\",$AY$10:$AY$14)),0,\"\"))","v":""},{"$f":"IF($B87<>\"PRC_RESID\",\"\",IF(P$7=2005+OFFSET(AGR!$B$49,$AX87,SUMIF($B$10:$B$14,\"NCAP_TLIFE\",$AY$10:$AY$14)),0,\"\"))","v":""},{"$f":"IF($B87<>\"PRC_RESID\",\"\",IF(Q$7=2005+OFFSET(AGR!$B$49,$AX87,SUMIF($B$10:$B$14,\"NCAP_TLIFE\",$AY$10:$AY$14)),0,\"\"))","v":""},{"$f":"IF($B87<>\"PRC_RESID\",\"\",IF(R$7=2005+OFFSET(AGR!$B$49,$AX87,SUMIF($B$10:$B$14,\"NCAP_TLIFE\",$AY$10:$AY$14)),0,\"\"))","v":""},{"$f":"IF($B87<>\"PRC_RESID\",\"\",IF(S$7=2005+OFFSET(AGR!$B$49,$AX87,SUMIF($B$10:$B$14,\"NCAP_TLIFE\",$AY$10:$AY$14)),0,\"\"))","v":""},{"$f":"IF($B87<>\"PRC_RESID\",\"\",IF(T$7=2005+OFFSET(AGR!$B$49,$AX87,SUMIF($B$10:$B$14,\"NCAP_TLIFE\",$AY$10:$AY$14)),0,\"\"))","v":""},{"$f":"IF($B87<>\"PRC_RESID\",\"\",IF(U$7=2005+OFFSET(AGR!$B$49,$AX87,SUMIF($B$10:$B$14,\"NCAP_TLIFE\",$AY$10:$AY$14)),0,\"\"))","v":""},{"$f":"IF($B87<>\"PRC_RESID\",\"\",IF(V$7=2005+OFFSET(AGR!$B$49,$AX87,SUMIF($B$10:$B$14,\"NCAP_TLIFE\",$AY$10:$AY$14)),0,\"\"))","v":""},{"$f":"IF($B87<>\"PRC_RESID\",\"\",IF(W$7=2005+OFFSET(AGR!$B$49,$AX87,SUMIF($B$10:$B$14,\"NCAP_TLIFE\",$AY$10:$AY$14)),0,\"\"))","v":""},{"$f":"IF($B87<>\"PRC_RESID\",\"\",IF(X$7=2005+OFFSET(AGR!$B$49,$AX87,SUMIF($B$10:$B$14,\"NCAP_TLIFE\",$AY$10:$AY$14)),0,\"\"))","v":""},{"$f":"IF($B87<>\"PRC_RESID\",\"\",IF(Y$7=2005+OFFSET(AGR!$B$49,$AX87,SUMIF($B$10:$B$14,\"NCAP_TLIFE\",$AY$10:$AY$14)),0,\"\"))","v":""},{"$f":"IF($B87<>\"PRC_RESID\",\"\",IF(Z$7=2005+OFFSET(AGR!$B$49,$AX87,SUMIF($B$10:$B$14,\"NCAP_TLIFE\",$AY$10:$AY$14)),0,\"\"))","v":""},{"$f":"IF($B87<>\"PRC_RESID\",\"\",IF(AA$7=2005+OFFSET(AGR!$B$49,$AX87,SUMIF($B$10:$B$14,\"NCAP_TLIFE\",$AY$10:$AY$14)),0,\"\"))","v":""},{"$f":"IF($B87<>\"PRC_RESID\",\"\",IF(AB$7=2005+OFFSET(AGR!$B$49,$AX87,SUMIF($B$10:$B$14,\"NCAP_TLIFE\",$AY$10:$AY$14)),0,\"\"))","v":""},{"$f":"IF($B87<>\"PRC_RESID\",\"\",IF(AC$7=2005+OFFSET(AGR!$B$49,$AX87,SUMIF($B$10:$B$14,\"NCAP_TLIFE\",$AY$10:$AY$14)),0,\"\"))","v":""},{"$f":"IF($B87<>\"PRC_RESID\",\"\",IF(AD$7=2005+OFFSET(AGR!$B$49,$AX87,SUMIF($B$10:$B$14,\"NCAP_TLIFE\",$AY$10:$AY$14)),0,\"\"))","v":""},{"$f":"IF($B87<>\"PRC_RESID\",\"\",IF(AE$7=2005+OFFSET(AGR!$B$49,$AX87,SUMIF($B$10:$B$14,\"NCAP_TLIFE\",$AY$10:$AY$14)),0,\"\"))","v":""},{"$f":"IF($B87<>\"PRC_RESID\",\"\",IF(AF$7=2005+OFFSET(AGR!$B$49,$AX87,SUMIF($B$10:$B$14,\"NCAP_TLIFE\",$AY$10:$AY$14)),0,\"\"))","v":""},{"$f":"IF($B87<>\"PRC_RESID\",\"\",IF(AG$7=2005+OFFSET(AGR!$B$49,$AX87,SUMIF($B$10:$B$14,\"NCAP_TLIFE\",$AY$10:$AY$14)),0,\"\"))","v":""},{"$f":"IF($B87<>\"PRC_RESID\",\"\",IF(AH$7=2005+OFFSET(AGR!$B$49,$AX87,SUMIF($B$10:$B$14,\"NCAP_TLIFE\",$AY$10:$AY$14)),0,\"\"))","v":""},null,null,null,null,{"$f":"IF($B87<>\"PRC_RESID\",\"\",IF(AM$7=2005+OFFSET(AGR!$B$49,$AX87,SUMIF($B$10:$B$14,\"NCAP_TLIFE\",$AY$10:$AY$14)),0,\"\"))","v":""},null,null,null,null,{"$f":"IF($B87<>\"PRC_RESID\",\"\",IF(AR$7=2005+OFFSET(AGR!$B$49,$AX87,SUMIF($B$10:$B$14,\"NCAP_TLIFE\",$AY$10:$AY$14)),0,\"\"))","v":""},{"$f":"IF($B87<>\"PRC_RESID\",\"\",IF(AS$7=2005+OFFSET(AGR!$B$49,$AX87,SUMIF($B$10:$B$14,\"NCAP_TLIFE\",$AY$10:$AY$14)),0,\"\"))","v":""},{"$f":"IF($B87<>\"PRC_RESID\",\"\",IF(AT$7=2005+OFFSET(AGR!$B$49,$AX87,SUMIF($B$10:$B$14,\"NCAP_TLIFE\",$AY$10:$AY$14)),0,\"\"))","v":""},{"$f":"IF($B87<>\"PRC_RESID\",\"\",IF(AU$7=2005+OFFSET(AGR!$B$49,$AX87,SUMIF($B$10:$B$14,\"NCAP_TLIFE\",$AY$10:$AY$14)),0,\"\"))","v":""},null,{"$f":"IF(AX86=AGR!$W$72,AW86+1,AW86)","v":4},3]
[{"$f":"IF(LEFT(OFFSET(AGR!$A$49,AX88,0),2)=\"\\I\",\"*\",\"\")","v":""},"NCAP_TLIFE",{"$f":"IF($A88=\"*\",\"\",OFFSET(AGR!$B$49,AX88,0))","v":"AHOLP-E"},"-","-","-","-","-",0,{"$f":"IF($A88=\"*\",\"\",OFFSET(AGR!$B$49,AX88,SUMIF($B$10:$B$14,B88,$AY$10:$AY$14)))","v":15},{"$f":"IF($B88<>\"PRC_RESID\",\"\",IF(K$7=2005+OFFSET(AGR!$B$49,$AX88,SUMIF($B$10:$B$14,\"NCAP_TLIFE\",$AY$10:$AY$14)),0,\"\"))","v":""},{"$f":"IF($B88<>\"PRC_RESID\",\"\",IF(L$7=2005+OFFSET(AGR!$B$49,$AX88,SUMIF($B$10:$B$14,\"NCAP_TLIFE\",$AY$10:$AY$14)),0,\"\"))","v":""},{"$f":"IF($B88<>\"PRC_RESID\",\"\",IF(M$7=2005+OFFSET(AGR!$B$49,$AX88,SUMIF($B$10:$B$14,\"NCAP_TLIFE\",$AY$10:$AY$14)),0,\"\"))","v":""},{"$f":"IF($B88<>\"PRC_RESID\",\"\",IF(N$7=2005+OFFSET(AGR!$B$49,$AX88,SUMIF($B$10:$B$14,\"NCAP_TLIFE\",$AY$10:$AY$14)),0,\"\"))","v":""},{"$f":"IF($B88<>\"PRC_RESID\",\"\",IF(O$7=2005+OFFSET(AGR!$B$49,$AX88,SUMIF($B$10:$B$14,\"NCAP_TLIFE\",$AY$10:$AY$14)),0,\"\"))","v":""},{"$f":"IF($B88<>\"PRC_RESID\",\"\",IF(P$7=2005+OFFSET(AGR!$B$49,$AX88,SUMIF($B$10:$B$14,\"NCAP_TLIFE\",$AY$10:$AY$14)),0,\"\"))","v":""},{"$f":"IF($B88<>\"PRC_RESID\",\"\",IF(Q$7=2005+OFFSET(AGR!$B$49,$AX88,SUMIF($B$10:$B$14,\"NCAP_TLIFE\",$AY$10:$AY$14)),0,\"\"))","v":""},{"$f":"IF($B88<>\"PRC_RESID\",\"\",IF(R$7=2005+OFFSET(AGR!$B$49,$AX88,SUMIF($B$10:$B$14,\"NCAP_TLIFE\",$AY$10:$AY$14)),0,\"\"))","v":""},{"$f":"IF($B88<>\"PRC_RESID\",\"\",IF(S$7=2005+OFFSET(AGR!$B$49,$AX88,SUMIF($B$10:$B$14,\"NCAP_TLIFE\",$AY$10:$AY$14)),0,\"\"))","v":""},{"$f":"IF($B88<>\"PRC_RESID\",\"\",IF(T$7=2005+OFFSET(AGR!$B$49,$AX88,SUMIF($B$10:$B$14,\"NCAP_TLIFE\",$AY$10:$AY$14)),0,\"\"))","v":""},{"$f":"IF($B88<>\"PRC_RESID\",\"\",IF(U$7=2005+OFFSET(AGR!$B$49,$AX88,SUMIF($B$10:$B$14,\"NCAP_TLIFE\",$AY$10:$AY$14)),0,\"\"))","v":""},{"$f":"IF($B88<>\"PRC_RESID\",\"\",IF(V$7=2005+OFFSET(AGR!$B$49,$AX88,SUMIF($B$10:$B$14,\"NCAP_TLIFE\",$AY$10:$AY$14)),0,\"\"))","v":""},{"$f":"IF($B88<>\"PRC_RESID\",\"\",IF(W$7=2005+OFFSET(AGR!$B$49,$AX88,SUMIF($B$10:$B$14,\"NCAP_TLIFE\",$AY$10:$AY$14)),0,\"\"))","v":""},{"$f":"IF($B88<>\"PRC_RESID\",\"\",IF(X$7=2005+OFFSET(AGR!$B$49,$AX88,SUMIF($B$10:$B$14,\"NCAP_TLIFE\",$AY$10:$AY$14)),0,\"\"))","v":""},{"$f":"IF($B88<>\"PRC_RESID\",\"\",IF(Y$7=2005+OFFSET(AGR!$B$49,$AX88,SUMIF($B$10:$B$14,\"NCAP_TLIFE\",$AY$10:$AY$14)),0,\"\"))","v":""},{"$f":"IF($B88<>\"PRC_RESID\",\"\",IF(Z$7=2005+OFFSET(AGR!$B$49,$AX88,SUMIF($B$10:$B$14,\"NCAP_TLIFE\",$AY$10:$AY$14)),0,\"\"))","v":""},{"$f":"IF($B88<>\"PRC_RESID\",\"\",IF(AA$7=2005+OFFSET(AGR!$B$49,$AX88,SUMIF($B$10:$B$14,\"NCAP_TLIFE\",$AY$10:$AY$14)),0,\"\"))","v":""},{"$f":"IF($B88<>\"PRC_RESID\",\"\",IF(AB$7=2005+OFFSET(AGR!$B$49,$AX88,SUMIF($B$10:$B$14,\"NCAP_TLIFE\",$AY$10:$AY$14)),0,\"\"))","v":""},{"$f":"IF($B88<>\"PRC_RESID\",\"\",IF(AC$7=2005+OFFSET(AGR!$B$49,$AX88,SUMIF($B$10:$B$14,\"NCAP_TLIFE\",$AY$10:$AY$14)),0,\"\"))","v":""},{"$f":"IF($B88<>\"PRC_RESID\",\"\",IF(AD$7=2005+OFFSET(AGR!$B$49,$AX88,SUMIF($B$10:$B$14,\"NCAP_TLIFE\",$AY$10:$AY$14)),0,\"\"))","v":""},{"$f":"IF($B88<>\"PRC_RESID\",\"\",IF(AE$7=2005+OFFSET(AGR!$B$49,$AX88,SUMIF($B$10:$B$14,\"NCAP_TLIFE\",$AY$10:$AY$14)),0,\"\"))","v":""},{"$f":"IF($B88<>\"PRC_RESID\",\"\",IF(AF$7=2005+OFFSET(AGR!$B$49,$AX88,SUMIF($B$10:$B$14,\"NCAP_TLIFE\",$AY$10:$AY$14)),0,\"\"))","v":""},{"$f":"IF($B88<>\"PRC_RESID\",\"\",IF(AG$7=2005+OFFSET(AGR!$B$49,$AX88,SUMIF($B$10:$B$14,\"NCAP_TLIFE\",$AY$10:$AY$14)),0,\"\"))","v":""},{"$f":"IF($B88<>\"PRC_RESID\",\"\",IF(AH$7=2005+OFFSET(AGR!$B$49,$AX88,SUMIF($B$10:$B$14,\"NCAP_TLIFE\",$AY$10:$AY$14)),0,\"\"))","v":""},null,null,null,null,{"$f":"IF($B88<>\"PRC_RESID\",\"\",IF(AM$7=2005+OFFSET(AGR!$B$49,$AX88,SUMIF($B$10:$B$14,\"NCAP_TLIFE\",$AY$10:$AY$14)),0,\"\"))","v":""},null,null,null,null,{"$f":"IF($B88<>\"PRC_RESID\",\"\",IF(AR$7=2005+OFFSET(AGR!$B$49,$AX88,SUMIF($B$10:$B$14,\"NCAP_TLIFE\",$AY$10:$AY$14)),0,\"\"))","v":""},{"$f":"IF($B88<>\"PRC_RESID\",\"\",IF(AS$7=2005+OFFSET(AGR!$B$49,$AX88,SUMIF($B$10:$B$14,\"NCAP_TLIFE\",$AY$10:$AY$14)),0,\"\"))","v":""},{"$f":"IF($B88<>\"PRC_RESID\",\"\",IF(AT$7=2005+OFFSET(AGR!$B$49,$AX88,SUMIF($B$10:$B$14,\"NCAP_TLIFE\",$AY$10:$AY$14)),0,\"\"))","v":""},{"$f":"IF($B88<>\"PRC_RESID\",\"\",IF(AU$7=2005+OFFSET(AGR!$B$49,$AX88,SUMIF($B$10:$B$14,\"NCAP_TLIFE\",$AY$10:$AY$14)),0,\"\"))","v":""},null,{"$f":"IF(AX87=AGR!$W$72,AW87+1,AW87)","v":4},4]
[{"$f":"IF(LEFT(OFFSET(AGR!$A$49,AX89,0),2)=\"\\I\",\"*\",\"\")","v":""},"NCAP_TLIFE",{"$f":"IF($A89=\"*\",\"\",OFFSET(AGR!$B$49,AX89,0))","v":"AHELC-E"},"-","-","-","-","-",0,{"$f":"IF($A89=\"*\",\"\",OFFSET(AGR!$B$49,AX89,SUMIF($B$10:$B$14,B89,$AY$10:$AY$14)))","v":15},{"$f":"IF($B89<>\"PRC_RESID\",\"\",IF(K$7=2005+OFFSET(AGR!$B$49,$AX89,SUMIF($B$10:$B$14,\"NCAP_TLIFE\",$AY$10:$AY$14)),0,\"\"))","v":""},{"$f":"IF($B89<>\"PRC_RESID\",\"\",IF(L$7=2005+OFFSET(AGR!$B$49,$AX89,SUMIF($B$10:$B$14,\"NCAP_TLIFE\",$AY$10:$AY$14)),0,\"\"))","v":""},{"$f":"IF($B89<>\"PRC_RESID\",\"\",IF(M$7=2005+OFFSET(AGR!$B$49,$AX89,SUMIF($B$10:$B$14,\"NCAP_TLIFE\",$AY$10:$AY$14)),0,\"\"))","v":""},{"$f":"IF($B89<>\"PRC_RESID\",\"\",IF(N$7=2005+OFFSET(AGR!$B$49,$AX89,SUMIF($B$10:$B$14,\"NCAP_TLIFE\",$AY$10:$AY$14)),0,\"\"))","v":""},{"$f":"IF($B89<>\"PRC_RESID\",\"\",IF(O$7=2005+OFFSET(AGR!$B$49,$AX89,SUMIF($B$10:$B$14,\"NCAP_TLIFE\",$AY$10:$AY$14)),0,\"\"))","v":""},{"$f":"IF($B89<>\"PRC_RESID\",\"\",IF(P$7=2005+OFFSET(AGR!$B$49,$AX89,SUMIF($B$10:$B$14,\"NCAP_TLIFE\",$AY$10:$AY$14)),0,\"\"))","v":""},{"$f":"IF($B89<>\"PRC_RESID\",\"\",IF(Q$7=2005+OFFSET(AGR!$B$49,$AX89,SUMIF($B$10:$B$14,\"NCAP_TLIFE\",$AY$10:$AY$14)),0,\"\"))","v":""},{"$f":"IF($B89<>\"PRC_RESID\",\"\",IF(R$7=2005+OFFSET(AGR!$B$49,$AX89,SUMIF($B$10:$B$14,\"NCAP_TLIFE\",$AY$10:$AY$14)),0,\"\"))","v":""},{"$f":"IF($B89<>\"PRC_RESID\",\"\",IF(S$7=2005+OFFSET(AGR!$B$49,$AX89,SUMIF($B$10:$B$14,\"NCAP_TLIFE\",$AY$10:$AY$14)),0,\"\"))","v":""},{"$f":"IF($B89<>\"PRC_RESID\",\"\",IF(T$7=2005+OFFSET(AGR!$B$49,$AX89,SUMIF($B$10:$B$14,\"NCAP_TLIFE\",$AY$10:$AY$14)),0,\"\"))","v":""},{"$f":"IF($B89<>\"PRC_RESID\",\"\",IF(U$7=2005+OFFSET(AGR!$B$49,$AX89,SUMIF($B$10:$B$14,\"NCAP_TLIFE\",$AY$10:$AY$14)),0,\"\"))","v":""},{"$f":"IF($B89<>\"PRC_RESID\",\"\",IF(V$7=2005+OFFSET(AGR!$B$49,$AX89,SUMIF($B$10:$B$14,\"NCAP_TLIFE\",$AY$10:$AY$14)),0,\"\"))","v":""},{"$f":"IF($B89<>\"PRC_RESID\",\"\",IF(W$7=2005+OFFSET(AGR!$B$49,$AX89,SUMIF($B$10:$B$14,\"NCAP_TLIFE\",$AY$10:$AY$14)),0,\"\"))","v":""},{"$f":"IF($B89<>\"PRC_RESID\",\"\",IF(X$7=2005+OFFSET(AGR!$B$49,$AX89,SUMIF($B$10:$B$14,\"NCAP_TLIFE\",$AY$10:$AY$14)),0,\"\"))","v":""},{"$f":"IF($B89<>\"PRC_RESID\",\"\",IF(Y$7=2005+OFFSET(AGR!$B$49,$AX89,SUMIF($B$10:$B$14,\"NCAP_TLIFE\",$AY$10:$AY$14)),0,\"\"))","v":""},{"$f":"IF($B89<>\"PRC_RESID\",\"\",IF(Z$7=2005+OFFSET(AGR!$B$49,$AX89,SUMIF($B$10:$B$14,\"NCAP_TLIFE\",$AY$10:$AY$14)),0,\"\"))","v":""},{"$f":"IF($B89<>\"PRC_RESID\",\"\",IF(AA$7=2005+OFFSET(AGR!$B$49,$AX89,SUMIF($B$10:$B$14,\"NCAP_TLIFE\",$AY$10:$AY$14)),0,\"\"))","v":""},{"$f":"IF($B89<>\"PRC_RESID\",\"\",IF(AB$7=2005+OFFSET(AGR!$B$49,$AX89,SUMIF($B$10:$B$14,\"NCAP_TLIFE\",$AY$10:$AY$14)),0,\"\"))","v":""},{"$f":"IF($B89<>\"PRC_RESID\",\"\",IF(AC$7=2005+OFFSET(AGR!$B$49,$AX89,SUMIF($B$10:$B$14,\"NCAP_TLIFE\",$AY$10:$AY$14)),0,\"\"))","v":""},{"$f":"IF($B89<>\"PRC_RESID\",\"\",IF(AD$7=2005+OFFSET(AGR!$B$49,$AX89,SUMIF($B$10:$B$14,\"NCAP_TLIFE\",$AY$10:$AY$14)),0,\"\"))","v":""},{"$f":"IF($B89<>\"PRC_RESID\",\"\",IF(AE$7=2005+OFFSET(AGR!$B$49,$AX89,SUMIF($B$10:$B$14,\"NCAP_TLIFE\",$AY$10:$AY$14)),0,\"\"))","v":""},{"$f":"IF($B89<>\"PRC_RESID\",\"\",IF(AF$7=2005+OFFSET(AGR!$B$49,$AX89,SUMIF($B$10:$B$14,\"NCAP_TLIFE\",$AY$10:$AY$14)),0,\"\"))","v":""},{"$f":"IF($B89<>\"PRC_RESID\",\"\",IF(AG$7=2005+OFFSET(AGR!$B$49,$AX89,SUMIF($B$10:$B$14,\"NCAP_TLIFE\",$AY$10:$AY$14)),0,\"\"))","v":""},{"$f":"IF($B89<>\"PRC_RESID\",\"\",IF(AH$7=2005+OFFSET(AGR!$B$49,$AX89,SUMIF($B$10:$B$14,\"NCAP_TLIFE\",$AY$10:$AY$14)),0,\"\"))","v":""},null,null,null,null,{"$f":"IF($B89<>\"PRC_RESID\",\"\",IF(AM$7=2005+OFFSET(AGR!$B$49,$AX89,SUMIF($B$10:$B$14,\"NCAP_TLIFE\",$AY$10:$AY$14)),0,\"\"))","v":""},null,null,null,null,{"$f":"IF($B89<>\"PRC_RESID\",\"\",IF(AR$7=2005+OFFSET(AGR!$B$49,$AX89,SUMIF($B$10:$B$14,\"NCAP_TLIFE\",$AY$10:$AY$14)),0,\"\"))","v":""},{"$f":"IF($B89<>\"PRC_RESID\",\"\",IF(AS$7=2005+OFFSET(AGR!$B$49,$AX89,SUMIF($B$10:$B$14,\"NCAP_TLIFE\",$AY$10:$AY$14)),0,\"\"))","v":""},{"$f":"IF($B89<>\"PRC_RESID\",\"\",IF(AT$7=2005+OFFSET(AGR!$B$49,$AX89,SUMIF($B$10:$B$14,\"NCAP_TLIFE\",$AY$10:$AY$14)),0,\"\"))","v":""},{"$f":"IF($B89<>\"PRC_RESID\",\"\",IF(AU$7=2005+OFFSET(AGR!$B$49,$AX89,SUMIF($B$10:$B$14,\"NCAP_TLIFE\",$AY$10:$AY$14)),0,\"\"))","v":""},null,{"$f":"IF(AX88=AGR!$W$72,AW88+1,AW88)","v":4},5]
[{"$f":"IF(LEFT(OFFSET(AGR!$A$49,AX90,0),2)=\"\\I\",\"*\",\"\")","v":"*"},"",{"$f":"IF($A90=\"*\",\"\",OFFSET(AGR!$B$49,AX90,0))","v":""},"","","","","","",{"$f":"IF($A90=\"*\",\"\",OFFSET(AGR!$B$49,AX90,SUMIF($B$10:$B$14,B90,$AY$10:$AY$14)))","v":""},{"$f":"IF($B90<>\"PRC_RESID\",\"\",IF(K$7=2005+OFFSET(AGR!$B$49,$AX90,SUMIF($B$10:$B$14,\"NCAP_TLIFE\",$AY$10:$AY$14)),0,\"\"))","v":""},{"$f":"IF($B90<>\"PRC_RESID\",\"\",IF(L$7=2005+OFFSET(AGR!$B$49,$AX90,SUMIF($B$10:$B$14,\"NCAP_TLIFE\",$AY$10:$AY$14)),0,\"\"))","v":""},{"$f":"IF($B90<>\"PRC_RESID\",\"\",IF(M$7=2005+OFFSET(AGR!$B$49,$AX90,SUMIF($B$10:$B$14,\"NCAP_TLIFE\",$AY$10:$AY$14)),0,\"\"))","v":""},{"$f":"IF($B90<>\"PRC_RESID\",\"\",IF(N$7=2005+OFFSET(AGR!$B$49,$AX90,SUMIF($B$10:$B$14,\"NCAP_TLIFE\",$AY$10:$AY$14)),0,\"\"))","v":""},{"$f":"IF($B90<>\"PRC_RESID\",\"\",IF(O$7=2005+OFFSET(AGR!$B$49,$AX90,SUMIF($B$10:$B$14,\"NCAP_TLIFE\",$AY$10:$AY$14)),0,\"\"))","v":""},{"$f":"IF($B90<>\"PRC_RESID\",\"\",IF(P$7=2005+OFFSET(AGR!$B$49,$AX90,SUMIF($B$10:$B$14,\"NCAP_TLIFE\",$AY$10:$AY$14)),0,\"\"))","v":""},{"$f":"IF($B90<>\"PRC_RESID\",\"\",IF(Q$7=2005+OFFSET(AGR!$B$49,$AX90,SUMIF($B$10:$B$14,\"NCAP_TLIFE\",$AY$10:$AY$14)),0,\"\"))","v":""},{"$f":"IF($B90<>\"PRC_RESID\",\"\",IF(R$7=2005+OFFSET(AGR!$B$49,$AX90,SUMIF($B$10:$B$14,\"NCAP_TLIFE\",$AY$10:$AY$14)),0,\"\"))","v":""},{"$f":"IF($B90<>\"PRC_RESID\",\"\",IF(S$7=2005+OFFSET(AGR!$B$49,$AX90,SUMIF($B$10:$B$14,\"NCAP_TLIFE\",$AY$10:$AY$14)),0,\"\"))","v":""},{"$f":"IF($B90<>\"PRC_RESID\",\"\",IF(T$7=2005+OFFSET(AGR!$B$49,$AX90,SUMIF($B$10:$B$14,\"NCAP_TLIFE\",$AY$10:$AY$14)),0,\"\"))","v":""},{"$f":"IF($B90<>\"PRC_RESID\",\"\",IF(U$7=2005+OFFSET(AGR!$B$49,$AX90,SUMIF($B$10:$B$14,\"NCAP_TLIFE\",$AY$10:$AY$14)),0,\"\"))","v":""},{"$f":"IF($B90<>\"PRC_RESID\",\"\",IF(V$7=2005+OFFSET(AGR!$B$49,$AX90,SUMIF($B$10:$B$14,\"NCAP_TLIFE\",$AY$10:$AY$14)),0,\"\"))","v":""},{"$f":"IF($B90<>\"PRC_RESID\",\"\",IF(W$7=2005+OFFSET(AGR!$B$49,$AX90,SUMIF($B$10:$B$14,\"NCAP_TLIFE\",$AY$10:$AY$14)),0,\"\"))","v":""},{"$f":"IF($B90<>\"PRC_RESID\",\"\",IF(X$7=2005+OFFSET(AGR!$B$49,$AX90,SUMIF($B$10:$B$14,\"NCAP_TLIFE\",$AY$10:$AY$14)),0,\"\"))","v":""},{"$f":"IF($B90<>\"PRC_RESID\",\"\",IF(Y$7=2005+OFFSET(AGR!$B$49,$AX90,SUMIF($B$10:$B$14,\"NCAP_TLIFE\",$AY$10:$AY$14)),0,\"\"))","v":""},{"$f":"IF($B90<>\"PRC_RESID\",\"\",IF(Z$7=2005+OFFSET(AGR!$B$49,$AX90,SUMIF($B$10:$B$14,\"NCAP_TLIFE\",$AY$10:$AY$14)),0,\"\"))","v":""},{"$f":"IF($B90<>\"PRC_RESID\",\"\",IF(AA$7=2005+OFFSET(AGR!$B$49,$AX90,SUMIF($B$10:$B$14,\"NCAP_TLIFE\",$AY$10:$AY$14)),0,\"\"))","v":""},{"$f":"IF($B90<>\"PRC_RESID\",\"\",IF(AB$7=2005+OFFSET(AGR!$B$49,$AX90,SUMIF($B$10:$B$14,\"NCAP_TLIFE\",$AY$10:$AY$14)),0,\"\"))","v":""},{"$f":"IF($B90<>\"PRC_RESID\",\"\",IF(AC$7=2005+OFFSET(AGR!$B$49,$AX90,SUMIF($B$10:$B$14,\"NCAP_TLIFE\",$AY$10:$AY$14)),0,\"\"))","v":""},{"$f":"IF($B90<>\"PRC_RESID\",\"\",IF(AD$7=2005+OFFSET(AGR!$B$49,$AX90,SUMIF($B$10:$B$14,\"NCAP_TLIFE\",$AY$10:$AY$14)),0,\"\"))","v":""},{"$f":"IF($B90<>\"PRC_RESID\",\"\",IF(AE$7=2005+OFFSET(AGR!$B$49,$AX90,SUMIF($B$10:$B$14,\"NCAP_TLIFE\",$AY$10:$AY$14)),0,\"\"))","v":""},{"$f":"IF($B90<>\"PRC_RESID\",\"\",IF(AF$7=2005+OFFSET(AGR!$B$49,$AX90,SUMIF($B$10:$B$14,\"NCAP_TLIFE\",$AY$10:$AY$14)),0,\"\"))","v":""},{"$f":"IF($B90<>\"PRC_RESID\",\"\",IF(AG$7=2005+OFFSET(AGR!$B$49,$AX90,SUMIF($B$10:$B$14,\"NCAP_TLIFE\",$AY$10:$AY$14)),0,\"\"))","v":""},{"$f":"IF($B90<>\"PRC_RESID\",\"\",IF(AH$7=2005+OFFSET(AGR!$B$49,$AX90,SUMIF($B$10:$B$14,\"NCAP_TLIFE\",$AY$10:$AY$14)),0,\"\"))","v":""},null,null,null,null,{"$f":"IF($B90<>\"PRC_RESID\",\"\",IF(AM$7=2005+OFFSET(AGR!$B$49,$AX90,SUMIF($B$10:$B$14,\"NCAP_TLIFE\",$AY$10:$AY$14)),0,\"\"))","v":""},null,null,null,null,{"$f":"IF($B90<>\"PRC_RESID\",\"\",IF(AR$7=2005+OFFSET(AGR!$B$49,$AX90,SUMIF($B$10:$B$14,\"NCAP_TLIFE\",$AY$10:$AY$14)),0,\"\"))","v":""},{"$f":"IF($B90<>\"PRC_RESID\",\"\",IF(AS$7=2005+OFFSET(AGR!$B$49,$AX90,SUMIF($B$10:$B$14,\"NCAP_TLIFE\",$AY$10:$AY$14)),0,\"\"))","v":""},{"$f":"IF($B90<>\"PRC_RESID\",\"\",IF(AT$7=2005+OFFSET(AGR!$B$49,$AX90,SUMIF($B$10:$B$14,\"NCAP_TLIFE\",$AY$10:$AY$14)),0,\"\"))","v":""},{"$f":"IF($B90<>\"PRC_RESID\",\"\",IF(AU$7=2005+OFFSET(AGR!$B$49,$AX90,SUMIF($B$10:$B$14,\"NCAP_TLIFE\",$AY$10:$AY$14)),0,\"\"))","v":""},null,{"$f":"IF(AX89=AGR!$W$72,AW89+1,AW89)","v":4},6]
[{"$f":"IF(LEFT(OFFSET(AGR!$A$49,AX91,0),2)=\"\\I\",\"*\",\"\")","v":"*"},"",{"$f":"IF($A91=\"*\",\"\",OFFSET(AGR!$B$49,AX91,0))","v":""},"","","","","","",{"$f":"IF($A91=\"*\",\"\",OFFSET(AGR!$B$49,AX91,SUMIF($B$10:$B$14,B91,$AY$10:$AY$14)))","v":""},{"$f":"IF($B91<>\"PRC_RESID\",\"\",IF(K$7=2005+OFFSET(AGR!$B$49,$AX91,SUMIF($B$10:$B$14,\"NCAP_TLIFE\",$AY$10:$AY$14)),0,\"\"))","v":""},{"$f":"IF($B91<>\"PRC_RESID\",\"\",IF(L$7=2005+OFFSET(AGR!$B$49,$AX91,SUMIF($B$10:$B$14,\"NCAP_TLIFE\",$AY$10:$AY$14)),0,\"\"))","v":""},{"$f":"IF($B91<>\"PRC_RESID\",\"\",IF(M$7=2005+OFFSET(AGR!$B$49,$AX91,SUMIF($B$10:$B$14,\"NCAP_TLIFE\",$AY$10:$AY$14)),0,\"\"))","v":""},{"$f":"IF($B91<>\"PRC_RESID\",\"\",IF(N$7=2005+OFFSET(AGR!$B$49,$AX91,SUMIF($B$10:$B$14,\"NCAP_TLIFE\",$AY$10:$AY$14)),0,\"\"))","v":""},{"$f":"IF($B91<>\"PRC_RESID\",\"\",IF(O$7=2005+OFFSET(AGR!$B$49,$AX91,SUMIF($B$10:$B$14,\"NCAP_TLIFE\",$AY$10:$AY$14)),0,\"\"))","v":""},{"$f":"IF($B91<>\"PRC_RESID\",\"\",IF(P$7=2005+OFFSET(AGR!$B$49,$AX91,SUMIF($B$10:$B$14,\"NCAP_TLIFE\",$AY$10:$AY$14)),0,\"\"))","v":""},{"$f":"IF($B91<>\"PRC_RESID\",\"\",IF(Q$7=2005+OFFSET(AGR!$B$49,$AX91,SUMIF($B$10:$B$14,\"NCAP_TLIFE\",$AY$10:$AY$14)),0,\"\"))","v":""},{"$f":"IF($B91<>\"PRC_RESID\",\"\",IF(R$7=2005+OFFSET(AGR!$B$49,$AX91,SUMIF($B$10:$B$14,\"NCAP_TLIFE\",$AY$10:$AY$14)),0,\"\"))","v":""},{"$f":"IF($B91<>\"PRC_RESID\",\"\",IF(S$7=2005+OFFSET(AGR!$B$49,$AX91,SUMIF($B$10:$B$14,\"NCAP_TLIFE\",$AY$10:$AY$14)),0,\"\"))","v":""},{"$f":"IF($B91<>\"PRC_RESID\",\"\",IF(T$7=2005+OFFSET(AGR!$B$49,$AX91,SUMIF($B$10:$B$14,\"NCAP_TLIFE\",$AY$10:$AY$14)),0,\"\"))","v":""},{"$f":"IF($B91<>\"PRC_RESID\",\"\",IF(U$7=2005+OFFSET(AGR!$B$49,$AX91,SUMIF($B$10:$B$14,\"NCAP_TLIFE\",$AY$10:$AY$14)),0,\"\"))","v":""},{"$f":"IF($B91<>\"PRC_RESID\",\"\",IF(V$7=2005+OFFSET(AGR!$B$49,$AX91,SUMIF($B$10:$B$14,\"NCAP_TLIFE\",$AY$10:$AY$14)),0,\"\"))","v":""},{"$f":"IF($B91<>\"PRC_RESID\",\"\",IF(W$7=2005+OFFSET(AGR!$B$49,$AX91,SUMIF($B$10:$B$14,\"NCAP_TLIFE\",$AY$10:$AY$14)),0,\"\"))","v":""},{"$f":"IF($B91<>\"PRC_RESID\",\"\",IF(X$7=2005+OFFSET(AGR!$B$49,$AX91,SUMIF($B$10:$B$14,\"NCAP_TLIFE\",$AY$10:$AY$14)),0,\"\"))","v":""},{"$f":"IF($B91<>\"PRC_RESID\",\"\",IF(Y$7=2005+OFFSET(AGR!$B$49,$AX91,SUMIF($B$10:$B$14,\"NCAP_TLIFE\",$AY$10:$AY$14)),0,\"\"))","v":""},{"$f":"IF($B91<>\"PRC_RESID\",\"\",IF(Z$7=2005+OFFSET(AGR!$B$49,$AX91,SUMIF($B$10:$B$14,\"NCAP_TLIFE\",$AY$10:$AY$14)),0,\"\"))","v":""},{"$f":"IF($B91<>\"PRC_RESID\",\"\",IF(AA$7=2005+OFFSET(AGR!$B$49,$AX91,SUMIF($B$10:$B$14,\"NCAP_TLIFE\",$AY$10:$AY$14)),0,\"\"))","v":""},{"$f":"IF($B91<>\"PRC_RESID\",\"\",IF(AB$7=2005+OFFSET(AGR!$B$49,$AX91,SUMIF($B$10:$B$14,\"NCAP_TLIFE\",$AY$10:$AY$14)),0,\"\"))","v":""},{"$f":"IF($B91<>\"PRC_RESID\",\"\",IF(AC$7=2005+OFFSET(AGR!$B$49,$AX91,SUMIF($B$10:$B$14,\"NCAP_TLIFE\",$AY$10:$AY$14)),0,\"\"))","v":""},{"$f":"IF($B91<>\"PRC_RESID\",\"\",IF(AD$7=2005+OFFSET(AGR!$B$49,$AX91,SUMIF($B$10:$B$14,\"NCAP_TLIFE\",$AY$10:$AY$14)),0,\"\"))","v":""},{"$f":"IF($B91<>\"PRC_RESID\",\"\",IF(AE$7=2005+OFFSET(AGR!$B$49,$AX91,SUMIF($B$10:$B$14,\"NCAP_TLIFE\",$AY$10:$AY$14)),0,\"\"))","v":""},{"$f":"IF($B91<>\"PRC_RESID\",\"\",IF(AF$7=2005+OFFSET(AGR!$B$49,$AX91,SUMIF($B$10:$B$14,\"NCAP_TLIFE\",$AY$10:$AY$14)),0,\"\"))","v":""},{"$f":"IF($B91<>\"PRC_RESID\",\"\",IF(AG$7=2005+OFFSET(AGR!$B$49,$AX91,SUMIF($B$10:$B$14,\"NCAP_TLIFE\",$AY$10:$AY$14)),0,\"\"))","v":""},{"$f":"IF($B91<>\"PRC_RESID\",\"\",IF(AH$7=2005+OFFSET(AGR!$B$49,$AX91,SUMIF($B$10:$B$14,\"NCAP_TLIFE\",$AY$10:$AY$14)),0,\"\"))","v":""},null,null,null,null,{"$f":"IF($B91<>\"PRC_RESID\",\"\",IF(AM$7=2005+OFFSET(AGR!$B$49,$AX91,SUMIF($B$10:$B$14,\"NCAP_TLIFE\",$AY$10:$AY$14)),0,\"\"))","v":""},null,null,null,null,{"$f":"IF($B91<>\"PRC_RESID\",\"\",IF(AR$7=2005+OFFSET(AGR!$B$49,$AX91,SUMIF($B$10:$B$14,\"NCAP_TLIFE\",$AY$10:$AY$14)),0,\"\"))","v":""},{"$f":"IF($B91<>\"PRC_RESID\",\"\",IF(AS$7=2005+OFFSET(AGR!$B$49,$AX91,SUMIF($B$10:$B$14,\"NCAP_TLIFE\",$AY$10:$AY$14)),0,\"\"))","v":""},{"$f":"IF($B91<>\"PRC_RESID\",\"\",IF(AT$7=2005+OFFSET(AGR!$B$49,$AX91,SUMIF($B$10:$B$14,\"NCAP_TLIFE\",$AY$10:$AY$14)),0,\"\"))","v":""},{"$f":"IF($B91<>\"PRC_RESID\",\"\",IF(AU$7=2005+OFFSET(AGR!$B$49,$AX91,SUMIF($B$10:$B$14,\"NCAP_TLIFE\",$AY$10:$AY$14)),0,\"\"))","v":""},null,{"$f":"IF(AX90=AGR!$W$72,AW90+1,AW90)","v":4},7]
[{"$f":"IF(LEFT(OFFSET(AGR!$A$49,AX92,0),2)=\"\\I\",\"*\",\"\")","v":""},"NCAP_TLIFE",{"$f":"IF($A92=\"*\",\"\",OFFSET(AGR!$B$49,AX92,0))","v":"APELC-E"},"-","-","-","-","-",0,{"$f":"IF($A92=\"*\",\"\",OFFSET(AGR!$B$49,AX92,SUMIF($B$10:$B$14,B92,$AY$10:$AY$14)))","v":15},{"$f":"IF($B92<>\"PRC_RESID\",\"\",IF(K$7=2005+OFFSET(AGR!$B$49,$AX92,SUMIF($B$10:$B$14,\"NCAP_TLIFE\",$AY$10:$AY$14)),0,\"\"))","v":""},{"$f":"IF($B92<>\"PRC_RESID\",\"\",IF(L$7=2005+OFFSET(AGR!$B$49,$AX92,SUMIF($B$10:$B$14,\"NCAP_TLIFE\",$AY$10:$AY$14)),0,\"\"))","v":""},{"$f":"IF($B92<>\"PRC_RESID\",\"\",IF(M$7=2005+OFFSET(AGR!$B$49,$AX92,SUMIF($B$10:$B$14,\"NCAP_TLIFE\",$AY$10:$AY$14)),0,\"\"))","v":""},{"$f":"IF($B92<>\"PRC_RESID\",\"\",IF(N$7=2005+OFFSET(AGR!$B$49,$AX92,SUMIF($B$10:$B$14,\"NCAP_TLIFE\",$AY$10:$AY$14)),0,\"\"))","v":""},{"$f":"IF($B92<>\"PRC_RESID\",\"\",IF(O$7=2005+OFFSET(AGR!$B$49,$AX92,SUMIF($B$10:$B$14,\"NCAP_TLIFE\",$AY$10:$AY$14)),0,\"\"))","v":""},{"$f":"IF($B92<>\"PRC_RESID\",\"\",IF(P$7=2005+OFFSET(AGR!$B$49,$AX92,SUMIF($B$10:$B$14,\"NCAP_TLIFE\",$AY$10:$AY$14)),0,\"\"))","v":""},{"$f":"IF($B92<>\"PRC_RESID\",\"\",IF(Q$7=2005+OFFSET(AGR!$B$49,$AX92,SUMIF($B$10:$B$14,\"NCAP_TLIFE\",$AY$10:$AY$14)),0,\"\"))","v":""},{"$f":"IF($B92<>\"PRC_RESID\",\"\",IF(R$7=2005+OFFSET(AGR!$B$49,$AX92,SUMIF($B$10:$B$14,\"NCAP_TLIFE\",$AY$10:$AY$14)),0,\"\"))","v":""},{"$f":"IF($B92<>\"PRC_RESID\",\"\",IF(S$7=2005+OFFSET(AGR!$B$49,$AX92,SUMIF($B$10:$B$14,\"NCAP_TLIFE\",$AY$10:$AY$14)),0,\"\"))","v":""},{"$f":"IF($B92<>\"PRC_RESID\",\"\",IF(T$7=2005+OFFSET(AGR!$B$49,$AX92,SUMIF($B$10:$B$14,\"NCAP_TLIFE\",$AY$10:$AY$14)),0,\"\"))","v":""},{"$f":"IF($B92<>\"PRC_RESID\",\"\",IF(U$7=2005+OFFSET(AGR!$B$49,$AX92,SUMIF($B$10:$B$14,\"NCAP_TLIFE\",$AY$10:$AY$14)),0,\"\"))","v":""},{"$f":"IF($B92<>\"PRC_RESID\",\"\",IF(V$7=2005+OFFSET(AGR!$B$49,$AX92,SUMIF($B$10:$B$14,\"NCAP_TLIFE\",$AY$10:$AY$14)),0,\"\"))","v":""},{"$f":"IF($B92<>\"PRC_RESID\",\"\",IF(W$7=2005+OFFSET(AGR!$B$49,$AX92,SUMIF($B$10:$B$14,\"NCAP_TLIFE\",$AY$10:$AY$14)),0,\"\"))","v":""},{"$f":"IF($B92<>\"PRC_RESID\",\"\",IF(X$7=2005+OFFSET(AGR!$B$49,$AX92,SUMIF($B$10:$B$14,\"NCAP_TLIFE\",$AY$10:$AY$14)),0,\"\"))","v":""},{"$f":"IF($B92<>\"PRC_RESID\",\"\",IF(Y$7=2005+OFFSET(AGR!$B$49,$AX92,SUMIF($B$10:$B$14,\"NCAP_TLIFE\",$AY$10:$AY$14)),0,\"\"))","v":""},{"$f":"IF($B92<>\"PRC_RESID\",\"\",IF(Z$7=2005+OFFSET(AGR!$B$49,$AX92,SUMIF($B$10:$B$14,\"NCAP_TLIFE\",$AY$10:$AY$14)),0,\"\"))","v":""},{"$f":"IF($B92<>\"PRC_RESID\",\"\",IF(AA$7=2005+OFFSET(AGR!$B$49,$AX92,SUMIF($B$10:$B$14,\"NCAP_TLIFE\",$AY$10:$AY$14)),0,\"\"))","v":""},{"$f":"IF($B92<>\"PRC_RESID\",\"\",IF(AB$7=2005+OFFSET(AGR!$B$49,$AX92,SUMIF($B$10:$B$14,\"NCAP_TLIFE\",$AY$10:$AY$14)),0,\"\"))","v":""},{"$f":"IF($B92<>\"PRC_RESID\",\"\",IF(AC$7=2005+OFFSET(AGR!$B$49,$AX92,SUMIF($B$10:$B$14,\"NCAP_TLIFE\",$AY$10:$AY$14)),0,\"\"))","v":""},{"$f":"IF($B92<>\"PRC_RESID\",\"\",IF(AD$7=2005+OFFSET(AGR!$B$49,$AX92,SUMIF($B$10:$B$14,\"NCAP_TLIFE\",$AY$10:$AY$14)),0,\"\"))","v":""},{"$f":"IF($B92<>\"PRC_RESID\",\"\",IF(AE$7=2005+OFFSET(AGR!$B$49,$AX92,SUMIF($B$10:$B$14,\"NCAP_TLIFE\",$AY$10:$AY$14)),0,\"\"))","v":""},{"$f":"IF($B92<>\"PRC_RESID\",\"\",IF(AF$7=2005+OFFSET(AGR!$B$49,$AX92,SUMIF($B$10:$B$14,\"NCAP_TLIFE\",$AY$10:$AY$14)),0,\"\"))","v":""},{"$f":"IF($B92<>\"PRC_RESID\",\"\",IF(AG$7=2005+OFFSET(AGR!$B$49,$AX92,SUMIF($B$10:$B$14,\"NCAP_TLIFE\",$AY$10:$AY$14)),0,\"\"))","v":""},{"$f":"IF($B92<>\"PRC_RESID\",\"\",IF(AH$7=2005+OFFSET(AGR!$B$49,$AX92,SUMIF($B$10:$B$14,\"NCAP_TLIFE\",$AY$10:$AY$14)),0,\"\"))","v":""},null,null,null,null,{"$f":"IF($B92<>\"PRC_RESID\",\"\",IF(AM$7=2005+OFFSET(AGR!$B$49,$AX92,SUMIF($B$10:$B$14,\"NCAP_TLIFE\",$AY$10:$AY$14)),0,\"\"))","v":""},null,null,null,null,{"$f":"IF($B92<>\"PRC_RESID\",\"\",IF(AR$7=2005+OFFSET(AGR!$B$49,$AX92,SUMIF($B$10:$B$14,\"NCAP_TLIFE\",$AY$10:$AY$14)),0,\"\"))","v":""},{"$f":"IF($B92<>\"PRC_RESID\",\"\",IF(AS$7=2005+OFFSET(AGR!$B$49,$AX92,SUMIF($B$10:$B$14,\"NCAP_TLIFE\",$AY$10:$AY$14)),0,\"\"))","v":""},{"$f":"IF($B92<>\"PRC_RESID\",\"\",IF(AT$7=2005+OFFSET(AGR!$B$49,$AX92,SUMIF($B$10:$B$14,\"NCAP_TLIFE\",$AY$10:$AY$14)),0,\"\"))","v":""},{"$f":"IF($B92<>\"PRC_RESID\",\"\",IF(AU$7=2005+OFFSET(AGR!$B$49,$AX92,SUMIF($B$10:$B$14,\"NCAP_TLIFE\",$AY$10:$AY$14)),0,\"\"))","v":""},null,{"$f":"IF(AX91=AGR!$W$72,AW91+1,AW91)","v":4},8]
[{"$f":"IF(LEFT(OFFSET(AGR!$A$49,AX93,0),2)=\"\\I\",\"*\",\"\")","v":"*"},"",{"$f":"IF($A93=\"*\",\"\",OFFSET(AGR!$B$49,AX93,0))","v":""},"","","","","","",{"$f":"IF($A93=\"*\",\"\",OFFSET(AGR!$B$49,AX93,SUMIF($B$10:$B$14,B93,$AY$10:$AY$14)))","v":""},{"$f":"IF($B93<>\"PRC_RESID\",\"\",IF(K$7=2005+OFFSET(AGR!$B$49,$AX93,SUMIF($B$10:$B$14,\"NCAP_TLIFE\",$AY$10:$AY$14)),0,\"\"))","v":""},{"$f":"IF($B93<>\"PRC_RESID\",\"\",IF(L$7=2005+OFFSET(AGR!$B$49,$AX93,SUMIF($B$10:$B$14,\"NCAP_TLIFE\",$AY$10:$AY$14)),0,\"\"))","v":""},{"$f":"IF($B93<>\"PRC_RESID\",\"\",IF(M$7=2005+OFFSET(AGR!$B$49,$AX93,SUMIF($B$10:$B$14,\"NCAP_TLIFE\",$AY$10:$AY$14)),0,\"\"))","v":""},{"$f":"IF($B93<>\"PRC_RESID\",\"\",IF(N$7=2005+OFFSET(AGR!$B$49,$AX93,SUMIF($B$10:$B$14,\"NCAP_TLIFE\",$AY$10:$AY$14)),0,\"\"))","v":""},{"$f":"IF($B93<>\"PRC_RESID\",\"\",IF(O$7=2005+OFFSET(AGR!$B$49,$AX93,SUMIF($B$10:$B$14,\"NCAP_TLIFE\",$AY$10:$AY$14)),0,\"\"))","v":""},{"$f":"IF($B93<>\"PRC_RESID\",\"\",IF(P$7=2005+OFFSET(AGR!$B$49,$AX93,SUMIF($B$10:$B$14,\"NCAP_TLIFE\",$AY$10:$AY$14)),0,\"\"))","v":""},{"$f":"IF($B93<>\"PRC_RESID\",\"\",IF(Q$7=2005+OFFSET(AGR!$B$49,$AX93,SUMIF($B$10:$B$14,\"NCAP_TLIFE\",$AY$10:$AY$14)),0,\"\"))","v":""},{"$f":"IF($B93<>\"PRC_RESID\",\"\",IF(R$7=2005+OFFSET(AGR!$B$49,$AX93,SUMIF($B$10:$B$14,\"NCAP_TLIFE\",$AY$10:$AY$14)),0,\"\"))","v":""},{"$f":"IF($B93<>\"PRC_RESID\",\"\",IF(S$7=2005+OFFSET(AGR!$B$49,$AX93,SUMIF($B$10:$B$14,\"NCAP_TLIFE\",$AY$10:$AY$14)),0,\"\"))","v":""},{"$f":"IF($B93<>\"PRC_RESID\",\"\",IF(T$7=2005+OFFSET(AGR!$B$49,$AX93,SUMIF($B$10:$B$14,\"NCAP_TLIFE\",$AY$10:$AY$14)),0,\"\"))","v":""},{"$f":"IF($B93<>\"PRC_RESID\",\"\",IF(U$7=2005+OFFSET(AGR!$B$49,$AX93,SUMIF($B$10:$B$14,\"NCAP_TLIFE\",$AY$10:$AY$14)),0,\"\"))","v":""},{"$f":"IF($B93<>\"PRC_RESID\",\"\",IF(V$7=2005+OFFSET(AGR!$B$49,$AX93,SUMIF($B$10:$B$14,\"NCAP_TLIFE\",$AY$10:$AY$14)),0,\"\"))","v":""},{"$f":"IF($B93<>\"PRC_RESID\",\"\",IF(W$7=2005+OFFSET(AGR!$B$49,$AX93,SUMIF($B$10:$B$14,\"NCAP_TLIFE\",$AY$10:$AY$14)),0,\"\"))","v":""},{"$f":"IF($B93<>\"PRC_RESID\",\"\",IF(X$7=2005+OFFSET(AGR!$B$49,$AX93,SUMIF($B$10:$B$14,\"NCAP_TLIFE\",$AY$10:$AY$14)),0,\"\"))","v":""},{"$f":"IF($B93<>\"PRC_RESID\",\"\",IF(Y$7=2005+OFFSET(AGR!$B$49,$AX93,SUMIF($B$10:$B$14,\"NCAP_TLIFE\",$AY$10:$AY$14)),0,\"\"))","v":""},{"$f":"IF($B93<>\"PRC_RESID\",\"\",IF(Z$7=2005+OFFSET(AGR!$B$49,$AX93,SUMIF($B$10:$B$14,\"NCAP_TLIFE\",$AY$10:$AY$14)),0,\"\"))","v":""},{"$f":"IF($B93<>\"PRC_RESID\",\"\",IF(AA$7=2005+OFFSET(AGR!$B$49,$AX93,SUMIF($B$10:$B$14,\"NCAP_TLIFE\",$AY$10:$AY$14)),0,\"\"))","v":""},{"$f":"IF($B93<>\"PRC_RESID\",\"\",IF(AB$7=2005+OFFSET(AGR!$B$49,$AX93,SUMIF($B$10:$B$14,\"NCAP_TLIFE\",$AY$10:$AY$14)),0,\"\"))","v":""},{"$f":"IF($B93<>\"PRC_RESID\",\"\",IF(AC$7=2005+OFFSET(AGR!$B$49,$AX93,SUMIF($B$10:$B$14,\"NCAP_TLIFE\",$AY$10:$AY$14)),0,\"\"))","v":""},{"$f":"IF($B93<>\"PRC_RESID\",\"\",IF(AD$7=2005+OFFSET(AGR!$B$49,$AX93,SUMIF($B$10:$B$14,\"NCAP_TLIFE\",$AY$10:$AY$14)),0,\"\"))","v":""},{"$f":"IF($B93<>\"PRC_RESID\",\"\",IF(AE$7=2005+OFFSET(AGR!$B$49,$AX93,SUMIF($B$10:$B$14,\"NCAP_TLIFE\",$AY$10:$AY$14)),0,\"\"))","v":""},{"$f":"IF($B93<>\"PRC_RESID\",\"\",IF(AF$7=2005+OFFSET(AGR!$B$49,$AX93,SUMIF($B$10:$B$14,\"NCAP_TLIFE\",$AY$10:$AY$14)),0,\"\"))","v":""},{"$f":"IF($B93<>\"PRC_RESID\",\"\",IF(AG$7=2005+OFFSET(AGR!$B$49,$AX93,SUMIF($B$10:$B$14,\"NCAP_TLIFE\",$AY$10:$AY$14)),0,\"\"))","v":""},{"$f":"IF($B93<>\"PRC_RESID\",\"\",IF(AH$7=2005+OFFSET(AGR!$B$49,$AX93,SUMIF($B$10:$B$14,\"NCAP_TLIFE\",$AY$10:$AY$14)),0,\"\"))","v":""},null,null,null,null,{"$f":"IF($B93<>\"PRC_RESID\",\"\",IF(AM$7=2005+OFFSET(AGR!$B$49,$AX93,SUMIF($B$10:$B$14,\"NCAP_TLIFE\",$AY$10:$AY$14)),0,\"\"))","v":""},null,null,null,null,{"$f":"IF($B93<>\"PRC_RESID\",\"\",IF(AR$7=2005+OFFSET(AGR!$B$49,$AX93,SUMIF($B$10:$B$14,\"NCAP_TLIFE\",$AY$10:$AY$14)),0,\"\"))","v":""},{"$f":"IF($B93<>\"PRC_RESID\",\"\",IF(AS$7=2005+OFFSET(AGR!$B$49,$AX93,SUMIF($B$10:$B$14,\"NCAP_TLIFE\",$AY$10:$AY$14)),0,\"\"))","v":""},{"$f":"IF($B93<>\"PRC_RESID\",\"\",IF(AT$7=2005+OFFSET(AGR!$B$49,$AX93,SUMIF($B$10:$B$14,\"NCAP_TLIFE\",$AY$10:$AY$14)),0,\"\"))","v":""},{"$f":"IF($B93<>\"PRC_RESID\",\"\",IF(AU$7=2005+OFFSET(AGR!$B$49,$AX93,SUMIF($B$10:$B$14,\"NCAP_TLIFE\",$AY$10:$AY$14)),0,\"\"))","v":""},null,{"$f":"IF(AX92=AGR!$W$72,AW92+1,AW92)","v":4},9]
[{"$f":"IF(LEFT(OFFSET(AGR!$A$49,AX94,0),2)=\"\\I\",\"*\",\"\")","v":"*"},"",{"$f":"IF($A94=\"*\",\"\",OFFSET(AGR!$B$49,AX94,0))","v":""},"","","","","","",{"$f":"IF($A94=\"*\",\"\",OFFSET(AGR!$B$49,AX94,SUMIF($B$10:$B$14,B94,$AY$10:$AY$14)))","v":""},{"$f":"IF($B94<>\"PRC_RESID\",\"\",IF(K$7=2005+OFFSET(AGR!$B$49,$AX94,SUMIF($B$10:$B$14,\"NCAP_TLIFE\",$AY$10:$AY$14)),0,\"\"))","v":""},{"$f":"IF($B94<>\"PRC_RESID\",\"\",IF(L$7=2005+OFFSET(AGR!$B$49,$AX94,SUMIF($B$10:$B$14,\"NCAP_TLIFE\",$AY$10:$AY$14)),0,\"\"))","v":""},{"$f":"IF($B94<>\"PRC_RESID\",\"\",IF(M$7=2005+OFFSET(AGR!$B$49,$AX94,SUMIF($B$10:$B$14,\"NCAP_TLIFE\",$AY$10:$AY$14)),0,\"\"))","v":""},{"$f":"IF($B94<>\"PRC_RESID\",\"\",IF(N$7=2005+OFFSET(AGR!$B$49,$AX94,SUMIF($B$10:$B$14,\"NCAP_TLIFE\",$AY$10:$AY$14)),0,\"\"))","v":""},{"$f":"IF($B94<>\"PRC_RESID\",\"\",IF(O$7=2005+OFFSET(AGR!$B$49,$AX94,SUMIF($B$10:$B$14,\"NCAP_TLIFE\",$AY$10:$AY$14)),0,\"\"))","v":""},{"$f":"IF($B94<>\"PRC_RESID\",\"\",IF(P$7=2005+OFFSET(AGR!$B$49,$AX94,SUMIF($B$10:$B$14,\"NCAP_TLIFE\",$AY$10:$AY$14)),0,\"\"))","v":""},{"$f":"IF($B94<>\"PRC_RESID\",\"\",IF(Q$7=2005+OFFSET(AGR!$B$49,$AX94,SUMIF($B$10:$B$14,\"NCAP_TLIFE\",$AY$10:$AY$14)),0,\"\"))","v":""},{"$f":"IF($B94<>\"PRC_RESID\",\"\",IF(R$7=2005+OFFSET(AGR!$B$49,$AX94,SUMIF($B$10:$B$14,\"NCAP_TLIFE\",$AY$10:$AY$14)),0,\"\"))","v":""},{"$f":"IF($B94<>\"PRC_RESID\",\"\",IF(S$7=2005+OFFSET(AGR!$B$49,$AX94,SUMIF($B$10:$B$14,\"NCAP_TLIFE\",$AY$10:$AY$14)),0,\"\"))","v":""},{"$f":"IF($B94<>\"PRC_RESID\",\"\",IF(T$7=2005+OFFSET(AGR!$B$49,$AX94,SUMIF($B$10:$B$14,\"NCAP_TLIFE\",$AY$10:$AY$14)),0,\"\"))","v":""},{"$f":"IF($B94<>\"PRC_RESID\",\"\",IF(U$7=2005+OFFSET(AGR!$B$49,$AX94,SUMIF($B$10:$B$14,\"NCAP_TLIFE\",$AY$10:$AY$14)),0,\"\"))","v":""},{"$f":"IF($B94<>\"PRC_RESID\",\"\",IF(V$7=2005+OFFSET(AGR!$B$49,$AX94,SUMIF($B$10:$B$14,\"NCAP_TLIFE\",$AY$10:$AY$14)),0,\"\"))","v":""},{"$f":"IF($B94<>\"PRC_RESID\",\"\",IF(W$7=2005+OFFSET(AGR!$B$49,$AX94,SUMIF($B$10:$B$14,\"NCAP_TLIFE\",$AY$10:$AY$14)),0,\"\"))","v":""},{"$f":"IF($B94<>\"PRC_RESID\",\"\",IF(X$7=2005+OFFSET(AGR!$B$49,$AX94,SUMIF($B$10:$B$14,\"NCAP_TLIFE\",$AY$10:$AY$14)),0,\"\"))","v":""},{"$f":"IF($B94<>\"PRC_RESID\",\"\",IF(Y$7=2005+OFFSET(AGR!$B$49,$AX94,SUMIF($B$10:$B$14,\"NCAP_TLIFE\",$AY$10:$AY$14)),0,\"\"))","v":""},{"$f":"IF($B94<>\"PRC_RESID\",\"\",IF(Z$7=2005+OFFSET(AGR!$B$49,$AX94,SUMIF($B$10:$B$14,\"NCAP_TLIFE\",$AY$10:$AY$14)),0,\"\"))","v":""},{"$f":"IF($B94<>\"PRC_RESID\",\"\",IF(AA$7=2005+OFFSET(AGR!$B$49,$AX94,SUMIF($B$10:$B$14,\"NCAP_TLIFE\",$AY$10:$AY$14)),0,\"\"))","v":""},{"$f":"IF($B94<>\"PRC_RESID\",\"\",IF(AB$7=2005+OFFSET(AGR!$B$49,$AX94,SUMIF($B$10:$B$14,\"NCAP_TLIFE\",$AY$10:$AY$14)),0,\"\"))","v":""},{"$f":"IF($B94<>\"PRC_RESID\",\"\",IF(AC$7=2005+OFFSET(AGR!$B$49,$AX94,SUMIF($B$10:$B$14,\"NCAP_TLIFE\",$AY$10:$AY$14)),0,\"\"))","v":""},{"$f":"IF($B94<>\"PRC_RESID\",\"\",IF(AD$7=2005+OFFSET(AGR!$B$49,$AX94,SUMIF($B$10:$B$14,\"NCAP_TLIFE\",$AY$10:$AY$14)),0,\"\"))","v":""},{"$f":"IF($B94<>\"PRC_RESID\",\"\",IF(AE$7=2005+OFFSET(AGR!$B$49,$AX94,SUMIF($B$10:$B$14,\"NCAP_TLIFE\",$AY$10:$AY$14)),0,\"\"))","v":""},{"$f":"IF($B94<>\"PRC_RESID\",\"\",IF(AF$7=2005+OFFSET(AGR!$B$49,$AX94,SUMIF($B$10:$B$14,\"NCAP_TLIFE\",$AY$10:$AY$14)),0,\"\"))","v":""},{"$f":"IF($B94<>\"PRC_RESID\",\"\",IF(AG$7=2005+OFFSET(AGR!$B$49,$AX94,SUMIF($B$10:$B$14,\"NCAP_TLIFE\",$AY$10:$AY$14)),0,\"\"))","v":""},{"$f":"IF($B94<>\"PRC_RESID\",\"\",IF(AH$7=2005+OFFSET(AGR!$B$49,$AX94,SUMIF($B$10:$B$14,\"NCAP_TLIFE\",$AY$10:$AY$14)),0,\"\"))","v":""},null,null,null,null,{"$f":"IF($B94<>\"PRC_RESID\",\"\",IF(AM$7=2005+OFFSET(AGR!$B$49,$AX94,SUMIF($B$10:$B$14,\"NCAP_TLIFE\",$AY$10:$AY$14)),0,\"\"))","v":""},null,null,null,null,{"$f":"IF($B94<>\"PRC_RESID\",\"\",IF(AR$7=2005+OFFSET(AGR!$B$49,$AX94,SUMIF($B$10:$B$14,\"NCAP_TLIFE\",$AY$10:$AY$14)),0,\"\"))","v":""},{"$f":"IF($B94<>\"PRC_RESID\",\"\",IF(AS$7=2005+OFFSET(AGR!$B$49,$AX94,SUMIF($B$10:$B$14,\"NCAP_TLIFE\",$AY$10:$AY$14)),0,\"\"))","v":""},{"$f":"IF($B94<>\"PRC_RESID\",\"\",IF(AT$7=2005+OFFSET(AGR!$B$49,$AX94,SUMIF($B$10:$B$14,\"NCAP_TLIFE\",$AY$10:$AY$14)),0,\"\"))","v":""},{"$f":"IF($B94<>\"PRC_RESID\",\"\",IF(AU$7=2005+OFFSET(AGR!$B$49,$AX94,SUMIF($B$10:$B$14,\"NCAP_TLIFE\",$AY$10:$AY$14)),0,\"\"))","v":""},null,{"$f":"IF(AX93=AGR!$W$72,AW93+1,AW93)","v":4},10]
[{"$f":"IF(LEFT(OFFSET(AGR!$A$49,AX95,0),2)=\"\\I\",\"*\",\"\")","v":""},"NCAP_TLIFE",{"$f":"IF($A95=\"*\",\"\",OFFSET(AGR!$B$49,AX95,0))","v":"ATODS-E"},"-","-","-","-","-",0,{"$f":"IF($A95=\"*\",\"\",OFFSET(AGR!$B$49,AX95,SUMIF($B$10:$B$14,B95,$AY$10:$AY$14)))","v":15},{"$f":"IF($B95<>\"PRC_RESID\",\"\",IF(K$7=2005+OFFSET(AGR!$B$49,$AX95,SUMIF($B$10:$B$14,\"NCAP_TLIFE\",$AY$10:$AY$14)),0,\"\"))","v":""},{"$f":"IF($B95<>\"PRC_RESID\",\"\",IF(L$7=2005+OFFSET(AGR!$B$49,$AX95,SUMIF($B$10:$B$14,\"NCAP_TLIFE\",$AY$10:$AY$14)),0,\"\"))","v":""},{"$f":"IF($B95<>\"PRC_RESID\",\"\",IF(M$7=2005+OFFSET(AGR!$B$49,$AX95,SUMIF($B$10:$B$14,\"NCAP_TLIFE\",$AY$10:$AY$14)),0,\"\"))","v":""},{"$f":"IF($B95<>\"PRC_RESID\",\"\",IF(N$7=2005+OFFSET(AGR!$B$49,$AX95,SUMIF($B$10:$B$14,\"NCAP_TLIFE\",$AY$10:$AY$14)),0,\"\"))","v":""},{"$f":"IF($B95<>\"PRC_RESID\",\"\",IF(O$7=2005+OFFSET(AGR!$B$49,$AX95,SUMIF($B$10:$B$14,\"NCAP_TLIFE\",$AY$10:$AY$14)),0,\"\"))","v":""},{"$f":"IF($B95<>\"PRC_RESID\",\"\",IF(P$7=2005+OFFSET(AGR!$B$49,$AX95,SUMIF($B$10:$B$14,\"NCAP_TLIFE\",$AY$10:$AY$14)),0,\"\"))","v":""},{"$f":"IF($B95<>\"PRC_RESID\",\"\",IF(Q$7=2005+OFFSET(AGR!$B$49,$AX95,SUMIF($B$10:$B$14,\"NCAP_TLIFE\",$AY$10:$AY$14)),0,\"\"))","v":""},{"$f":"IF($B95<>\"PRC_RESID\",\"\",IF(R$7=2005+OFFSET(AGR!$B$49,$AX95,SUMIF($B$10:$B$14,\"NCAP_TLIFE\",$AY$10:$AY$14)),0,\"\"))","v":""},{"$f":"IF($B95<>\"PRC_RESID\",\"\",IF(S$7=2005+OFFSET(AGR!$B$49,$AX95,SUMIF($B$10:$B$14,\"NCAP_TLIFE\",$AY$10:$AY$14)),0,\"\"))","v":""},{"$f":"IF($B95<>\"PRC_RESID\",\"\",IF(T$7=2005+OFFSET(AGR!$B$49,$AX95,SUMIF($B$10:$B$14,\"NCAP_TLIFE\",$AY$10:$AY$14)),0,\"\"))","v":""},{"$f":"IF($B95<>\"PRC_RESID\",\"\",IF(U$7=2005+OFFSET(AGR!$B$49,$AX95,SUMIF($B$10:$B$14,\"NCAP_TLIFE\",$AY$10:$AY$14)),0,\"\"))","v":""},{"$f":"IF($B95<>\"PRC_RESID\",\"\",IF(V$7=2005+OFFSET(AGR!$B$49,$AX95,SUMIF($B$10:$B$14,\"NCAP_TLIFE\",$AY$10:$AY$14)),0,\"\"))","v":""},{"$f":"IF($B95<>\"PRC_RESID\",\"\",IF(W$7=2005+OFFSET(AGR!$B$49,$AX95,SUMIF($B$10:$B$14,\"NCAP_TLIFE\",$AY$10:$AY$14)),0,\"\"))","v":""},{"$f":"IF($B95<>\"PRC_RESID\",\"\",IF(X$7=2005+OFFSET(AGR!$B$49,$AX95,SUMIF($B$10:$B$14,\"NCAP_TLIFE\",$AY$10:$AY$14)),0,\"\"))","v":""},{"$f":"IF($B95<>\"PRC_RESID\",\"\",IF(Y$7=2005+OFFSET(AGR!$B$49,$AX95,SUMIF($B$10:$B$14,\"NCAP_TLIFE\",$AY$10:$AY$14)),0,\"\"))","v":""},{"$f":"IF($B95<>\"PRC_RESID\",\"\",IF(Z$7=2005+OFFSET(AGR!$B$49,$AX95,SUMIF($B$10:$B$14,\"NCAP_TLIFE\",$AY$10:$AY$14)),0,\"\"))","v":""},{"$f":"IF($B95<>\"PRC_RESID\",\"\",IF(AA$7=2005+OFFSET(AGR!$B$49,$AX95,SUMIF($B$10:$B$14,\"NCAP_TLIFE\",$AY$10:$AY$14)),0,\"\"))","v":""},{"$f":"IF($B95<>\"PRC_RESID\",\"\",IF(AB$7=2005+OFFSET(AGR!$B$49,$AX95,SUMIF($B$10:$B$14,\"NCAP_TLIFE\",$AY$10:$AY$14)),0,\"\"))","v":""},{"$f":"IF($B95<>\"PRC_RESID\",\"\",IF(AC$7=2005+OFFSET(AGR!$B$49,$AX95,SUMIF($B$10:$B$14,\"NCAP_TLIFE\",$AY$10:$AY$14)),0,\"\"))","v":""},{"$f":"IF($B95<>\"PRC_RESID\",\"\",IF(AD$7=2005+OFFSET(AGR!$B$49,$AX95,SUMIF($B$10:$B$14,\"NCAP_TLIFE\",$AY$10:$AY$14)),0,\"\"))","v":""},{"$f":"IF($B95<>\"PRC_RESID\",\"\",IF(AE$7=2005+OFFSET(AGR!$B$49,$AX95,SUMIF($B$10:$B$14,\"NCAP_TLIFE\",$AY$10:$AY$14)),0,\"\"))","v":""},{"$f":"IF($B95<>\"PRC_RESID\",\"\",IF(AF$7=2005+OFFSET(AGR!$B$49,$AX95,SUMIF($B$10:$B$14,\"NCAP_TLIFE\",$AY$10:$AY$14)),0,\"\"))","v":""},{"$f":"IF($B95<>\"PRC_RESID\",\"\",IF(AG$7=2005+OFFSET(AGR!$B$49,$AX95,SUMIF($B$10:$B$14,\"NCAP_TLIFE\",$AY$10:$AY$14)),0,\"\"))","v":""},{"$f":"IF($B95<>\"PRC_RESID\",\"\",IF(AH$7=2005+OFFSET(AGR!$B$49,$AX95,SUMIF($B$10:$B$14,\"NCAP_TLIFE\",$AY$10:$AY$14)),0,\"\"))","v":""},null,null,null,null,{"$f":"IF($B95<>\"PRC_RESID\",\"\",IF(AM$7=2005+OFFSET(AGR!$B$49,$AX95,SUMIF($B$10:$B$14,\"NCAP_TLIFE\",$AY$10:$AY$14)),0,\"\"))","v":""},null,null,null,null,{"$f":"IF($B95<>\"PRC_RESID\",\"\",IF(AR$7=2005+OFFSET(AGR!$B$49,$AX95,SUMIF($B$10:$B$14,\"NCAP_TLIFE\",$AY$10:$AY$14)),0,\"\"))","v":""},{"$f":"IF($B95<>\"PRC_RESID\",\"\",IF(AS$7=2005+OFFSET(AGR!$B$49,$AX95,SUMIF($B$10:$B$14,\"NCAP_TLIFE\",$AY$10:$AY$14)),0,\"\"))","v":""},{"$f":"IF($B95<>\"PRC_RESID\",\"\",IF(AT$7=2005+OFFSET(AGR!$B$49,$AX95,SUMIF($B$10:$B$14,\"NCAP_TLIFE\",$AY$10:$AY$14)),0,\"\"))","v":""},{"$f":"IF($B95<>\"PRC_RESID\",\"\",IF(AU$7=2005+OFFSET(AGR!$B$49,$AX95,SUMIF($B$10:$B$14,\"NCAP_TLIFE\",$AY$10:$AY$14)),0,\"\"))","v":""},null,{"$f":"IF(AX94=AGR!$W$72,AW94+1,AW94)","v":4},11]
[{"$f":"IF(LEFT(OFFSET(AGR!$A$49,AX96,0),2)=\"\\I\",\"*\",\"\")","v":""},"NCAP_TLIFE",{"$f":"IF($A96=\"*\",\"\",OFFSET(AGR!$B$49,AX96,0))","v":"ATELC-E"},"-","-","-","-","-",0,{"$f":"IF($A96=\"*\",\"\",OFFSET(AGR!$B$49,AX96,SUMIF($B$10:$B$14,B96,$AY$10:$AY$14)))","v":15},{"$f":"IF($B96<>\"PRC_RESID\",\"\",IF(K$7=2005+OFFSET(AGR!$B$49,$AX96,SUMIF($B$10:$B$14,\"NCAP_TLIFE\",$AY$10:$AY$14)),0,\"\"))","v":""},{"$f":"IF($B96<>\"PRC_RESID\",\"\",IF(L$7=2005+OFFSET(AGR!$B$49,$AX96,SUMIF($B$10:$B$14,\"NCAP_TLIFE\",$AY$10:$AY$14)),0,\"\"))","v":""},{"$f":"IF($B96<>\"PRC_RESID\",\"\",IF(M$7=2005+OFFSET(AGR!$B$49,$AX96,SUMIF($B$10:$B$14,\"NCAP_TLIFE\",$AY$10:$AY$14)),0,\"\"))","v":""},{"$f":"IF($B96<>\"PRC_RESID\",\"\",IF(N$7=2005+OFFSET(AGR!$B$49,$AX96,SUMIF($B$10:$B$14,\"NCAP_TLIFE\",$AY$10:$AY$14)),0,\"\"))","v":""},{"$f":"IF($B96<>\"PRC_RESID\",\"\",IF(O$7=2005+OFFSET(AGR!$B$49,$AX96,SUMIF($B$10:$B$14,\"NCAP_TLIFE\",$AY$10:$AY$14)),0,\"\"))","v":""},{"$f":"IF($B96<>\"PRC_RESID\",\"\",IF(P$7=2005+OFFSET(AGR!$B$49,$AX96,SUMIF($B$10:$B$14,\"NCAP_TLIFE\",$AY$10:$AY$14)),0,\"\"))","v":""},{"$f":"IF($B96<>\"PRC_RESID\",\"\",IF(Q$7=2005+OFFSET(AGR!$B$49,$AX96,SUMIF($B$10:$B$14,\"NCAP_TLIFE\",$AY$10:$AY$14)),0,\"\"))","v":""},{"$f":"IF($B96<>\"PRC_RESID\",\"\",IF(R$7=2005+OFFSET(AGR!$B$49,$AX96,SUMIF($B$10:$B$14,\"NCAP_TLIFE\",$AY$10:$AY$14)),0,\"\"))","v":""},{"$f":"IF($B96<>\"PRC_RESID\",\"\",IF(S$7=2005+OFFSET(AGR!$B$49,$AX96,SUMIF($B$10:$B$14,\"NCAP_TLIFE\",$AY$10:$AY$14)),0,\"\"))","v":""},{"$f":"IF($B96<>\"PRC_RESID\",\"\",IF(T$7=2005+OFFSET(AGR!$B$49,$AX96,SUMIF($B$10:$B$14,\"NCAP_TLIFE\",$AY$10:$AY$14)),0,\"\"))","v":""},{"$f":"IF($B96<>\"PRC_RESID\",\"\",IF(U$7=2005+OFFSET(AGR!$B$49,$AX96,SUMIF($B$10:$B$14,\"NCAP_TLIFE\",$AY$10:$AY$14)),0,\"\"))","v":""},{"$f":"IF($B96<>\"PRC_RESID\",\"\",IF(V$7=2005+OFFSET(AGR!$B$49,$AX96,SUMIF($B$10:$B$14,\"NCAP_TLIFE\",$AY$10:$AY$14)),0,\"\"))","v":""},{"$f":"IF($B96<>\"PRC_RESID\",\"\",IF(W$7=2005+OFFSET(AGR!$B$49,$AX96,SUMIF($B$10:$B$14,\"NCAP_TLIFE\",$AY$10:$AY$14)),0,\"\"))","v":""},{"$f":"IF($B96<>\"PRC_RESID\",\"\",IF(X$7=2005+OFFSET(AGR!$B$49,$AX96,SUMIF($B$10:$B$14,\"NCAP_TLIFE\",$AY$10:$AY$14)),0,\"\"))","v":""},{"$f":"IF($B96<>\"PRC_RESID\",\"\",IF(Y$7=2005+OFFSET(AGR!$B$49,$AX96,SUMIF($B$10:$B$14,\"NCAP_TLIFE\",$AY$10:$AY$14)),0,\"\"))","v":""},{"$f":"IF($B96<>\"PRC_RESID\",\"\",IF(Z$7=2005+OFFSET(AGR!$B$49,$AX96,SUMIF($B$10:$B$14,\"NCAP_TLIFE\",$AY$10:$AY$14)),0,\"\"))","v":""},{"$f":"IF($B96<>\"PRC_RESID\",\"\",IF(AA$7=2005+OFFSET(AGR!$B$49,$AX96,SUMIF($B$10:$B$14,\"NCAP_TLIFE\",$AY$10:$AY$14)),0,\"\"))","v":""},{"$f":"IF($B96<>\"PRC_RESID\",\"\",IF(AB$7=2005+OFFSET(AGR!$B$49,$AX96,SUMIF($B$10:$B$14,\"NCAP_TLIFE\",$AY$10:$AY$14)),0,\"\"))","v":""},{"$f":"IF($B96<>\"PRC_RESID\",\"\",IF(AC$7=2005+OFFSET(AGR!$B$49,$AX96,SUMIF($B$10:$B$14,\"NCAP_TLIFE\",$AY$10:$AY$14)),0,\"\"))","v":""},{"$f":"IF($B96<>\"PRC_RESID\",\"\",IF(AD$7=2005+OFFSET(AGR!$B$49,$AX96,SUMIF($B$10:$B$14,\"NCAP_TLIFE\",$AY$10:$AY$14)),0,\"\"))","v":""},{"$f":"IF($B96<>\"PRC_RESID\",\"\",IF(AE$7=2005+OFFSET(AGR!$B$49,$AX96,SUMIF($B$10:$B$14,\"NCAP_TLIFE\",$AY$10:$AY$14)),0,\"\"))","v":""},{"$f":"IF($B96<>\"PRC_RESID\",\"\",IF(AF$7=2005+OFFSET(AGR!$B$49,$AX96,SUMIF($B$10:$B$14,\"NCAP_TLIFE\",$AY$10:$AY$14)),0,\"\"))","v":""},{"$f":"IF($B96<>\"PRC_RESID\",\"\",IF(AG$7=2005+OFFSET(AGR!$B$49,$AX96,SUMIF($B$10:$B$14,\"NCAP_TLIFE\",$AY$10:$AY$14)),0,\"\"))","v":""},{"$f":"IF($B96<>\"PRC_RESID\",\"\",IF(AH$7=2005+OFFSET(AGR!$B$49,$AX96,SUMIF($B$10:$B$14,\"NCAP_TLIFE\",$AY$10:$AY$14)),0,\"\"))","v":""},null,null,null,null,{"$f":"IF($B96<>\"PRC_RESID\",\"\",IF(AM$7=2005+OFFSET(AGR!$B$49,$AX96,SUMIF($B$10:$B$14,\"NCAP_TLIFE\",$AY$10:$AY$14)),0,\"\"))","v":""},null,null,null,null,{"$f":"IF($B96<>\"PRC_RESID\",\"\",IF(AR$7=2005+OFFSET(AGR!$B$49,$AX96,SUMIF($B$10:$B$14,\"NCAP_TLIFE\",$AY$10:$AY$14)),0,\"\"))","v":""},{"$f":"IF($B96<>\"PRC_RESID\",\"\",IF(AS$7=2005+OFFSET(AGR!$B$49,$AX96,SUMIF($B$10:$B$14,\"NCAP_TLIFE\",$AY$10:$AY$14)),0,\"\"))","v":""},{"$f":"IF($B96<>\"PRC_RESID\",\"\",IF(AT$7=2005+OFFSET(AGR!$B$49,$AX96,SUMIF($B$10:$B$14,\"NCAP_TLIFE\",$AY$10:$AY$14)),0,\"\"))","v":""},{"$f":"IF($B96<>\"PRC_RESID\",\"\",IF(AU$7=2005+OFFSET(AGR!$B$49,$AX96,SUMIF($B$10:$B$14,\"NCAP_TLIFE\",$AY$10:$AY$14)),0,\"\"))","v":""},null,{"$f":"IF(AX95=AGR!$W$72,AW95+1,AW95)","v":4},12]
[{"$f":"IF(LEFT(OFFSET(AGR!$A$49,AX97,0),2)=\"\\I\",\"*\",\"\")","v":""},"NCAP_TLIFE",{"$f":"IF($A97=\"*\",\"\",OFFSET(AGR!$B$49,AX97,0))","v":"ATOGS-E"},"-","-","-","-","-",0,{"$f":"IF($A97=\"*\",\"\",OFFSET(AGR!$B$49,AX97,SUMIF($B$10:$B$14,B97,$AY$10:$AY$14)))","v":15},{"$f":"IF($B97<>\"PRC_RESID\",\"\",IF(K$7=2005+OFFSET(AGR!$B$49,$AX97,SUMIF($B$10:$B$14,\"NCAP_TLIFE\",$AY$10:$AY$14)),0,\"\"))","v":""},{"$f":"IF($B97<>\"PRC_RESID\",\"\",IF(L$7=2005+OFFSET(AGR!$B$49,$AX97,SUMIF($B$10:$B$14,\"NCAP_TLIFE\",$AY$10:$AY$14)),0,\"\"))","v":""},{"$f":"IF($B97<>\"PRC_RESID\",\"\",IF(M$7=2005+OFFSET(AGR!$B$49,$AX97,SUMIF($B$10:$B$14,\"NCAP_TLIFE\",$AY$10:$AY$14)),0,\"\"))","v":""},{"$f":"IF($B97<>\"PRC_RESID\",\"\",IF(N$7=2005+OFFSET(AGR!$B$49,$AX97,SUMIF($B$10:$B$14,\"NCAP_TLIFE\",$AY$10:$AY$14)),0,\"\"))","v":""},{"$f":"IF($B97<>\"PRC_RESID\",\"\",IF(O$7=2005+OFFSET(AGR!$B$49,$AX97,SUMIF($B$10:$B$14,\"NCAP_TLIFE\",$AY$10:$AY$14)),0,\"\"))","v":""},{"$f":"IF($B97<>\"PRC_RESID\",\"\",IF(P$7=2005+OFFSET(AGR!$B$49,$AX97,SUMIF($B$10:$B$14,\"NCAP_TLIFE\",$AY$10:$AY$14)),0,\"\"))","v":""},{"$f":"IF($B97<>\"PRC_RESID\",\"\",IF(Q$7=2005+OFFSET(AGR!$B$49,$AX97,SUMIF($B$10:$B$14,\"NCAP_TLIFE\",$AY$10:$AY$14)),0,\"\"))","v":""},{"$f":"IF($B97<>\"PRC_RESID\",\"\",IF(R$7=2005+OFFSET(AGR!$B$49,$AX97,SUMIF($B$10:$B$14,\"NCAP_TLIFE\",$AY$10:$AY$14)),0,\"\"))","v":""},{"$f":"IF($B97<>\"PRC_RESID\",\"\",IF(S$7=2005+OFFSET(AGR!$B$49,$AX97,SUMIF($B$10:$B$14,\"NCAP_TLIFE\",$AY$10:$AY$14)),0,\"\"))","v":""},{"$f":"IF($B97<>\"PRC_RESID\",\"\",IF(T$7=2005+OFFSET(AGR!$B$49,$AX97,SUMIF($B$10:$B$14,\"NCAP_TLIFE\",$AY$10:$AY$14)),0,\"\"))","v":""},{"$f":"IF($B97<>\"PRC_RESID\",\"\",IF(U$7=2005+OFFSET(AGR!$B$49,$AX97,SUMIF($B$10:$B$14,\"NCAP_TLIFE\",$AY$10:$AY$14)),0,\"\"))","v":""},{"$f":"IF($B97<>\"PRC_RESID\",\"\",IF(V$7=2005+OFFSET(AGR!$B$49,$AX97,SUMIF($B$10:$B$14,\"NCAP_TLIFE\",$AY$10:$AY$14)),0,\"\"))","v":""},{"$f":"IF($B97<>\"PRC_RESID\",\"\",IF(W$7=2005+OFFSET(AGR!$B$49,$AX97,SUMIF($B$10:$B$14,\"NCAP_TLIFE\",$AY$10:$AY$14)),0,\"\"))","v":""},{"$f":"IF($B97<>\"PRC_RESID\",\"\",IF(X$7=2005+OFFSET(AGR!$B$49,$AX97,SUMIF($B$10:$B$14,\"NCAP_TLIFE\",$AY$10:$AY$14)),0,\"\"))","v":""},{"$f":"IF($B97<>\"PRC_RESID\",\"\",IF(Y$7=2005+OFFSET(AGR!$B$49,$AX97,SUMIF($B$10:$B$14,\"NCAP_TLIFE\",$AY$10:$AY$14)),0,\"\"))","v":""},{"$f":"IF($B97<>\"PRC_RESID\",\"\",IF(Z$7=2005+OFFSET(AGR!$B$49,$AX97,SUMIF($B$10:$B$14,\"NCAP_TLIFE\",$AY$10:$AY$14)),0,\"\"))","v":""},{"$f":"IF($B97<>\"PRC_RESID\",\"\",IF(AA$7=2005+OFFSET(AGR!$B$49,$AX97,SUMIF($B$10:$B$14,\"NCAP_TLIFE\",$AY$10:$AY$14)),0,\"\"))","v":""},{"$f":"IF($B97<>\"PRC_RESID\",\"\",IF(AB$7=2005+OFFSET(AGR!$B$49,$AX97,SUMIF($B$10:$B$14,\"NCAP_TLIFE\",$AY$10:$AY$14)),0,\"\"))","v":""},{"$f":"IF($B97<>\"PRC_RESID\",\"\",IF(AC$7=2005+OFFSET(AGR!$B$49,$AX97,SUMIF($B$10:$B$14,\"NCAP_TLIFE\",$AY$10:$AY$14)),0,\"\"))","v":""},{"$f":"IF($B97<>\"PRC_RESID\",\"\",IF(AD$7=2005+OFFSET(AGR!$B$49,$AX97,SUMIF($B$10:$B$14,\"NCAP_TLIFE\",$AY$10:$AY$14)),0,\"\"))","v":""},{"$f":"IF($B97<>\"PRC_RESID\",\"\",IF(AE$7=2005+OFFSET(AGR!$B$49,$AX97,SUMIF($B$10:$B$14,\"NCAP_TLIFE\",$AY$10:$AY$14)),0,\"\"))","v":""},{"$f":"IF($B97<>\"PRC_RESID\",\"\",IF(AF$7=2005+OFFSET(AGR!$B$49,$AX97,SUMIF($B$10:$B$14,\"NCAP_TLIFE\",$AY$10:$AY$14)),0,\"\"))","v":""},{"$f":"IF($B97<>\"PRC_RESID\",\"\",IF(AG$7=2005+OFFSET(AGR!$B$49,$AX97,SUMIF($B$10:$B$14,\"NCAP_TLIFE\",$AY$10:$AY$14)),0,\"\"))","v":""},{"$f":"IF($B97<>\"PRC_RESID\",\"\",IF(AH$7=2005+OFFSET(AGR!$B$49,$AX97,SUMIF($B$10:$B$14,\"NCAP_TLIFE\",$AY$10:$AY$14)),0,\"\"))","v":""},null,null,null,null,{"$f":"IF($B97<>\"PRC_RESID\",\"\",IF(AM$7=2005+OFFSET(AGR!$B$49,$AX97,SUMIF($B$10:$B$14,\"NCAP_TLIFE\",$AY$10:$AY$14)),0,\"\"))","v":""},null,null,null,null,{"$f":"IF($B97<>\"PRC_RESID\",\"\",IF(AR$7=2005+OFFSET(AGR!$B$49,$AX97,SUMIF($B$10:$B$14,\"NCAP_TLIFE\",$AY$10:$AY$14)),0,\"\"))","v":""},{"$f":"IF($B97<>\"PRC_RESID\",\"\",IF(AS$7=2005+OFFSET(AGR!$B$49,$AX97,SUMIF($B$10:$B$14,\"NCAP_TLIFE\",$AY$10:$AY$14)),0,\"\"))","v":""},{"$f":"IF($B97<>\"PRC_RESID\",\"\",IF(AT$7=2005+OFFSET(AGR!$B$49,$AX97,SUMIF($B$10:$B$14,\"NCAP_TLIFE\",$AY$10:$AY$14)),0,\"\"))","v":""},{"$f":"IF($B97<>\"PRC_RESID\",\"\",IF(AU$7=2005+OFFSET(AGR!$B$49,$AX97,SUMIF($B$10:$B$14,\"NCAP_TLIFE\",$AY$10:$AY$14)),0,\"\"))","v":""},null,{"$f":"IF(AX96=AGR!$W$72,AW96+1,AW96)","v":4},13]
[{"$f":"IF(LEFT(OFFSET(AGR!$A$49,AX98,0),2)=\"\\I\",\"*\",\"\")","v":"*"},"",{"$f":"IF($A98=\"*\",\"\",OFFSET(AGR!$B$49,AX98,0))","v":""},"","","","","","",{"$f":"IF($A98=\"*\",\"\",OFFSET(AGR!$B$49,AX98,SUMIF($B$10:$B$14,B98,$AY$10:$AY$14)))","v":""},{"$f":"IF($B98<>\"PRC_RESID\",\"\",IF(K$7=2005+OFFSET(AGR!$B$49,$AX98,SUMIF($B$10:$B$14,\"NCAP_TLIFE\",$AY$10:$AY$14)),0,\"\"))","v":""},{"$f":"IF($B98<>\"PRC_RESID\",\"\",IF(L$7=2005+OFFSET(AGR!$B$49,$AX98,SUMIF($B$10:$B$14,\"NCAP_TLIFE\",$AY$10:$AY$14)),0,\"\"))","v":""},{"$f":"IF($B98<>\"PRC_RESID\",\"\",IF(M$7=2005+OFFSET(AGR!$B$49,$AX98,SUMIF($B$10:$B$14,\"NCAP_TLIFE\",$AY$10:$AY$14)),0,\"\"))","v":""},{"$f":"IF($B98<>\"PRC_RESID\",\"\",IF(N$7=2005+OFFSET(AGR!$B$49,$AX98,SUMIF($B$10:$B$14,\"NCAP_TLIFE\",$AY$10:$AY$14)),0,\"\"))","v":""},{"$f":"IF($B98<>\"PRC_RESID\",\"\",IF(O$7=2005+OFFSET(AGR!$B$49,$AX98,SUMIF($B$10:$B$14,\"NCAP_TLIFE\",$AY$10:$AY$14)),0,\"\"))","v":""},{"$f":"IF($B98<>\"PRC_RESID\",\"\",IF(P$7=2005+OFFSET(AGR!$B$49,$AX98,SUMIF($B$10:$B$14,\"NCAP_TLIFE\",$AY$10:$AY$14)),0,\"\"))","v":""},{"$f":"IF($B98<>\"PRC_RESID\",\"\",IF(Q$7=2005+OFFSET(AGR!$B$49,$AX98,SUMIF($B$10:$B$14,\"NCAP_TLIFE\",$AY$10:$AY$14)),0,\"\"))","v":""},{"$f":"IF($B98<>\"PRC_RESID\",\"\",IF(R$7=2005+OFFSET(AGR!$B$49,$AX98,SUMIF($B$10:$B$14,\"NCAP_TLIFE\",$AY$10:$AY$14)),0,\"\"))","v":""},{"$f":"IF($B98<>\"PRC_RESID\",\"\",IF(S$7=2005+OFFSET(AGR!$B$49,$AX98,SUMIF($B$10:$B$14,\"NCAP_TLIFE\",$AY$10:$AY$14)),0,\"\"))","v":""},{"$f":"IF($B98<>\"PRC_RESID\",\"\",IF(T$7=2005+OFFSET(AGR!$B$49,$AX98,SUMIF($B$10:$B$14,\"NCAP_TLIFE\",$AY$10:$AY$14)),0,\"\"))","v":""},{"$f":"IF($B98<>\"PRC_RESID\",\"\",IF(U$7=2005+OFFSET(AGR!$B$49,$AX98,SUMIF($B$10:$B$14,\"NCAP_TLIFE\",$AY$10:$AY$14)),0,\"\"))","v":""},{"$f":"IF($B98<>\"PRC_RESID\",\"\",IF(V$7=2005+OFFSET(AGR!$B$49,$AX98,SUMIF($B$10:$B$14,\"NCAP_TLIFE\",$AY$10:$AY$14)),0,\"\"))","v":""},{"$f":"IF($B98<>\"PRC_RESID\",\"\",IF(W$7=2005+OFFSET(AGR!$B$49,$AX98,SUMIF($B$10:$B$14,\"NCAP_TLIFE\",$AY$10:$AY$14)),0,\"\"))","v":""},{"$f":"IF($B98<>\"PRC_RESID\",\"\",IF(X$7=2005+OFFSET(AGR!$B$49,$AX98,SUMIF($B$10:$B$14,\"NCAP_TLIFE\",$AY$10:$AY$14)),0,\"\"))","v":""},{"$f":"IF($B98<>\"PRC_RESID\",\"\",IF(Y$7=2005+OFFSET(AGR!$B$49,$AX98,SUMIF($B$10:$B$14,\"NCAP_TLIFE\",$AY$10:$AY$14)),0,\"\"))","v":""},{"$f":"IF($B98<>\"PRC_RESID\",\"\",IF(Z$7=2005+OFFSET(AGR!$B$49,$AX98,SUMIF($B$10:$B$14,\"NCAP_TLIFE\",$AY$10:$AY$14)),0,\"\"))","v":""},{"$f":"IF($B98<>\"PRC_RESID\",\"\",IF(AA$7=2005+OFFSET(AGR!$B$49,$AX98,SUMIF($B$10:$B$14,\"NCAP_TLIFE\",$AY$10:$AY$14)),0,\"\"))","v":""},{"$f":"IF($B98<>\"PRC_RESID\",\"\",IF(AB$7=2005+OFFSET(AGR!$B$49,$AX98,SUMIF($B$10:$B$14,\"NCAP_TLIFE\",$AY$10:$AY$14)),0,\"\"))","v":""},{"$f":"IF($B98<>\"PRC_RESID\",\"\",IF(AC$7=2005+OFFSET(AGR!$B$49,$AX98,SUMIF($B$10:$B$14,\"NCAP_TLIFE\",$AY$10:$AY$14)),0,\"\"))","v":""},{"$f":"IF($B98<>\"PRC_RESID\",\"\",IF(AD$7=2005+OFFSET(AGR!$B$49,$AX98,SUMIF($B$10:$B$14,\"NCAP_TLIFE\",$AY$10:$AY$14)),0,\"\"))","v":""},{"$f":"IF($B98<>\"PRC_RESID\",\"\",IF(AE$7=2005+OFFSET(AGR!$B$49,$AX98,SUMIF($B$10:$B$14,\"NCAP_TLIFE\",$AY$10:$AY$14)),0,\"\"))","v":""},{"$f":"IF($B98<>\"PRC_RESID\",\"\",IF(AF$7=2005+OFFSET(AGR!$B$49,$AX98,SUMIF($B$10:$B$14,\"NCAP_TLIFE\",$AY$10:$AY$14)),0,\"\"))","v":""},{"$f":"IF($B98<>\"PRC_RESID\",\"\",IF(AG$7=2005+OFFSET(AGR!$B$49,$AX98,SUMIF($B$10:$B$14,\"NCAP_TLIFE\",$AY$10:$AY$14)),0,\"\"))","v":""},{"$f":"IF($B98<>\"PRC_RESID\",\"\",IF(AH$7=2005+OFFSET(AGR!$B$49,$AX98,SUMIF($B$10:$B$14,\"NCAP_TLIFE\",$AY$10:$AY$14)),0,\"\"))","v":""},null,null,null,null,{"$f":"IF($B98<>\"PRC_RESID\",\"\",IF(AM$7=2005+OFFSET(AGR!$B$49,$AX98,SUMIF($B$10:$B$14,\"NCAP_TLIFE\",$AY$10:$AY$14)),0,\"\"))","v":""},null,null,null,null,{"$f":"IF($B98<>\"PRC_RESID\",\"\",IF(AR$7=2005+OFFSET(AGR!$B$49,$AX98,SUMIF($B$10:$B$14,\"NCAP_TLIFE\",$AY$10:$AY$14)),0,\"\"))","v":""},{"$f":"IF($B98<>\"PRC_RESID\",\"\",IF(AS$7=2005+OFFSET(AGR!$B$49,$AX98,SUMIF($B$10:$B$14,\"NCAP_TLIFE\",$AY$10:$AY$14)),0,\"\"))","v":""},{"$f":"IF($B98<>\"PRC_RESID\",\"\",IF(AT$7=2005+OFFSET(AGR!$B$49,$AX98,SUMIF($B$10:$B$14,\"NCAP_TLIFE\",$AY$10:$AY$14)),0,\"\"))","v":""},{"$f":"IF($B98<>\"PRC_RESID\",\"\",IF(AU$7=2005+OFFSET(AGR!$B$49,$AX98,SUMIF($B$10:$B$14,\"NCAP_TLIFE\",$AY$10:$AY$14)),0,\"\"))","v":""},null,{"$f":"IF(AX97=AGR!$W$72,AW97+1,AW97)","v":4},14]
[{"$f":"IF(LEFT(OFFSET(AGR!$A$49,AX99,0),2)=\"\\I\",\"*\",\"\")","v":"*"},"",{"$f":"IF($A99=\"*\",\"\",OFFSET(AGR!$B$49,AX99,0))","v":""},"","","","","","",{"$f":"IF($A99=\"*\",\"\",OFFSET(AGR!$B$49,AX99,SUMIF($B$10:$B$14,B99,$AY$10:$AY$14)))","v":""},{"$f":"IF($B99<>\"PRC_RESID\",\"\",IF(K$7=2005+OFFSET(AGR!$B$49,$AX99,SUMIF($B$10:$B$14,\"NCAP_TLIFE\",$AY$10:$AY$14)),0,\"\"))","v":""},{"$f":"IF($B99<>\"PRC_RESID\",\"\",IF(L$7=2005+OFFSET(AGR!$B$49,$AX99,SUMIF($B$10:$B$14,\"NCAP_TLIFE\",$AY$10:$AY$14)),0,\"\"))","v":""},{"$f":"IF($B99<>\"PRC_RESID\",\"\",IF(M$7=2005+OFFSET(AGR!$B$49,$AX99,SUMIF($B$10:$B$14,\"NCAP_TLIFE\",$AY$10:$AY$14)),0,\"\"))","v":""},{"$f":"IF($B99<>\"PRC_RESID\",\"\",IF(N$7=2005+OFFSET(AGR!$B$49,$AX99,SUMIF($B$10:$B$14,\"NCAP_TLIFE\",$AY$10:$AY$14)),0,\"\"))","v":""},{"$f":"IF($B99<>\"PRC_RESID\",\"\",IF(O$7=2005+OFFSET(AGR!$B$49,$AX99,SUMIF($B$10:$B$14,\"NCAP_TLIFE\",$AY$10:$AY$14)),0,\"\"))","v":""},{"$f":"IF($B99<>\"PRC_RESID\",\"\",IF(P$7=2005+OFFSET(AGR!$B$49,$AX99,SUMIF($B$10:$B$14,\"NCAP_TLIFE\",$AY$10:$AY$14)),0,\"\"))","v":""},{"$f":"IF($B99<>\"PRC_RESID\",\"\",IF(Q$7=2005+OFFSET(AGR!$B$49,$AX99,SUMIF($B$10:$B$14,\"NCAP_TLIFE\",$AY$10:$AY$14)),0,\"\"))","v":""},{"$f":"IF($B99<>\"PRC_RESID\",\"\",IF(R$7=2005+OFFSET(AGR!$B$49,$AX99,SUMIF($B$10:$B$14,\"NCAP_TLIFE\",$AY$10:$AY$14)),0,\"\"))","v":""},{"$f":"IF($B99<>\"PRC_RESID\",\"\",IF(S$7=2005+OFFSET(AGR!$B$49,$AX99,SUMIF($B$10:$B$14,\"NCAP_TLIFE\",$AY$10:$AY$14)),0,\"\"))","v":""},{"$f":"IF($B99<>\"PRC_RESID\",\"\",IF(T$7=2005+OFFSET(AGR!$B$49,$AX99,SUMIF($B$10:$B$14,\"NCAP_TLIFE\",$AY$10:$AY$14)),0,\"\"))","v":""},{"$f":"IF($B99<>\"PRC_RESID\",\"\",IF(U$7=2005+OFFSET(AGR!$B$49,$AX99,SUMIF($B$10:$B$14,\"NCAP_TLIFE\",$AY$10:$AY$14)),0,\"\"))","v":""},{"$f":"IF($B99<>\"PRC_RESID\",\"\",IF(V$7=2005+OFFSET(AGR!$B$49,$AX99,SUMIF($B$10:$B$14,\"NCAP_TLIFE\",$AY$10:$AY$14)),0,\"\"))","v":""},{"$f":"IF($B99<>\"PRC_RESID\",\"\",IF(W$7=2005+OFFSET(AGR!$B$49,$AX99,SUMIF($B$10:$B$14,\"NCAP_TLIFE\",$AY$10:$AY$14)),0,\"\"))","v":""},{"$f":"IF($B99<>\"PRC_RESID\",\"\",IF(X$7=2005+OFFSET(AGR!$B$49,$AX99,SUMIF($B$10:$B$14,\"NCAP_TLIFE\",$AY$10:$AY$14)),0,\"\"))","v":""},{"$f":"IF($B99<>\"PRC_RESID\",\"\",IF(Y$7=2005+OFFSET(AGR!$B$49,$AX99,SUMIF($B$10:$B$14,\"NCAP_TLIFE\",$AY$10:$AY$14)),0,\"\"))","v":""},{"$f":"IF($B99<>\"PRC_RESID\",\"\",IF(Z$7=2005+OFFSET(AGR!$B$49,$AX99,SUMIF($B$10:$B$14,\"NCAP_TLIFE\",$AY$10:$AY$14)),0,\"\"))","v":""},{"$f":"IF($B99<>\"PRC_RESID\",\"\",IF(AA$7=2005+OFFSET(AGR!$B$49,$AX99,SUMIF($B$10:$B$14,\"NCAP_TLIFE\",$AY$10:$AY$14)),0,\"\"))","v":""},{"$f":"IF($B99<>\"PRC_RESID\",\"\",IF(AB$7=2005+OFFSET(AGR!$B$49,$AX99,SUMIF($B$10:$B$14,\"NCAP_TLIFE\",$AY$10:$AY$14)),0,\"\"))","v":""},{"$f":"IF($B99<>\"PRC_RESID\",\"\",IF(AC$7=2005+OFFSET(AGR!$B$49,$AX99,SUMIF($B$10:$B$14,\"NCAP_TLIFE\",$AY$10:$AY$14)),0,\"\"))","v":""},{"$f":"IF($B99<>\"PRC_RESID\",\"\",IF(AD$7=2005+OFFSET(AGR!$B$49,$AX99,SUMIF($B$10:$B$14,\"NCAP_TLIFE\",$AY$10:$AY$14)),0,\"\"))","v":""},{"$f":"IF($B99<>\"PRC_RESID\",\"\",IF(AE$7=2005+OFFSET(AGR!$B$49,$AX99,SUMIF($B$10:$B$14,\"NCAP_TLIFE\",$AY$10:$AY$14)),0,\"\"))","v":""},{"$f":"IF($B99<>\"PRC_RESID\",\"\",IF(AF$7=2005+OFFSET(AGR!$B$49,$AX99,SUMIF($B$10:$B$14,\"NCAP_TLIFE\",$AY$10:$AY$14)),0,\"\"))","v":""},{"$f":"IF($B99<>\"PRC_RESID\",\"\",IF(AG$7=2005+OFFSET(AGR!$B$49,$AX99,SUMIF($B$10:$B$14,\"NCAP_TLIFE\",$AY$10:$AY$14)),0,\"\"))","v":""},{"$f":"IF($B99<>\"PRC_RESID\",\"\",IF(AH$7=2005+OFFSET(AGR!$B$49,$AX99,SUMIF($B$10:$B$14,\"NCAP_TLIFE\",$AY$10:$AY$14)),0,\"\"))","v":""},null,null,null,null,{"$f":"IF($B99<>\"PRC_RESID\",\"\",IF(AM$7=2005+OFFSET(AGR!$B$49,$AX99,SUMIF($B$10:$B$14,\"NCAP_TLIFE\",$AY$10:$AY$14)),0,\"\"))","v":""},null,null,null,null,{"$f":"IF($B99<>\"PRC_RESID\",\"\",IF(AR$7=2005+OFFSET(AGR!$B$49,$AX99,SUMIF($B$10:$B$14,\"NCAP_TLIFE\",$AY$10:$AY$14)),0,\"\"))","v":""},{"$f":"IF($B99<>\"PRC_RESID\",\"\",IF(AS$7=2005+OFFSET(AGR!$B$49,$AX99,SUMIF($B$10:$B$14,\"NCAP_TLIFE\",$AY$10:$AY$14)),0,\"\"))","v":""},{"$f":"IF($B99<>\"PRC_RESID\",\"\",IF(AT$7=2005+OFFSET(AGR!$B$49,$AX99,SUMIF($B$10:$B$14,\"NCAP_TLIFE\",$AY$10:$AY$14)),0,\"\"))","v":""},{"$f":"IF($B99<>\"PRC_RESID\",\"\",IF(AU$7=2005+OFFSET(AGR!$B$49,$AX99,SUMIF($B$10:$B$14,\"NCAP_TLIFE\",$AY$10:$AY$14)),0,\"\"))","v":""},null,{"$f":"IF(AX98=AGR!$W$72,AW98+1,AW98)","v":4},15]
[{"$f":"IF(LEFT(OFFSET(AGR!$A$49,AX100,0),2)=\"\\I\",\"*\",\"\")","v":""},"NCAP_TLIFE",{"$f":"IF($A100=\"*\",\"\",OFFSET(AGR!$B$49,AX100,0))","v":"AIODS-E"},{"$f":"IF($A100=\"*\",\"\",VLOOKUP($B100,$B$10:$I$14,D$9,FALSE))","v":"-"},"-","-","-","-",0,{"$f":"IF($A100=\"*\",\"\",OFFSET(AGR!$B$49,AX100,SUMIF($B$10:$B$14,B100,$AY$10:$AY$14)))","v":15},{"$f":"IF($B100<>\"PRC_RESID\",\"\",IF(K$7=2005+OFFSET(AGR!$B$49,$AX100,SUMIF($B$10:$B$14,\"NCAP_TLIFE\",$AY$10:$AY$14)),0,\"\"))","v":""},{"$f":"IF($B100<>\"PRC_RESID\",\"\",IF(L$7=2005+OFFSET(AGR!$B$49,$AX100,SUMIF($B$10:$B$14,\"NCAP_TLIFE\",$AY$10:$AY$14)),0,\"\"))","v":""},{"$f":"IF($B100<>\"PRC_RESID\",\"\",IF(M$7=2005+OFFSET(AGR!$B$49,$AX100,SUMIF($B$10:$B$14,\"NCAP_TLIFE\",$AY$10:$AY$14)),0,\"\"))","v":""},{"$f":"IF($B100<>\"PRC_RESID\",\"\",IF(N$7=2005+OFFSET(AGR!$B$49,$AX100,SUMIF($B$10:$B$14,\"NCAP_TLIFE\",$AY$10:$AY$14)),0,\"\"))","v":""},{"$f":"IF($B100<>\"PRC_RESID\",\"\",IF(O$7=2005+OFFSET(AGR!$B$49,$AX100,SUMIF($B$10:$B$14,\"NCAP_TLIFE\",$AY$10:$AY$14)),0,\"\"))","v":""},{"$f":"IF($B100<>\"PRC_RESID\",\"\",IF(P$7=2005+OFFSET(AGR!$B$49,$AX100,SUMIF($B$10:$B$14,\"NCAP_TLIFE\",$AY$10:$AY$14)),0,\"\"))","v":""},{"$f":"IF($B100<>\"PRC_RESID\",\"\",IF(Q$7=2005+OFFSET(AGR!$B$49,$AX100,SUMIF($B$10:$B$14,\"NCAP_TLIFE\",$AY$10:$AY$14)),0,\"\"))","v":""},{"$f":"IF($B100<>\"PRC_RESID\",\"\",IF(R$7=2005+OFFSET(AGR!$B$49,$AX100,SUMIF($B$10:$B$14,\"NCAP_TLIFE\",$AY$10:$AY$14)),0,\"\"))","v":""},{"$f":"IF($B100<>\"PRC_RESID\",\"\",IF(S$7=2005+OFFSET(AGR!$B$49,$AX100,SUMIF($B$10:$B$14,\"NCAP_TLIFE\",$AY$10:$AY$14)),0,\"\"))","v":""},{"$f":"IF($B100<>\"PRC_RESID\",\"\",IF(T$7=2005+OFFSET(AGR!$B$49,$AX100,SUMIF($B$10:$B$14,\"NCAP_TLIFE\",$AY$10:$AY$14)),0,\"\"))","v":""},{"$f":"IF($B100<>\"PRC_RESID\",\"\",IF(U$7=2005+OFFSET(AGR!$B$49,$AX100,SUMIF($B$10:$B$14,\"NCAP_TLIFE\",$AY$10:$AY$14)),0,\"\"))","v":""},{"$f":"IF($B100<>\"PRC_RESID\",\"\",IF(V$7=2005+OFFSET(AGR!$B$49,$AX100,SUMIF($B$10:$B$14,\"NCAP_TLIFE\",$AY$10:$AY$14)),0,\"\"))","v":""},{"$f":"IF($B100<>\"PRC_RESID\",\"\",IF(W$7=2005+OFFSET(AGR!$B$49,$AX100,SUMIF($B$10:$B$14,\"NCAP_TLIFE\",$AY$10:$AY$14)),0,\"\"))","v":""},{"$f":"IF($B100<>\"PRC_RESID\",\"\",IF(X$7=2005+OFFSET(AGR!$B$49,$AX100,SUMIF($B$10:$B$14,\"NCAP_TLIFE\",$AY$10:$AY$14)),0,\"\"))","v":""},{"$f":"IF($B100<>\"PRC_RESID\",\"\",IF(Y$7=2005+OFFSET(AGR!$B$49,$AX100,SUMIF($B$10:$B$14,\"NCAP_TLIFE\",$AY$10:$AY$14)),0,\"\"))","v":""},{"$f":"IF($B100<>\"PRC_RESID\",\"\",IF(Z$7=2005+OFFSET(AGR!$B$49,$AX100,SUMIF($B$10:$B$14,\"NCAP_TLIFE\",$AY$10:$AY$14)),0,\"\"))","v":""},{"$f":"IF($B100<>\"PRC_RESID\",\"\",IF(AA$7=2005+OFFSET(AGR!$B$49,$AX100,SUMIF($B$10:$B$14,\"NCAP_TLIFE\",$AY$10:$AY$14)),0,\"\"))","v":""},{"$f":"IF($B100<>\"PRC_RESID\",\"\",IF(AB$7=2005+OFFSET(AGR!$B$49,$AX100,SUMIF($B$10:$B$14,\"NCAP_TLIFE\",$AY$10:$AY$14)),0,\"\"))","v":""},{"$f":"IF($B100<>\"PRC_RESID\",\"\",IF(AC$7=2005+OFFSET(AGR!$B$49,$AX100,SUMIF($B$10:$B$14,\"NCAP_TLIFE\",$AY$10:$AY$14)),0,\"\"))","v":""},{"$f":"IF($B100<>\"PRC_RESID\",\"\",IF(AD$7=2005+OFFSET(AGR!$B$49,$AX100,SUMIF($B$10:$B$14,\"NCAP_TLIFE\",$AY$10:$AY$14)),0,\"\"))","v":""},{"$f":"IF($B100<>\"PRC_RESID\",\"\",IF(AE$7=2005+OFFSET(AGR!$B$49,$AX100,SUMIF($B$10:$B$14,\"NCAP_TLIFE\",$AY$10:$AY$14)),0,\"\"))","v":""},{"$f":"IF($B100<>\"PRC_RESID\",\"\",IF(AF$7=2005+OFFSET(AGR!$B$49,$AX100,SUMIF($B$10:$B$14,\"NCAP_TLIFE\",$AY$10:$AY$14)),0,\"\"))","v":""},{"$f":"IF($B100<>\"PRC_RESID\",\"\",IF(AG$7=2005+OFFSET(AGR!$B$49,$AX100,SUMIF($B$10:$B$14,\"NCAP_TLIFE\",$AY$10:$AY$14)),0,\"\"))","v":""},{"$f":"IF($B100<>\"PRC_RESID\",\"\",IF(AH$7=2005+OFFSET(AGR!$B$49,$AX100,SUMIF($B$10:$B$14,\"NCAP_TLIFE\",$AY$10:$AY$14)),0,\"\"))","v":""},null,null,null,null,{"$f":"IF($B100<>\"PRC_RESID\",\"\",IF(AM$7=2005+OFFSET(AGR!$B$49,$AX100,SUMIF($B$10:$B$14,\"NCAP_TLIFE\",$AY$10:$AY$14)),0,\"\"))","v":""},null,null,null,null,{"$f":"IF($B100<>\"PRC_RESID\",\"\",IF(AR$7=2005+OFFSET(AGR!$B$49,$AX100,SUMIF($B$10:$B$14,\"NCAP_TLIFE\",$AY$10:$AY$14)),0,\"\"))","v":""},{"$f":"IF($B100<>\"PRC_RESID\",\"\",IF(AS$7=2005+OFFSET(AGR!$B$49,$AX100,SUMIF($B$10:$B$14,\"NCAP_TLIFE\",$AY$10:$AY$14)),0,\"\"))","v":""},{"$f":"IF($B100<>\"PRC_RESID\",\"\",IF(AT$7=2005+OFFSET(AGR!$B$49,$AX100,SUMIF($B$10:$B$14,\"NCAP_TLIFE\",$AY$10:$AY$14)),0,\"\"))","v":""},{"$f":"IF($B100<>\"PRC_RESID\",\"\",IF(AU$7=2005+OFFSET(AGR!$B$49,$AX100,SUMIF($B$10:$B$14,\"NCAP_TLIFE\",$AY$10:$AY$14)),0,\"\"))","v":""},null,{"$f":"IF(AX99=AGR!$W$72,AW99+1,AW99)","v":4},16]
[{"$f":"IF(LEFT(OFFSET(AGR!$A$49,AX101,0),2)=\"\\I\",\"*\",\"\")","v":""},"NCAP_TLIFE",{"$f":"IF($A101=\"*\",\"\",OFFSET(AGR!$B$49,AX101,0))","v":"AIELC-E"},"-","-","-","-","-",0,{"$f":"IF($A101=\"*\",\"\",OFFSET(AGR!$B$49,AX101,SUMIF($B$10:$B$14,B101,$AY$10:$AY$14)))","v":15},{"$f":"IF($B101<>\"PRC_RESID\",\"\",IF(K$7=2005+OFFSET(AGR!$B$49,$AX101,SUMIF($B$10:$B$14,\"NCAP_TLIFE\",$AY$10:$AY$14)),0,\"\"))","v":""},{"$f":"IF($B101<>\"PRC_RESID\",\"\",IF(L$7=2005+OFFSET(AGR!$B$49,$AX101,SUMIF($B$10:$B$14,\"NCAP_TLIFE\",$AY$10:$AY$14)),0,\"\"))","v":""},{"$f":"IF($B101<>\"PRC_RESID\",\"\",IF(M$7=2005+OFFSET(AGR!$B$49,$AX101,SUMIF($B$10:$B$14,\"NCAP_TLIFE\",$AY$10:$AY$14)),0,\"\"))","v":""},{"$f":"IF($B101<>\"PRC_RESID\",\"\",IF(N$7=2005+OFFSET(AGR!$B$49,$AX101,SUMIF($B$10:$B$14,\"NCAP_TLIFE\",$AY$10:$AY$14)),0,\"\"))","v":""},{"$f":"IF($B101<>\"PRC_RESID\",\"\",IF(O$7=2005+OFFSET(AGR!$B$49,$AX101,SUMIF($B$10:$B$14,\"NCAP_TLIFE\",$AY$10:$AY$14)),0,\"\"))","v":""},{"$f":"IF($B101<>\"PRC_RESID\",\"\",IF(P$7=2005+OFFSET(AGR!$B$49,$AX101,SUMIF($B$10:$B$14,\"NCAP_TLIFE\",$AY$10:$AY$14)),0,\"\"))","v":""},{"$f":"IF($B101<>\"PRC_RESID\",\"\",IF(Q$7=2005+OFFSET(AGR!$B$49,$AX101,SUMIF($B$10:$B$14,\"NCAP_TLIFE\",$AY$10:$AY$14)),0,\"\"))","v":""},{"$f":"IF($B101<>\"PRC_RESID\",\"\",IF(R$7=2005+OFFSET(AGR!$B$49,$AX101,SUMIF($B$10:$B$14,\"NCAP_TLIFE\",$AY$10:$AY$14)),0,\"\"))","v":""},{"$f":"IF($B101<>\"PRC_RESID\",\"\",IF(S$7=2005+OFFSET(AGR!$B$49,$AX101,SUMIF($B$10:$B$14,\"NCAP_TLIFE\",$AY$10:$AY$14)),0,\"\"))","v":""},{"$f":"IF($B101<>\"PRC_RESID\",\"\",IF(T$7=2005+OFFSET(AGR!$B$49,$AX101,SUMIF($B$10:$B$14,\"NCAP_TLIFE\",$AY$10:$AY$14)),0,\"\"))","v":""},{"$f":"IF($B101<>\"PRC_RESID\",\"\",IF(U$7=2005+OFFSET(AGR!$B$49,$AX101,SUMIF($B$10:$B$14,\"NCAP_TLIFE\",$AY$10:$AY$14)),0,\"\"))","v":""},{"$f":"IF($B101<>\"PRC_RESID\",\"\",IF(V$7=2005+OFFSET(AGR!$B$49,$AX101,SUMIF($B$10:$B$14,\"NCAP_TLIFE\",$AY$10:$AY$14)),0,\"\"))","v":""},{"$f":"IF($B101<>\"PRC_RESID\",\"\",IF(W$7=2005+OFFSET(AGR!$B$49,$AX101,SUMIF($B$10:$B$14,\"NCAP_TLIFE\",$AY$10:$AY$14)),0,\"\"))","v":""},{"$f":"IF($B101<>\"PRC_RESID\",\"\",IF(X$7=2005+OFFSET(AGR!$B$49,$AX101,SUMIF($B$10:$B$14,\"NCAP_TLIFE\",$AY$10:$AY$14)),0,\"\"))","v":""},{"$f":"IF($B101<>\"PRC_RESID\",\"\",IF(Y$7=2005+OFFSET(AGR!$B$49,$AX101,SUMIF($B$10:$B$14,\"NCAP_TLIFE\",$AY$10:$AY$14)),0,\"\"))","v":""},{"$f":"IF($B101<>\"PRC_RESID\",\"\",IF(Z$7=2005+OFFSET(AGR!$B$49,$AX101,SUMIF($B$10:$B$14,\"NCAP_TLIFE\",$AY$10:$AY$14)),0,\"\"))","v":""},{"$f":"IF($B101<>\"PRC_RESID\",\"\",IF(AA$7=2005+OFFSET(AGR!$B$49,$AX101,SUMIF($B$10:$B$14,\"NCAP_TLIFE\",$AY$10:$AY$14)),0,\"\"))","v":""},{"$f":"IF($B101<>\"PRC_RESID\",\"\",IF(AB$7=2005+OFFSET(AGR!$B$49,$AX101,SUMIF($B$10:$B$14,\"NCAP_TLIFE\",$AY$10:$AY$14)),0,\"\"))","v":""},{"$f":"IF($B101<>\"PRC_RESID\",\"\",IF(AC$7=2005+OFFSET(AGR!$B$49,$AX101,SUMIF($B$10:$B$14,\"NCAP_TLIFE\",$AY$10:$AY$14)),0,\"\"))","v":""},{"$f":"IF($B101<>\"PRC_RESID\",\"\",IF(AD$7=2005+OFFSET(AGR!$B$49,$AX101,SUMIF($B$10:$B$14,\"NCAP_TLIFE\",$AY$10:$AY$14)),0,\"\"))","v":""},{"$f":"IF($B101<>\"PRC_RESID\",\"\",IF(AE$7=2005+OFFSET(AGR!$B$49,$AX101,SUMIF($B$10:$B$14,\"NCAP_TLIFE\",$AY$10:$AY$14)),0,\"\"))","v":""},{"$f":"IF($B101<>\"PRC_RESID\",\"\",IF(AF$7=2005+OFFSET(AGR!$B$49,$AX101,SUMIF($B$10:$B$14,\"NCAP_TLIFE\",$AY$10:$AY$14)),0,\"\"))","v":""},{"$f":"IF($B101<>\"PRC_RESID\",\"\",IF(AG$7=2005+OFFSET(AGR!$B$49,$AX101,SUMIF($B$10:$B$14,\"NCAP_TLIFE\",$AY$10:$AY$14)),0,\"\"))","v":""},{"$f":"IF($B101<>\"PRC_RESID\",\"\",IF(AH$7=2005+OFFSET(AGR!$B$49,$AX101,SUMIF($B$10:$B$14,\"NCAP_TLIFE\",$AY$10:$AY$14)),0,\"\"))","v":""},null,null,null,null,{"$f":"IF($B101<>\"PRC_RESID\",\"\",IF(AM$7=2005+OFFSET(AGR!$B$49,$AX101,SUMIF($B$10:$B$14,\"NCAP_TLIFE\",$AY$10:$AY$14)),0,\"\"))","v":""},null,null,null,null,{"$f":"IF($B101<>\"PRC_RESID\",\"\",IF(AR$7=2005+OFFSET(AGR!$B$49,$AX101,SUMIF($B$10:$B$14,\"NCAP_TLIFE\",$AY$10:$AY$14)),0,\"\"))","v":""},{"$f":"IF($B101<>\"PRC_RESID\",\"\",IF(AS$7=2005+OFFSET(AGR!$B$49,$AX101,SUMIF($B$10:$B$14,\"NCAP_TLIFE\",$AY$10:$AY$14)),0,\"\"))","v":""},{"$f":"IF($B101<>\"PRC_RESID\",\"\",IF(AT$7=2005+OFFSET(AGR!$B$49,$AX101,SUMIF($B$10:$B$14,\"NCAP_TLIFE\",$AY$10:$AY$14)),0,\"\"))","v":""},{"$f":"IF($B101<>\"PRC_RESID\",\"\",IF(AU$7=2005+OFFSET(AGR!$B$49,$AX101,SUMIF($B$10:$B$14,\"NCAP_TLIFE\",$AY$10:$AY$14)),0,\"\"))","v":""},null,{"$f":"IF(AX100=AGR!$W$72,AW100+1,AW100)","v":4},17]
[{"$f":"IF(LEFT(OFFSET(AGR!$A$49,AX102,0),2)=\"\\I\",\"*\",\"\")","v":""},"NCAP_TLIFE",{"$f":"IF($A102=\"*\",\"\",OFFSET(AGR!$B$49,AX102,0))","v":"AIOGS-E"},"-","-","-","-","-",0,{"$f":"IF($A102=\"*\",\"\",OFFSET(AGR!$B$49,AX102,SUMIF($B$10:$B$14,B102,$AY$10:$AY$14)))","v":15},{"$f":"IF($B102<>\"PRC_RESID\",\"\",IF(K$7=2005+OFFSET(AGR!$B$49,$AX102,SUMIF($B$10:$B$14,\"NCAP_TLIFE\",$AY$10:$AY$14)),0,\"\"))","v":""},{"$f":"IF($B102<>\"PRC_RESID\",\"\",IF(L$7=2005+OFFSET(AGR!$B$49,$AX102,SUMIF($B$10:$B$14,\"NCAP_TLIFE\",$AY$10:$AY$14)),0,\"\"))","v":""},{"$f":"IF($B102<>\"PRC_RESID\",\"\",IF(M$7=2005+OFFSET(AGR!$B$49,$AX102,SUMIF($B$10:$B$14,\"NCAP_TLIFE\",$AY$10:$AY$14)),0,\"\"))","v":""},{"$f":"IF($B102<>\"PRC_RESID\",\"\",IF(N$7=2005+OFFSET(AGR!$B$49,$AX102,SUMIF($B$10:$B$14,\"NCAP_TLIFE\",$AY$10:$AY$14)),0,\"\"))","v":""},{"$f":"IF($B102<>\"PRC_RESID\",\"\",IF(O$7=2005+OFFSET(AGR!$B$49,$AX102,SUMIF($B$10:$B$14,\"NCAP_TLIFE\",$AY$10:$AY$14)),0,\"\"))","v":""},{"$f":"IF($B102<>\"PRC_RESID\",\"\",IF(P$7=2005+OFFSET(AGR!$B$49,$AX102,SUMIF($B$10:$B$14,\"NCAP_TLIFE\",$AY$10:$AY$14)),0,\"\"))","v":""},{"$f":"IF($B102<>\"PRC_RESID\",\"\",IF(Q$7=2005+OFFSET(AGR!$B$49,$AX102,SUMIF($B$10:$B$14,\"NCAP_TLIFE\",$AY$10:$AY$14)),0,\"\"))","v":""},{"$f":"IF($B102<>\"PRC_RESID\",\"\",IF(R$7=2005+OFFSET(AGR!$B$49,$AX102,SUMIF($B$10:$B$14,\"NCAP_TLIFE\",$AY$10:$AY$14)),0,\"\"))","v":""},{"$f":"IF($B102<>\"PRC_RESID\",\"\",IF(S$7=2005+OFFSET(AGR!$B$49,$AX102,SUMIF($B$10:$B$14,\"NCAP_TLIFE\",$AY$10:$AY$14)),0,\"\"))","v":""},{"$f":"IF($B102<>\"PRC_RESID\",\"\",IF(T$7=2005+OFFSET(AGR!$B$49,$AX102,SUMIF($B$10:$B$14,\"NCAP_TLIFE\",$AY$10:$AY$14)),0,\"\"))","v":""},{"$f":"IF($B102<>\"PRC_RESID\",\"\",IF(U$7=2005+OFFSET(AGR!$B$49,$AX102,SUMIF($B$10:$B$14,\"NCAP_TLIFE\",$AY$10:$AY$14)),0,\"\"))","v":""},{"$f":"IF($B102<>\"PRC_RESID\",\"\",IF(V$7=2005+OFFSET(AGR!$B$49,$AX102,SUMIF($B$10:$B$14,\"NCAP_TLIFE\",$AY$10:$AY$14)),0,\"\"))","v":""},{"$f":"IF($B102<>\"PRC_RESID\",\"\",IF(W$7=2005+OFFSET(AGR!$B$49,$AX102,SUMIF($B$10:$B$14,\"NCAP_TLIFE\",$AY$10:$AY$14)),0,\"\"))","v":""},{"$f":"IF($B102<>\"PRC_RESID\",\"\",IF(X$7=2005+OFFSET(AGR!$B$49,$AX102,SUMIF($B$10:$B$14,\"NCAP_TLIFE\",$AY$10:$AY$14)),0,\"\"))","v":""},{"$f":"IF($B102<>\"PRC_RESID\",\"\",IF(Y$7=2005+OFFSET(AGR!$B$49,$AX102,SUMIF($B$10:$B$14,\"NCAP_TLIFE\",$AY$10:$AY$14)),0,\"\"))","v":""},{"$f":"IF($B102<>\"PRC_RESID\",\"\",IF(Z$7=2005+OFFSET(AGR!$B$49,$AX102,SUMIF($B$10:$B$14,\"NCAP_TLIFE\",$AY$10:$AY$14)),0,\"\"))","v":""},{"$f":"IF($B102<>\"PRC_RESID\",\"\",IF(AA$7=2005+OFFSET(AGR!$B$49,$AX102,SUMIF($B$10:$B$14,\"NCAP_TLIFE\",$AY$10:$AY$14)),0,\"\"))","v":""},{"$f":"IF($B102<>\"PRC_RESID\",\"\",IF(AB$7=2005+OFFSET(AGR!$B$49,$AX102,SUMIF($B$10:$B$14,\"NCAP_TLIFE\",$AY$10:$AY$14)),0,\"\"))","v":""},{"$f":"IF($B102<>\"PRC_RESID\",\"\",IF(AC$7=2005+OFFSET(AGR!$B$49,$AX102,SUMIF($B$10:$B$14,\"NCAP_TLIFE\",$AY$10:$AY$14)),0,\"\"))","v":""},{"$f":"IF($B102<>\"PRC_RESID\",\"\",IF(AD$7=2005+OFFSET(AGR!$B$49,$AX102,SUMIF($B$10:$B$14,\"NCAP_TLIFE\",$AY$10:$AY$14)),0,\"\"))","v":""},{"$f":"IF($B102<>\"PRC_RESID\",\"\",IF(AE$7=2005+OFFSET(AGR!$B$49,$AX102,SUMIF($B$10:$B$14,\"NCAP_TLIFE\",$AY$10:$AY$14)),0,\"\"))","v":""},{"$f":"IF($B102<>\"PRC_RESID\",\"\",IF(AF$7=2005+OFFSET(AGR!$B$49,$AX102,SUMIF($B$10:$B$14,\"NCAP_TLIFE\",$AY$10:$AY$14)),0,\"\"))","v":""},{"$f":"IF($B102<>\"PRC_RESID\",\"\",IF(AG$7=2005+OFFSET(AGR!$B$49,$AX102,SUMIF($B$10:$B$14,\"NCAP_TLIFE\",$AY$10:$AY$14)),0,\"\"))","v":""},{"$f":"IF($B102<>\"PRC_RESID\",\"\",IF(AH$7=2005+OFFSET(AGR!$B$49,$AX102,SUMIF($B$10:$B$14,\"NCAP_TLIFE\",$AY$10:$AY$14)),0,\"\"))","v":""},null,null,null,null,{"$f":"IF($B102<>\"PRC_RESID\",\"\",IF(AM$7=2005+OFFSET(AGR!$B$49,$AX102,SUMIF($B$10:$B$14,\"NCAP_TLIFE\",$AY$10:$AY$14)),0,\"\"))","v":""},null,null,null,null,{"$f":"IF($B102<>\"PRC_RESID\",\"\",IF(AR$7=2005+OFFSET(AGR!$B$49,$AX102,SUMIF($B$10:$B$14,\"NCAP_TLIFE\",$AY$10:$AY$14)),0,\"\"))","v":""},{"$f":"IF($B102<>\"PRC_RESID\",\"\",IF(AS$7=2005+OFFSET(AGR!$B$49,$AX102,SUMIF($B$10:$B$14,\"NCAP_TLIFE\",$AY$10:$AY$14)),0,\"\"))","v":""},{"$f":"IF($B102<>\"PRC_RESID\",\"\",IF(AT$7=2005+OFFSET(AGR!$B$49,$AX102,SUMIF($B$10:$B$14,\"NCAP_TLIFE\",$AY$10:$AY$14)),0,\"\"))","v":""},{"$f":"IF($B102<>\"PRC_RESID\",\"\",IF(AU$7=2005+OFFSET(AGR!$B$49,$AX102,SUMIF($B$10:$B$14,\"NCAP_TLIFE\",$AY$10:$AY$14)),0,\"\"))","v":""},null,{"$f":"IF(AX101=AGR!$W$72,AW101+1,AW101)","v":4},18]
[{"$f":"IF(LEFT(OFFSET(AGR!$A$49,AX103,0),2)=\"\\I\",\"*\",\"\")","v":"*"},"",{"$f":"IF($A103=\"*\",\"\",OFFSET(AGR!$B$49,AX103,0))","v":""},"","","","","","",{"$f":"IF($A103=\"*\",\"\",OFFSET(AGR!$B$49,AX103,SUMIF($B$10:$B$14,B103,$AY$10:$AY$14)))","v":""},{"$f":"IF($B103<>\"PRC_RESID\",\"\",IF(K$7=2005+OFFSET(AGR!$B$49,$AX103,SUMIF($B$10:$B$14,\"NCAP_TLIFE\",$AY$10:$AY$14)),0,\"\"))","v":""},{"$f":"IF($B103<>\"PRC_RESID\",\"\",IF(L$7=2005+OFFSET(AGR!$B$49,$AX103,SUMIF($B$10:$B$14,\"NCAP_TLIFE\",$AY$10:$AY$14)),0,\"\"))","v":""},{"$f":"IF($B103<>\"PRC_RESID\",\"\",IF(M$7=2005+OFFSET(AGR!$B$49,$AX103,SUMIF($B$10:$B$14,\"NCAP_TLIFE\",$AY$10:$AY$14)),0,\"\"))","v":""},{"$f":"IF($B103<>\"PRC_RESID\",\"\",IF(N$7=2005+OFFSET(AGR!$B$49,$AX103,SUMIF($B$10:$B$14,\"NCAP_TLIFE\",$AY$10:$AY$14)),0,\"\"))","v":""},{"$f":"IF($B103<>\"PRC_RESID\",\"\",IF(O$7=2005+OFFSET(AGR!$B$49,$AX103,SUMIF($B$10:$B$14,\"NCAP_TLIFE\",$AY$10:$AY$14)),0,\"\"))","v":""},{"$f":"IF($B103<>\"PRC_RESID\",\"\",IF(P$7=2005+OFFSET(AGR!$B$49,$AX103,SUMIF($B$10:$B$14,\"NCAP_TLIFE\",$AY$10:$AY$14)),0,\"\"))","v":""},{"$f":"IF($B103<>\"PRC_RESID\",\"\",IF(Q$7=2005+OFFSET(AGR!$B$49,$AX103,SUMIF($B$10:$B$14,\"NCAP_TLIFE\",$AY$10:$AY$14)),0,\"\"))","v":""},{"$f":"IF($B103<>\"PRC_RESID\",\"\",IF(R$7=2005+OFFSET(AGR!$B$49,$AX103,SUMIF($B$10:$B$14,\"NCAP_TLIFE\",$AY$10:$AY$14)),0,\"\"))","v":""},{"$f":"IF($B103<>\"PRC_RESID\",\"\",IF(S$7=2005+OFFSET(AGR!$B$49,$AX103,SUMIF($B$10:$B$14,\"NCAP_TLIFE\",$AY$10:$AY$14)),0,\"\"))","v":""},{"$f":"IF($B103<>\"PRC_RESID\",\"\",IF(T$7=2005+OFFSET(AGR!$B$49,$AX103,SUMIF($B$10:$B$14,\"NCAP_TLIFE\",$AY$10:$AY$14)),0,\"\"))","v":""},{"$f":"IF($B103<>\"PRC_RESID\",\"\",IF(U$7=2005+OFFSET(AGR!$B$49,$AX103,SUMIF($B$10:$B$14,\"NCAP_TLIFE\",$AY$10:$AY$14)),0,\"\"))","v":""},{"$f":"IF($B103<>\"PRC_RESID\",\"\",IF(V$7=2005+OFFSET(AGR!$B$49,$AX103,SUMIF($B$10:$B$14,\"NCAP_TLIFE\",$AY$10:$AY$14)),0,\"\"))","v":""},{"$f":"IF($B103<>\"PRC_RESID\",\"\",IF(W$7=2005+OFFSET(AGR!$B$49,$AX103,SUMIF($B$10:$B$14,\"NCAP_TLIFE\",$AY$10:$AY$14)),0,\"\"))","v":""},{"$f":"IF($B103<>\"PRC_RESID\",\"\",IF(X$7=2005+OFFSET(AGR!$B$49,$AX103,SUMIF($B$10:$B$14,\"NCAP_TLIFE\",$AY$10:$AY$14)),0,\"\"))","v":""},{"$f":"IF($B103<>\"PRC_RESID\",\"\",IF(Y$7=2005+OFFSET(AGR!$B$49,$AX103,SUMIF($B$10:$B$14,\"NCAP_TLIFE\",$AY$10:$AY$14)),0,\"\"))","v":""},{"$f":"IF($B103<>\"PRC_RESID\",\"\",IF(Z$7=2005+OFFSET(AGR!$B$49,$AX103,SUMIF($B$10:$B$14,\"NCAP_TLIFE\",$AY$10:$AY$14)),0,\"\"))","v":""},{"$f":"IF($B103<>\"PRC_RESID\",\"\",IF(AA$7=2005+OFFSET(AGR!$B$49,$AX103,SUMIF($B$10:$B$14,\"NCAP_TLIFE\",$AY$10:$AY$14)),0,\"\"))","v":""},{"$f":"IF($B103<>\"PRC_RESID\",\"\",IF(AB$7=2005+OFFSET(AGR!$B$49,$AX103,SUMIF($B$10:$B$14,\"NCAP_TLIFE\",$AY$10:$AY$14)),0,\"\"))","v":""},{"$f":"IF($B103<>\"PRC_RESID\",\"\",IF(AC$7=2005+OFFSET(AGR!$B$49,$AX103,SUMIF($B$10:$B$14,\"NCAP_TLIFE\",$AY$10:$AY$14)),0,\"\"))","v":""},{"$f":"IF($B103<>\"PRC_RESID\",\"\",IF(AD$7=2005+OFFSET(AGR!$B$49,$AX103,SUMIF($B$10:$B$14,\"NCAP_TLIFE\",$AY$10:$AY$14)),0,\"\"))","v":""},{"$f":"IF($B103<>\"PRC_RESID\",\"\",IF(AE$7=2005+OFFSET(AGR!$B$49,$AX103,SUMIF($B$10:$B$14,\"NCAP_TLIFE\",$AY$10:$AY$14)),0,\"\"))","v":""},{"$f":"IF($B103<>\"PRC_RESID\",\"\",IF(AF$7=2005+OFFSET(AGR!$B$49,$AX103,SUMIF($B$10:$B$14,\"NCAP_TLIFE\",$AY$10:$AY$14)),0,\"\"))","v":""},{"$f":"IF($B103<>\"PRC_RESID\",\"\",IF(AG$7=2005+OFFSET(AGR!$B$49,$AX103,SUMIF($B$10:$B$14,\"NCAP_TLIFE\",$AY$10:$AY$14)),0,\"\"))","v":""},{"$f":"IF($B103<>\"PRC_RESID\",\"\",IF(AH$7=2005+OFFSET(AGR!$B$49,$AX103,SUMIF($B$10:$B$14,\"NCAP_TLIFE\",$AY$10:$AY$14)),0,\"\"))","v":""},null,null,null,null,{"$f":"IF($B103<>\"PRC_RESID\",\"\",IF(AM$7=2005+OFFSET(AGR!$B$49,$AX103,SUMIF($B$10:$B$14,\"NCAP_TLIFE\",$AY$10:$AY$14)),0,\"\"))","v":""},null,null,null,null,{"$f":"IF($B103<>\"PRC_RESID\",\"\",IF(AR$7=2005+OFFSET(AGR!$B$49,$AX103,SUMIF($B$10:$B$14,\"NCAP_TLIFE\",$AY$10:$AY$14)),0,\"\"))","v":""},{"$f":"IF($B103<>\"PRC_RESID\",\"\",IF(AS$7=2005+OFFSET(AGR!$B$49,$AX103,SUMIF($B$10:$B$14,\"NCAP_TLIFE\",$AY$10:$AY$14)),0,\"\"))","v":""},{"$f":"IF($B103<>\"PRC_RESID\",\"\",IF(AT$7=2005+OFFSET(AGR!$B$49,$AX103,SUMIF($B$10:$B$14,\"NCAP_TLIFE\",$AY$10:$AY$14)),0,\"\"))","v":""},{"$f":"IF($B103<>\"PRC_RESID\",\"\",IF(AU$7=2005+OFFSET(AGR!$B$49,$AX103,SUMIF($B$10:$B$14,\"NCAP_TLIFE\",$AY$10:$AY$14)),0,\"\"))","v":""},null,{"$f":"IF(AX102=AGR!$W$72,AW102+1,AW102)","v":4},19]
[{"$f":"IF(LEFT(OFFSET(AGR!$A$49,AX104,0),2)=\"\\I\",\"*\",\"\")","v":"*"},"",{"$f":"IF($A104=\"*\",\"\",OFFSET(AGR!$B$49,AX104,0))","v":""},"","","","","","",{"$f":"IF($A104=\"*\",\"\",OFFSET(AGR!$B$49,AX104,SUMIF($B$10:$B$14,B104,$AY$10:$AY$14)))","v":""},{"$f":"IF($B104<>\"PRC_RESID\",\"\",IF(K$7=2005+OFFSET(AGR!$B$49,$AX104,SUMIF($B$10:$B$14,\"NCAP_TLIFE\",$AY$10:$AY$14)),0,\"\"))","v":""},{"$f":"IF($B104<>\"PRC_RESID\",\"\",IF(L$7=2005+OFFSET(AGR!$B$49,$AX104,SUMIF($B$10:$B$14,\"NCAP_TLIFE\",$AY$10:$AY$14)),0,\"\"))","v":""},{"$f":"IF($B104<>\"PRC_RESID\",\"\",IF(M$7=2005+OFFSET(AGR!$B$49,$AX104,SUMIF($B$10:$B$14,\"NCAP_TLIFE\",$AY$10:$AY$14)),0,\"\"))","v":""},{"$f":"IF($B104<>\"PRC_RESID\",\"\",IF(N$7=2005+OFFSET(AGR!$B$49,$AX104,SUMIF($B$10:$B$14,\"NCAP_TLIFE\",$AY$10:$AY$14)),0,\"\"))","v":""},{"$f":"IF($B104<>\"PRC_RESID\",\"\",IF(O$7=2005+OFFSET(AGR!$B$49,$AX104,SUMIF($B$10:$B$14,\"NCAP_TLIFE\",$AY$10:$AY$14)),0,\"\"))","v":""},{"$f":"IF($B104<>\"PRC_RESID\",\"\",IF(P$7=2005+OFFSET(AGR!$B$49,$AX104,SUMIF($B$10:$B$14,\"NCAP_TLIFE\",$AY$10:$AY$14)),0,\"\"))","v":""},{"$f":"IF($B104<>\"PRC_RESID\",\"\",IF(Q$7=2005+OFFSET(AGR!$B$49,$AX104,SUMIF($B$10:$B$14,\"NCAP_TLIFE\",$AY$10:$AY$14)),0,\"\"))","v":""},{"$f":"IF($B104<>\"PRC_RESID\",\"\",IF(R$7=2005+OFFSET(AGR!$B$49,$AX104,SUMIF($B$10:$B$14,\"NCAP_TLIFE\",$AY$10:$AY$14)),0,\"\"))","v":""},{"$f":"IF($B104<>\"PRC_RESID\",\"\",IF(S$7=2005+OFFSET(AGR!$B$49,$AX104,SUMIF($B$10:$B$14,\"NCAP_TLIFE\",$AY$10:$AY$14)),0,\"\"))","v":""},{"$f":"IF($B104<>\"PRC_RESID\",\"\",IF(T$7=2005+OFFSET(AGR!$B$49,$AX104,SUMIF($B$10:$B$14,\"NCAP_TLIFE\",$AY$10:$AY$14)),0,\"\"))","v":""},{"$f":"IF($B104<>\"PRC_RESID\",\"\",IF(U$7=2005+OFFSET(AGR!$B$49,$AX104,SUMIF($B$10:$B$14,\"NCAP_TLIFE\",$AY$10:$AY$14)),0,\"\"))","v":""},{"$f":"IF($B104<>\"PRC_RESID\",\"\",IF(V$7=2005+OFFSET(AGR!$B$49,$AX104,SUMIF($B$10:$B$14,\"NCAP_TLIFE\",$AY$10:$AY$14)),0,\"\"))","v":""},{"$f":"IF($B104<>\"PRC_RESID\",\"\",IF(W$7=2005+OFFSET(AGR!$B$49,$AX104,SUMIF($B$10:$B$14,\"NCAP_TLIFE\",$AY$10:$AY$14)),0,\"\"))","v":""},{"$f":"IF($B104<>\"PRC_RESID\",\"\",IF(X$7=2005+OFFSET(AGR!$B$49,$AX104,SUMIF($B$10:$B$14,\"NCAP_TLIFE\",$AY$10:$AY$14)),0,\"\"))","v":""},{"$f":"IF($B104<>\"PRC_RESID\",\"\",IF(Y$7=2005+OFFSET(AGR!$B$49,$AX104,SUMIF($B$10:$B$14,\"NCAP_TLIFE\",$AY$10:$AY$14)),0,\"\"))","v":""},{"$f":"IF($B104<>\"PRC_RESID\",\"\",IF(Z$7=2005+OFFSET(AGR!$B$49,$AX104,SUMIF($B$10:$B$14,\"NCAP_TLIFE\",$AY$10:$AY$14)),0,\"\"))","v":""},{"$f":"IF($B104<>\"PRC_RESID\",\"\",IF(AA$7=2005+OFFSET(AGR!$B$49,$AX104,SUMIF($B$10:$B$14,\"NCAP_TLIFE\",$AY$10:$AY$14)),0,\"\"))","v":""},{"$f":"IF($B104<>\"PRC_RESID\",\"\",IF(AB$7=2005+OFFSET(AGR!$B$49,$AX104,SUMIF($B$10:$B$14,\"NCAP_TLIFE\",$AY$10:$AY$14)),0,\"\"))","v":""},{"$f":"IF($B104<>\"PRC_RESID\",\"\",IF(AC$7=2005+OFFSET(AGR!$B$49,$AX104,SUMIF($B$10:$B$14,\"NCAP_TLIFE\",$AY$10:$AY$14)),0,\"\"))","v":""},{"$f":"IF($B104<>\"PRC_RESID\",\"\",IF(AD$7=2005+OFFSET(AGR!$B$49,$AX104,SUMIF($B$10:$B$14,\"NCAP_TLIFE\",$AY$10:$AY$14)),0,\"\"))","v":""},{"$f":"IF($B104<>\"PRC_RESID\",\"\",IF(AE$7=2005+OFFSET(AGR!$B$49,$AX104,SUMIF($B$10:$B$14,\"NCAP_TLIFE\",$AY$10:$AY$14)),0,\"\"))","v":""},{"$f":"IF($B104<>\"PRC_RESID\",\"\",IF(AF$7=2005+OFFSET(AGR!$B$49,$AX104,SUMIF($B$10:$B$14,\"NCAP_TLIFE\",$AY$10:$AY$14)),0,\"\"))","v":""},{"$f":"IF($B104<>\"PRC_RESID\",\"\",IF(AG$7=2005+OFFSET(AGR!$B$49,$AX104,SUMIF($B$10:$B$14,\"NCAP_TLIFE\",$AY$10:$AY$14)),0,\"\"))","v":""},{"$f":"IF($B104<>\"PRC_RESID\",\"\",IF(AH$7=2005+OFFSET(AGR!$B$49,$AX104,SUMIF($B$10:$B$14,\"NCAP_TLIFE\",$AY$10:$AY$14)),0,\"\"))","v":""},null,null,null,null,{"$f":"IF($B104<>\"PRC_RESID\",\"\",IF(AM$7=2005+OFFSET(AGR!$B$49,$AX104,SUMIF($B$10:$B$14,\"NCAP_TLIFE\",$AY$10:$AY$14)),0,\"\"))","v":""},null,null,null,null,{"$f":"IF($B104<>\"PRC_RESID\",\"\",IF(AR$7=2005+OFFSET(AGR!$B$49,$AX104,SUMIF($B$10:$B$14,\"NCAP_TLIFE\",$AY$10:$AY$14)),0,\"\"))","v":""},{"$f":"IF($B104<>\"PRC_RESID\",\"\",IF(AS$7=2005+OFFSET(AGR!$B$49,$AX104,SUMIF($B$10:$B$14,\"NCAP_TLIFE\",$AY$10:$AY$14)),0,\"\"))","v":""},{"$f":"IF($B104<>\"PRC_RESID\",\"\",IF(AT$7=2005+OFFSET(AGR!$B$49,$AX104,SUMIF($B$10:$B$14,\"NCAP_TLIFE\",$AY$10:$AY$14)),0,\"\"))","v":""},{"$f":"IF($B104<>\"PRC_RESID\",\"\",IF(AU$7=2005+OFFSET(AGR!$B$49,$AX104,SUMIF($B$10:$B$14,\"NCAP_TLIFE\",$AY$10:$AY$14)),0,\"\"))","v":""},null,{"$f":"IF(AX103=AGR!$W$72,AW103+1,AW103)","v":4},20]
[{"$f":"IF(LEFT(OFFSET(AGR!$A$49,AX105,0),2)=\"\\I\",\"*\",\"\")","v":""},"NCAP_TLIFE",{"$f":"IF($A105=\"*\",\"\",OFFSET(AGR!$B$49,AX105,0))","v":"AOELC-E"},"-","-","-","-","-",0,{"$f":"IF($A105=\"*\",\"\",OFFSET(AGR!$B$49,AX105,SUMIF($B$10:$B$14,B105,$AY$10:$AY$14)))","v":15},{"$f":"IF($B105<>\"PRC_RESID\",\"\",IF(K$7=2005+OFFSET(AGR!$B$49,$AX105,SUMIF($B$10:$B$14,\"NCAP_TLIFE\",$AY$10:$AY$14)),0,\"\"))","v":""},{"$f":"IF($B105<>\"PRC_RESID\",\"\",IF(L$7=2005+OFFSET(AGR!$B$49,$AX105,SUMIF($B$10:$B$14,\"NCAP_TLIFE\",$AY$10:$AY$14)),0,\"\"))","v":""},{"$f":"IF($B105<>\"PRC_RESID\",\"\",IF(M$7=2005+OFFSET(AGR!$B$49,$AX105,SUMIF($B$10:$B$14,\"NCAP_TLIFE\",$AY$10:$AY$14)),0,\"\"))","v":""},{"$f":"IF($B105<>\"PRC_RESID\",\"\",IF(N$7=2005+OFFSET(AGR!$B$49,$AX105,SUMIF($B$10:$B$14,\"NCAP_TLIFE\",$AY$10:$AY$14)),0,\"\"))","v":""},{"$f":"IF($B105<>\"PRC_RESID\",\"\",IF(O$7=2005+OFFSET(AGR!$B$49,$AX105,SUMIF($B$10:$B$14,\"NCAP_TLIFE\",$AY$10:$AY$14)),0,\"\"))","v":""},{"$f":"IF($B105<>\"PRC_RESID\",\"\",IF(P$7=2005+OFFSET(AGR!$B$49,$AX105,SUMIF($B$10:$B$14,\"NCAP_TLIFE\",$AY$10:$AY$14)),0,\"\"))","v":""},{"$f":"IF($B105<>\"PRC_RESID\",\"\",IF(Q$7=2005+OFFSET(AGR!$B$49,$AX105,SUMIF($B$10:$B$14,\"NCAP_TLIFE\",$AY$10:$AY$14)),0,\"\"))","v":""},{"$f":"IF($B105<>\"PRC_RESID\",\"\",IF(R$7=2005+OFFSET(AGR!$B$49,$AX105,SUMIF($B$10:$B$14,\"NCAP_TLIFE\",$AY$10:$AY$14)),0,\"\"))","v":""},{"$f":"IF($B105<>\"PRC_RESID\",\"\",IF(S$7=2005+OFFSET(AGR!$B$49,$AX105,SUMIF($B$10:$B$14,\"NCAP_TLIFE\",$AY$10:$AY$14)),0,\"\"))","v":""},{"$f":"IF($B105<>\"PRC_RESID\",\"\",IF(T$7=2005+OFFSET(AGR!$B$49,$AX105,SUMIF($B$10:$B$14,\"NCAP_TLIFE\",$AY$10:$AY$14)),0,\"\"))","v":""},{"$f":"IF($B105<>\"PRC_RESID\",\"\",IF(U$7=2005+OFFSET(AGR!$B$49,$AX105,SUMIF($B$10:$B$14,\"NCAP_TLIFE\",$AY$10:$AY$14)),0,\"\"))","v":""},{"$f":"IF($B105<>\"PRC_RESID\",\"\",IF(V$7=2005+OFFSET(AGR!$B$49,$AX105,SUMIF($B$10:$B$14,\"NCAP_TLIFE\",$AY$10:$AY$14)),0,\"\"))","v":""},{"$f":"IF($B105<>\"PRC_RESID\",\"\",IF(W$7=2005+OFFSET(AGR!$B$49,$AX105,SUMIF($B$10:$B$14,\"NCAP_TLIFE\",$AY$10:$AY$14)),0,\"\"))","v":""},{"$f":"IF($B105<>\"PRC_RESID\",\"\",IF(X$7=2005+OFFSET(AGR!$B$49,$AX105,SUMIF($B$10:$B$14,\"NCAP_TLIFE\",$AY$10:$AY$14)),0,\"\"))","v":""},{"$f":"IF($B105<>\"PRC_RESID\",\"\",IF(Y$7=2005+OFFSET(AGR!$B$49,$AX105,SUMIF($B$10:$B$14,\"NCAP_TLIFE\",$AY$10:$AY$14)),0,\"\"))","v":""},{"$f":"IF($B105<>\"PRC_RESID\",\"\",IF(Z$7=2005+OFFSET(AGR!$B$49,$AX105,SUMIF($B$10:$B$14,\"NCAP_TLIFE\",$AY$10:$AY$14)),0,\"\"))","v":""},{"$f":"IF($B105<>\"PRC_RESID\",\"\",IF(AA$7=2005+OFFSET(AGR!$B$49,$AX105,SUMIF($B$10:$B$14,\"NCAP_TLIFE\",$AY$10:$AY$14)),0,\"\"))","v":""},{"$f":"IF($B105<>\"PRC_RESID\",\"\",IF(AB$7=2005+OFFSET(AGR!$B$49,$AX105,SUMIF($B$10:$B$14,\"NCAP_TLIFE\",$AY$10:$AY$14)),0,\"\"))","v":""},{"$f":"IF($B105<>\"PRC_RESID\",\"\",IF(AC$7=2005+OFFSET(AGR!$B$49,$AX105,SUMIF($B$10:$B$14,\"NCAP_TLIFE\",$AY$10:$AY$14)),0,\"\"))","v":""},{"$f":"IF($B105<>\"PRC_RESID\",\"\",IF(AD$7=2005+OFFSET(AGR!$B$49,$AX105,SUMIF($B$10:$B$14,\"NCAP_TLIFE\",$AY$10:$AY$14)),0,\"\"))","v":""},{"$f":"IF($B105<>\"PRC_RESID\",\"\",IF(AE$7=2005+OFFSET(AGR!$B$49,$AX105,SUMIF($B$10:$B$14,\"NCAP_TLIFE\",$AY$10:$AY$14)),0,\"\"))","v":""},{"$f":"IF($B105<>\"PRC_RESID\",\"\",IF(AF$7=2005+OFFSET(AGR!$B$49,$AX105,SUMIF($B$10:$B$14,\"NCAP_TLIFE\",$AY$10:$AY$14)),0,\"\"))","v":""},{"$f":"IF($B105<>\"PRC_RESID\",\"\",IF(AG$7=2005+OFFSET(AGR!$B$49,$AX105,SUMIF($B$10:$B$14,\"NCAP_TLIFE\",$AY$10:$AY$14)),0,\"\"))","v":""},{"$f":"IF($B105<>\"PRC_RESID\",\"\",IF(AH$7=2005+OFFSET(AGR!$B$49,$AX105,SUMIF($B$10:$B$14,\"NCAP_TLIFE\",$AY$10:$AY$14)),0,\"\"))","v":""},null,null,null,null,{"$f":"IF($B105<>\"PRC_RESID\",\"\",IF(AM$7=2005+OFFSET(AGR!$B$49,$AX105,SUMIF($B$10:$B$14,\"NCAP_TLIFE\",$AY$10:$AY$14)),0,\"\"))","v":""},null,null,null,null,{"$f":"IF($B105<>\"PRC_RESID\",\"\",IF(AR$7=2005+OFFSET(AGR!$B$49,$AX105,SUMIF($B$10:$B$14,\"NCAP_TLIFE\",$AY$10:$AY$14)),0,\"\"))","v":""},{"$f":"IF($B105<>\"PRC_RESID\",\"\",IF(AS$7=2005+OFFSET(AGR!$B$49,$AX105,SUMIF($B$10:$B$14,\"NCAP_TLIFE\",$AY$10:$AY$14)),0,\"\"))","v":""},{"$f":"IF($B105<>\"PRC_RESID\",\"\",IF(AT$7=2005+OFFSET(AGR!$B$49,$AX105,SUMIF($B$10:$B$14,\"NCAP_TLIFE\",$AY$10:$AY$14)),0,\"\"))","v":""},{"$f":"IF($B105<>\"PRC_RESID\",\"\",IF(AU$7=2005+OFFSET(AGR!$B$49,$AX105,SUMIF($B$10:$B$14,\"NCAP_TLIFE\",$AY$10:$AY$14)),0,\"\"))","v":""},null,{"$f":"IF(AX104=AGR!$W$72,AW104+1,AW104)","v":4},21]
[{"$f":"IF(LEFT(OFFSET(AGR!$A$49,AX106,0),2)=\"\\I\",\"*\",\"\")","v":"*"},"",{"$f":"IF($A106=\"*\",\"\",OFFSET(AGR!$B$49,AX106,0))","v":""},"","","","","","",{"$f":"IF($A106=\"*\",\"\",OFFSET(AGR!$B$49,AX106,SUMIF($B$10:$B$14,B106,$AY$10:$AY$14)))","v":""},{"$f":"IF($B106<>\"PRC_RESID\",\"\",IF(K$7=2005+OFFSET(AGR!$B$49,$AX106,SUMIF($B$10:$B$14,\"NCAP_TLIFE\",$AY$10:$AY$14)),0,\"\"))","v":""},{"$f":"IF($B106<>\"PRC_RESID\",\"\",IF(L$7=2005+OFFSET(AGR!$B$49,$AX106,SUMIF($B$10:$B$14,\"NCAP_TLIFE\",$AY$10:$AY$14)),0,\"\"))","v":""},{"$f":"IF($B106<>\"PRC_RESID\",\"\",IF(M$7=2005+OFFSET(AGR!$B$49,$AX106,SUMIF($B$10:$B$14,\"NCAP_TLIFE\",$AY$10:$AY$14)),0,\"\"))","v":""},{"$f":"IF($B106<>\"PRC_RESID\",\"\",IF(N$7=2005+OFFSET(AGR!$B$49,$AX106,SUMIF($B$10:$B$14,\"NCAP_TLIFE\",$AY$10:$AY$14)),0,\"\"))","v":""},{"$f":"IF($B106<>\"PRC_RESID\",\"\",IF(O$7=2005+OFFSET(AGR!$B$49,$AX106,SUMIF($B$10:$B$14,\"NCAP_TLIFE\",$AY$10:$AY$14)),0,\"\"))","v":""},{"$f":"IF($B106<>\"PRC_RESID\",\"\",IF(P$7=2005+OFFSET(AGR!$B$49,$AX106,SUMIF($B$10:$B$14,\"NCAP_TLIFE\",$AY$10:$AY$14)),0,\"\"))","v":""},{"$f":"IF($B106<>\"PRC_RESID\",\"\",IF(Q$7=2005+OFFSET(AGR!$B$49,$AX106,SUMIF($B$10:$B$14,\"NCAP_TLIFE\",$AY$10:$AY$14)),0,\"\"))","v":""},{"$f":"IF($B106<>\"PRC_RESID\",\"\",IF(R$7=2005+OFFSET(AGR!$B$49,$AX106,SUMIF($B$10:$B$14,\"NCAP_TLIFE\",$AY$10:$AY$14)),0,\"\"))","v":""},{"$f":"IF($B106<>\"PRC_RESID\",\"\",IF(S$7=2005+OFFSET(AGR!$B$49,$AX106,SUMIF($B$10:$B$14,\"NCAP_TLIFE\",$AY$10:$AY$14)),0,\"\"))","v":""},{"$f":"IF($B106<>\"PRC_RESID\",\"\",IF(T$7=2005+OFFSET(AGR!$B$49,$AX106,SUMIF($B$10:$B$14,\"NCAP_TLIFE\",$AY$10:$AY$14)),0,\"\"))","v":""},{"$f":"IF($B106<>\"PRC_RESID\",\"\",IF(U$7=2005+OFFSET(AGR!$B$49,$AX106,SUMIF($B$10:$B$14,\"NCAP_TLIFE\",$AY$10:$AY$14)),0,\"\"))","v":""},{"$f":"IF($B106<>\"PRC_RESID\",\"\",IF(V$7=2005+OFFSET(AGR!$B$49,$AX106,SUMIF($B$10:$B$14,\"NCAP_TLIFE\",$AY$10:$AY$14)),0,\"\"))","v":""},{"$f":"IF($B106<>\"PRC_RESID\",\"\",IF(W$7=2005+OFFSET(AGR!$B$49,$AX106,SUMIF($B$10:$B$14,\"NCAP_TLIFE\",$AY$10:$AY$14)),0,\"\"))","v":""},{"$f":"IF($B106<>\"PRC_RESID\",\"\",IF(X$7=2005+OFFSET(AGR!$B$49,$AX106,SUMIF($B$10:$B$14,\"NCAP_TLIFE\",$AY$10:$AY$14)),0,\"\"))","v":""},{"$f":"IF($B106<>\"PRC_RESID\",\"\",IF(Y$7=2005+OFFSET(AGR!$B$49,$AX106,SUMIF($B$10:$B$14,\"NCAP_TLIFE\",$AY$10:$AY$14)),0,\"\"))","v":""},{"$f":"IF($B106<>\"PRC_RESID\",\"\",IF(Z$7=2005+OFFSET(AGR!$B$49,$AX106,SUMIF($B$10:$B$14,\"NCAP_TLIFE\",$AY$10:$AY$14)),0,\"\"))","v":""},{"$f":"IF($B106<>\"PRC_RESID\",\"\",IF(AA$7=2005+OFFSET(AGR!$B$49,$AX106,SUMIF($B$10:$B$14,\"NCAP_TLIFE\",$AY$10:$AY$14)),0,\"\"))","v":""},{"$f":"IF($B106<>\"PRC_RESID\",\"\",IF(AB$7=2005+OFFSET(AGR!$B$49,$AX106,SUMIF($B$10:$B$14,\"NCAP_TLIFE\",$AY$10:$AY$14)),0,\"\"))","v":""},{"$f":"IF($B106<>\"PRC_RESID\",\"\",IF(AC$7=2005+OFFSET(AGR!$B$49,$AX106,SUMIF($B$10:$B$14,\"NCAP_TLIFE\",$AY$10:$AY$14)),0,\"\"))","v":""},{"$f":"IF($B106<>\"PRC_RESID\",\"\",IF(AD$7=2005+OFFSET(AGR!$B$49,$AX106,SUMIF($B$10:$B$14,\"NCAP_TLIFE\",$AY$10:$AY$14)),0,\"\"))","v":""},{"$f":"IF($B106<>\"PRC_RESID\",\"\",IF(AE$7=2005+OFFSET(AGR!$B$49,$AX106,SUMIF($B$10:$B$14,\"NCAP_TLIFE\",$AY$10:$AY$14)),0,\"\"))","v":""},{"$f":"IF($B106<>\"PRC_RESID\",\"\",IF(AF$7=2005+OFFSET(AGR!$B$49,$AX106,SUMIF($B$10:$B$14,\"NCAP_TLIFE\",$AY$10:$AY$14)),0,\"\"))","v":""},{"$f":"IF($B106<>\"PRC_RESID\",\"\",IF(AG$7=2005+OFFSET(AGR!$B$49,$AX106,SUMIF($B$10:$B$14,\"NCAP_TLIFE\",$AY$10:$AY$14)),0,\"\"))","v":""},{"$f":"IF($B106<>\"PRC_RESID\",\"\",IF(AH$7=2005+OFFSET(AGR!$B$49,$AX106,SUMIF($B$10:$B$14,\"NCAP_TLIFE\",$AY$10:$AY$14)),0,\"\"))","v":""},null,null,null,null,{"$f":"IF($B106<>\"PRC_RESID\",\"\",IF(AM$7=2005+OFFSET(AGR!$B$49,$AX106,SUMIF($B$10:$B$14,\"NCAP_TLIFE\",$AY$10:$AY$14)),0,\"\"))","v":""},null,null,null,null,{"$f":"IF($B106<>\"PRC_RESID\",\"\",IF(AR$7=2005+OFFSET(AGR!$B$49,$AX106,SUMIF($B$10:$B$14,\"NCAP_TLIFE\",$AY$10:$AY$14)),0,\"\"))","v":""},{"$f":"IF($B106<>\"PRC_RESID\",\"\",IF(AS$7=2005+OFFSET(AGR!$B$49,$AX106,SUMIF($B$10:$B$14,\"NCAP_TLIFE\",$AY$10:$AY$14)),0,\"\"))","v":""},{"$f":"IF($B106<>\"PRC_RESID\",\"\",IF(AT$7=2005+OFFSET(AGR!$B$49,$AX106,SUMIF($B$10:$B$14,\"NCAP_TLIFE\",$AY$10:$AY$14)),0,\"\"))","v":""},{"$f":"IF($B106<>\"PRC_RESID\",\"\",IF(AU$7=2005+OFFSET(AGR!$B$49,$AX106,SUMIF($B$10:$B$14,\"NCAP_TLIFE\",$AY$10:$AY$14)),0,\"\"))","v":""},null,{"$f":"IF(AX105=AGR!$W$72,AW105+1,AW105)","v":4},22]
[{"$f":"IF(LEFT(OFFSET(AGR!$A$49,AX107,0),2)=\"\\I\",\"*\",\"\")","v":"*"},"",{"$f":"IF($A107=\"*\",\"\",OFFSET(AGR!$B$49,AX107,0))","v":""},"","","","","","",{"$f":"IF($A107=\"*\",\"\",OFFSET(AGR!$B$49,AX107,SUMIF($B$10:$B$14,B107,$AY$10:$AY$14)))","v":""},{"$f":"IF($B107<>\"PRC_RESID\",\"\",IF(K$7=2005+OFFSET(AGR!$B$49,$AX107,SUMIF($B$10:$B$14,\"NCAP_TLIFE\",$AY$10:$AY$14)),0,\"\"))","v":""},{"$f":"IF($B107<>\"PRC_RESID\",\"\",IF(L$7=2005+OFFSET(AGR!$B$49,$AX107,SUMIF($B$10:$B$14,\"NCAP_TLIFE\",$AY$10:$AY$14)),0,\"\"))","v":""},{"$f":"IF($B107<>\"PRC_RESID\",\"\",IF(M$7=2005+OFFSET(AGR!$B$49,$AX107,SUMIF($B$10:$B$14,\"NCAP_TLIFE\",$AY$10:$AY$14)),0,\"\"))","v":""},{"$f":"IF($B107<>\"PRC_RESID\",\"\",IF(N$7=2005+OFFSET(AGR!$B$49,$AX107,SUMIF($B$10:$B$14,\"NCAP_TLIFE\",$AY$10:$AY$14)),0,\"\"))","v":""},{"$f":"IF($B107<>\"PRC_RESID\",\"\",IF(O$7=2005+OFFSET(AGR!$B$49,$AX107,SUMIF($B$10:$B$14,\"NCAP_TLIFE\",$AY$10:$AY$14)),0,\"\"))","v":""},{"$f":"IF($B107<>\"PRC_RESID\",\"\",IF(P$7=2005+OFFSET(AGR!$B$49,$AX107,SUMIF($B$10:$B$14,\"NCAP_TLIFE\",$AY$10:$AY$14)),0,\"\"))","v":""},{"$f":"IF($B107<>\"PRC_RESID\",\"\",IF(Q$7=2005+OFFSET(AGR!$B$49,$AX107,SUMIF($B$10:$B$14,\"NCAP_TLIFE\",$AY$10:$AY$14)),0,\"\"))","v":""},{"$f":"IF($B107<>\"PRC_RESID\",\"\",IF(R$7=2005+OFFSET(AGR!$B$49,$AX107,SUMIF($B$10:$B$14,\"NCAP_TLIFE\",$AY$10:$AY$14)),0,\"\"))","v":""},{"$f":"IF($B107<>\"PRC_RESID\",\"\",IF(S$7=2005+OFFSET(AGR!$B$49,$AX107,SUMIF($B$10:$B$14,\"NCAP_TLIFE\",$AY$10:$AY$14)),0,\"\"))","v":""},{"$f":"IF($B107<>\"PRC_RESID\",\"\",IF(T$7=2005+OFFSET(AGR!$B$49,$AX107,SUMIF($B$10:$B$14,\"NCAP_TLIFE\",$AY$10:$AY$14)),0,\"\"))","v":""},{"$f":"IF($B107<>\"PRC_RESID\",\"\",IF(U$7=2005+OFFSET(AGR!$B$49,$AX107,SUMIF($B$10:$B$14,\"NCAP_TLIFE\",$AY$10:$AY$14)),0,\"\"))","v":""},{"$f":"IF($B107<>\"PRC_RESID\",\"\",IF(V$7=2005+OFFSET(AGR!$B$49,$AX107,SUMIF($B$10:$B$14,\"NCAP_TLIFE\",$AY$10:$AY$14)),0,\"\"))","v":""},{"$f":"IF($B107<>\"PRC_RESID\",\"\",IF(W$7=2005+OFFSET(AGR!$B$49,$AX107,SUMIF($B$10:$B$14,\"NCAP_TLIFE\",$AY$10:$AY$14)),0,\"\"))","v":""},{"$f":"IF($B107<>\"PRC_RESID\",\"\",IF(X$7=2005+OFFSET(AGR!$B$49,$AX107,SUMIF($B$10:$B$14,\"NCAP_TLIFE\",$AY$10:$AY$14)),0,\"\"))","v":""},{"$f":"IF($B107<>\"PRC_RESID\",\"\",IF(Y$7=2005+OFFSET(AGR!$B$49,$AX107,SUMIF($B$10:$B$14,\"NCAP_TLIFE\",$AY$10:$AY$14)),0,\"\"))","v":""},{"$f":"IF($B107<>\"PRC_RESID\",\"\",IF(Z$7=2005+OFFSET(AGR!$B$49,$AX107,SUMIF($B$10:$B$14,\"NCAP_TLIFE\",$AY$10:$AY$14)),0,\"\"))","v":""},{"$f":"IF($B107<>\"PRC_RESID\",\"\",IF(AA$7=2005+OFFSET(AGR!$B$49,$AX107,SUMIF($B$10:$B$14,\"NCAP_TLIFE\",$AY$10:$AY$14)),0,\"\"))","v":""},{"$f":"IF($B107<>\"PRC_RESID\",\"\",IF(AB$7=2005+OFFSET(AGR!$B$49,$AX107,SUMIF($B$10:$B$14,\"NCAP_TLIFE\",$AY$10:$AY$14)),0,\"\"))","v":""},{"$f":"IF($B107<>\"PRC_RESID\",\"\",IF(AC$7=2005+OFFSET(AGR!$B$49,$AX107,SUMIF($B$10:$B$14,\"NCAP_TLIFE\",$AY$10:$AY$14)),0,\"\"))","v":""},{"$f":"IF($B107<>\"PRC_RESID\",\"\",IF(AD$7=2005+OFFSET(AGR!$B$49,$AX107,SUMIF($B$10:$B$14,\"NCAP_TLIFE\",$AY$10:$AY$14)),0,\"\"))","v":""},{"$f":"IF($B107<>\"PRC_RESID\",\"\",IF(AE$7=2005+OFFSET(AGR!$B$49,$AX107,SUMIF($B$10:$B$14,\"NCAP_TLIFE\",$AY$10:$AY$14)),0,\"\"))","v":""},{"$f":"IF($B107<>\"PRC_RESID\",\"\",IF(AF$7=2005+OFFSET(AGR!$B$49,$AX107,SUMIF($B$10:$B$14,\"NCAP_TLIFE\",$AY$10:$AY$14)),0,\"\"))","v":""},{"$f":"IF($B107<>\"PRC_RESID\",\"\",IF(AG$7=2005+OFFSET(AGR!$B$49,$AX107,SUMIF($B$10:$B$14,\"NCAP_TLIFE\",$AY$10:$AY$14)),0,\"\"))","v":""},{"$f":"IF($B107<>\"PRC_RESID\",\"\",IF(AH$7=2005+OFFSET(AGR!$B$49,$AX107,SUMIF($B$10:$B$14,\"NCAP_TLIFE\",$AY$10:$AY$14)),0,\"\"))","v":""},null,null,null,null,{"$f":"IF($B107<>\"PRC_RESID\",\"\",IF(AM$7=2005+OFFSET(AGR!$B$49,$AX107,SUMIF($B$10:$B$14,\"NCAP_TLIFE\",$AY$10:$AY$14)),0,\"\"))","v":""},null,null,null,null,{"$f":"IF($B107<>\"PRC_RESID\",\"\",IF(AR$7=2005+OFFSET(AGR!$B$49,$AX107,SUMIF($B$10:$B$14,\"NCAP_TLIFE\",$AY$10:$AY$14)),0,\"\"))","v":""},{"$f":"IF($B107<>\"PRC_RESID\",\"\",IF(AS$7=2005+OFFSET(AGR!$B$49,$AX107,SUMIF($B$10:$B$14,\"NCAP_TLIFE\",$AY$10:$AY$14)),0,\"\"))","v":""},{"$f":"IF($B107<>\"PRC_RESID\",\"\",IF(AT$7=2005+OFFSET(AGR!$B$49,$AX107,SUMIF($B$10:$B$14,\"NCAP_TLIFE\",$AY$10:$AY$14)),0,\"\"))","v":""},{"$f":"IF($B107<>\"PRC_RESID\",\"\",IF(AU$7=2005+OFFSET(AGR!$B$49,$AX107,SUMIF($B$10:$B$14,\"NCAP_TLIFE\",$AY$10:$AY$14)),0,\"\"))","v":""},null,{"$f":"IF(AX106=AGR!$W$72,AW106+1,AW106)","v":4},23]
[{"$f":"IF(LEFT(OFFSET(AGR!$A$49,AX108,0),2)=\"\\I\",\"*\",\"\")","v":""},"PRC_RESID",{"$f":"IF($A108=\"*\",\"\",OFFSET(AGR!$B$49,AX108,0))","v":"AHCOA-E"},"-","-","-","-","-",0,{"$f":"IF($A108=\"*\",\"\",OFFSET(AGR!$B$49,AX108,SUMIF($B$10:$B$14,B108,$AY$10:$AY$14)))","v":0.90891013876292404},{"$f":"IF($B108<>\"PRC_RESID\",\"\",IF(K$7=2005+OFFSET(AGR!$B$49,$AX108,SUMIF($B$10:$B$14,\"NCAP_TLIFE\",$AY$10:$AY$14)),0,\"\"))","v":""},{"$f":"IF($B108<>\"PRC_RESID\",\"\",IF(L$7=2005+OFFSET(AGR!$B$49,$AX108,SUMIF($B$10:$B$14,\"NCAP_TLIFE\",$AY$10:$AY$14)),0,\"\"))","v":""},{"$f":"IF($B108<>\"PRC_RESID\",\"\",IF(M$7=2005+OFFSET(AGR!$B$49,$AX108,SUMIF($B$10:$B$14,\"NCAP_TLIFE\",$AY$10:$AY$14)),0,\"\"))","v":""},{"$f":"IF($B108<>\"PRC_RESID\",\"\",IF(N$7=2005+OFFSET(AGR!$B$49,$AX108,SUMIF($B$10:$B$14,\"NCAP_TLIFE\",$AY$10:$AY$14)),0,\"\"))","v":""},{"$f":"IF($B108<>\"PRC_RESID\",\"\",IF(O$7=2005+OFFSET(AGR!$B$49,$AX108,SUMIF($B$10:$B$14,\"NCAP_TLIFE\",$AY$10:$AY$14)),0,\"\"))","v":""},{"$f":"IF($B108<>\"PRC_RESID\",\"\",IF(P$7=2005+OFFSET(AGR!$B$49,$AX108,SUMIF($B$10:$B$14,\"NCAP_TLIFE\",$AY$10:$AY$14)),0,\"\"))","v":""},{"$f":"IF($B108<>\"PRC_RESID\",\"\",IF(Q$7=2005+OFFSET(AGR!$B$49,$AX108,SUMIF($B$10:$B$14,\"NCAP_TLIFE\",$AY$10:$AY$14)),0,\"\"))","v":""},{"$f":"IF($B108<>\"PRC_RESID\",\"\",IF(R$7=2005+OFFSET(AGR!$B$49,$AX108,SUMIF($B$10:$B$14,\"NCAP_TLIFE\",$AY$10:$AY$14)),0,\"\"))","v":""},{"$f":"IF($B108<>\"PRC_RESID\",\"\",IF(S$7=2005+OFFSET(AGR!$B$49,$AX108,SUMIF($B$10:$B$14,\"NCAP_TLIFE\",$AY$10:$AY$14)),0,\"\"))","v":""},{"$f":"IF($B108<>\"PRC_RESID\",\"\",IF(T$7=2005+OFFSET(AGR!$B$49,$AX108,SUMIF($B$10:$B$14,\"NCAP_TLIFE\",$AY$10:$AY$14)),0,\"\"))","v":""},{"$f":"IF($B108<>\"PRC_RESID\",\"\",IF(U$7=2005+OFFSET(AGR!$B$49,$AX108,SUMIF($B$10:$B$14,\"NCAP_TLIFE\",$AY$10:$AY$14)),0,\"\"))","v":""},{"$f":"IF($B108<>\"PRC_RESID\",\"\",IF(V$7=2005+OFFSET(AGR!$B$49,$AX108,SUMIF($B$10:$B$14,\"NCAP_TLIFE\",$AY$10:$AY$14)),0,\"\"))","v":""},{"$f":"IF($B108<>\"PRC_RESID\",\"\",IF(W$7=2005+OFFSET(AGR!$B$49,$AX108,SUMIF($B$10:$B$14,\"NCAP_TLIFE\",$AY$10:$AY$14)),0,\"\"))","v":""},{"$f":"IF($B108<>\"PRC_RESID\",\"\",IF(X$7=2005+OFFSET(AGR!$B$49,$AX108,SUMIF($B$10:$B$14,\"NCAP_TLIFE\",$AY$10:$AY$14)),0,\"\"))","v":0},{"$f":"IF($B108<>\"PRC_RESID\",\"\",IF(Y$7=2005+OFFSET(AGR!$B$49,$AX108,SUMIF($B$10:$B$14,\"NCAP_TLIFE\",$AY$10:$AY$14)),0,\"\"))","v":""},{"$f":"IF($B108<>\"PRC_RESID\",\"\",IF(Z$7=2005+OFFSET(AGR!$B$49,$AX108,SUMIF($B$10:$B$14,\"NCAP_TLIFE\",$AY$10:$AY$14)),0,\"\"))","v":""},{"$f":"IF($B108<>\"PRC_RESID\",\"\",IF(AA$7=2005+OFFSET(AGR!$B$49,$AX108,SUMIF($B$10:$B$14,\"NCAP_TLIFE\",$AY$10:$AY$14)),0,\"\"))","v":""},{"$f":"IF($B108<>\"PRC_RESID\",\"\",IF(AB$7=2005+OFFSET(AGR!$B$49,$AX108,SUMIF($B$10:$B$14,\"NCAP_TLIFE\",$AY$10:$AY$14)),0,\"\"))","v":""},{"$f":"IF($B108<>\"PRC_RESID\",\"\",IF(AC$7=2005+OFFSET(AGR!$B$49,$AX108,SUMIF($B$10:$B$14,\"NCAP_TLIFE\",$AY$10:$AY$14)),0,\"\"))","v":""},{"$f":"IF($B108<>\"PRC_RESID\",\"\",IF(AD$7=2005+OFFSET(AGR!$B$49,$AX108,SUMIF($B$10:$B$14,\"NCAP_TLIFE\",$AY$10:$AY$14)),0,\"\"))","v":""},{"$f":"IF($B108<>\"PRC_RESID\",\"\",IF(AE$7=2005+OFFSET(AGR!$B$49,$AX108,SUMIF($B$10:$B$14,\"NCAP_TLIFE\",$AY$10:$AY$14)),0,\"\"))","v":""},{"$f":"IF($B108<>\"PRC_RESID\",\"\",IF(AF$7=2005+OFFSET(AGR!$B$49,$AX108,SUMIF($B$10:$B$14,\"NCAP_TLIFE\",$AY$10:$AY$14)),0,\"\"))","v":""},{"$f":"IF($B108<>\"PRC_RESID\",\"\",IF(AG$7=2005+OFFSET(AGR!$B$49,$AX108,SUMIF($B$10:$B$14,\"NCAP_TLIFE\",$AY$10:$AY$14)),0,\"\"))","v":""},{"$f":"IF($B108<>\"PRC_RESID\",\"\",IF(AH$7=2005+OFFSET(AGR!$B$49,$AX108,SUMIF($B$10:$B$14,\"NCAP_TLIFE\",$AY$10:$AY$14)),0,\"\"))","v":""},null,null,null,null,{"$f":"IF($B108<>\"PRC_RESID\",\"\",IF(AM$7=2005+OFFSET(AGR!$B$49,$AX108,SUMIF($B$10:$B$14,\"NCAP_TLIFE\",$AY$10:$AY$14)),0,\"\"))","v":""},null,null,null,null,{"$f":"IF($B108<>\"PRC_RESID\",\"\",IF(AR$7=2005+OFFSET(AGR!$B$49,$AX108,SUMIF($B$10:$B$14,\"NCAP_TLIFE\",$AY$10:$AY$14)),0,\"\"))","v":""},{"$f":"IF($B108<>\"PRC_RESID\",\"\",IF(AS$7=2005+OFFSET(AGR!$B$49,$AX108,SUMIF($B$10:$B$14,\"NCAP_TLIFE\",$AY$10:$AY$14)),0,\"\"))","v":""},{"$f":"IF($B108<>\"PRC_RESID\",\"\",IF(AT$7=2005+OFFSET(AGR!$B$49,$AX108,SUMIF($B$10:$B$14,\"NCAP_TLIFE\",$AY$10:$AY$14)),0,\"\"))","v":""},{"$f":"IF($B108<>\"PRC_RESID\",\"\",IF(AU$7=2005+OFFSET(AGR!$B$49,$AX108,SUMIF($B$10:$B$14,\"NCAP_TLIFE\",$AY$10:$AY$14)),0,\"\"))","v":""},null,{"$f":"IF(AX107=AGR!$W$72,AW107+1,AW107)","v":5},1]
[{"$f":"IF(LEFT(OFFSET(AGR!$A$49,AX109,0),2)=\"\\I\",\"*\",\"\")","v":""},"PRC_RESID",{"$f":"IF($A109=\"*\",\"\",OFFSET(AGR!$B$49,AX109,0))","v":"AHOHF-E"},"-","-","-","-","-",0,{"$f":"IF($A109=\"*\",\"\",OFFSET(AGR!$B$49,AX109,SUMIF($B$10:$B$14,B109,$AY$10:$AY$14)))","v":2.2619550544937419},{"$f":"IF($B109<>\"PRC_RESID\",\"\",IF(K$7=2005+OFFSET(AGR!$B$49,$AX109,SUMIF($B$10:$B$14,\"NCAP_TLIFE\",$AY$10:$AY$14)),0,\"\"))","v":""},{"$f":"IF($B109<>\"PRC_RESID\",\"\",IF(L$7=2005+OFFSET(AGR!$B$49,$AX109,SUMIF($B$10:$B$14,\"NCAP_TLIFE\",$AY$10:$AY$14)),0,\"\"))","v":""},{"$f":"IF($B109<>\"PRC_RESID\",\"\",IF(M$7=2005+OFFSET(AGR!$B$49,$AX109,SUMIF($B$10:$B$14,\"NCAP_TLIFE\",$AY$10:$AY$14)),0,\"\"))","v":""},{"$f":"IF($B109<>\"PRC_RESID\",\"\",IF(N$7=2005+OFFSET(AGR!$B$49,$AX109,SUMIF($B$10:$B$14,\"NCAP_TLIFE\",$AY$10:$AY$14)),0,\"\"))","v":""},{"$f":"IF($B109<>\"PRC_RESID\",\"\",IF(O$7=2005+OFFSET(AGR!$B$49,$AX109,SUMIF($B$10:$B$14,\"NCAP_TLIFE\",$AY$10:$AY$14)),0,\"\"))","v":""},{"$f":"IF($B109<>\"PRC_RESID\",\"\",IF(P$7=2005+OFFSET(AGR!$B$49,$AX109,SUMIF($B$10:$B$14,\"NCAP_TLIFE\",$AY$10:$AY$14)),0,\"\"))","v":""},{"$f":"IF($B109<>\"PRC_RESID\",\"\",IF(Q$7=2005+OFFSET(AGR!$B$49,$AX109,SUMIF($B$10:$B$14,\"NCAP_TLIFE\",$AY$10:$AY$14)),0,\"\"))","v":""},{"$f":"IF($B109<>\"PRC_RESID\",\"\",IF(R$7=2005+OFFSET(AGR!$B$49,$AX109,SUMIF($B$10:$B$14,\"NCAP_TLIFE\",$AY$10:$AY$14)),0,\"\"))","v":""},{"$f":"IF($B109<>\"PRC_RESID\",\"\",IF(S$7=2005+OFFSET(AGR!$B$49,$AX109,SUMIF($B$10:$B$14,\"NCAP_TLIFE\",$AY$10:$AY$14)),0,\"\"))","v":""},{"$f":"IF($B109<>\"PRC_RESID\",\"\",IF(T$7=2005+OFFSET(AGR!$B$49,$AX109,SUMIF($B$10:$B$14,\"NCAP_TLIFE\",$AY$10:$AY$14)),0,\"\"))","v":""},{"$f":"IF($B109<>\"PRC_RESID\",\"\",IF(U$7=2005+OFFSET(AGR!$B$49,$AX109,SUMIF($B$10:$B$14,\"NCAP_TLIFE\",$AY$10:$AY$14)),0,\"\"))","v":""},{"$f":"IF($B109<>\"PRC_RESID\",\"\",IF(V$7=2005+OFFSET(AGR!$B$49,$AX109,SUMIF($B$10:$B$14,\"NCAP_TLIFE\",$AY$10:$AY$14)),0,\"\"))","v":""},{"$f":"IF($B109<>\"PRC_RESID\",\"\",IF(W$7=2005+OFFSET(AGR!$B$49,$AX109,SUMIF($B$10:$B$14,\"NCAP_TLIFE\",$AY$10:$AY$14)),0,\"\"))","v":""},{"$f":"IF($B109<>\"PRC_RESID\",\"\",IF(X$7=2005+OFFSET(AGR!$B$49,$AX109,SUMIF($B$10:$B$14,\"NCAP_TLIFE\",$AY$10:$AY$14)),0,\"\"))","v":0},{"$f":"IF($B109<>\"PRC_RESID\",\"\",IF(Y$7=2005+OFFSET(AGR!$B$49,$AX109,SUMIF($B$10:$B$14,\"NCAP_TLIFE\",$AY$10:$AY$14)),0,\"\"))","v":""},{"$f":"IF($B109<>\"PRC_RESID\",\"\",IF(Z$7=2005+OFFSET(AGR!$B$49,$AX109,SUMIF($B$10:$B$14,\"NCAP_TLIFE\",$AY$10:$AY$14)),0,\"\"))","v":""},{"$f":"IF($B109<>\"PRC_RESID\",\"\",IF(AA$7=2005+OFFSET(AGR!$B$49,$AX109,SUMIF($B$10:$B$14,\"NCAP_TLIFE\",$AY$10:$AY$14)),0,\"\"))","v":""},{"$f":"IF($B109<>\"PRC_RESID\",\"\",IF(AB$7=2005+OFFSET(AGR!$B$49,$AX109,SUMIF($B$10:$B$14,\"NCAP_TLIFE\",$AY$10:$AY$14)),0,\"\"))","v":""},{"$f":"IF($B109<>\"PRC_RESID\",\"\",IF(AC$7=2005+OFFSET(AGR!$B$49,$AX109,SUMIF($B$10:$B$14,\"NCAP_TLIFE\",$AY$10:$AY$14)),0,\"\"))","v":""},{"$f":"IF($B109<>\"PRC_RESID\",\"\",IF(AD$7=2005+OFFSET(AGR!$B$49,$AX109,SUMIF($B$10:$B$14,\"NCAP_TLIFE\",$AY$10:$AY$14)),0,\"\"))","v":""},{"$f":"IF($B109<>\"PRC_RESID\",\"\",IF(AE$7=2005+OFFSET(AGR!$B$49,$AX109,SUMIF($B$10:$B$14,\"NCAP_TLIFE\",$AY$10:$AY$14)),0,\"\"))","v":""},{"$f":"IF($B109<>\"PRC_RESID\",\"\",IF(AF$7=2005+OFFSET(AGR!$B$49,$AX109,SUMIF($B$10:$B$14,\"NCAP_TLIFE\",$AY$10:$AY$14)),0,\"\"))","v":""},{"$f":"IF($B109<>\"PRC_RESID\",\"\",IF(AG$7=2005+OFFSET(AGR!$B$49,$AX109,SUMIF($B$10:$B$14,\"NCAP_TLIFE\",$AY$10:$AY$14)),0,\"\"))","v":""},{"$f":"IF($B109<>\"PRC_RESID\",\"\",IF(AH$7=2005+OFFSET(AGR!$B$49,$AX109,SUMIF($B$10:$B$14,\"NCAP_TLIFE\",$AY$10:$AY$14)),0,\"\"))","v":""},null,null,null,null,{"$f":"IF($B109<>\"PRC_RESID\",\"\",IF(AM$7=2005+OFFSET(AGR!$B$49,$AX109,SUMIF($B$10:$B$14,\"NCAP_TLIFE\",$AY$10:$AY$14)),0,\"\"))","v":""},null,null,null,null,{"$f":"IF($B109<>\"PRC_RESID\",\"\",IF(AR$7=2005+OFFSET(AGR!$B$49,$AX109,SUMIF($B$10:$B$14,\"NCAP_TLIFE\",$AY$10:$AY$14)),0,\"\"))","v":""},{"$f":"IF($B109<>\"PRC_RESID\",\"\",IF(AS$7=2005+OFFSET(AGR!$B$49,$AX109,SUMIF($B$10:$B$14,\"NCAP_TLIFE\",$AY$10:$AY$14)),0,\"\"))","v":""},{"$f":"IF($B109<>\"PRC_RESID\",\"\",IF(AT$7=2005+OFFSET(AGR!$B$49,$AX109,SUMIF($B$10:$B$14,\"NCAP_TLIFE\",$AY$10:$AY$14)),0,\"\"))","v":""},{"$f":"IF($B109<>\"PRC_RESID\",\"\",IF(AU$7=2005+OFFSET(AGR!$B$49,$AX109,SUMIF($B$10:$B$14,\"NCAP_TLIFE\",$AY$10:$AY$14)),0,\"\"))","v":""},null,{"$f":"IF(AX108=AGR!$W$72,AW108+1,AW108)","v":5},2]
[{"$f":"IF(LEFT(OFFSET(AGR!$A$49,AX110,0),2)=\"\\I\",\"*\",\"\")","v":""},"PRC_RESID",{"$f":"IF($A110=\"*\",\"\",OFFSET(AGR!$B$49,AX110,0))","v":"AHOKE-E"},"-","-","-","-","-",0,{"$f":"IF($A110=\"*\",\"\",OFFSET(AGR!$B$49,AX110,SUMIF($B$10:$B$14,B110,$AY$10:$AY$14)))","v":3.2185951986577184},{"$f":"IF($B110<>\"PRC_RESID\",\"\",IF(K$7=2005+OFFSET(AGR!$B$49,$AX110,SUMIF($B$10:$B$14,\"NCAP_TLIFE\",$AY$10:$AY$14)),0,\"\"))","v":""},{"$f":"IF($B110<>\"PRC_RESID\",\"\",IF(L$7=2005+OFFSET(AGR!$B$49,$AX110,SUMIF($B$10:$B$14,\"NCAP_TLIFE\",$AY$10:$AY$14)),0,\"\"))","v":""},{"$f":"IF($B110<>\"PRC_RESID\",\"\",IF(M$7=2005+OFFSET(AGR!$B$49,$AX110,SUMIF($B$10:$B$14,\"NCAP_TLIFE\",$AY$10:$AY$14)),0,\"\"))","v":""},{"$f":"IF($B110<>\"PRC_RESID\",\"\",IF(N$7=2005+OFFSET(AGR!$B$49,$AX110,SUMIF($B$10:$B$14,\"NCAP_TLIFE\",$AY$10:$AY$14)),0,\"\"))","v":""},{"$f":"IF($B110<>\"PRC_RESID\",\"\",IF(O$7=2005+OFFSET(AGR!$B$49,$AX110,SUMIF($B$10:$B$14,\"NCAP_TLIFE\",$AY$10:$AY$14)),0,\"\"))","v":""},{"$f":"IF($B110<>\"PRC_RESID\",\"\",IF(P$7=2005+OFFSET(AGR!$B$49,$AX110,SUMIF($B$10:$B$14,\"NCAP_TLIFE\",$AY$10:$AY$14)),0,\"\"))","v":""},{"$f":"IF($B110<>\"PRC_RESID\",\"\",IF(Q$7=2005+OFFSET(AGR!$B$49,$AX110,SUMIF($B$10:$B$14,\"NCAP_TLIFE\",$AY$10:$AY$14)),0,\"\"))","v":""},{"$f":"IF($B110<>\"PRC_RESID\",\"\",IF(R$7=2005+OFFSET(AGR!$B$49,$AX110,SUMIF($B$10:$B$14,\"NCAP_TLIFE\",$AY$10:$AY$14)),0,\"\"))","v":""},{"$f":"IF($B110<>\"PRC_RESID\",\"\",IF(S$7=2005+OFFSET(AGR!$B$49,$AX110,SUMIF($B$10:$B$14,\"NCAP_TLIFE\",$AY$10:$AY$14)),0,\"\"))","v":""},{"$f":"IF($B110<>\"PRC_RESID\",\"\",IF(T$7=2005+OFFSET(AGR!$B$49,$AX110,SUMIF($B$10:$B$14,\"NCAP_TLIFE\",$AY$10:$AY$14)),0,\"\"))","v":""},{"$f":"IF($B110<>\"PRC_RESID\",\"\",IF(U$7=2005+OFFSET(AGR!$B$49,$AX110,SUMIF($B$10:$B$14,\"NCAP_TLIFE\",$AY$10:$AY$14)),0,\"\"))","v":""},{"$f":"IF($B110<>\"PRC_RESID\",\"\",IF(V$7=2005+OFFSET(AGR!$B$49,$AX110,SUMIF($B$10:$B$14,\"NCAP_TLIFE\",$AY$10:$AY$14)),0,\"\"))","v":""},{"$f":"IF($B110<>\"PRC_RESID\",\"\",IF(W$7=2005+OFFSET(AGR!$B$49,$AX110,SUMIF($B$10:$B$14,\"NCAP_TLIFE\",$AY$10:$AY$14)),0,\"\"))","v":""},{"$f":"IF($B110<>\"PRC_RESID\",\"\",IF(X$7=2005+OFFSET(AGR!$B$49,$AX110,SUMIF($B$10:$B$14,\"NCAP_TLIFE\",$AY$10:$AY$14)),0,\"\"))","v":0},{"$f":"IF($B110<>\"PRC_RESID\",\"\",IF(Y$7=2005+OFFSET(AGR!$B$49,$AX110,SUMIF($B$10:$B$14,\"NCAP_TLIFE\",$AY$10:$AY$14)),0,\"\"))","v":""},{"$f":"IF($B110<>\"PRC_RESID\",\"\",IF(Z$7=2005+OFFSET(AGR!$B$49,$AX110,SUMIF($B$10:$B$14,\"NCAP_TLIFE\",$AY$10:$AY$14)),0,\"\"))","v":""},{"$f":"IF($B110<>\"PRC_RESID\",\"\",IF(AA$7=2005+OFFSET(AGR!$B$49,$AX110,SUMIF($B$10:$B$14,\"NCAP_TLIFE\",$AY$10:$AY$14)),0,\"\"))","v":""},{"$f":"IF($B110<>\"PRC_RESID\",\"\",IF(AB$7=2005+OFFSET(AGR!$B$49,$AX110,SUMIF($B$10:$B$14,\"NCAP_TLIFE\",$AY$10:$AY$14)),0,\"\"))","v":""},{"$f":"IF($B110<>\"PRC_RESID\",\"\",IF(AC$7=2005+OFFSET(AGR!$B$49,$AX110,SUMIF($B$10:$B$14,\"NCAP_TLIFE\",$AY$10:$AY$14)),0,\"\"))","v":""},{"$f":"IF($B110<>\"PRC_RESID\",\"\",IF(AD$7=2005+OFFSET(AGR!$B$49,$AX110,SUMIF($B$10:$B$14,\"NCAP_TLIFE\",$AY$10:$AY$14)),0,\"\"))","v":""},{"$f":"IF($B110<>\"PRC_RESID\",\"\",IF(AE$7=2005+OFFSET(AGR!$B$49,$AX110,SUMIF($B$10:$B$14,\"NCAP_TLIFE\",$AY$10:$AY$14)),0,\"\"))","v":""},{"$f":"IF($B110<>\"PRC_RESID\",\"\",IF(AF$7=2005+OFFSET(AGR!$B$49,$AX110,SUMIF($B$10:$B$14,\"NCAP_TLIFE\",$AY$10:$AY$14)),0,\"\"))","v":""},{"$f":"IF($B110<>\"PRC_RESID\",\"\",IF(AG$7=2005+OFFSET(AGR!$B$49,$AX110,SUMIF($B$10:$B$14,\"NCAP_TLIFE\",$AY$10:$AY$14)),0,\"\"))","v":""},{"$f":"IF($B110<>\"PRC_RESID\",\"\",IF(AH$7=2005+OFFSET(AGR!$B$49,$AX110,SUMIF($B$10:$B$14,\"NCAP_TLIFE\",$AY$10:$AY$14)),0,\"\"))","v":""},null,null,null,null,{"$f":"IF($B110<>\"PRC_RESID\",\"\",IF(AM$7=2005+OFFSET(AGR!$B$49,$AX110,SUMIF($B$10:$B$14,\"NCAP_TLIFE\",$AY$10:$AY$14)),0,\"\"))","v":""},null,null,null,null,{"$f":"IF($B110<>\"PRC_RESID\",\"\",IF(AR$7=2005+OFFSET(AGR!$B$49,$AX110,SUMIF($B$10:$B$14,\"NCAP_TLIFE\",$AY$10:$AY$14)),0,\"\"))","v":""},{"$f":"IF($B110<>\"PRC_RESID\",\"\",IF(AS$7=2005+OFFSET(AGR!$B$49,$AX110,SUMIF($B$10:$B$14,\"NCAP_TLIFE\",$AY$10:$AY$14)),0,\"\"))","v":""},{"$f":"IF($B110<>\"PRC_RESID\",\"\",IF(AT$7=2005+OFFSET(AGR!$B$49,$AX110,SUMIF($B$10:$B$14,\"NCAP_TLIFE\",$AY$10:$AY$14)),0,\"\"))","v":""},{"$f":"IF($B110<>\"PRC_RESID\",\"\",IF(AU$7=2005+OFFSET(AGR!$B$49,$AX110,SUMIF($B$10:$B$14,\"NCAP_TLIFE\",$AY$10:$AY$14)),0,\"\"))","v":""},null,{"$f":"IF(AX109=AGR!$W$72,AW109+1,AW109)","v":5},3]
[{"$f":"IF(LEFT(OFFSET(AGR!$A$49,AX111,0),2)=\"\\I\",\"*\",\"\")","v":""},"PRC_RESID",{"$f":"IF($A111=\"*\",\"\",OFFSET(AGR!$B$49,AX111,0))","v":"AHOLP-E"},"-","-","-","-","-",0,{"$f":"IF($A111=\"*\",\"\",OFFSET(AGR!$B$49,AX111,SUMIF($B$10:$B$14,B111,$AY$10:$AY$14)))","v":1.8589400376383095E-3},{"$f":"IF($B111<>\"PRC_RESID\",\"\",IF(K$7=2005+OFFSET(AGR!$B$49,$AX111,SUMIF($B$10:$B$14,\"NCAP_TLIFE\",$AY$10:$AY$14)),0,\"\"))","v":""},{"$f":"IF($B111<>\"PRC_RESID\",\"\",IF(L$7=2005+OFFSET(AGR!$B$49,$AX111,SUMIF($B$10:$B$14,\"NCAP_TLIFE\",$AY$10:$AY$14)),0,\"\"))","v":""},{"$f":"IF($B111<>\"PRC_RESID\",\"\",IF(M$7=2005+OFFSET(AGR!$B$49,$AX111,SUMIF($B$10:$B$14,\"NCAP_TLIFE\",$AY$10:$AY$14)),0,\"\"))","v":""},{"$f":"IF($B111<>\"PRC_RESID\",\"\",IF(N$7=2005+OFFSET(AGR!$B$49,$AX111,SUMIF($B$10:$B$14,\"NCAP_TLIFE\",$AY$10:$AY$14)),0,\"\"))","v":""},{"$f":"IF($B111<>\"PRC_RESID\",\"\",IF(O$7=2005+OFFSET(AGR!$B$49,$AX111,SUMIF($B$10:$B$14,\"NCAP_TLIFE\",$AY$10:$AY$14)),0,\"\"))","v":""},{"$f":"IF($B111<>\"PRC_RESID\",\"\",IF(P$7=2005+OFFSET(AGR!$B$49,$AX111,SUMIF($B$10:$B$14,\"NCAP_TLIFE\",$AY$10:$AY$14)),0,\"\"))","v":""},{"$f":"IF($B111<>\"PRC_RESID\",\"\",IF(Q$7=2005+OFFSET(AGR!$B$49,$AX111,SUMIF($B$10:$B$14,\"NCAP_TLIFE\",$AY$10:$AY$14)),0,\"\"))","v":""},{"$f":"IF($B111<>\"PRC_RESID\",\"\",IF(R$7=2005+OFFSET(AGR!$B$49,$AX111,SUMIF($B$10:$B$14,\"NCAP_TLIFE\",$AY$10:$AY$14)),0,\"\"))","v":""},{"$f":"IF($B111<>\"PRC_RESID\",\"\",IF(S$7=2005+OFFSET(AGR!$B$49,$AX111,SUMIF($B$10:$B$14,\"NCAP_TLIFE\",$AY$10:$AY$14)),0,\"\"))","v":""},{"$f":"IF($B111<>\"PRC_RESID\",\"\",IF(T$7=2005+OFFSET(AGR!$B$49,$AX111,SUMIF($B$10:$B$14,\"NCAP_TLIFE\",$AY$10:$AY$14)),0,\"\"))","v":""},{"$f":"IF($B111<>\"PRC_RESID\",\"\",IF(U$7=2005+OFFSET(AGR!$B$49,$AX111,SUMIF($B$10:$B$14,\"NCAP_TLIFE\",$AY$10:$AY$14)),0,\"\"))","v":""},{"$f":"IF($B111<>\"PRC_RESID\",\"\",IF(V$7=2005+OFFSET(AGR!$B$49,$AX111,SUMIF($B$10:$B$14,\"NCAP_TLIFE\",$AY$10:$AY$14)),0,\"\"))","v":""},{"$f":"IF($B111<>\"PRC_RESID\",\"\",IF(W$7=2005+OFFSET(AGR!$B$49,$AX111,SUMIF($B$10:$B$14,\"NCAP_TLIFE\",$AY$10:$AY$14)),0,\"\"))","v":""},{"$f":"IF($B111<>\"PRC_RESID\",\"\",IF(X$7=2005+OFFSET(AGR!$B$49,$AX111,SUMIF($B$10:$B$14,\"NCAP_TLIFE\",$AY$10:$AY$14)),0,\"\"))","v":0},{"$f":"IF($B111<>\"PRC_RESID\",\"\",IF(Y$7=2005+OFFSET(AGR!$B$49,$AX111,SUMIF($B$10:$B$14,\"NCAP_TLIFE\",$AY$10:$AY$14)),0,\"\"))","v":""},{"$f":"IF($B111<>\"PRC_RESID\",\"\",IF(Z$7=2005+OFFSET(AGR!$B$49,$AX111,SUMIF($B$10:$B$14,\"NCAP_TLIFE\",$AY$10:$AY$14)),0,\"\"))","v":""},{"$f":"IF($B111<>\"PRC_RESID\",\"\",IF(AA$7=2005+OFFSET(AGR!$B$49,$AX111,SUMIF($B$10:$B$14,\"NCAP_TLIFE\",$AY$10:$AY$14)),0,\"\"))","v":""},{"$f":"IF($B111<>\"PRC_RESID\",\"\",IF(AB$7=2005+OFFSET(AGR!$B$49,$AX111,SUMIF($B$10:$B$14,\"NCAP_TLIFE\",$AY$10:$AY$14)),0,\"\"))","v":""},{"$f":"IF($B111<>\"PRC_RESID\",\"\",IF(AC$7=2005+OFFSET(AGR!$B$49,$AX111,SUMIF($B$10:$B$14,\"NCAP_TLIFE\",$AY$10:$AY$14)),0,\"\"))","v":""},{"$f":"IF($B111<>\"PRC_RESID\",\"\",IF(AD$7=2005+OFFSET(AGR!$B$49,$AX111,SUMIF($B$10:$B$14,\"NCAP_TLIFE\",$AY$10:$AY$14)),0,\"\"))","v":""},{"$f":"IF($B111<>\"PRC_RESID\",\"\",IF(AE$7=2005+OFFSET(AGR!$B$49,$AX111,SUMIF($B$10:$B$14,\"NCAP_TLIFE\",$AY$10:$AY$14)),0,\"\"))","v":""},{"$f":"IF($B111<>\"PRC_RESID\",\"\",IF(AF$7=2005+OFFSET(AGR!$B$49,$AX111,SUMIF($B$10:$B$14,\"NCAP_TLIFE\",$AY$10:$AY$14)),0,\"\"))","v":""},{"$f":"IF($B111<>\"PRC_RESID\",\"\",IF(AG$7=2005+OFFSET(AGR!$B$49,$AX111,SUMIF($B$10:$B$14,\"NCAP_TLIFE\",$AY$10:$AY$14)),0,\"\"))","v":""},{"$f":"IF($B111<>\"PRC_RESID\",\"\",IF(AH$7=2005+OFFSET(AGR!$B$49,$AX111,SUMIF($B$10:$B$14,\"NCAP_TLIFE\",$AY$10:$AY$14)),0,\"\"))","v":""},null,null,null,null,{"$f":"IF($B111<>\"PRC_RESID\",\"\",IF(AM$7=2005+OFFSET(AGR!$B$49,$AX111,SUMIF($B$10:$B$14,\"NCAP_TLIFE\",$AY$10:$AY$14)),0,\"\"))","v":""},null,null,null,null,{"$f":"IF($B111<>\"PRC_RESID\",\"\",IF(AR$7=2005+OFFSET(AGR!$B$49,$AX111,SUMIF($B$10:$B$14,\"NCAP_TLIFE\",$AY$10:$AY$14)),0,\"\"))","v":""},{"$f":"IF($B111<>\"PRC_RESID\",\"\",IF(AS$7=2005+OFFSET(AGR!$B$49,$AX111,SUMIF($B$10:$B$14,\"NCAP_TLIFE\",$AY$10:$AY$14)),0,\"\"))","v":""},{"$f":"IF($B111<>\"PRC_RESID\",\"\",IF(AT$7=2005+OFFSET(AGR!$B$49,$AX111,SUMIF($B$10:$B$14,\"NCAP_TLIFE\",$AY$10:$AY$14)),0,\"\"))","v":""},{"$f":"IF($B111<>\"PRC_RESID\",\"\",IF(AU$7=2005+OFFSET(AGR!$B$49,$AX111,SUMIF($B$10:$B$14,\"NCAP_TLIFE\",$AY$10:$AY$14)),0,\"\"))","v":""},null,{"$f":"IF(AX110=AGR!$W$72,AW110+1,AW110)","v":5},{"$f":"IF(AW111=AW110,AX110+1,1)","v":4}]
[{"$f":"IF(LEFT(OFFSET(AGR!$A$49,AX112,0),2)=\"\\I\",\"*\",\"\")","v":""},{"$f":"IF(A112=\"*\",\"\",VLOOKUP(\"*\"&AW112,$A$9:$B$14,2,FALSE))","v":"PRC_RESID"},{"$f":"IF($A112=\"*\",\"\",OFFSET(AGR!$B$49,AX112,0))","v":"AHELC-E"},"-","-","-","-","-",0,{"$f":"IF($A112=\"*\",\"\",OFFSET(AGR!$B$49,AX112,SUMIF($B$10:$B$14,B112,$AY$10:$AY$14)))","v":0},{"$f":"IF($B112<>\"PRC_RESID\",\"\",IF(K$7=2005+OFFSET(AGR!$B$49,$AX112,SUMIF($B$10:$B$14,\"NCAP_TLIFE\",$AY$10:$AY$14)),0,\"\"))","v":""},{"$f":"IF($B112<>\"PRC_RESID\",\"\",IF(L$7=2005+OFFSET(AGR!$B$49,$AX112,SUMIF($B$10:$B$14,\"NCAP_TLIFE\",$AY$10:$AY$14)),0,\"\"))","v":""},{"$f":"IF($B112<>\"PRC_RESID\",\"\",IF(M$7=2005+OFFSET(AGR!$B$49,$AX112,SUMIF($B$10:$B$14,\"NCAP_TLIFE\",$AY$10:$AY$14)),0,\"\"))","v":""},{"$f":"IF($B112<>\"PRC_RESID\",\"\",IF(N$7=2005+OFFSET(AGR!$B$49,$AX112,SUMIF($B$10:$B$14,\"NCAP_TLIFE\",$AY$10:$AY$14)),0,\"\"))","v":""},{"$f":"IF($B112<>\"PRC_RESID\",\"\",IF(O$7=2005+OFFSET(AGR!$B$49,$AX112,SUMIF($B$10:$B$14,\"NCAP_TLIFE\",$AY$10:$AY$14)),0,\"\"))","v":""},{"$f":"IF($B112<>\"PRC_RESID\",\"\",IF(P$7=2005+OFFSET(AGR!$B$49,$AX112,SUMIF($B$10:$B$14,\"NCAP_TLIFE\",$AY$10:$AY$14)),0,\"\"))","v":""},{"$f":"IF($B112<>\"PRC_RESID\",\"\",IF(Q$7=2005+OFFSET(AGR!$B$49,$AX112,SUMIF($B$10:$B$14,\"NCAP_TLIFE\",$AY$10:$AY$14)),0,\"\"))","v":""},{"$f":"IF($B112<>\"PRC_RESID\",\"\",IF(R$7=2005+OFFSET(AGR!$B$49,$AX112,SUMIF($B$10:$B$14,\"NCAP_TLIFE\",$AY$10:$AY$14)),0,\"\"))","v":""},{"$f":"IF($B112<>\"PRC_RESID\",\"\",IF(S$7=2005+OFFSET(AGR!$B$49,$AX112,SUMIF($B$10:$B$14,\"NCAP_TLIFE\",$AY$10:$AY$14)),0,\"\"))","v":""},{"$f":"IF($B112<>\"PRC_RESID\",\"\",IF(T$7=2005+OFFSET(AGR!$B$49,$AX112,SUMIF($B$10:$B$14,\"NCAP_TLIFE\",$AY$10:$AY$14)),0,\"\"))","v":""},{"$f":"IF($B112<>\"PRC_RESID\",\"\",IF(U$7=2005+OFFSET(AGR!$B$49,$AX112,SUMIF($B$10:$B$14,\"NCAP_TLIFE\",$AY$10:$AY$14)),0,\"\"))","v":""},{"$f":"IF($B112<>\"PRC_RESID\",\"\",IF(V$7=2005+OFFSET(AGR!$B$49,$AX112,SUMIF($B$10:$B$14,\"NCAP_TLIFE\",$AY$10:$AY$14)),0,\"\"))","v":""},{"$f":"IF($B112<>\"PRC_RESID\",\"\",IF(W$7=2005+OFFSET(AGR!$B$49,$AX112,SUMIF($B$10:$B$14,\"NCAP_TLIFE\",$AY$10:$AY$14)),0,\"\"))","v":""},{"$f":"IF($B112<>\"PRC_RESID\",\"\",IF(X$7=2005+OFFSET(AGR!$B$49,$AX112,SUMIF($B$10:$B$14,\"NCAP_TLIFE\",$AY$10:$AY$14)),0,\"\"))","v":0},{"$f":"IF($B112<>\"PRC_RESID\",\"\",IF(Y$7=2005+OFFSET(AGR!$B$49,$AX112,SUMIF($B$10:$B$14,\"NCAP_TLIFE\",$AY$10:$AY$14)),0,\"\"))","v":""},{"$f":"IF($B112<>\"PRC_RESID\",\"\",IF(Z$7=2005+OFFSET(AGR!$B$49,$AX112,SUMIF($B$10:$B$14,\"NCAP_TLIFE\",$AY$10:$AY$14)),0,\"\"))","v":""},{"$f":"IF($B112<>\"PRC_RESID\",\"\",IF(AA$7=2005+OFFSET(AGR!$B$49,$AX112,SUMIF($B$10:$B$14,\"NCAP_TLIFE\",$AY$10:$AY$14)),0,\"\"))","v":""},{"$f":"IF($B112<>\"PRC_RESID\",\"\",IF(AB$7=2005+OFFSET(AGR!$B$49,$AX112,SUMIF($B$10:$B$14,\"NCAP_TLIFE\",$AY$10:$AY$14)),0,\"\"))","v":""},{"$f":"IF($B112<>\"PRC_RESID\",\"\",IF(AC$7=2005+OFFSET(AGR!$B$49,$AX112,SUMIF($B$10:$B$14,\"NCAP_TLIFE\",$AY$10:$AY$14)),0,\"\"))","v":""},{"$f":"IF($B112<>\"PRC_RESID\",\"\",IF(AD$7=2005+OFFSET(AGR!$B$49,$AX112,SUMIF($B$10:$B$14,\"NCAP_TLIFE\",$AY$10:$AY$14)),0,\"\"))","v":""},{"$f":"IF($B112<>\"PRC_RESID\",\"\",IF(AE$7=2005+OFFSET(AGR!$B$49,$AX112,SUMIF($B$10:$B$14,\"NCAP_TLIFE\",$AY$10:$AY$14)),0,\"\"))","v":""},{"$f":"IF($B112<>\"PRC_RESID\",\"\",IF(AF$7=2005+OFFSET(AGR!$B$49,$AX112,SUMIF($B$10:$B$14,\"NCAP_TLIFE\",$AY$10:$AY$14)),0,\"\"))","v":""},{"$f":"IF($B112<>\"PRC_RESID\",\"\",IF(AG$7=2005+OFFSET(AGR!$B$49,$AX112,SUMIF($B$10:$B$14,\"NCAP_TLIFE\",$AY$10:$AY$14)),0,\"\"))","v":""},{"$f":"IF($B112<>\"PRC_RESID\",\"\",IF(AH$7=2005+OFFSET(AGR!$B$49,$AX112,SUMIF($B$10:$B$14,\"NCAP_TLIFE\",$AY$10:$AY$14)),0,\"\"))","v":""},null,null,null,null,{"$f":"IF($B112<>\"PRC_RESID\",\"\",IF(AM$7=2005+OFFSET(AGR!$B$49,$AX112,SUMIF($B$10:$B$14,\"NCAP_TLIFE\",$AY$10:$AY$14)),0,\"\"))","v":""},null,null,null,null,{"$f":"IF($B112<>\"PRC_RESID\",\"\",IF(AR$7=2005+OFFSET(AGR!$B$49,$AX112,SUMIF($B$10:$B$14,\"NCAP_TLIFE\",$AY$10:$AY$14)),0,\"\"))","v":""},{"$f":"IF($B112<>\"PRC_RESID\",\"\",IF(AS$7=2005+OFFSET(AGR!$B$49,$AX112,SUMIF($B$10:$B$14,\"NCAP_TLIFE\",$AY$10:$AY$14)),0,\"\"))","v":""},{"$f":"IF($B112<>\"PRC_RESID\",\"\",IF(AT$7=2005+OFFSET(AGR!$B$49,$AX112,SUMIF($B$10:$B$14,\"NCAP_TLIFE\",$AY$10:$AY$14)),0,\"\"))","v":""},{"$f":"IF($B112<>\"PRC_RESID\",\"\",IF(AU$7=2005+OFFSET(AGR!$B$49,$AX112,SUMIF($B$10:$B$14,\"NCAP_TLIFE\",$AY$10:$AY$14)),0,\"\"))","v":""},null,{"$f":"IF(AX111=AGR!$W$72,AW111+1,AW111)","v":5},{"$f":"IF(AW112=AW111,AX111+1,1)","v":5}]
[{"$f":"IF(LEFT(OFFSET(AGR!$A$49,AX113,0),2)=\"\\I\",\"*\",\"\")","v":"*"},"",{"$f":"IF($A113=\"*\",\"\",OFFSET(AGR!$B$49,AX113,0))","v":""},"","","","","","",{"$f":"IF($A113=\"*\",\"\",OFFSET(AGR!$B$49,AX113,SUMIF($B$10:$B$14,B113,$AY$10:$AY$14)))","v":""},{"$f":"IF($B113<>\"PRC_RESID\",\"\",IF(K$7=2005+OFFSET(AGR!$B$49,$AX113,SUMIF($B$10:$B$14,\"NCAP_TLIFE\",$AY$10:$AY$14)),0,\"\"))","v":""},{"$f":"IF($B113<>\"PRC_RESID\",\"\",IF(L$7=2005+OFFSET(AGR!$B$49,$AX113,SUMIF($B$10:$B$14,\"NCAP_TLIFE\",$AY$10:$AY$14)),0,\"\"))","v":""},{"$f":"IF($B113<>\"PRC_RESID\",\"\",IF(M$7=2005+OFFSET(AGR!$B$49,$AX113,SUMIF($B$10:$B$14,\"NCAP_TLIFE\",$AY$10:$AY$14)),0,\"\"))","v":""},{"$f":"IF($B113<>\"PRC_RESID\",\"\",IF(N$7=2005+OFFSET(AGR!$B$49,$AX113,SUMIF($B$10:$B$14,\"NCAP_TLIFE\",$AY$10:$AY$14)),0,\"\"))","v":""},{"$f":"IF($B113<>\"PRC_RESID\",\"\",IF(O$7=2005+OFFSET(AGR!$B$49,$AX113,SUMIF($B$10:$B$14,\"NCAP_TLIFE\",$AY$10:$AY$14)),0,\"\"))","v":""},{"$f":"IF($B113<>\"PRC_RESID\",\"\",IF(P$7=2005+OFFSET(AGR!$B$49,$AX113,SUMIF($B$10:$B$14,\"NCAP_TLIFE\",$AY$10:$AY$14)),0,\"\"))","v":""},{"$f":"IF($B113<>\"PRC_RESID\",\"\",IF(Q$7=2005+OFFSET(AGR!$B$49,$AX113,SUMIF($B$10:$B$14,\"NCAP_TLIFE\",$AY$10:$AY$14)),0,\"\"))","v":""},{"$f":"IF($B113<>\"PRC_RESID\",\"\",IF(R$7=2005+OFFSET(AGR!$B$49,$AX113,SUMIF($B$10:$B$14,\"NCAP_TLIFE\",$AY$10:$AY$14)),0,\"\"))","v":""},{"$f":"IF($B113<>\"PRC_RESID\",\"\",IF(S$7=2005+OFFSET(AGR!$B$49,$AX113,SUMIF($B$10:$B$14,\"NCAP_TLIFE\",$AY$10:$AY$14)),0,\"\"))","v":""},{"$f":"IF($B113<>\"PRC_RESID\",\"\",IF(T$7=2005+OFFSET(AGR!$B$49,$AX113,SUMIF($B$10:$B$14,\"NCAP_TLIFE\",$AY$10:$AY$14)),0,\"\"))","v":""},{"$f":"IF($B113<>\"PRC_RESID\",\"\",IF(U$7=2005+OFFSET(AGR!$B$49,$AX113,SUMIF($B$10:$B$14,\"NCAP_TLIFE\",$AY$10:$AY$14)),0,\"\"))","v":""},{"$f":"IF($B113<>\"PRC_RESID\",\"\",IF(V$7=2005+OFFSET(AGR!$B$49,$AX113,SUMIF($B$10:$B$14,\"NCAP_TLIFE\",$AY$10:$AY$14)),0,\"\"))","v":""},{"$f":"IF($B113<>\"PRC_RESID\",\"\",IF(W$7=2005+OFFSET(AGR!$B$49,$AX113,SUMIF($B$10:$B$14,\"NCAP_TLIFE\",$AY$10:$AY$14)),0,\"\"))","v":""},{"$f":"IF($B113<>\"PRC_RESID\",\"\",IF(X$7=2005+OFFSET(AGR!$B$49,$AX113,SUMIF($B$10:$B$14,\"NCAP_TLIFE\",$AY$10:$AY$14)),0,\"\"))","v":""},{"$f":"IF($B113<>\"PRC_RESID\",\"\",IF(Y$7=2005+OFFSET(AGR!$B$49,$AX113,SUMIF($B$10:$B$14,\"NCAP_TLIFE\",$AY$10:$AY$14)),0,\"\"))","v":""},{"$f":"IF($B113<>\"PRC_RESID\",\"\",IF(Z$7=2005+OFFSET(AGR!$B$49,$AX113,SUMIF($B$10:$B$14,\"NCAP_TLIFE\",$AY$10:$AY$14)),0,\"\"))","v":""},{"$f":"IF($B113<>\"PRC_RESID\",\"\",IF(AA$7=2005+OFFSET(AGR!$B$49,$AX113,SUMIF($B$10:$B$14,\"NCAP_TLIFE\",$AY$10:$AY$14)),0,\"\"))","v":""},{"$f":"IF($B113<>\"PRC_RESID\",\"\",IF(AB$7=2005+OFFSET(AGR!$B$49,$AX113,SUMIF($B$10:$B$14,\"NCAP_TLIFE\",$AY$10:$AY$14)),0,\"\"))","v":""},{"$f":"IF($B113<>\"PRC_RESID\",\"\",IF(AC$7=2005+OFFSET(AGR!$B$49,$AX113,SUMIF($B$10:$B$14,\"NCAP_TLIFE\",$AY$10:$AY$14)),0,\"\"))","v":""},{"$f":"IF($B113<>\"PRC_RESID\",\"\",IF(AD$7=2005+OFFSET(AGR!$B$49,$AX113,SUMIF($B$10:$B$14,\"NCAP_TLIFE\",$AY$10:$AY$14)),0,\"\"))","v":""},{"$f":"IF($B113<>\"PRC_RESID\",\"\",IF(AE$7=2005+OFFSET(AGR!$B$49,$AX113,SUMIF($B$10:$B$14,\"NCAP_TLIFE\",$AY$10:$AY$14)),0,\"\"))","v":""},{"$f":"IF($B113<>\"PRC_RESID\",\"\",IF(AF$7=2005+OFFSET(AGR!$B$49,$AX113,SUMIF($B$10:$B$14,\"NCAP_TLIFE\",$AY$10:$AY$14)),0,\"\"))","v":""},{"$f":"IF($B113<>\"PRC_RESID\",\"\",IF(AG$7=2005+OFFSET(AGR!$B$49,$AX113,SUMIF($B$10:$B$14,\"NCAP_TLIFE\",$AY$10:$AY$14)),0,\"\"))","v":""},{"$f":"IF($B113<>\"PRC_RESID\",\"\",IF(AH$7=2005+OFFSET(AGR!$B$49,$AX113,SUMIF($B$10:$B$14,\"NCAP_TLIFE\",$AY$10:$AY$14)),0,\"\"))","v":""},null,null,null,null,{"$f":"IF($B113<>\"PRC_RESID\",\"\",IF(AM$7=2005+OFFSET(AGR!$B$49,$AX113,SUMIF($B$10:$B$14,\"NCAP_TLIFE\",$AY$10:$AY$14)),0,\"\"))","v":""},null,null,null,null,{"$f":"IF($B113<>\"PRC_RESID\",\"\",IF(AR$7=2005+OFFSET(AGR!$B$49,$AX113,SUMIF($B$10:$B$14,\"NCAP_TLIFE\",$AY$10:$AY$14)),0,\"\"))","v":""},{"$f":"IF($B113<>\"PRC_RESID\",\"\",IF(AS$7=2005+OFFSET(AGR!$B$49,$AX113,SUMIF($B$10:$B$14,\"NCAP_TLIFE\",$AY$10:$AY$14)),0,\"\"))","v":""},{"$f":"IF($B113<>\"PRC_RESID\",\"\",IF(AT$7=2005+OFFSET(AGR!$B$49,$AX113,SUMIF($B$10:$B$14,\"NCAP_TLIFE\",$AY$10:$AY$14)),0,\"\"))","v":""},{"$f":"IF($B113<>\"PRC_RESID\",\"\",IF(AU$7=2005+OFFSET(AGR!$B$49,$AX113,SUMIF($B$10:$B$14,\"NCAP_TLIFE\",$AY$10:$AY$14)),0,\"\"))","v":""},null,{"$f":"IF(AX112=AGR!$W$72,AW112+1,AW112)","v":5},{"$f":"IF(AW113=AW112,AX112+1,1)","v":6}]
[{"$f":"IF(LEFT(OFFSET(AGR!$A$49,AX114,0),2)=\"\\I\",\"*\",\"\")","v":"*"},"",{"$f":"IF($A114=\"*\",\"\",OFFSET(AGR!$B$49,AX114,0))","v":""},"","","","","","",{"$f":"IF($A114=\"*\",\"\",OFFSET(AGR!$B$49,AX114,SUMIF($B$10:$B$14,B114,$AY$10:$AY$14)))","v":""},{"$f":"IF($B114<>\"PRC_RESID\",\"\",IF(K$7=2005+OFFSET(AGR!$B$49,$AX114,SUMIF($B$10:$B$14,\"NCAP_TLIFE\",$AY$10:$AY$14)),0,\"\"))","v":""},{"$f":"IF($B114<>\"PRC_RESID\",\"\",IF(L$7=2005+OFFSET(AGR!$B$49,$AX114,SUMIF($B$10:$B$14,\"NCAP_TLIFE\",$AY$10:$AY$14)),0,\"\"))","v":""},{"$f":"IF($B114<>\"PRC_RESID\",\"\",IF(M$7=2005+OFFSET(AGR!$B$49,$AX114,SUMIF($B$10:$B$14,\"NCAP_TLIFE\",$AY$10:$AY$14)),0,\"\"))","v":""},{"$f":"IF($B114<>\"PRC_RESID\",\"\",IF(N$7=2005+OFFSET(AGR!$B$49,$AX114,SUMIF($B$10:$B$14,\"NCAP_TLIFE\",$AY$10:$AY$14)),0,\"\"))","v":""},{"$f":"IF($B114<>\"PRC_RESID\",\"\",IF(O$7=2005+OFFSET(AGR!$B$49,$AX114,SUMIF($B$10:$B$14,\"NCAP_TLIFE\",$AY$10:$AY$14)),0,\"\"))","v":""},{"$f":"IF($B114<>\"PRC_RESID\",\"\",IF(P$7=2005+OFFSET(AGR!$B$49,$AX114,SUMIF($B$10:$B$14,\"NCAP_TLIFE\",$AY$10:$AY$14)),0,\"\"))","v":""},{"$f":"IF($B114<>\"PRC_RESID\",\"\",IF(Q$7=2005+OFFSET(AGR!$B$49,$AX114,SUMIF($B$10:$B$14,\"NCAP_TLIFE\",$AY$10:$AY$14)),0,\"\"))","v":""},{"$f":"IF($B114<>\"PRC_RESID\",\"\",IF(R$7=2005+OFFSET(AGR!$B$49,$AX114,SUMIF($B$10:$B$14,\"NCAP_TLIFE\",$AY$10:$AY$14)),0,\"\"))","v":""},{"$f":"IF($B114<>\"PRC_RESID\",\"\",IF(S$7=2005+OFFSET(AGR!$B$49,$AX114,SUMIF($B$10:$B$14,\"NCAP_TLIFE\",$AY$10:$AY$14)),0,\"\"))","v":""},{"$f":"IF($B114<>\"PRC_RESID\",\"\",IF(T$7=2005+OFFSET(AGR!$B$49,$AX114,SUMIF($B$10:$B$14,\"NCAP_TLIFE\",$AY$10:$AY$14)),0,\"\"))","v":""},{"$f":"IF($B114<>\"PRC_RESID\",\"\",IF(U$7=2005+OFFSET(AGR!$B$49,$AX114,SUMIF($B$10:$B$14,\"NCAP_TLIFE\",$AY$10:$AY$14)),0,\"\"))","v":""},{"$f":"IF($B114<>\"PRC_RESID\",\"\",IF(V$7=2005+OFFSET(AGR!$B$49,$AX114,SUMIF($B$10:$B$14,\"NCAP_TLIFE\",$AY$10:$AY$14)),0,\"\"))","v":""},{"$f":"IF($B114<>\"PRC_RESID\",\"\",IF(W$7=2005+OFFSET(AGR!$B$49,$AX114,SUMIF($B$10:$B$14,\"NCAP_TLIFE\",$AY$10:$AY$14)),0,\"\"))","v":""},{"$f":"IF($B114<>\"PRC_RESID\",\"\",IF(X$7=2005+OFFSET(AGR!$B$49,$AX114,SUMIF($B$10:$B$14,\"NCAP_TLIFE\",$AY$10:$AY$14)),0,\"\"))","v":""},{"$f":"IF($B114<>\"PRC_RESID\",\"\",IF(Y$7=2005+OFFSET(AGR!$B$49,$AX114,SUMIF($B$10:$B$14,\"NCAP_TLIFE\",$AY$10:$AY$14)),0,\"\"))","v":""},{"$f":"IF($B114<>\"PRC_RESID\",\"\",IF(Z$7=2005+OFFSET(AGR!$B$49,$AX114,SUMIF($B$10:$B$14,\"NCAP_TLIFE\",$AY$10:$AY$14)),0,\"\"))","v":""},{"$f":"IF($B114<>\"PRC_RESID\",\"\",IF(AA$7=2005+OFFSET(AGR!$B$49,$AX114,SUMIF($B$10:$B$14,\"NCAP_TLIFE\",$AY$10:$AY$14)),0,\"\"))","v":""},{"$f":"IF($B114<>\"PRC_RESID\",\"\",IF(AB$7=2005+OFFSET(AGR!$B$49,$AX114,SUMIF($B$10:$B$14,\"NCAP_TLIFE\",$AY$10:$AY$14)),0,\"\"))","v":""},{"$f":"IF($B114<>\"PRC_RESID\",\"\",IF(AC$7=2005+OFFSET(AGR!$B$49,$AX114,SUMIF($B$10:$B$14,\"NCAP_TLIFE\",$AY$10:$AY$14)),0,\"\"))","v":""},{"$f":"IF($B114<>\"PRC_RESID\",\"\",IF(AD$7=2005+OFFSET(AGR!$B$49,$AX114,SUMIF($B$10:$B$14,\"NCAP_TLIFE\",$AY$10:$AY$14)),0,\"\"))","v":""},{"$f":"IF($B114<>\"PRC_RESID\",\"\",IF(AE$7=2005+OFFSET(AGR!$B$49,$AX114,SUMIF($B$10:$B$14,\"NCAP_TLIFE\",$AY$10:$AY$14)),0,\"\"))","v":""},{"$f":"IF($B114<>\"PRC_RESID\",\"\",IF(AF$7=2005+OFFSET(AGR!$B$49,$AX114,SUMIF($B$10:$B$14,\"NCAP_TLIFE\",$AY$10:$AY$14)),0,\"\"))","v":""},{"$f":"IF($B114<>\"PRC_RESID\",\"\",IF(AG$7=2005+OFFSET(AGR!$B$49,$AX114,SUMIF($B$10:$B$14,\"NCAP_TLIFE\",$AY$10:$AY$14)),0,\"\"))","v":""},{"$f":"IF($B114<>\"PRC_RESID\",\"\",IF(AH$7=2005+OFFSET(AGR!$B$49,$AX114,SUMIF($B$10:$B$14,\"NCAP_TLIFE\",$AY$10:$AY$14)),0,\"\"))","v":""},null,null,null,null,{"$f":"IF($B114<>\"PRC_RESID\",\"\",IF(AM$7=2005+OFFSET(AGR!$B$49,$AX114,SUMIF($B$10:$B$14,\"NCAP_TLIFE\",$AY$10:$AY$14)),0,\"\"))","v":""},null,null,null,null,{"$f":"IF($B114<>\"PRC_RESID\",\"\",IF(AR$7=2005+OFFSET(AGR!$B$49,$AX114,SUMIF($B$10:$B$14,\"NCAP_TLIFE\",$AY$10:$AY$14)),0,\"\"))","v":""},{"$f":"IF($B114<>\"PRC_RESID\",\"\",IF(AS$7=2005+OFFSET(AGR!$B$49,$AX114,SUMIF($B$10:$B$14,\"NCAP_TLIFE\",$AY$10:$AY$14)),0,\"\"))","v":""},{"$f":"IF($B114<>\"PRC_RESID\",\"\",IF(AT$7=2005+OFFSET(AGR!$B$49,$AX114,SUMIF($B$10:$B$14,\"NCAP_TLIFE\",$AY$10:$AY$14)),0,\"\"))","v":""},{"$f":"IF($B114<>\"PRC_RESID\",\"\",IF(AU$7=2005+OFFSET(AGR!$B$49,$AX114,SUMIF($B$10:$B$14,\"NCAP_TLIFE\",$AY$10:$AY$14)),0,\"\"))","v":""},null,{"$f":"IF(AX113=AGR!$W$72,AW113+1,AW113)","v":5},{"$f":"IF(AW114=AW113,AX113+1,1)","v":7}]
[{"$f":"IF(LEFT(OFFSET(AGR!$A$49,AX115,0),2)=\"\\I\",\"*\",\"\")","v":""},"PRC_RESID",{"$f":"IF($A115=\"*\",\"\",OFFSET(AGR!$B$49,AX115,0))","v":"APELC-E"},"-","-","-","-","-",0,{"$f":"IF($A115=\"*\",\"\",OFFSET(AGR!$B$49,AX115,SUMIF($B$10:$B$14,B115,$AY$10:$AY$14)))","v":7.410394082043533},{"$f":"IF($B115<>\"PRC_RESID\",\"\",IF(K$7=2005+OFFSET(AGR!$B$49,$AX115,SUMIF($B$10:$B$14,\"NCAP_TLIFE\",$AY$10:$AY$14)),0,\"\"))","v":""},{"$f":"IF($B115<>\"PRC_RESID\",\"\",IF(L$7=2005+OFFSET(AGR!$B$49,$AX115,SUMIF($B$10:$B$14,\"NCAP_TLIFE\",$AY$10:$AY$14)),0,\"\"))","v":""},{"$f":"IF($B115<>\"PRC_RESID\",\"\",IF(M$7=2005+OFFSET(AGR!$B$49,$AX115,SUMIF($B$10:$B$14,\"NCAP_TLIFE\",$AY$10:$AY$14)),0,\"\"))","v":""},{"$f":"IF($B115<>\"PRC_RESID\",\"\",IF(N$7=2005+OFFSET(AGR!$B$49,$AX115,SUMIF($B$10:$B$14,\"NCAP_TLIFE\",$AY$10:$AY$14)),0,\"\"))","v":""},{"$f":"IF($B115<>\"PRC_RESID\",\"\",IF(O$7=2005+OFFSET(AGR!$B$49,$AX115,SUMIF($B$10:$B$14,\"NCAP_TLIFE\",$AY$10:$AY$14)),0,\"\"))","v":""},{"$f":"IF($B115<>\"PRC_RESID\",\"\",IF(P$7=2005+OFFSET(AGR!$B$49,$AX115,SUMIF($B$10:$B$14,\"NCAP_TLIFE\",$AY$10:$AY$14)),0,\"\"))","v":""},{"$f":"IF($B115<>\"PRC_RESID\",\"\",IF(Q$7=2005+OFFSET(AGR!$B$49,$AX115,SUMIF($B$10:$B$14,\"NCAP_TLIFE\",$AY$10:$AY$14)),0,\"\"))","v":""},{"$f":"IF($B115<>\"PRC_RESID\",\"\",IF(R$7=2005+OFFSET(AGR!$B$49,$AX115,SUMIF($B$10:$B$14,\"NCAP_TLIFE\",$AY$10:$AY$14)),0,\"\"))","v":""},{"$f":"IF($B115<>\"PRC_RESID\",\"\",IF(S$7=2005+OFFSET(AGR!$B$49,$AX115,SUMIF($B$10:$B$14,\"NCAP_TLIFE\",$AY$10:$AY$14)),0,\"\"))","v":""},{"$f":"IF($B115<>\"PRC_RESID\",\"\",IF(T$7=2005+OFFSET(AGR!$B$49,$AX115,SUMIF($B$10:$B$14,\"NCAP_TLIFE\",$AY$10:$AY$14)),0,\"\"))","v":""},{"$f":"IF($B115<>\"PRC_RESID\",\"\",IF(U$7=2005+OFFSET(AGR!$B$49,$AX115,SUMIF($B$10:$B$14,\"NCAP_TLIFE\",$AY$10:$AY$14)),0,\"\"))","v":""},{"$f":"IF($B115<>\"PRC_RESID\",\"\",IF(V$7=2005+OFFSET(AGR!$B$49,$AX115,SUMIF($B$10:$B$14,\"NCAP_TLIFE\",$AY$10:$AY$14)),0,\"\"))","v":""},{"$f":"IF($B115<>\"PRC_RESID\",\"\",IF(W$7=2005+OFFSET(AGR!$B$49,$AX115,SUMIF($B$10:$B$14,\"NCAP_TLIFE\",$AY$10:$AY$14)),0,\"\"))","v":""},{"$f":"IF($B115<>\"PRC_RESID\",\"\",IF(X$7=2005+OFFSET(AGR!$B$49,$AX115,SUMIF($B$10:$B$14,\"NCAP_TLIFE\",$AY$10:$AY$14)),0,\"\"))","v":0},{"$f":"IF($B115<>\"PRC_RESID\",\"\",IF(Y$7=2005+OFFSET(AGR!$B$49,$AX115,SUMIF($B$10:$B$14,\"NCAP_TLIFE\",$AY$10:$AY$14)),0,\"\"))","v":""},{"$f":"IF($B115<>\"PRC_RESID\",\"\",IF(Z$7=2005+OFFSET(AGR!$B$49,$AX115,SUMIF($B$10:$B$14,\"NCAP_TLIFE\",$AY$10:$AY$14)),0,\"\"))","v":""},{"$f":"IF($B115<>\"PRC_RESID\",\"\",IF(AA$7=2005+OFFSET(AGR!$B$49,$AX115,SUMIF($B$10:$B$14,\"NCAP_TLIFE\",$AY$10:$AY$14)),0,\"\"))","v":""},{"$f":"IF($B115<>\"PRC_RESID\",\"\",IF(AB$7=2005+OFFSET(AGR!$B$49,$AX115,SUMIF($B$10:$B$14,\"NCAP_TLIFE\",$AY$10:$AY$14)),0,\"\"))","v":""},{"$f":"IF($B115<>\"PRC_RESID\",\"\",IF(AC$7=2005+OFFSET(AGR!$B$49,$AX115,SUMIF($B$10:$B$14,\"NCAP_TLIFE\",$AY$10:$AY$14)),0,\"\"))","v":""},{"$f":"IF($B115<>\"PRC_RESID\",\"\",IF(AD$7=2005+OFFSET(AGR!$B$49,$AX115,SUMIF($B$10:$B$14,\"NCAP_TLIFE\",$AY$10:$AY$14)),0,\"\"))","v":""},{"$f":"IF($B115<>\"PRC_RESID\",\"\",IF(AE$7=2005+OFFSET(AGR!$B$49,$AX115,SUMIF($B$10:$B$14,\"NCAP_TLIFE\",$AY$10:$AY$14)),0,\"\"))","v":""},{"$f":"IF($B115<>\"PRC_RESID\",\"\",IF(AF$7=2005+OFFSET(AGR!$B$49,$AX115,SUMIF($B$10:$B$14,\"NCAP_TLIFE\",$AY$10:$AY$14)),0,\"\"))","v":""},{"$f":"IF($B115<>\"PRC_RESID\",\"\",IF(AG$7=2005+OFFSET(AGR!$B$49,$AX115,SUMIF($B$10:$B$14,\"NCAP_TLIFE\",$AY$10:$AY$14)),0,\"\"))","v":""},{"$f":"IF($B115<>\"PRC_RESID\",\"\",IF(AH$7=2005+OFFSET(AGR!$B$49,$AX115,SUMIF($B$10:$B$14,\"NCAP_TLIFE\",$AY$10:$AY$14)),0,\"\"))","v":""},null,null,null,null,{"$f":"IF($B115<>\"PRC_RESID\",\"\",IF(AM$7=2005+OFFSET(AGR!$B$49,$AX115,SUMIF($B$10:$B$14,\"NCAP_TLIFE\",$AY$10:$AY$14)),0,\"\"))","v":""},null,null,null,null,{"$f":"IF($B115<>\"PRC_RESID\",\"\",IF(AR$7=2005+OFFSET(AGR!$B$49,$AX115,SUMIF($B$10:$B$14,\"NCAP_TLIFE\",$AY$10:$AY$14)),0,\"\"))","v":""},{"$f":"IF($B115<>\"PRC_RESID\",\"\",IF(AS$7=2005+OFFSET(AGR!$B$49,$AX115,SUMIF($B$10:$B$14,\"NCAP_TLIFE\",$AY$10:$AY$14)),0,\"\"))","v":""},{"$f":"IF($B115<>\"PRC_RESID\",\"\",IF(AT$7=2005+OFFSET(AGR!$B$49,$AX115,SUMIF($B$10:$B$14,\"NCAP_TLIFE\",$AY$10:$AY$14)),0,\"\"))","v":""},{"$f":"IF($B115<>\"PRC_RESID\",\"\",IF(AU$7=2005+OFFSET(AGR!$B$49,$AX115,SUMIF($B$10:$B$14,\"NCAP_TLIFE\",$AY$10:$AY$14)),0,\"\"))","v":""},null,{"$f":"IF(AX114=AGR!$W$72,AW114+1,AW114)","v":5},{"$f":"IF(AW115=AW114,AX114+1,1)","v":8}]
[{"$f":"IF(LEFT(OFFSET(AGR!$A$49,AX116,0),2)=\"\\I\",\"*\",\"\")","v":"*"},"",{"$f":"IF($A116=\"*\",\"\",OFFSET(AGR!$B$49,AX116,0))","v":""},{"$f":"IF($A116=\"*\",\"\",VLOOKUP($B116,$B$10:$I$14,D$9,FALSE))","v":""},"","","","","",{"$f":"IF($A116=\"*\",\"\",OFFSET(AGR!$B$49,AX116,SUMIF($B$10:$B$14,B116,$AY$10:$AY$14)))","v":""},{"$f":"IF($B116<>\"PRC_RESID\",\"\",IF(K$7=2005+OFFSET(AGR!$B$49,$AX116,SUMIF($B$10:$B$14,\"NCAP_TLIFE\",$AY$10:$AY$14)),0,\"\"))","v":""},{"$f":"IF($B116<>\"PRC_RESID\",\"\",IF(L$7=2005+OFFSET(AGR!$B$49,$AX116,SUMIF($B$10:$B$14,\"NCAP_TLIFE\",$AY$10:$AY$14)),0,\"\"))","v":""},{"$f":"IF($B116<>\"PRC_RESID\",\"\",IF(M$7=2005+OFFSET(AGR!$B$49,$AX116,SUMIF($B$10:$B$14,\"NCAP_TLIFE\",$AY$10:$AY$14)),0,\"\"))","v":""},{"$f":"IF($B116<>\"PRC_RESID\",\"\",IF(N$7=2005+OFFSET(AGR!$B$49,$AX116,SUMIF($B$10:$B$14,\"NCAP_TLIFE\",$AY$10:$AY$14)),0,\"\"))","v":""},{"$f":"IF($B116<>\"PRC_RESID\",\"\",IF(O$7=2005+OFFSET(AGR!$B$49,$AX116,SUMIF($B$10:$B$14,\"NCAP_TLIFE\",$AY$10:$AY$14)),0,\"\"))","v":""},{"$f":"IF($B116<>\"PRC_RESID\",\"\",IF(P$7=2005+OFFSET(AGR!$B$49,$AX116,SUMIF($B$10:$B$14,\"NCAP_TLIFE\",$AY$10:$AY$14)),0,\"\"))","v":""},{"$f":"IF($B116<>\"PRC_RESID\",\"\",IF(Q$7=2005+OFFSET(AGR!$B$49,$AX116,SUMIF($B$10:$B$14,\"NCAP_TLIFE\",$AY$10:$AY$14)),0,\"\"))","v":""},{"$f":"IF($B116<>\"PRC_RESID\",\"\",IF(R$7=2005+OFFSET(AGR!$B$49,$AX116,SUMIF($B$10:$B$14,\"NCAP_TLIFE\",$AY$10:$AY$14)),0,\"\"))","v":""},{"$f":"IF($B116<>\"PRC_RESID\",\"\",IF(S$7=2005+OFFSET(AGR!$B$49,$AX116,SUMIF($B$10:$B$14,\"NCAP_TLIFE\",$AY$10:$AY$14)),0,\"\"))","v":""},{"$f":"IF($B116<>\"PRC_RESID\",\"\",IF(T$7=2005+OFFSET(AGR!$B$49,$AX116,SUMIF($B$10:$B$14,\"NCAP_TLIFE\",$AY$10:$AY$14)),0,\"\"))","v":""},{"$f":"IF($B116<>\"PRC_RESID\",\"\",IF(U$7=2005+OFFSET(AGR!$B$49,$AX116,SUMIF($B$10:$B$14,\"NCAP_TLIFE\",$AY$10:$AY$14)),0,\"\"))","v":""},{"$f":"IF($B116<>\"PRC_RESID\",\"\",IF(V$7=2005+OFFSET(AGR!$B$49,$AX116,SUMIF($B$10:$B$14,\"NCAP_TLIFE\",$AY$10:$AY$14)),0,\"\"))","v":""},{"$f":"IF($B116<>\"PRC_RESID\",\"\",IF(W$7=2005+OFFSET(AGR!$B$49,$AX116,SUMIF($B$10:$B$14,\"NCAP_TLIFE\",$AY$10:$AY$14)),0,\"\"))","v":""},{"$f":"IF($B116<>\"PRC_RESID\",\"\",IF(X$7=2005+OFFSET(AGR!$B$49,$AX116,SUMIF($B$10:$B$14,\"NCAP_TLIFE\",$AY$10:$AY$14)),0,\"\"))","v":""},{"$f":"IF($B116<>\"PRC_RESID\",\"\",IF(Y$7=2005+OFFSET(AGR!$B$49,$AX116,SUMIF($B$10:$B$14,\"NCAP_TLIFE\",$AY$10:$AY$14)),0,\"\"))","v":""},{"$f":"IF($B116<>\"PRC_RESID\",\"\",IF(Z$7=2005+OFFSET(AGR!$B$49,$AX116,SUMIF($B$10:$B$14,\"NCAP_TLIFE\",$AY$10:$AY$14)),0,\"\"))","v":""},{"$f":"IF($B116<>\"PRC_RESID\",\"\",IF(AA$7=2005+OFFSET(AGR!$B$49,$AX116,SUMIF($B$10:$B$14,\"NCAP_TLIFE\",$AY$10:$AY$14)),0,\"\"))","v":""},{"$f":"IF($B116<>\"PRC_RESID\",\"\",IF(AB$7=2005+OFFSET(AGR!$B$49,$AX116,SUMIF($B$10:$B$14,\"NCAP_TLIFE\",$AY$10:$AY$14)),0,\"\"))","v":""},{"$f":"IF($B116<>\"PRC_RESID\",\"\",IF(AC$7=2005+OFFSET(AGR!$B$49,$AX116,SUMIF($B$10:$B$14,\"NCAP_TLIFE\",$AY$10:$AY$14)),0,\"\"))","v":""},{"$f":"IF($B116<>\"PRC_RESID\",\"\",IF(AD$7=2005+OFFSET(AGR!$B$49,$AX116,SUMIF($B$10:$B$14,\"NCAP_TLIFE\",$AY$10:$AY$14)),0,\"\"))","v":""},{"$f":"IF($B116<>\"PRC_RESID\",\"\",IF(AE$7=2005+OFFSET(AGR!$B$49,$AX116,SUMIF($B$10:$B$14,\"NCAP_TLIFE\",$AY$10:$AY$14)),0,\"\"))","v":""},{"$f":"IF($B116<>\"PRC_RESID\",\"\",IF(AF$7=2005+OFFSET(AGR!$B$49,$AX116,SUMIF($B$10:$B$14,\"NCAP_TLIFE\",$AY$10:$AY$14)),0,\"\"))","v":""},{"$f":"IF($B116<>\"PRC_RESID\",\"\",IF(AG$7=2005+OFFSET(AGR!$B$49,$AX116,SUMIF($B$10:$B$14,\"NCAP_TLIFE\",$AY$10:$AY$14)),0,\"\"))","v":""},{"$f":"IF($B116<>\"PRC_RESID\",\"\",IF(AH$7=2005+OFFSET(AGR!$B$49,$AX116,SUMIF($B$10:$B$14,\"NCAP_TLIFE\",$AY$10:$AY$14)),0,\"\"))","v":""},null,null,null,null,{"$f":"IF($B116<>\"PRC_RESID\",\"\",IF(AM$7=2005+OFFSET(AGR!$B$49,$AX116,SUMIF($B$10:$B$14,\"NCAP_TLIFE\",$AY$10:$AY$14)),0,\"\"))","v":""},null,null,null,null,{"$f":"IF($B116<>\"PRC_RESID\",\"\",IF(AR$7=2005+OFFSET(AGR!$B$49,$AX116,SUMIF($B$10:$B$14,\"NCAP_TLIFE\",$AY$10:$AY$14)),0,\"\"))","v":""},{"$f":"IF($B116<>\"PRC_RESID\",\"\",IF(AS$7=2005+OFFSET(AGR!$B$49,$AX116,SUMIF($B$10:$B$14,\"NCAP_TLIFE\",$AY$10:$AY$14)),0,\"\"))","v":""},{"$f":"IF($B116<>\"PRC_RESID\",\"\",IF(AT$7=2005+OFFSET(AGR!$B$49,$AX116,SUMIF($B$10:$B$14,\"NCAP_TLIFE\",$AY$10:$AY$14)),0,\"\"))","v":""},{"$f":"IF($B116<>\"PRC_RESID\",\"\",IF(AU$7=2005+OFFSET(AGR!$B$49,$AX116,SUMIF($B$10:$B$14,\"NCAP_TLIFE\",$AY$10:$AY$14)),0,\"\"))","v":""},null,{"$f":"IF(AX115=AGR!$W$72,AW115+1,AW115)","v":5},9]
[{"$f":"IF(LEFT(OFFSET(AGR!$A$49,AX117,0),2)=\"\\I\",\"*\",\"\")","v":"*"},"",{"$f":"IF($A117=\"*\",\"\",OFFSET(AGR!$B$49,AX117,0))","v":""},"","","","","","",{"$f":"IF($A117=\"*\",\"\",OFFSET(AGR!$B$49,AX117,SUMIF($B$10:$B$14,B117,$AY$10:$AY$14)))","v":""},{"$f":"IF($B117<>\"PRC_RESID\",\"\",IF(K$7=2005+OFFSET(AGR!$B$49,$AX117,SUMIF($B$10:$B$14,\"NCAP_TLIFE\",$AY$10:$AY$14)),0,\"\"))","v":""},{"$f":"IF($B117<>\"PRC_RESID\",\"\",IF(L$7=2005+OFFSET(AGR!$B$49,$AX117,SUMIF($B$10:$B$14,\"NCAP_TLIFE\",$AY$10:$AY$14)),0,\"\"))","v":""},{"$f":"IF($B117<>\"PRC_RESID\",\"\",IF(M$7=2005+OFFSET(AGR!$B$49,$AX117,SUMIF($B$10:$B$14,\"NCAP_TLIFE\",$AY$10:$AY$14)),0,\"\"))","v":""},{"$f":"IF($B117<>\"PRC_RESID\",\"\",IF(N$7=2005+OFFSET(AGR!$B$49,$AX117,SUMIF($B$10:$B$14,\"NCAP_TLIFE\",$AY$10:$AY$14)),0,\"\"))","v":""},{"$f":"IF($B117<>\"PRC_RESID\",\"\",IF(O$7=2005+OFFSET(AGR!$B$49,$AX117,SUMIF($B$10:$B$14,\"NCAP_TLIFE\",$AY$10:$AY$14)),0,\"\"))","v":""},{"$f":"IF($B117<>\"PRC_RESID\",\"\",IF(P$7=2005+OFFSET(AGR!$B$49,$AX117,SUMIF($B$10:$B$14,\"NCAP_TLIFE\",$AY$10:$AY$14)),0,\"\"))","v":""},{"$f":"IF($B117<>\"PRC_RESID\",\"\",IF(Q$7=2005+OFFSET(AGR!$B$49,$AX117,SUMIF($B$10:$B$14,\"NCAP_TLIFE\",$AY$10:$AY$14)),0,\"\"))","v":""},{"$f":"IF($B117<>\"PRC_RESID\",\"\",IF(R$7=2005+OFFSET(AGR!$B$49,$AX117,SUMIF($B$10:$B$14,\"NCAP_TLIFE\",$AY$10:$AY$14)),0,\"\"))","v":""},{"$f":"IF($B117<>\"PRC_RESID\",\"\",IF(S$7=2005+OFFSET(AGR!$B$49,$AX117,SUMIF($B$10:$B$14,\"NCAP_TLIFE\",$AY$10:$AY$14)),0,\"\"))","v":""},{"$f":"IF($B117<>\"PRC_RESID\",\"\",IF(T$7=2005+OFFSET(AGR!$B$49,$AX117,SUMIF($B$10:$B$14,\"NCAP_TLIFE\",$AY$10:$AY$14)),0,\"\"))","v":""},{"$f":"IF($B117<>\"PRC_RESID\",\"\",IF(U$7=2005+OFFSET(AGR!$B$49,$AX117,SUMIF($B$10:$B$14,\"NCAP_TLIFE\",$AY$10:$AY$14)),0,\"\"))","v":""},{"$f":"IF($B117<>\"PRC_RESID\",\"\",IF(V$7=2005+OFFSET(AGR!$B$49,$AX117,SUMIF($B$10:$B$14,\"NCAP_TLIFE\",$AY$10:$AY$14)),0,\"\"))","v":""},{"$f":"IF($B117<>\"PRC_RESID\",\"\",IF(W$7=2005+OFFSET(AGR!$B$49,$AX117,SUMIF($B$10:$B$14,\"NCAP_TLIFE\",$AY$10:$AY$14)),0,\"\"))","v":""},{"$f":"IF($B117<>\"PRC_RESID\",\"\",IF(X$7=2005+OFFSET(AGR!$B$49,$AX117,SUMIF($B$10:$B$14,\"NCAP_TLIFE\",$AY$10:$AY$14)),0,\"\"))","v":""},{"$f":"IF($B117<>\"PRC_RESID\",\"\",IF(Y$7=2005+OFFSET(AGR!$B$49,$AX117,SUMIF($B$10:$B$14,\"NCAP_TLIFE\",$AY$10:$AY$14)),0,\"\"))","v":""},{"$f":"IF($B117<>\"PRC_RESID\",\"\",IF(Z$7=2005+OFFSET(AGR!$B$49,$AX117,SUMIF($B$10:$B$14,\"NCAP_TLIFE\",$AY$10:$AY$14)),0,\"\"))","v":""},{"$f":"IF($B117<>\"PRC_RESID\",\"\",IF(AA$7=2005+OFFSET(AGR!$B$49,$AX117,SUMIF($B$10:$B$14,\"NCAP_TLIFE\",$AY$10:$AY$14)),0,\"\"))","v":""},{"$f":"IF($B117<>\"PRC_RESID\",\"\",IF(AB$7=2005+OFFSET(AGR!$B$49,$AX117,SUMIF($B$10:$B$14,\"NCAP_TLIFE\",$AY$10:$AY$14)),0,\"\"))","v":""},{"$f":"IF($B117<>\"PRC_RESID\",\"\",IF(AC$7=2005+OFFSET(AGR!$B$49,$AX117,SUMIF($B$10:$B$14,\"NCAP_TLIFE\",$AY$10:$AY$14)),0,\"\"))","v":""},{"$f":"IF($B117<>\"PRC_RESID\",\"\",IF(AD$7=2005+OFFSET(AGR!$B$49,$AX117,SUMIF($B$10:$B$14,\"NCAP_TLIFE\",$AY$10:$AY$14)),0,\"\"))","v":""},{"$f":"IF($B117<>\"PRC_RESID\",\"\",IF(AE$7=2005+OFFSET(AGR!$B$49,$AX117,SUMIF($B$10:$B$14,\"NCAP_TLIFE\",$AY$10:$AY$14)),0,\"\"))","v":""},{"$f":"IF($B117<>\"PRC_RESID\",\"\",IF(AF$7=2005+OFFSET(AGR!$B$49,$AX117,SUMIF($B$10:$B$14,\"NCAP_TLIFE\",$AY$10:$AY$14)),0,\"\"))","v":""},{"$f":"IF($B117<>\"PRC_RESID\",\"\",IF(AG$7=2005+OFFSET(AGR!$B$49,$AX117,SUMIF($B$10:$B$14,\"NCAP_TLIFE\",$AY$10:$AY$14)),0,\"\"))","v":""},{"$f":"IF($B117<>\"PRC_RESID\",\"\",IF(AH$7=2005+OFFSET(AGR!$B$49,$AX117,SUMIF($B$10:$B$14,\"NCAP_TLIFE\",$AY$10:$AY$14)),0,\"\"))","v":""},null,null,null,null,{"$f":"IF($B117<>\"PRC_RESID\",\"\",IF(AM$7=2005+OFFSET(AGR!$B$49,$AX117,SUMIF($B$10:$B$14,\"NCAP_TLIFE\",$AY$10:$AY$14)),0,\"\"))","v":""},null,null,null,null,{"$f":"IF($B117<>\"PRC_RESID\",\"\",IF(AR$7=2005+OFFSET(AGR!$B$49,$AX117,SUMIF($B$10:$B$14,\"NCAP_TLIFE\",$AY$10:$AY$14)),0,\"\"))","v":""},{"$f":"IF($B117<>\"PRC_RESID\",\"\",IF(AS$7=2005+OFFSET(AGR!$B$49,$AX117,SUMIF($B$10:$B$14,\"NCAP_TLIFE\",$AY$10:$AY$14)),0,\"\"))","v":""},{"$f":"IF($B117<>\"PRC_RESID\",\"\",IF(AT$7=2005+OFFSET(AGR!$B$49,$AX117,SUMIF($B$10:$B$14,\"NCAP_TLIFE\",$AY$10:$AY$14)),0,\"\"))","v":""},{"$f":"IF($B117<>\"PRC_RESID\",\"\",IF(AU$7=2005+OFFSET(AGR!$B$49,$AX117,SUMIF($B$10:$B$14,\"NCAP_TLIFE\",$AY$10:$AY$14)),0,\"\"))","v":""},null,{"$f":"IF(AX116=AGR!$W$72,AW116+1,AW116)","v":5},10]
[{"$f":"IF(LEFT(OFFSET(AGR!$A$49,AX118,0),2)=\"\\I\",\"*\",\"\")","v":""},"PRC_RESID",{"$f":"IF($A118=\"*\",\"\",OFFSET(AGR!$B$49,AX118,0))","v":"ATODS-E"},"-","-","-","-","-",0,{"$f":"IF($A118=\"*\",\"\",OFFSET(AGR!$B$49,AX118,SUMIF($B$10:$B$14,B118,$AY$10:$AY$14)))","v":17.03606230226141},{"$f":"IF($B118<>\"PRC_RESID\",\"\",IF(K$7=2005+OFFSET(AGR!$B$49,$AX118,SUMIF($B$10:$B$14,\"NCAP_TLIFE\",$AY$10:$AY$14)),0,\"\"))","v":""},{"$f":"IF($B118<>\"PRC_RESID\",\"\",IF(L$7=2005+OFFSET(AGR!$B$49,$AX118,SUMIF($B$10:$B$14,\"NCAP_TLIFE\",$AY$10:$AY$14)),0,\"\"))","v":""},{"$f":"IF($B118<>\"PRC_RESID\",\"\",IF(M$7=2005+OFFSET(AGR!$B$49,$AX118,SUMIF($B$10:$B$14,\"NCAP_TLIFE\",$AY$10:$AY$14)),0,\"\"))","v":""},{"$f":"IF($B118<>\"PRC_RESID\",\"\",IF(N$7=2005+OFFSET(AGR!$B$49,$AX118,SUMIF($B$10:$B$14,\"NCAP_TLIFE\",$AY$10:$AY$14)),0,\"\"))","v":""},{"$f":"IF($B118<>\"PRC_RESID\",\"\",IF(O$7=2005+OFFSET(AGR!$B$49,$AX118,SUMIF($B$10:$B$14,\"NCAP_TLIFE\",$AY$10:$AY$14)),0,\"\"))","v":""},{"$f":"IF($B118<>\"PRC_RESID\",\"\",IF(P$7=2005+OFFSET(AGR!$B$49,$AX118,SUMIF($B$10:$B$14,\"NCAP_TLIFE\",$AY$10:$AY$14)),0,\"\"))","v":""},{"$f":"IF($B118<>\"PRC_RESID\",\"\",IF(Q$7=2005+OFFSET(AGR!$B$49,$AX118,SUMIF($B$10:$B$14,\"NCAP_TLIFE\",$AY$10:$AY$14)),0,\"\"))","v":""},{"$f":"IF($B118<>\"PRC_RESID\",\"\",IF(R$7=2005+OFFSET(AGR!$B$49,$AX118,SUMIF($B$10:$B$14,\"NCAP_TLIFE\",$AY$10:$AY$14)),0,\"\"))","v":""},{"$f":"IF($B118<>\"PRC_RESID\",\"\",IF(S$7=2005+OFFSET(AGR!$B$49,$AX118,SUMIF($B$10:$B$14,\"NCAP_TLIFE\",$AY$10:$AY$14)),0,\"\"))","v":""},{"$f":"IF($B118<>\"PRC_RESID\",\"\",IF(T$7=2005+OFFSET(AGR!$B$49,$AX118,SUMIF($B$10:$B$14,\"NCAP_TLIFE\",$AY$10:$AY$14)),0,\"\"))","v":""},{"$f":"IF($B118<>\"PRC_RESID\",\"\",IF(U$7=2005+OFFSET(AGR!$B$49,$AX118,SUMIF($B$10:$B$14,\"NCAP_TLIFE\",$AY$10:$AY$14)),0,\"\"))","v":""},{"$f":"IF($B118<>\"PRC_RESID\",\"\",IF(V$7=2005+OFFSET(AGR!$B$49,$AX118,SUMIF($B$10:$B$14,\"NCAP_TLIFE\",$AY$10:$AY$14)),0,\"\"))","v":""},{"$f":"IF($B118<>\"PRC_RESID\",\"\",IF(W$7=2005+OFFSET(AGR!$B$49,$AX118,SUMIF($B$10:$B$14,\"NCAP_TLIFE\",$AY$10:$AY$14)),0,\"\"))","v":""},{"$f":"IF($B118<>\"PRC_RESID\",\"\",IF(X$7=2005+OFFSET(AGR!$B$49,$AX118,SUMIF($B$10:$B$14,\"NCAP_TLIFE\",$AY$10:$AY$14)),0,\"\"))","v":0},{"$f":"IF($B118<>\"PRC_RESID\",\"\",IF(Y$7=2005+OFFSET(AGR!$B$49,$AX118,SUMIF($B$10:$B$14,\"NCAP_TLIFE\",$AY$10:$AY$14)),0,\"\"))","v":""},{"$f":"IF($B118<>\"PRC_RESID\",\"\",IF(Z$7=2005+OFFSET(AGR!$B$49,$AX118,SUMIF($B$10:$B$14,\"NCAP_TLIFE\",$AY$10:$AY$14)),0,\"\"))","v":""},{"$f":"IF($B118<>\"PRC_RESID\",\"\",IF(AA$7=2005+OFFSET(AGR!$B$49,$AX118,SUMIF($B$10:$B$14,\"NCAP_TLIFE\",$AY$10:$AY$14)),0,\"\"))","v":""},{"$f":"IF($B118<>\"PRC_RESID\",\"\",IF(AB$7=2005+OFFSET(AGR!$B$49,$AX118,SUMIF($B$10:$B$14,\"NCAP_TLIFE\",$AY$10:$AY$14)),0,\"\"))","v":""},{"$f":"IF($B118<>\"PRC_RESID\",\"\",IF(AC$7=2005+OFFSET(AGR!$B$49,$AX118,SUMIF($B$10:$B$14,\"NCAP_TLIFE\",$AY$10:$AY$14)),0,\"\"))","v":""},{"$f":"IF($B118<>\"PRC_RESID\",\"\",IF(AD$7=2005+OFFSET(AGR!$B$49,$AX118,SUMIF($B$10:$B$14,\"NCAP_TLIFE\",$AY$10:$AY$14)),0,\"\"))","v":""},{"$f":"IF($B118<>\"PRC_RESID\",\"\",IF(AE$7=2005+OFFSET(AGR!$B$49,$AX118,SUMIF($B$10:$B$14,\"NCAP_TLIFE\",$AY$10:$AY$14)),0,\"\"))","v":""},{"$f":"IF($B118<>\"PRC_RESID\",\"\",IF(AF$7=2005+OFFSET(AGR!$B$49,$AX118,SUMIF($B$10:$B$14,\"NCAP_TLIFE\",$AY$10:$AY$14)),0,\"\"))","v":""},{"$f":"IF($B118<>\"PRC_RESID\",\"\",IF(AG$7=2005+OFFSET(AGR!$B$49,$AX118,SUMIF($B$10:$B$14,\"NCAP_TLIFE\",$AY$10:$AY$14)),0,\"\"))","v":""},{"$f":"IF($B118<>\"PRC_RESID\",\"\",IF(AH$7=2005+OFFSET(AGR!$B$49,$AX118,SUMIF($B$10:$B$14,\"NCAP_TLIFE\",$AY$10:$AY$14)),0,\"\"))","v":""},null,null,null,null,{"$f":"IF($B118<>\"PRC_RESID\",\"\",IF(AM$7=2005+OFFSET(AGR!$B$49,$AX118,SUMIF($B$10:$B$14,\"NCAP_TLIFE\",$AY$10:$AY$14)),0,\"\"))","v":""},null,null,null,null,{"$f":"IF($B118<>\"PRC_RESID\",\"\",IF(AR$7=2005+OFFSET(AGR!$B$49,$AX118,SUMIF($B$10:$B$14,\"NCAP_TLIFE\",$AY$10:$AY$14)),0,\"\"))","v":""},{"$f":"IF($B118<>\"PRC_RESID\",\"\",IF(AS$7=2005+OFFSET(AGR!$B$49,$AX118,SUMIF($B$10:$B$14,\"NCAP_TLIFE\",$AY$10:$AY$14)),0,\"\"))","v":""},{"$f":"IF($B118<>\"PRC_RESID\",\"\",IF(AT$7=2005+OFFSET(AGR!$B$49,$AX118,SUMIF($B$10:$B$14,\"NCAP_TLIFE\",$AY$10:$AY$14)),0,\"\"))","v":""},{"$f":"IF($B118<>\"PRC_RESID\",\"\",IF(AU$7=2005+OFFSET(AGR!$B$49,$AX118,SUMIF($B$10:$B$14,\"NCAP_TLIFE\",$AY$10:$AY$14)),0,\"\"))","v":""},null,{"$f":"IF(AX117=AGR!$W$72,AW117+1,AW117)","v":5},11]
[{"$f":"IF(LEFT(OFFSET(AGR!$A$49,AX119,0),2)=\"\\I\",\"*\",\"\")","v":""},"PRC_RESID",{"$f":"IF($A119=\"*\",\"\",OFFSET(AGR!$B$49,AX119,0))","v":"ATELC-E"},"-","-","-","-","-",0,{"$f":"IF($A119=\"*\",\"\",OFFSET(AGR!$B$49,AX119,SUMIF($B$10:$B$14,B119,$AY$10:$AY$14)))","v":0},{"$f":"IF($B119<>\"PRC_RESID\",\"\",IF(K$7=2005+OFFSET(AGR!$B$49,$AX119,SUMIF($B$10:$B$14,\"NCAP_TLIFE\",$AY$10:$AY$14)),0,\"\"))","v":""},{"$f":"IF($B119<>\"PRC_RESID\",\"\",IF(L$7=2005+OFFSET(AGR!$B$49,$AX119,SUMIF($B$10:$B$14,\"NCAP_TLIFE\",$AY$10:$AY$14)),0,\"\"))","v":""},{"$f":"IF($B119<>\"PRC_RESID\",\"\",IF(M$7=2005+OFFSET(AGR!$B$49,$AX119,SUMIF($B$10:$B$14,\"NCAP_TLIFE\",$AY$10:$AY$14)),0,\"\"))","v":""},{"$f":"IF($B119<>\"PRC_RESID\",\"\",IF(N$7=2005+OFFSET(AGR!$B$49,$AX119,SUMIF($B$10:$B$14,\"NCAP_TLIFE\",$AY$10:$AY$14)),0,\"\"))","v":""},{"$f":"IF($B119<>\"PRC_RESID\",\"\",IF(O$7=2005+OFFSET(AGR!$B$49,$AX119,SUMIF($B$10:$B$14,\"NCAP_TLIFE\",$AY$10:$AY$14)),0,\"\"))","v":""},{"$f":"IF($B119<>\"PRC_RESID\",\"\",IF(P$7=2005+OFFSET(AGR!$B$49,$AX119,SUMIF($B$10:$B$14,\"NCAP_TLIFE\",$AY$10:$AY$14)),0,\"\"))","v":""},{"$f":"IF($B119<>\"PRC_RESID\",\"\",IF(Q$7=2005+OFFSET(AGR!$B$49,$AX119,SUMIF($B$10:$B$14,\"NCAP_TLIFE\",$AY$10:$AY$14)),0,\"\"))","v":""},{"$f":"IF($B119<>\"PRC_RESID\",\"\",IF(R$7=2005+OFFSET(AGR!$B$49,$AX119,SUMIF($B$10:$B$14,\"NCAP_TLIFE\",$AY$10:$AY$14)),0,\"\"))","v":""},{"$f":"IF($B119<>\"PRC_RESID\",\"\",IF(S$7=2005+OFFSET(AGR!$B$49,$AX119,SUMIF($B$10:$B$14,\"NCAP_TLIFE\",$AY$10:$AY$14)),0,\"\"))","v":""},{"$f":"IF($B119<>\"PRC_RESID\",\"\",IF(T$7=2005+OFFSET(AGR!$B$49,$AX119,SUMIF($B$10:$B$14,\"NCAP_TLIFE\",$AY$10:$AY$14)),0,\"\"))","v":""},{"$f":"IF($B119<>\"PRC_RESID\",\"\",IF(U$7=2005+OFFSET(AGR!$B$49,$AX119,SUMIF($B$10:$B$14,\"NCAP_TLIFE\",$AY$10:$AY$14)),0,\"\"))","v":""},{"$f":"IF($B119<>\"PRC_RESID\",\"\",IF(V$7=2005+OFFSET(AGR!$B$49,$AX119,SUMIF($B$10:$B$14,\"NCAP_TLIFE\",$AY$10:$AY$14)),0,\"\"))","v":""},{"$f":"IF($B119<>\"PRC_RESID\",\"\",IF(W$7=2005+OFFSET(AGR!$B$49,$AX119,SUMIF($B$10:$B$14,\"NCAP_TLIFE\",$AY$10:$AY$14)),0,\"\"))","v":""},{"$f":"IF($B119<>\"PRC_RESID\",\"\",IF(X$7=2005+OFFSET(AGR!$B$49,$AX119,SUMIF($B$10:$B$14,\"NCAP_TLIFE\",$AY$10:$AY$14)),0,\"\"))","v":0},{"$f":"IF($B119<>\"PRC_RESID\",\"\",IF(Y$7=2005+OFFSET(AGR!$B$49,$AX119,SUMIF($B$10:$B$14,\"NCAP_TLIFE\",$AY$10:$AY$14)),0,\"\"))","v":""},{"$f":"IF($B119<>\"PRC_RESID\",\"\",IF(Z$7=2005+OFFSET(AGR!$B$49,$AX119,SUMIF($B$10:$B$14,\"NCAP_TLIFE\",$AY$10:$AY$14)),0,\"\"))","v":""},{"$f":"IF($B119<>\"PRC_RESID\",\"\",IF(AA$7=2005+OFFSET(AGR!$B$49,$AX119,SUMIF($B$10:$B$14,\"NCAP_TLIFE\",$AY$10:$AY$14)),0,\"\"))","v":""},{"$f":"IF($B119<>\"PRC_RESID\",\"\",IF(AB$7=2005+OFFSET(AGR!$B$49,$AX119,SUMIF($B$10:$B$14,\"NCAP_TLIFE\",$AY$10:$AY$14)),0,\"\"))","v":""},{"$f":"IF($B119<>\"PRC_RESID\",\"\",IF(AC$7=2005+OFFSET(AGR!$B$49,$AX119,SUMIF($B$10:$B$14,\"NCAP_TLIFE\",$AY$10:$AY$14)),0,\"\"))","v":""},{"$f":"IF($B119<>\"PRC_RESID\",\"\",IF(AD$7=2005+OFFSET(AGR!$B$49,$AX119,SUMIF($B$10:$B$14,\"NCAP_TLIFE\",$AY$10:$AY$14)),0,\"\"))","v":""},{"$f":"IF($B119<>\"PRC_RESID\",\"\",IF(AE$7=2005+OFFSET(AGR!$B$49,$AX119,SUMIF($B$10:$B$14,\"NCAP_TLIFE\",$AY$10:$AY$14)),0,\"\"))","v":""},{"$f":"IF($B119<>\"PRC_RESID\",\"\",IF(AF$7=2005+OFFSET(AGR!$B$49,$AX119,SUMIF($B$10:$B$14,\"NCAP_TLIFE\",$AY$10:$AY$14)),0,\"\"))","v":""},{"$f":"IF($B119<>\"PRC_RESID\",\"\",IF(AG$7=2005+OFFSET(AGR!$B$49,$AX119,SUMIF($B$10:$B$14,\"NCAP_TLIFE\",$AY$10:$AY$14)),0,\"\"))","v":""},{"$f":"IF($B119<>\"PRC_RESID\",\"\",IF(AH$7=2005+OFFSET(AGR!$B$49,$AX119,SUMIF($B$10:$B$14,\"NCAP_TLIFE\",$AY$10:$AY$14)),0,\"\"))","v":""},null,null,null,null,{"$f":"IF($B119<>\"PRC_RESID\",\"\",IF(AM$7=2005+OFFSET(AGR!$B$49,$AX119,SUMIF($B$10:$B$14,\"NCAP_TLIFE\",$AY$10:$AY$14)),0,\"\"))","v":""},null,null,null,null,{"$f":"IF($B119<>\"PRC_RESID\",\"\",IF(AR$7=2005+OFFSET(AGR!$B$49,$AX119,SUMIF($B$10:$B$14,\"NCAP_TLIFE\",$AY$10:$AY$14)),0,\"\"))","v":""},{"$f":"IF($B119<>\"PRC_RESID\",\"\",IF(AS$7=2005+OFFSET(AGR!$B$49,$AX119,SUMIF($B$10:$B$14,\"NCAP_TLIFE\",$AY$10:$AY$14)),0,\"\"))","v":""},{"$f":"IF($B119<>\"PRC_RESID\",\"\",IF(AT$7=2005+OFFSET(AGR!$B$49,$AX119,SUMIF($B$10:$B$14,\"NCAP_TLIFE\",$AY$10:$AY$14)),0,\"\"))","v":""},{"$f":"IF($B119<>\"PRC_RESID\",\"\",IF(AU$7=2005+OFFSET(AGR!$B$49,$AX119,SUMIF($B$10:$B$14,\"NCAP_TLIFE\",$AY$10:$AY$14)),0,\"\"))","v":""},null,{"$f":"IF(AX118=AGR!$W$72,AW118+1,AW118)","v":5},12]
[{"$f":"IF(LEFT(OFFSET(AGR!$A$49,AX120,0),2)=\"\\I\",\"*\",\"\")","v":""},"PRC_RESID",{"$f":"IF($A120=\"*\",\"\",OFFSET(AGR!$B$49,AX120,0))","v":"ATOGS-E"},"-","-","-","-","-",0,{"$f":"IF($A120=\"*\",\"\",OFFSET(AGR!$B$49,AX120,SUMIF($B$10:$B$14,B120,$AY$10:$AY$14)))","v":1.5100184691958587},{"$f":"IF($B120<>\"PRC_RESID\",\"\",IF(K$7=2005+OFFSET(AGR!$B$49,$AX120,SUMIF($B$10:$B$14,\"NCAP_TLIFE\",$AY$10:$AY$14)),0,\"\"))","v":""},{"$f":"IF($B120<>\"PRC_RESID\",\"\",IF(L$7=2005+OFFSET(AGR!$B$49,$AX120,SUMIF($B$10:$B$14,\"NCAP_TLIFE\",$AY$10:$AY$14)),0,\"\"))","v":""},{"$f":"IF($B120<>\"PRC_RESID\",\"\",IF(M$7=2005+OFFSET(AGR!$B$49,$AX120,SUMIF($B$10:$B$14,\"NCAP_TLIFE\",$AY$10:$AY$14)),0,\"\"))","v":""},{"$f":"IF($B120<>\"PRC_RESID\",\"\",IF(N$7=2005+OFFSET(AGR!$B$49,$AX120,SUMIF($B$10:$B$14,\"NCAP_TLIFE\",$AY$10:$AY$14)),0,\"\"))","v":""},{"$f":"IF($B120<>\"PRC_RESID\",\"\",IF(O$7=2005+OFFSET(AGR!$B$49,$AX120,SUMIF($B$10:$B$14,\"NCAP_TLIFE\",$AY$10:$AY$14)),0,\"\"))","v":""},{"$f":"IF($B120<>\"PRC_RESID\",\"\",IF(P$7=2005+OFFSET(AGR!$B$49,$AX120,SUMIF($B$10:$B$14,\"NCAP_TLIFE\",$AY$10:$AY$14)),0,\"\"))","v":""},{"$f":"IF($B120<>\"PRC_RESID\",\"\",IF(Q$7=2005+OFFSET(AGR!$B$49,$AX120,SUMIF($B$10:$B$14,\"NCAP_TLIFE\",$AY$10:$AY$14)),0,\"\"))","v":""},{"$f":"IF($B120<>\"PRC_RESID\",\"\",IF(R$7=2005+OFFSET(AGR!$B$49,$AX120,SUMIF($B$10:$B$14,\"NCAP_TLIFE\",$AY$10:$AY$14)),0,\"\"))","v":""},{"$f":"IF($B120<>\"PRC_RESID\",\"\",IF(S$7=2005+OFFSET(AGR!$B$49,$AX120,SUMIF($B$10:$B$14,\"NCAP_TLIFE\",$AY$10:$AY$14)),0,\"\"))","v":""},{"$f":"IF($B120<>\"PRC_RESID\",\"\",IF(T$7=2005+OFFSET(AGR!$B$49,$AX120,SUMIF($B$10:$B$14,\"NCAP_TLIFE\",$AY$10:$AY$14)),0,\"\"))","v":""},{"$f":"IF($B120<>\"PRC_RESID\",\"\",IF(U$7=2005+OFFSET(AGR!$B$49,$AX120,SUMIF($B$10:$B$14,\"NCAP_TLIFE\",$AY$10:$AY$14)),0,\"\"))","v":""},{"$f":"IF($B120<>\"PRC_RESID\",\"\",IF(V$7=2005+OFFSET(AGR!$B$49,$AX120,SUMIF($B$10:$B$14,\"NCAP_TLIFE\",$AY$10:$AY$14)),0,\"\"))","v":""},{"$f":"IF($B120<>\"PRC_RESID\",\"\",IF(W$7=2005+OFFSET(AGR!$B$49,$AX120,SUMIF($B$10:$B$14,\"NCAP_TLIFE\",$AY$10:$AY$14)),0,\"\"))","v":""},{"$f":"IF($B120<>\"PRC_RESID\",\"\",IF(X$7=2005+OFFSET(AGR!$B$49,$AX120,SUMIF($B$10:$B$14,\"NCAP_TLIFE\",$AY$10:$AY$14)),0,\"\"))","v":0},{"$f":"IF($B120<>\"PRC_RESID\",\"\",IF(Y$7=2005+OFFSET(AGR!$B$49,$AX120,SUMIF($B$10:$B$14,\"NCAP_TLIFE\",$AY$10:$AY$14)),0,\"\"))","v":""},{"$f":"IF($B120<>\"PRC_RESID\",\"\",IF(Z$7=2005+OFFSET(AGR!$B$49,$AX120,SUMIF($B$10:$B$14,\"NCAP_TLIFE\",$AY$10:$AY$14)),0,\"\"))","v":""},{"$f":"IF($B120<>\"PRC_RESID\",\"\",IF(AA$7=2005+OFFSET(AGR!$B$49,$AX120,SUMIF($B$10:$B$14,\"NCAP_TLIFE\",$AY$10:$AY$14)),0,\"\"))","v":""},{"$f":"IF($B120<>\"PRC_RESID\",\"\",IF(AB$7=2005+OFFSET(AGR!$B$49,$AX120,SUMIF($B$10:$B$14,\"NCAP_TLIFE\",$AY$10:$AY$14)),0,\"\"))","v":""},{"$f":"IF($B120<>\"PRC_RESID\",\"\",IF(AC$7=2005+OFFSET(AGR!$B$49,$AX120,SUMIF($B$10:$B$14,\"NCAP_TLIFE\",$AY$10:$AY$14)),0,\"\"))","v":""},{"$f":"IF($B120<>\"PRC_RESID\",\"\",IF(AD$7=2005+OFFSET(AGR!$B$49,$AX120,SUMIF($B$10:$B$14,\"NCAP_TLIFE\",$AY$10:$AY$14)),0,\"\"))","v":""},{"$f":"IF($B120<>\"PRC_RESID\",\"\",IF(AE$7=2005+OFFSET(AGR!$B$49,$AX120,SUMIF($B$10:$B$14,\"NCAP_TLIFE\",$AY$10:$AY$14)),0,\"\"))","v":""},{"$f":"IF($B120<>\"PRC_RESID\",\"\",IF(AF$7=2005+OFFSET(AGR!$B$49,$AX120,SUMIF($B$10:$B$14,\"NCAP_TLIFE\",$AY$10:$AY$14)),0,\"\"))","v":""},{"$f":"IF($B120<>\"PRC_RESID\",\"\",IF(AG$7=2005+OFFSET(AGR!$B$49,$AX120,SUMIF($B$10:$B$14,\"NCAP_TLIFE\",$AY$10:$AY$14)),0,\"\"))","v":""},{"$f":"IF($B120<>\"PRC_RESID\",\"\",IF(AH$7=2005+OFFSET(AGR!$B$49,$AX120,SUMIF($B$10:$B$14,\"NCAP_TLIFE\",$AY$10:$AY$14)),0,\"\"))","v":""},null,null,null,null,{"$f":"IF($B120<>\"PRC_RESID\",\"\",IF(AM$7=2005+OFFSET(AGR!$B$49,$AX120,SUMIF($B$10:$B$14,\"NCAP_TLIFE\",$AY$10:$AY$14)),0,\"\"))","v":""},null,null,null,null,{"$f":"IF($B120<>\"PRC_RESID\",\"\",IF(AR$7=2005+OFFSET(AGR!$B$49,$AX120,SUMIF($B$10:$B$14,\"NCAP_TLIFE\",$AY$10:$AY$14)),0,\"\"))","v":""},{"$f":"IF($B120<>\"PRC_RESID\",\"\",IF(AS$7=2005+OFFSET(AGR!$B$49,$AX120,SUMIF($B$10:$B$14,\"NCAP_TLIFE\",$AY$10:$AY$14)),0,\"\"))","v":""},{"$f":"IF($B120<>\"PRC_RESID\",\"\",IF(AT$7=2005+OFFSET(AGR!$B$49,$AX120,SUMIF($B$10:$B$14,\"NCAP_TLIFE\",$AY$10:$AY$14)),0,\"\"))","v":""},{"$f":"IF($B120<>\"PRC_RESID\",\"\",IF(AU$7=2005+OFFSET(AGR!$B$49,$AX120,SUMIF($B$10:$B$14,\"NCAP_TLIFE\",$AY$10:$AY$14)),0,\"\"))","v":""},null,{"$f":"IF(AX119=AGR!$W$72,AW119+1,AW119)","v":5},13]
[{"$f":"IF(LEFT(OFFSET(AGR!$A$49,AX121,0),2)=\"\\I\",\"*\",\"\")","v":"*"},{"$f":"IF(A121=\"*\",\"\",VLOOKUP(\"*\"&AW121,$A$9:$B$14,2,FALSE))","v":""},{"$f":"IF($A121=\"*\",\"\",OFFSET(AGR!$B$49,AX121,0))","v":""},"","","","","","",{"$f":"IF($A121=\"*\",\"\",OFFSET(AGR!$B$49,AX121,SUMIF($B$10:$B$14,B121,$AY$10:$AY$14)))","v":""},{"$f":"IF($B121<>\"PRC_RESID\",\"\",IF(K$7=2005+OFFSET(AGR!$B$49,$AX121,SUMIF($B$10:$B$14,\"NCAP_TLIFE\",$AY$10:$AY$14)),0,\"\"))","v":""},{"$f":"IF($B121<>\"PRC_RESID\",\"\",IF(L$7=2005+OFFSET(AGR!$B$49,$AX121,SUMIF($B$10:$B$14,\"NCAP_TLIFE\",$AY$10:$AY$14)),0,\"\"))","v":""},{"$f":"IF($B121<>\"PRC_RESID\",\"\",IF(M$7=2005+OFFSET(AGR!$B$49,$AX121,SUMIF($B$10:$B$14,\"NCAP_TLIFE\",$AY$10:$AY$14)),0,\"\"))","v":""},{"$f":"IF($B121<>\"PRC_RESID\",\"\",IF(N$7=2005+OFFSET(AGR!$B$49,$AX121,SUMIF($B$10:$B$14,\"NCAP_TLIFE\",$AY$10:$AY$14)),0,\"\"))","v":""},{"$f":"IF($B121<>\"PRC_RESID\",\"\",IF(O$7=2005+OFFSET(AGR!$B$49,$AX121,SUMIF($B$10:$B$14,\"NCAP_TLIFE\",$AY$10:$AY$14)),0,\"\"))","v":""},{"$f":"IF($B121<>\"PRC_RESID\",\"\",IF(P$7=2005+OFFSET(AGR!$B$49,$AX121,SUMIF($B$10:$B$14,\"NCAP_TLIFE\",$AY$10:$AY$14)),0,\"\"))","v":""},{"$f":"IF($B121<>\"PRC_RESID\",\"\",IF(Q$7=2005+OFFSET(AGR!$B$49,$AX121,SUMIF($B$10:$B$14,\"NCAP_TLIFE\",$AY$10:$AY$14)),0,\"\"))","v":""},{"$f":"IF($B121<>\"PRC_RESID\",\"\",IF(R$7=2005+OFFSET(AGR!$B$49,$AX121,SUMIF($B$10:$B$14,\"NCAP_TLIFE\",$AY$10:$AY$14)),0,\"\"))","v":""},{"$f":"IF($B121<>\"PRC_RESID\",\"\",IF(S$7=2005+OFFSET(AGR!$B$49,$AX121,SUMIF($B$10:$B$14,\"NCAP_TLIFE\",$AY$10:$AY$14)),0,\"\"))","v":""},{"$f":"IF($B121<>\"PRC_RESID\",\"\",IF(T$7=2005+OFFSET(AGR!$B$49,$AX121,SUMIF($B$10:$B$14,\"NCAP_TLIFE\",$AY$10:$AY$14)),0,\"\"))","v":""},{"$f":"IF($B121<>\"PRC_RESID\",\"\",IF(U$7=2005+OFFSET(AGR!$B$49,$AX121,SUMIF($B$10:$B$14,\"NCAP_TLIFE\",$AY$10:$AY$14)),0,\"\"))","v":""},{"$f":"IF($B121<>\"PRC_RESID\",\"\",IF(V$7=2005+OFFSET(AGR!$B$49,$AX121,SUMIF($B$10:$B$14,\"NCAP_TLIFE\",$AY$10:$AY$14)),0,\"\"))","v":""},{"$f":"IF($B121<>\"PRC_RESID\",\"\",IF(W$7=2005+OFFSET(AGR!$B$49,$AX121,SUMIF($B$10:$B$14,\"NCAP_TLIFE\",$AY$10:$AY$14)),0,\"\"))","v":""},{"$f":"IF($B121<>\"PRC_RESID\",\"\",IF(X$7=2005+OFFSET(AGR!$B$49,$AX121,SUMIF($B$10:$B$14,\"NCAP_TLIFE\",$AY$10:$AY$14)),0,\"\"))","v":""},{"$f":"IF($B121<>\"PRC_RESID\",\"\",IF(Y$7=2005+OFFSET(AGR!$B$49,$AX121,SUMIF($B$10:$B$14,\"NCAP_TLIFE\",$AY$10:$AY$14)),0,\"\"))","v":""},{"$f":"IF($B121<>\"PRC_RESID\",\"\",IF(Z$7=2005+OFFSET(AGR!$B$49,$AX121,SUMIF($B$10:$B$14,\"NCAP_TLIFE\",$AY$10:$AY$14)),0,\"\"))","v":""},{"$f":"IF($B121<>\"PRC_RESID\",\"\",IF(AA$7=2005+OFFSET(AGR!$B$49,$AX121,SUMIF($B$10:$B$14,\"NCAP_TLIFE\",$AY$10:$AY$14)),0,\"\"))","v":""},{"$f":"IF($B121<>\"PRC_RESID\",\"\",IF(AB$7=2005+OFFSET(AGR!$B$49,$AX121,SUMIF($B$10:$B$14,\"NCAP_TLIFE\",$AY$10:$AY$14)),0,\"\"))","v":""},{"$f":"IF($B121<>\"PRC_RESID\",\"\",IF(AC$7=2005+OFFSET(AGR!$B$49,$AX121,SUMIF($B$10:$B$14,\"NCAP_TLIFE\",$AY$10:$AY$14)),0,\"\"))","v":""},{"$f":"IF($B121<>\"PRC_RESID\",\"\",IF(AD$7=2005+OFFSET(AGR!$B$49,$AX121,SUMIF($B$10:$B$14,\"NCAP_TLIFE\",$AY$10:$AY$14)),0,\"\"))","v":""},{"$f":"IF($B121<>\"PRC_RESID\",\"\",IF(AE$7=2005+OFFSET(AGR!$B$49,$AX121,SUMIF($B$10:$B$14,\"NCAP_TLIFE\",$AY$10:$AY$14)),0,\"\"))","v":""},{"$f":"IF($B121<>\"PRC_RESID\",\"\",IF(AF$7=2005+OFFSET(AGR!$B$49,$AX121,SUMIF($B$10:$B$14,\"NCAP_TLIFE\",$AY$10:$AY$14)),0,\"\"))","v":""},{"$f":"IF($B121<>\"PRC_RESID\",\"\",IF(AG$7=2005+OFFSET(AGR!$B$49,$AX121,SUMIF($B$10:$B$14,\"NCAP_TLIFE\",$AY$10:$AY$14)),0,\"\"))","v":""},{"$f":"IF($B121<>\"PRC_RESID\",\"\",IF(AH$7=2005+OFFSET(AGR!$B$49,$AX121,SUMIF($B$10:$B$14,\"NCAP_TLIFE\",$AY$10:$AY$14)),0,\"\"))","v":""},null,null,null,null,{"$f":"IF($B121<>\"PRC_RESID\",\"\",IF(AM$7=2005+OFFSET(AGR!$B$49,$AX121,SUMIF($B$10:$B$14,\"NCAP_TLIFE\",$AY$10:$AY$14)),0,\"\"))","v":""},null,null,null,null,{"$f":"IF($B121<>\"PRC_RESID\",\"\",IF(AR$7=2005+OFFSET(AGR!$B$49,$AX121,SUMIF($B$10:$B$14,\"NCAP_TLIFE\",$AY$10:$AY$14)),0,\"\"))","v":""},{"$f":"IF($B121<>\"PRC_RESID\",\"\",IF(AS$7=2005+OFFSET(AGR!$B$49,$AX121,SUMIF($B$10:$B$14,\"NCAP_TLIFE\",$AY$10:$AY$14)),0,\"\"))","v":""},{"$f":"IF($B121<>\"PRC_RESID\",\"\",IF(AT$7=2005+OFFSET(AGR!$B$49,$AX121,SUMIF($B$10:$B$14,\"NCAP_TLIFE\",$AY$10:$AY$14)),0,\"\"))","v":""},{"$f":"IF($B121<>\"PRC_RESID\",\"\",IF(AU$7=2005+OFFSET(AGR!$B$49,$AX121,SUMIF($B$10:$B$14,\"NCAP_TLIFE\",$AY$10:$AY$14)),0,\"\"))","v":""},null,{"$f":"IF(AX120=AGR!$W$72,AW120+1,AW120)","v":5},{"$f":"IF(AW121=AW120,AX120+1,1)","v":14}]
[{"$f":"IF(LEFT(OFFSET(AGR!$A$49,AX122,0),2)=\"\\I\",\"*\",\"\")","v":"*"},"",{"$f":"IF($A122=\"*\",\"\",OFFSET(AGR!$B$49,AX122,0))","v":""},"","","","","","",{"$f":"IF($A122=\"*\",\"\",OFFSET(AGR!$B$49,AX122,SUMIF($B$10:$B$14,B122,$AY$10:$AY$14)))","v":""},{"$f":"IF($B122<>\"PRC_RESID\",\"\",IF(K$7=2005+OFFSET(AGR!$B$49,$AX122,SUMIF($B$10:$B$14,\"NCAP_TLIFE\",$AY$10:$AY$14)),0,\"\"))","v":""},{"$f":"IF($B122<>\"PRC_RESID\",\"\",IF(L$7=2005+OFFSET(AGR!$B$49,$AX122,SUMIF($B$10:$B$14,\"NCAP_TLIFE\",$AY$10:$AY$14)),0,\"\"))","v":""},{"$f":"IF($B122<>\"PRC_RESID\",\"\",IF(M$7=2005+OFFSET(AGR!$B$49,$AX122,SUMIF($B$10:$B$14,\"NCAP_TLIFE\",$AY$10:$AY$14)),0,\"\"))","v":""},{"$f":"IF($B122<>\"PRC_RESID\",\"\",IF(N$7=2005+OFFSET(AGR!$B$49,$AX122,SUMIF($B$10:$B$14,\"NCAP_TLIFE\",$AY$10:$AY$14)),0,\"\"))","v":""},{"$f":"IF($B122<>\"PRC_RESID\",\"\",IF(O$7=2005+OFFSET(AGR!$B$49,$AX122,SUMIF($B$10:$B$14,\"NCAP_TLIFE\",$AY$10:$AY$14)),0,\"\"))","v":""},{"$f":"IF($B122<>\"PRC_RESID\",\"\",IF(P$7=2005+OFFSET(AGR!$B$49,$AX122,SUMIF($B$10:$B$14,\"NCAP_TLIFE\",$AY$10:$AY$14)),0,\"\"))","v":""},{"$f":"IF($B122<>\"PRC_RESID\",\"\",IF(Q$7=2005+OFFSET(AGR!$B$49,$AX122,SUMIF($B$10:$B$14,\"NCAP_TLIFE\",$AY$10:$AY$14)),0,\"\"))","v":""},{"$f":"IF($B122<>\"PRC_RESID\",\"\",IF(R$7=2005+OFFSET(AGR!$B$49,$AX122,SUMIF($B$10:$B$14,\"NCAP_TLIFE\",$AY$10:$AY$14)),0,\"\"))","v":""},{"$f":"IF($B122<>\"PRC_RESID\",\"\",IF(S$7=2005+OFFSET(AGR!$B$49,$AX122,SUMIF($B$10:$B$14,\"NCAP_TLIFE\",$AY$10:$AY$14)),0,\"\"))","v":""},{"$f":"IF($B122<>\"PRC_RESID\",\"\",IF(T$7=2005+OFFSET(AGR!$B$49,$AX122,SUMIF($B$10:$B$14,\"NCAP_TLIFE\",$AY$10:$AY$14)),0,\"\"))","v":""},{"$f":"IF($B122<>\"PRC_RESID\",\"\",IF(U$7=2005+OFFSET(AGR!$B$49,$AX122,SUMIF($B$10:$B$14,\"NCAP_TLIFE\",$AY$10:$AY$14)),0,\"\"))","v":""},{"$f":"IF($B122<>\"PRC_RESID\",\"\",IF(V$7=2005+OFFSET(AGR!$B$49,$AX122,SUMIF($B$10:$B$14,\"NCAP_TLIFE\",$AY$10:$AY$14)),0,\"\"))","v":""},{"$f":"IF($B122<>\"PRC_RESID\",\"\",IF(W$7=2005+OFFSET(AGR!$B$49,$AX122,SUMIF($B$10:$B$14,\"NCAP_TLIFE\",$AY$10:$AY$14)),0,\"\"))","v":""},{"$f":"IF($B122<>\"PRC_RESID\",\"\",IF(X$7=2005+OFFSET(AGR!$B$49,$AX122,SUMIF($B$10:$B$14,\"NCAP_TLIFE\",$AY$10:$AY$14)),0,\"\"))","v":""},{"$f":"IF($B122<>\"PRC_RESID\",\"\",IF(Y$7=2005+OFFSET(AGR!$B$49,$AX122,SUMIF($B$10:$B$14,\"NCAP_TLIFE\",$AY$10:$AY$14)),0,\"\"))","v":""},{"$f":"IF($B122<>\"PRC_RESID\",\"\",IF(Z$7=2005+OFFSET(AGR!$B$49,$AX122,SUMIF($B$10:$B$14,\"NCAP_TLIFE\",$AY$10:$AY$14)),0,\"\"))","v":""},{"$f":"IF($B122<>\"PRC_RESID\",\"\",IF(AA$7=2005+OFFSET(AGR!$B$49,$AX122,SUMIF($B$10:$B$14,\"NCAP_TLIFE\",$AY$10:$AY$14)),0,\"\"))","v":""},{"$f":"IF($B122<>\"PRC_RESID\",\"\",IF(AB$7=2005+OFFSET(AGR!$B$49,$AX122,SUMIF($B$10:$B$14,\"NCAP_TLIFE\",$AY$10:$AY$14)),0,\"\"))","v":""},{"$f":"IF($B122<>\"PRC_RESID\",\"\",IF(AC$7=2005+OFFSET(AGR!$B$49,$AX122,SUMIF($B$10:$B$14,\"NCAP_TLIFE\",$AY$10:$AY$14)),0,\"\"))","v":""},{"$f":"IF($B122<>\"PRC_RESID\",\"\",IF(AD$7=2005+OFFSET(AGR!$B$49,$AX122,SUMIF($B$10:$B$14,\"NCAP_TLIFE\",$AY$10:$AY$14)),0,\"\"))","v":""},{"$f":"IF($B122<>\"PRC_RESID\",\"\",IF(AE$7=2005+OFFSET(AGR!$B$49,$AX122,SUMIF($B$10:$B$14,\"NCAP_TLIFE\",$AY$10:$AY$14)),0,\"\"))","v":""},{"$f":"IF($B122<>\"PRC_RESID\",\"\",IF(AF$7=2005+OFFSET(AGR!$B$49,$AX122,SUMIF($B$10:$B$14,\"NCAP_TLIFE\",$AY$10:$AY$14)),0,\"\"))","v":""},{"$f":"IF($B122<>\"PRC_RESID\",\"\",IF(AG$7=2005+OFFSET(AGR!$B$49,$AX122,SUMIF($B$10:$B$14,\"NCAP_TLIFE\",$AY$10:$AY$14)),0,\"\"))","v":""},{"$f":"IF($B122<>\"PRC_RESID\",\"\",IF(AH$7=2005+OFFSET(AGR!$B$49,$AX122,SUMIF($B$10:$B$14,\"NCAP_TLIFE\",$AY$10:$AY$14)),0,\"\"))","v":""},null,null,null,null,{"$f":"IF($B122<>\"PRC_RESID\",\"\",IF(AM$7=2005+OFFSET(AGR!$B$49,$AX122,SUMIF($B$10:$B$14,\"NCAP_TLIFE\",$AY$10:$AY$14)),0,\"\"))","v":""},null,null,null,null,{"$f":"IF($B122<>\"PRC_RESID\",\"\",IF(AR$7=2005+OFFSET(AGR!$B$49,$AX122,SUMIF($B$10:$B$14,\"NCAP_TLIFE\",$AY$10:$AY$14)),0,\"\"))","v":""},{"$f":"IF($B122<>\"PRC_RESID\",\"\",IF(AS$7=2005+OFFSET(AGR!$B$49,$AX122,SUMIF($B$10:$B$14,\"NCAP_TLIFE\",$AY$10:$AY$14)),0,\"\"))","v":""},{"$f":"IF($B122<>\"PRC_RESID\",\"\",IF(AT$7=2005+OFFSET(AGR!$B$49,$AX122,SUMIF($B$10:$B$14,\"NCAP_TLIFE\",$AY$10:$AY$14)),0,\"\"))","v":""},{"$f":"IF($B122<>\"PRC_RESID\",\"\",IF(AU$7=2005+OFFSET(AGR!$B$49,$AX122,SUMIF($B$10:$B$14,\"NCAP_TLIFE\",$AY$10:$AY$14)),0,\"\"))","v":""},null,{"$f":"IF(AX121=AGR!$W$72,AW121+1,AW121)","v":5},15]
[{"$f":"IF(LEFT(OFFSET(AGR!$A$49,AX123,0),2)=\"\\I\",\"*\",\"\")","v":""},"PRC_RESID",{"$f":"IF($A123=\"*\",\"\",OFFSET(AGR!$B$49,AX123,0))","v":"AIODS-E"},"-","-","-","-","-",0,{"$f":"IF($A123=\"*\",\"\",OFFSET(AGR!$B$49,AX123,SUMIF($B$10:$B$14,B123,$AY$10:$AY$14)))","v":0.34733060178622571},{"$f":"IF($B123<>\"PRC_RESID\",\"\",IF(K$7=2005+OFFSET(AGR!$B$49,$AX123,SUMIF($B$10:$B$14,\"NCAP_TLIFE\",$AY$10:$AY$14)),0,\"\"))","v":""},{"$f":"IF($B123<>\"PRC_RESID\",\"\",IF(L$7=2005+OFFSET(AGR!$B$49,$AX123,SUMIF($B$10:$B$14,\"NCAP_TLIFE\",$AY$10:$AY$14)),0,\"\"))","v":""},{"$f":"IF($B123<>\"PRC_RESID\",\"\",IF(M$7=2005+OFFSET(AGR!$B$49,$AX123,SUMIF($B$10:$B$14,\"NCAP_TLIFE\",$AY$10:$AY$14)),0,\"\"))","v":""},{"$f":"IF($B123<>\"PRC_RESID\",\"\",IF(N$7=2005+OFFSET(AGR!$B$49,$AX123,SUMIF($B$10:$B$14,\"NCAP_TLIFE\",$AY$10:$AY$14)),0,\"\"))","v":""},{"$f":"IF($B123<>\"PRC_RESID\",\"\",IF(O$7=2005+OFFSET(AGR!$B$49,$AX123,SUMIF($B$10:$B$14,\"NCAP_TLIFE\",$AY$10:$AY$14)),0,\"\"))","v":""},{"$f":"IF($B123<>\"PRC_RESID\",\"\",IF(P$7=2005+OFFSET(AGR!$B$49,$AX123,SUMIF($B$10:$B$14,\"NCAP_TLIFE\",$AY$10:$AY$14)),0,\"\"))","v":""},{"$f":"IF($B123<>\"PRC_RESID\",\"\",IF(Q$7=2005+OFFSET(AGR!$B$49,$AX123,SUMIF($B$10:$B$14,\"NCAP_TLIFE\",$AY$10:$AY$14)),0,\"\"))","v":""},{"$f":"IF($B123<>\"PRC_RESID\",\"\",IF(R$7=2005+OFFSET(AGR!$B$49,$AX123,SUMIF($B$10:$B$14,\"NCAP_TLIFE\",$AY$10:$AY$14)),0,\"\"))","v":""},{"$f":"IF($B123<>\"PRC_RESID\",\"\",IF(S$7=2005+OFFSET(AGR!$B$49,$AX123,SUMIF($B$10:$B$14,\"NCAP_TLIFE\",$AY$10:$AY$14)),0,\"\"))","v":""},{"$f":"IF($B123<>\"PRC_RESID\",\"\",IF(T$7=2005+OFFSET(AGR!$B$49,$AX123,SUMIF($B$10:$B$14,\"NCAP_TLIFE\",$AY$10:$AY$14)),0,\"\"))","v":""},{"$f":"IF($B123<>\"PRC_RESID\",\"\",IF(U$7=2005+OFFSET(AGR!$B$49,$AX123,SUMIF($B$10:$B$14,\"NCAP_TLIFE\",$AY$10:$AY$14)),0,\"\"))","v":""},{"$f":"IF($B123<>\"PRC_RESID\",\"\",IF(V$7=2005+OFFSET(AGR!$B$49,$AX123,SUMIF($B$10:$B$14,\"NCAP_TLIFE\",$AY$10:$AY$14)),0,\"\"))","v":""},{"$f":"IF($B123<>\"PRC_RESID\",\"\",IF(W$7=2005+OFFSET(AGR!$B$49,$AX123,SUMIF($B$10:$B$14,\"NCAP_TLIFE\",$AY$10:$AY$14)),0,\"\"))","v":""},{"$f":"IF($B123<>\"PRC_RESID\",\"\",IF(X$7=2005+OFFSET(AGR!$B$49,$AX123,SUMIF($B$10:$B$14,\"NCAP_TLIFE\",$AY$10:$AY$14)),0,\"\"))","v":0},{"$f":"IF($B123<>\"PRC_RESID\",\"\",IF(Y$7=2005+OFFSET(AGR!$B$49,$AX123,SUMIF($B$10:$B$14,\"NCAP_TLIFE\",$AY$10:$AY$14)),0,\"\"))","v":""},{"$f":"IF($B123<>\"PRC_RESID\",\"\",IF(Z$7=2005+OFFSET(AGR!$B$49,$AX123,SUMIF($B$10:$B$14,\"NCAP_TLIFE\",$AY$10:$AY$14)),0,\"\"))","v":""},{"$f":"IF($B123<>\"PRC_RESID\",\"\",IF(AA$7=2005+OFFSET(AGR!$B$49,$AX123,SUMIF($B$10:$B$14,\"NCAP_TLIFE\",$AY$10:$AY$14)),0,\"\"))","v":""},{"$f":"IF($B123<>\"PRC_RESID\",\"\",IF(AB$7=2005+OFFSET(AGR!$B$49,$AX123,SUMIF($B$10:$B$14,\"NCAP_TLIFE\",$AY$10:$AY$14)),0,\"\"))","v":""},{"$f":"IF($B123<>\"PRC_RESID\",\"\",IF(AC$7=2005+OFFSET(AGR!$B$49,$AX123,SUMIF($B$10:$B$14,\"NCAP_TLIFE\",$AY$10:$AY$14)),0,\"\"))","v":""},{"$f":"IF($B123<>\"PRC_RESID\",\"\",IF(AD$7=2005+OFFSET(AGR!$B$49,$AX123,SUMIF($B$10:$B$14,\"NCAP_TLIFE\",$AY$10:$AY$14)),0,\"\"))","v":""},{"$f":"IF($B123<>\"PRC_RESID\",\"\",IF(AE$7=2005+OFFSET(AGR!$B$49,$AX123,SUMIF($B$10:$B$14,\"NCAP_TLIFE\",$AY$10:$AY$14)),0,\"\"))","v":""},{"$f":"IF($B123<>\"PRC_RESID\",\"\",IF(AF$7=2005+OFFSET(AGR!$B$49,$AX123,SUMIF($B$10:$B$14,\"NCAP_TLIFE\",$AY$10:$AY$14)),0,\"\"))","v":""},{"$f":"IF($B123<>\"PRC_RESID\",\"\",IF(AG$7=2005+OFFSET(AGR!$B$49,$AX123,SUMIF($B$10:$B$14,\"NCAP_TLIFE\",$AY$10:$AY$14)),0,\"\"))","v":""},{"$f":"IF($B123<>\"PRC_RESID\",\"\",IF(AH$7=2005+OFFSET(AGR!$B$49,$AX123,SUMIF($B$10:$B$14,\"NCAP_TLIFE\",$AY$10:$AY$14)),0,\"\"))","v":""},null,null,null,null,{"$f":"IF($B123<>\"PRC_RESID\",\"\",IF(AM$7=2005+OFFSET(AGR!$B$49,$AX123,SUMIF($B$10:$B$14,\"NCAP_TLIFE\",$AY$10:$AY$14)),0,\"\"))","v":""},null,null,null,null,{"$f":"IF($B123<>\"PRC_RESID\",\"\",IF(AR$7=2005+OFFSET(AGR!$B$49,$AX123,SUMIF($B$10:$B$14,\"NCAP_TLIFE\",$AY$10:$AY$14)),0,\"\"))","v":""},{"$f":"IF($B123<>\"PRC_RESID\",\"\",IF(AS$7=2005+OFFSET(AGR!$B$49,$AX123,SUMIF($B$10:$B$14,\"NCAP_TLIFE\",$AY$10:$AY$14)),0,\"\"))","v":""},{"$f":"IF($B123<>\"PRC_RESID\",\"\",IF(AT$7=2005+OFFSET(AGR!$B$49,$AX123,SUMIF($B$10:$B$14,\"NCAP_TLIFE\",$AY$10:$AY$14)),0,\"\"))","v":""},{"$f":"IF($B123<>\"PRC_RESID\",\"\",IF(AU$7=2005+OFFSET(AGR!$B$49,$AX123,SUMIF($B$10:$B$14,\"NCAP_TLIFE\",$AY$10:$AY$14)),0,\"\"))","v":""},null,{"$f":"IF(AX122=AGR!$W$72,AW122+1,AW122)","v":5},16]
[{"$f":"IF(LEFT(OFFSET(AGR!$A$49,AX124,0),2)=\"\\I\",\"*\",\"\")","v":""},"PRC_RESID",{"$f":"IF($A124=\"*\",\"\",OFFSET(AGR!$B$49,AX124,0))","v":"AIELC-E"},"-","-","-","-","-",0,{"$f":"IF($A124=\"*\",\"\",OFFSET(AGR!$B$49,AX124,SUMIF($B$10:$B$14,B124,$AY$10:$AY$14)))","v":8.1076886188384698},{"$f":"IF($B124<>\"PRC_RESID\",\"\",IF(K$7=2005+OFFSET(AGR!$B$49,$AX124,SUMIF($B$10:$B$14,\"NCAP_TLIFE\",$AY$10:$AY$14)),0,\"\"))","v":""},{"$f":"IF($B124<>\"PRC_RESID\",\"\",IF(L$7=2005+OFFSET(AGR!$B$49,$AX124,SUMIF($B$10:$B$14,\"NCAP_TLIFE\",$AY$10:$AY$14)),0,\"\"))","v":""},{"$f":"IF($B124<>\"PRC_RESID\",\"\",IF(M$7=2005+OFFSET(AGR!$B$49,$AX124,SUMIF($B$10:$B$14,\"NCAP_TLIFE\",$AY$10:$AY$14)),0,\"\"))","v":""},{"$f":"IF($B124<>\"PRC_RESID\",\"\",IF(N$7=2005+OFFSET(AGR!$B$49,$AX124,SUMIF($B$10:$B$14,\"NCAP_TLIFE\",$AY$10:$AY$14)),0,\"\"))","v":""},{"$f":"IF($B124<>\"PRC_RESID\",\"\",IF(O$7=2005+OFFSET(AGR!$B$49,$AX124,SUMIF($B$10:$B$14,\"NCAP_TLIFE\",$AY$10:$AY$14)),0,\"\"))","v":""},{"$f":"IF($B124<>\"PRC_RESID\",\"\",IF(P$7=2005+OFFSET(AGR!$B$49,$AX124,SUMIF($B$10:$B$14,\"NCAP_TLIFE\",$AY$10:$AY$14)),0,\"\"))","v":""},{"$f":"IF($B124<>\"PRC_RESID\",\"\",IF(Q$7=2005+OFFSET(AGR!$B$49,$AX124,SUMIF($B$10:$B$14,\"NCAP_TLIFE\",$AY$10:$AY$14)),0,\"\"))","v":""},{"$f":"IF($B124<>\"PRC_RESID\",\"\",IF(R$7=2005+OFFSET(AGR!$B$49,$AX124,SUMIF($B$10:$B$14,\"NCAP_TLIFE\",$AY$10:$AY$14)),0,\"\"))","v":""},{"$f":"IF($B124<>\"PRC_RESID\",\"\",IF(S$7=2005+OFFSET(AGR!$B$49,$AX124,SUMIF($B$10:$B$14,\"NCAP_TLIFE\",$AY$10:$AY$14)),0,\"\"))","v":""},{"$f":"IF($B124<>\"PRC_RESID\",\"\",IF(T$7=2005+OFFSET(AGR!$B$49,$AX124,SUMIF($B$10:$B$14,\"NCAP_TLIFE\",$AY$10:$AY$14)),0,\"\"))","v":""},{"$f":"IF($B124<>\"PRC_RESID\",\"\",IF(U$7=2005+OFFSET(AGR!$B$49,$AX124,SUMIF($B$10:$B$14,\"NCAP_TLIFE\",$AY$10:$AY$14)),0,\"\"))","v":""},{"$f":"IF($B124<>\"PRC_RESID\",\"\",IF(V$7=2005+OFFSET(AGR!$B$49,$AX124,SUMIF($B$10:$B$14,\"NCAP_TLIFE\",$AY$10:$AY$14)),0,\"\"))","v":""},{"$f":"IF($B124<>\"PRC_RESID\",\"\",IF(W$7=2005+OFFSET(AGR!$B$49,$AX124,SUMIF($B$10:$B$14,\"NCAP_TLIFE\",$AY$10:$AY$14)),0,\"\"))","v":""},{"$f":"IF($B124<>\"PRC_RESID\",\"\",IF(X$7=2005+OFFSET(AGR!$B$49,$AX124,SUMIF($B$10:$B$14,\"NCAP_TLIFE\",$AY$10:$AY$14)),0,\"\"))","v":0},{"$f":"IF($B124<>\"PRC_RESID\",\"\",IF(Y$7=2005+OFFSET(AGR!$B$49,$AX124,SUMIF($B$10:$B$14,\"NCAP_TLIFE\",$AY$10:$AY$14)),0,\"\"))","v":""},{"$f":"IF($B124<>\"PRC_RESID\",\"\",IF(Z$7=2005+OFFSET(AGR!$B$49,$AX124,SUMIF($B$10:$B$14,\"NCAP_TLIFE\",$AY$10:$AY$14)),0,\"\"))","v":""},{"$f":"IF($B124<>\"PRC_RESID\",\"\",IF(AA$7=2005+OFFSET(AGR!$B$49,$AX124,SUMIF($B$10:$B$14,\"NCAP_TLIFE\",$AY$10:$AY$14)),0,\"\"))","v":""},{"$f":"IF($B124<>\"PRC_RESID\",\"\",IF(AB$7=2005+OFFSET(AGR!$B$49,$AX124,SUMIF($B$10:$B$14,\"NCAP_TLIFE\",$AY$10:$AY$14)),0,\"\"))","v":""},{"$f":"IF($B124<>\"PRC_RESID\",\"\",IF(AC$7=2005+OFFSET(AGR!$B$49,$AX124,SUMIF($B$10:$B$14,\"NCAP_TLIFE\",$AY$10:$AY$14)),0,\"\"))","v":""},{"$f":"IF($B124<>\"PRC_RESID\",\"\",IF(AD$7=2005+OFFSET(AGR!$B$49,$AX124,SUMIF($B$10:$B$14,\"NCAP_TLIFE\",$AY$10:$AY$14)),0,\"\"))","v":""},{"$f":"IF($B124<>\"PRC_RESID\",\"\",IF(AE$7=2005+OFFSET(AGR!$B$49,$AX124,SUMIF($B$10:$B$14,\"NCAP_TLIFE\",$AY$10:$AY$14)),0,\"\"))","v":""},{"$f":"IF($B124<>\"PRC_RESID\",\"\",IF(AF$7=2005+OFFSET(AGR!$B$49,$AX124,SUMIF($B$10:$B$14,\"NCAP_TLIFE\",$AY$10:$AY$14)),0,\"\"))","v":""},{"$f":"IF($B124<>\"PRC_RESID\",\"\",IF(AG$7=2005+OFFSET(AGR!$B$49,$AX124,SUMIF($B$10:$B$14,\"NCAP_TLIFE\",$AY$10:$AY$14)),0,\"\"))","v":""},{"$f":"IF($B124<>\"PRC_RESID\",\"\",IF(AH$7=2005+OFFSET(AGR!$B$49,$AX124,SUMIF($B$10:$B$14,\"NCAP_TLIFE\",$AY$10:$AY$14)),0,\"\"))","v":""},null,null,null,null,{"$f":"IF($B124<>\"PRC_RESID\",\"\",IF(AM$7=2005+OFFSET(AGR!$B$49,$AX124,SUMIF($B$10:$B$14,\"NCAP_TLIFE\",$AY$10:$AY$14)),0,\"\"))","v":""},null,null,null,null,{"$f":"IF($B124<>\"PRC_RESID\",\"\",IF(AR$7=2005+OFFSET(AGR!$B$49,$AX124,SUMIF($B$10:$B$14,\"NCAP_TLIFE\",$AY$10:$AY$14)),0,\"\"))","v":""},{"$f":"IF($B124<>\"PRC_RESID\",\"\",IF(AS$7=2005+OFFSET(AGR!$B$49,$AX124,SUMIF($B$10:$B$14,\"NCAP_TLIFE\",$AY$10:$AY$14)),0,\"\"))","v":""},{"$f":"IF($B124<>\"PRC_RESID\",\"\",IF(AT$7=2005+OFFSET(AGR!$B$49,$AX124,SUMIF($B$10:$B$14,\"NCAP_TLIFE\",$AY$10:$AY$14)),0,\"\"))","v":""},{"$f":"IF($B124<>\"PRC_RESID\",\"\",IF(AU$7=2005+OFFSET(AGR!$B$49,$AX124,SUMIF($B$10:$B$14,\"NCAP_TLIFE\",$AY$10:$AY$14)),0,\"\"))","v":""},null,{"$f":"IF(AX123=AGR!$W$72,AW123+1,AW123)","v":5},17]
[{"$f":"IF(LEFT(OFFSET(AGR!$A$49,AX125,0),2)=\"\\I\",\"*\",\"\")","v":""},"PRC_RESID",{"$f":"IF($A125=\"*\",\"\",OFFSET(AGR!$B$49,AX125,0))","v":"AIOGS-E"},"-","-","-","-","-",0,{"$f":"IF($A125=\"*\",\"\",OFFSET(AGR!$B$49,AX125,SUMIF($B$10:$B$14,B125,$AY$10:$AY$14)))","v":9.9237314796064499E-2},{"$f":"IF($B125<>\"PRC_RESID\",\"\",IF(K$7=2005+OFFSET(AGR!$B$49,$AX125,SUMIF($B$10:$B$14,\"NCAP_TLIFE\",$AY$10:$AY$14)),0,\"\"))","v":""},{"$f":"IF($B125<>\"PRC_RESID\",\"\",IF(L$7=2005+OFFSET(AGR!$B$49,$AX125,SUMIF($B$10:$B$14,\"NCAP_TLIFE\",$AY$10:$AY$14)),0,\"\"))","v":""},{"$f":"IF($B125<>\"PRC_RESID\",\"\",IF(M$7=2005+OFFSET(AGR!$B$49,$AX125,SUMIF($B$10:$B$14,\"NCAP_TLIFE\",$AY$10:$AY$14)),0,\"\"))","v":""},{"$f":"IF($B125<>\"PRC_RESID\",\"\",IF(N$7=2005+OFFSET(AGR!$B$49,$AX125,SUMIF($B$10:$B$14,\"NCAP_TLIFE\",$AY$10:$AY$14)),0,\"\"))","v":""},{"$f":"IF($B125<>\"PRC_RESID\",\"\",IF(O$7=2005+OFFSET(AGR!$B$49,$AX125,SUMIF($B$10:$B$14,\"NCAP_TLIFE\",$AY$10:$AY$14)),0,\"\"))","v":""},{"$f":"IF($B125<>\"PRC_RESID\",\"\",IF(P$7=2005+OFFSET(AGR!$B$49,$AX125,SUMIF($B$10:$B$14,\"NCAP_TLIFE\",$AY$10:$AY$14)),0,\"\"))","v":""},{"$f":"IF($B125<>\"PRC_RESID\",\"\",IF(Q$7=2005+OFFSET(AGR!$B$49,$AX125,SUMIF($B$10:$B$14,\"NCAP_TLIFE\",$AY$10:$AY$14)),0,\"\"))","v":""},{"$f":"IF($B125<>\"PRC_RESID\",\"\",IF(R$7=2005+OFFSET(AGR!$B$49,$AX125,SUMIF($B$10:$B$14,\"NCAP_TLIFE\",$AY$10:$AY$14)),0,\"\"))","v":""},{"$f":"IF($B125<>\"PRC_RESID\",\"\",IF(S$7=2005+OFFSET(AGR!$B$49,$AX125,SUMIF($B$10:$B$14,\"NCAP_TLIFE\",$AY$10:$AY$14)),0,\"\"))","v":""},{"$f":"IF($B125<>\"PRC_RESID\",\"\",IF(T$7=2005+OFFSET(AGR!$B$49,$AX125,SUMIF($B$10:$B$14,\"NCAP_TLIFE\",$AY$10:$AY$14)),0,\"\"))","v":""},{"$f":"IF($B125<>\"PRC_RESID\",\"\",IF(U$7=2005+OFFSET(AGR!$B$49,$AX125,SUMIF($B$10:$B$14,\"NCAP_TLIFE\",$AY$10:$AY$14)),0,\"\"))","v":""},{"$f":"IF($B125<>\"PRC_RESID\",\"\",IF(V$7=2005+OFFSET(AGR!$B$49,$AX125,SUMIF($B$10:$B$14,\"NCAP_TLIFE\",$AY$10:$AY$14)),0,\"\"))","v":""},{"$f":"IF($B125<>\"PRC_RESID\",\"\",IF(W$7=2005+OFFSET(AGR!$B$49,$AX125,SUMIF($B$10:$B$14,\"NCAP_TLIFE\",$AY$10:$AY$14)),0,\"\"))","v":""},{"$f":"IF($B125<>\"PRC_RESID\",\"\",IF(X$7=2005+OFFSET(AGR!$B$49,$AX125,SUMIF($B$10:$B$14,\"NCAP_TLIFE\",$AY$10:$AY$14)),0,\"\"))","v":0},{"$f":"IF($B125<>\"PRC_RESID\",\"\",IF(Y$7=2005+OFFSET(AGR!$B$49,$AX125,SUMIF($B$10:$B$14,\"NCAP_TLIFE\",$AY$10:$AY$14)),0,\"\"))","v":""},{"$f":"IF($B125<>\"PRC_RESID\",\"\",IF(Z$7=2005+OFFSET(AGR!$B$49,$AX125,SUMIF($B$10:$B$14,\"NCAP_TLIFE\",$AY$10:$AY$14)),0,\"\"))","v":""},{"$f":"IF($B125<>\"PRC_RESID\",\"\",IF(AA$7=2005+OFFSET(AGR!$B$49,$AX125,SUMIF($B$10:$B$14,\"NCAP_TLIFE\",$AY$10:$AY$14)),0,\"\"))","v":""},{"$f":"IF($B125<>\"PRC_RESID\",\"\",IF(AB$7=2005+OFFSET(AGR!$B$49,$AX125,SUMIF($B$10:$B$14,\"NCAP_TLIFE\",$AY$10:$AY$14)),0,\"\"))","v":""},{"$f":"IF($B125<>\"PRC_RESID\",\"\",IF(AC$7=2005+OFFSET(AGR!$B$49,$AX125,SUMIF($B$10:$B$14,\"NCAP_TLIFE\",$AY$10:$AY$14)),0,\"\"))","v":""},{"$f":"IF($B125<>\"PRC_RESID\",\"\",IF(AD$7=2005+OFFSET(AGR!$B$49,$AX125,SUMIF($B$10:$B$14,\"NCAP_TLIFE\",$AY$10:$AY$14)),0,\"\"))","v":""},{"$f":"IF($B125<>\"PRC_RESID\",\"\",IF(AE$7=2005+OFFSET(AGR!$B$49,$AX125,SUMIF($B$10:$B$14,\"NCAP_TLIFE\",$AY$10:$AY$14)),0,\"\"))","v":""},{"$f":"IF($B125<>\"PRC_RESID\",\"\",IF(AF$7=2005+OFFSET(AGR!$B$49,$AX125,SUMIF($B$10:$B$14,\"NCAP_TLIFE\",$AY$10:$AY$14)),0,\"\"))","v":""},{"$f":"IF($B125<>\"PRC_RESID\",\"\",IF(AG$7=2005+OFFSET(AGR!$B$49,$AX125,SUMIF($B$10:$B$14,\"NCAP_TLIFE\",$AY$10:$AY$14)),0,\"\"))","v":""},{"$f":"IF($B125<>\"PRC_RESID\",\"\",IF(AH$7=2005+OFFSET(AGR!$B$49,$AX125,SUMIF($B$10:$B$14,\"NCAP_TLIFE\",$AY$10:$AY$14)),0,\"\"))","v":""},null,null,null,null,{"$f":"IF($B125<>\"PRC_RESID\",\"\",IF(AM$7=2005+OFFSET(AGR!$B$49,$AX125,SUMIF($B$10:$B$14,\"NCAP_TLIFE\",$AY$10:$AY$14)),0,\"\"))","v":""},null,null,null,null,{"$f":"IF($B125<>\"PRC_RESID\",\"\",IF(AR$7=2005+OFFSET(AGR!$B$49,$AX125,SUMIF($B$10:$B$14,\"NCAP_TLIFE\",$AY$10:$AY$14)),0,\"\"))","v":""},{"$f":"IF($B125<>\"PRC_RESID\",\"\",IF(AS$7=2005+OFFSET(AGR!$B$49,$AX125,SUMIF($B$10:$B$14,\"NCAP_TLIFE\",$AY$10:$AY$14)),0,\"\"))","v":""},{"$f":"IF($B125<>\"PRC_RESID\",\"\",IF(AT$7=2005+OFFSET(AGR!$B$49,$AX125,SUMIF($B$10:$B$14,\"NCAP_TLIFE\",$AY$10:$AY$14)),0,\"\"))","v":""},{"$f":"IF($B125<>\"PRC_RESID\",\"\",IF(AU$7=2005+OFFSET(AGR!$B$49,$AX125,SUMIF($B$10:$B$14,\"NCAP_TLIFE\",$AY$10:$AY$14)),0,\"\"))","v":""},null,{"$f":"IF(AX124=AGR!$W$72,AW124+1,AW124)","v":5},18]
[{"$f":"IF(LEFT(OFFSET(AGR!$A$49,AX126,0),2)=\"\\I\",\"*\",\"\")","v":"*"},"",{"$f":"IF($A126=\"*\",\"\",OFFSET(AGR!$B$49,AX126,0))","v":""},"","","","","","",{"$f":"IF($A126=\"*\",\"\",OFFSET(AGR!$B$49,AX126,SUMIF($B$10:$B$14,B126,$AY$10:$AY$14)))","v":""},{"$f":"IF($B126<>\"PRC_RESID\",\"\",IF(K$7=2005+OFFSET(AGR!$B$49,$AX126,SUMIF($B$10:$B$14,\"NCAP_TLIFE\",$AY$10:$AY$14)),0,\"\"))","v":""},{"$f":"IF($B126<>\"PRC_RESID\",\"\",IF(L$7=2005+OFFSET(AGR!$B$49,$AX126,SUMIF($B$10:$B$14,\"NCAP_TLIFE\",$AY$10:$AY$14)),0,\"\"))","v":""},{"$f":"IF($B126<>\"PRC_RESID\",\"\",IF(M$7=2005+OFFSET(AGR!$B$49,$AX126,SUMIF($B$10:$B$14,\"NCAP_TLIFE\",$AY$10:$AY$14)),0,\"\"))","v":""},{"$f":"IF($B126<>\"PRC_RESID\",\"\",IF(N$7=2005+OFFSET(AGR!$B$49,$AX126,SUMIF($B$10:$B$14,\"NCAP_TLIFE\",$AY$10:$AY$14)),0,\"\"))","v":""},{"$f":"IF($B126<>\"PRC_RESID\",\"\",IF(O$7=2005+OFFSET(AGR!$B$49,$AX126,SUMIF($B$10:$B$14,\"NCAP_TLIFE\",$AY$10:$AY$14)),0,\"\"))","v":""},{"$f":"IF($B126<>\"PRC_RESID\",\"\",IF(P$7=2005+OFFSET(AGR!$B$49,$AX126,SUMIF($B$10:$B$14,\"NCAP_TLIFE\",$AY$10:$AY$14)),0,\"\"))","v":""},{"$f":"IF($B126<>\"PRC_RESID\",\"\",IF(Q$7=2005+OFFSET(AGR!$B$49,$AX126,SUMIF($B$10:$B$14,\"NCAP_TLIFE\",$AY$10:$AY$14)),0,\"\"))","v":""},{"$f":"IF($B126<>\"PRC_RESID\",\"\",IF(R$7=2005+OFFSET(AGR!$B$49,$AX126,SUMIF($B$10:$B$14,\"NCAP_TLIFE\",$AY$10:$AY$14)),0,\"\"))","v":""},{"$f":"IF($B126<>\"PRC_RESID\",\"\",IF(S$7=2005+OFFSET(AGR!$B$49,$AX126,SUMIF($B$10:$B$14,\"NCAP_TLIFE\",$AY$10:$AY$14)),0,\"\"))","v":""},{"$f":"IF($B126<>\"PRC_RESID\",\"\",IF(T$7=2005+OFFSET(AGR!$B$49,$AX126,SUMIF($B$10:$B$14,\"NCAP_TLIFE\",$AY$10:$AY$14)),0,\"\"))","v":""},{"$f":"IF($B126<>\"PRC_RESID\",\"\",IF(U$7=2005+OFFSET(AGR!$B$49,$AX126,SUMIF($B$10:$B$14,\"NCAP_TLIFE\",$AY$10:$AY$14)),0,\"\"))","v":""},{"$f":"IF($B126<>\"PRC_RESID\",\"\",IF(V$7=2005+OFFSET(AGR!$B$49,$AX126,SUMIF($B$10:$B$14,\"NCAP_TLIFE\",$AY$10:$AY$14)),0,\"\"))","v":""},{"$f":"IF($B126<>\"PRC_RESID\",\"\",IF(W$7=2005+OFFSET(AGR!$B$49,$AX126,SUMIF($B$10:$B$14,\"NCAP_TLIFE\",$AY$10:$AY$14)),0,\"\"))","v":""},{"$f":"IF($B126<>\"PRC_RESID\",\"\",IF(X$7=2005+OFFSET(AGR!$B$49,$AX126,SUMIF($B$10:$B$14,\"NCAP_TLIFE\",$AY$10:$AY$14)),0,\"\"))","v":""},{"$f":"IF($B126<>\"PRC_RESID\",\"\",IF(Y$7=2005+OFFSET(AGR!$B$49,$AX126,SUMIF($B$10:$B$14,\"NCAP_TLIFE\",$AY$10:$AY$14)),0,\"\"))","v":""},{"$f":"IF($B126<>\"PRC_RESID\",\"\",IF(Z$7=2005+OFFSET(AGR!$B$49,$AX126,SUMIF($B$10:$B$14,\"NCAP_TLIFE\",$AY$10:$AY$14)),0,\"\"))","v":""},{"$f":"IF($B126<>\"PRC_RESID\",\"\",IF(AA$7=2005+OFFSET(AGR!$B$49,$AX126,SUMIF($B$10:$B$14,\"NCAP_TLIFE\",$AY$10:$AY$14)),0,\"\"))","v":""},{"$f":"IF($B126<>\"PRC_RESID\",\"\",IF(AB$7=2005+OFFSET(AGR!$B$49,$AX126,SUMIF($B$10:$B$14,\"NCAP_TLIFE\",$AY$10:$AY$14)),0,\"\"))","v":""},{"$f":"IF($B126<>\"PRC_RESID\",\"\",IF(AC$7=2005+OFFSET(AGR!$B$49,$AX126,SUMIF($B$10:$B$14,\"NCAP_TLIFE\",$AY$10:$AY$14)),0,\"\"))","v":""},{"$f":"IF($B126<>\"PRC_RESID\",\"\",IF(AD$7=2005+OFFSET(AGR!$B$49,$AX126,SUMIF($B$10:$B$14,\"NCAP_TLIFE\",$AY$10:$AY$14)),0,\"\"))","v":""},{"$f":"IF($B126<>\"PRC_RESID\",\"\",IF(AE$7=2005+OFFSET(AGR!$B$49,$AX126,SUMIF($B$10:$B$14,\"NCAP_TLIFE\",$AY$10:$AY$14)),0,\"\"))","v":""},{"$f":"IF($B126<>\"PRC_RESID\",\"\",IF(AF$7=2005+OFFSET(AGR!$B$49,$AX126,SUMIF($B$10:$B$14,\"NCAP_TLIFE\",$AY$10:$AY$14)),0,\"\"))","v":""},{"$f":"IF($B126<>\"PRC_RESID\",\"\",IF(AG$7=2005+OFFSET(AGR!$B$49,$AX126,SUMIF($B$10:$B$14,\"NCAP_TLIFE\",$AY$10:$AY$14)),0,\"\"))","v":""},{"$f":"IF($B126<>\"PRC_RESID\",\"\",IF(AH$7=2005+OFFSET(AGR!$B$49,$AX126,SUMIF($B$10:$B$14,\"NCAP_TLIFE\",$AY$10:$AY$14)),0,\"\"))","v":""},null,null,null,null,{"$f":"IF($B126<>\"PRC_RESID\",\"\",IF(AM$7=2005+OFFSET(AGR!$B$49,$AX126,SUMIF($B$10:$B$14,\"NCAP_TLIFE\",$AY$10:$AY$14)),0,\"\"))","v":""},null,null,null,null,{"$f":"IF($B126<>\"PRC_RESID\",\"\",IF(AR$7=2005+OFFSET(AGR!$B$49,$AX126,SUMIF($B$10:$B$14,\"NCAP_TLIFE\",$AY$10:$AY$14)),0,\"\"))","v":""},{"$f":"IF($B126<>\"PRC_RESID\",\"\",IF(AS$7=2005+OFFSET(AGR!$B$49,$AX126,SUMIF($B$10:$B$14,\"NCAP_TLIFE\",$AY$10:$AY$14)),0,\"\"))","v":""},{"$f":"IF($B126<>\"PRC_RESID\",\"\",IF(AT$7=2005+OFFSET(AGR!$B$49,$AX126,SUMIF($B$10:$B$14,\"NCAP_TLIFE\",$AY$10:$AY$14)),0,\"\"))","v":""},{"$f":"IF($B126<>\"PRC_RESID\",\"\",IF(AU$7=2005+OFFSET(AGR!$B$49,$AX126,SUMIF($B$10:$B$14,\"NCAP_TLIFE\",$AY$10:$AY$14)),0,\"\"))","v":""},null,{"$f":"IF(AX125=AGR!$W$72,AW125+1,AW125)","v":5},19]
[{"$f":"IF(LEFT(OFFSET(AGR!$A$49,AX127,0),2)=\"\\I\",\"*\",\"\")","v":"*"},"",{"$f":"IF($A127=\"*\",\"\",OFFSET(AGR!$B$49,AX127,0))","v":""},"","","","","","",{"$f":"IF($A127=\"*\",\"\",OFFSET(AGR!$B$49,AX127,SUMIF($B$10:$B$14,B127,$AY$10:$AY$14)))","v":""},{"$f":"IF($B127<>\"PRC_RESID\",\"\",IF(K$7=2005+OFFSET(AGR!$B$49,$AX127,SUMIF($B$10:$B$14,\"NCAP_TLIFE\",$AY$10:$AY$14)),0,\"\"))","v":""},{"$f":"IF($B127<>\"PRC_RESID\",\"\",IF(L$7=2005+OFFSET(AGR!$B$49,$AX127,SUMIF($B$10:$B$14,\"NCAP_TLIFE\",$AY$10:$AY$14)),0,\"\"))","v":""},{"$f":"IF($B127<>\"PRC_RESID\",\"\",IF(M$7=2005+OFFSET(AGR!$B$49,$AX127,SUMIF($B$10:$B$14,\"NCAP_TLIFE\",$AY$10:$AY$14)),0,\"\"))","v":""},{"$f":"IF($B127<>\"PRC_RESID\",\"\",IF(N$7=2005+OFFSET(AGR!$B$49,$AX127,SUMIF($B$10:$B$14,\"NCAP_TLIFE\",$AY$10:$AY$14)),0,\"\"))","v":""},{"$f":"IF($B127<>\"PRC_RESID\",\"\",IF(O$7=2005+OFFSET(AGR!$B$49,$AX127,SUMIF($B$10:$B$14,\"NCAP_TLIFE\",$AY$10:$AY$14)),0,\"\"))","v":""},{"$f":"IF($B127<>\"PRC_RESID\",\"\",IF(P$7=2005+OFFSET(AGR!$B$49,$AX127,SUMIF($B$10:$B$14,\"NCAP_TLIFE\",$AY$10:$AY$14)),0,\"\"))","v":""},{"$f":"IF($B127<>\"PRC_RESID\",\"\",IF(Q$7=2005+OFFSET(AGR!$B$49,$AX127,SUMIF($B$10:$B$14,\"NCAP_TLIFE\",$AY$10:$AY$14)),0,\"\"))","v":""},{"$f":"IF($B127<>\"PRC_RESID\",\"\",IF(R$7=2005+OFFSET(AGR!$B$49,$AX127,SUMIF($B$10:$B$14,\"NCAP_TLIFE\",$AY$10:$AY$14)),0,\"\"))","v":""},{"$f":"IF($B127<>\"PRC_RESID\",\"\",IF(S$7=2005+OFFSET(AGR!$B$49,$AX127,SUMIF($B$10:$B$14,\"NCAP_TLIFE\",$AY$10:$AY$14)),0,\"\"))","v":""},{"$f":"IF($B127<>\"PRC_RESID\",\"\",IF(T$7=2005+OFFSET(AGR!$B$49,$AX127,SUMIF($B$10:$B$14,\"NCAP_TLIFE\",$AY$10:$AY$14)),0,\"\"))","v":""},{"$f":"IF($B127<>\"PRC_RESID\",\"\",IF(U$7=2005+OFFSET(AGR!$B$49,$AX127,SUMIF($B$10:$B$14,\"NCAP_TLIFE\",$AY$10:$AY$14)),0,\"\"))","v":""},{"$f":"IF($B127<>\"PRC_RESID\",\"\",IF(V$7=2005+OFFSET(AGR!$B$49,$AX127,SUMIF($B$10:$B$14,\"NCAP_TLIFE\",$AY$10:$AY$14)),0,\"\"))","v":""},{"$f":"IF($B127<>\"PRC_RESID\",\"\",IF(W$7=2005+OFFSET(AGR!$B$49,$AX127,SUMIF($B$10:$B$14,\"NCAP_TLIFE\",$AY$10:$AY$14)),0,\"\"))","v":""},{"$f":"IF($B127<>\"PRC_RESID\",\"\",IF(X$7=2005+OFFSET(AGR!$B$49,$AX127,SUMIF($B$10:$B$14,\"NCAP_TLIFE\",$AY$10:$AY$14)),0,\"\"))","v":""},{"$f":"IF($B127<>\"PRC_RESID\",\"\",IF(Y$7=2005+OFFSET(AGR!$B$49,$AX127,SUMIF($B$10:$B$14,\"NCAP_TLIFE\",$AY$10:$AY$14)),0,\"\"))","v":""},{"$f":"IF($B127<>\"PRC_RESID\",\"\",IF(Z$7=2005+OFFSET(AGR!$B$49,$AX127,SUMIF($B$10:$B$14,\"NCAP_TLIFE\",$AY$10:$AY$14)),0,\"\"))","v":""},{"$f":"IF($B127<>\"PRC_RESID\",\"\",IF(AA$7=2005+OFFSET(AGR!$B$49,$AX127,SUMIF($B$10:$B$14,\"NCAP_TLIFE\",$AY$10:$AY$14)),0,\"\"))","v":""},{"$f":"IF($B127<>\"PRC_RESID\",\"\",IF(AB$7=2005+OFFSET(AGR!$B$49,$AX127,SUMIF($B$10:$B$14,\"NCAP_TLIFE\",$AY$10:$AY$14)),0,\"\"))","v":""},{"$f":"IF($B127<>\"PRC_RESID\",\"\",IF(AC$7=2005+OFFSET(AGR!$B$49,$AX127,SUMIF($B$10:$B$14,\"NCAP_TLIFE\",$AY$10:$AY$14)),0,\"\"))","v":""},{"$f":"IF($B127<>\"PRC_RESID\",\"\",IF(AD$7=2005+OFFSET(AGR!$B$49,$AX127,SUMIF($B$10:$B$14,\"NCAP_TLIFE\",$AY$10:$AY$14)),0,\"\"))","v":""},{"$f":"IF($B127<>\"PRC_RESID\",\"\",IF(AE$7=2005+OFFSET(AGR!$B$49,$AX127,SUMIF($B$10:$B$14,\"NCAP_TLIFE\",$AY$10:$AY$14)),0,\"\"))","v":""},{"$f":"IF($B127<>\"PRC_RESID\",\"\",IF(AF$7=2005+OFFSET(AGR!$B$49,$AX127,SUMIF($B$10:$B$14,\"NCAP_TLIFE\",$AY$10:$AY$14)),0,\"\"))","v":""},{"$f":"IF($B127<>\"PRC_RESID\",\"\",IF(AG$7=2005+OFFSET(AGR!$B$49,$AX127,SUMIF($B$10:$B$14,\"NCAP_TLIFE\",$AY$10:$AY$14)),0,\"\"))","v":""},{"$f":"IF($B127<>\"PRC_RESID\",\"\",IF(AH$7=2005+OFFSET(AGR!$B$49,$AX127,SUMIF($B$10:$B$14,\"NCAP_TLIFE\",$AY$10:$AY$14)),0,\"\"))","v":""},null,null,null,null,{"$f":"IF($B127<>\"PRC_RESID\",\"\",IF(AM$7=2005+OFFSET(AGR!$B$49,$AX127,SUMIF($B$10:$B$14,\"NCAP_TLIFE\",$AY$10:$AY$14)),0,\"\"))","v":""},null,null,null,null,{"$f":"IF($B127<>\"PRC_RESID\",\"\",IF(AR$7=2005+OFFSET(AGR!$B$49,$AX127,SUMIF($B$10:$B$14,\"NCAP_TLIFE\",$AY$10:$AY$14)),0,\"\"))","v":""},{"$f":"IF($B127<>\"PRC_RESID\",\"\",IF(AS$7=2005+OFFSET(AGR!$B$49,$AX127,SUMIF($B$10:$B$14,\"NCAP_TLIFE\",$AY$10:$AY$14)),0,\"\"))","v":""},{"$f":"IF($B127<>\"PRC_RESID\",\"\",IF(AT$7=2005+OFFSET(AGR!$B$49,$AX127,SUMIF($B$10:$B$14,\"NCAP_TLIFE\",$AY$10:$AY$14)),0,\"\"))","v":""},{"$f":"IF($B127<>\"PRC_RESID\",\"\",IF(AU$7=2005+OFFSET(AGR!$B$49,$AX127,SUMIF($B$10:$B$14,\"NCAP_TLIFE\",$AY$10:$AY$14)),0,\"\"))","v":""},null,{"$f":"IF(AX126=AGR!$W$72,AW126+1,AW126)","v":5},20]
[{"$f":"IF(LEFT(OFFSET(AGR!$A$49,AX128,0),2)=\"\\I\",\"*\",\"\")","v":""},"PRC_RESID",{"$f":"IF($A128=\"*\",\"\",OFFSET(AGR!$B$49,AX128,0))","v":"AOELC-E"},"-","-","-","-","-",0,{"$f":"IF($A128=\"*\",\"\",OFFSET(AGR!$B$49,AX128,SUMIF($B$10:$B$14,B128,$AY$10:$AY$14)))","v":8.7526671272805583},{"$f":"IF($B128<>\"PRC_RESID\",\"\",IF(K$7=2005+OFFSET(AGR!$B$49,$AX128,SUMIF($B$10:$B$14,\"NCAP_TLIFE\",$AY$10:$AY$14)),0,\"\"))","v":""},{"$f":"IF($B128<>\"PRC_RESID\",\"\",IF(L$7=2005+OFFSET(AGR!$B$49,$AX128,SUMIF($B$10:$B$14,\"NCAP_TLIFE\",$AY$10:$AY$14)),0,\"\"))","v":""},{"$f":"IF($B128<>\"PRC_RESID\",\"\",IF(M$7=2005+OFFSET(AGR!$B$49,$AX128,SUMIF($B$10:$B$14,\"NCAP_TLIFE\",$AY$10:$AY$14)),0,\"\"))","v":""},{"$f":"IF($B128<>\"PRC_RESID\",\"\",IF(N$7=2005+OFFSET(AGR!$B$49,$AX128,SUMIF($B$10:$B$14,\"NCAP_TLIFE\",$AY$10:$AY$14)),0,\"\"))","v":""},{"$f":"IF($B128<>\"PRC_RESID\",\"\",IF(O$7=2005+OFFSET(AGR!$B$49,$AX128,SUMIF($B$10:$B$14,\"NCAP_TLIFE\",$AY$10:$AY$14)),0,\"\"))","v":""},{"$f":"IF($B128<>\"PRC_RESID\",\"\",IF(P$7=2005+OFFSET(AGR!$B$49,$AX128,SUMIF($B$10:$B$14,\"NCAP_TLIFE\",$AY$10:$AY$14)),0,\"\"))","v":""},{"$f":"IF($B128<>\"PRC_RESID\",\"\",IF(Q$7=2005+OFFSET(AGR!$B$49,$AX128,SUMIF($B$10:$B$14,\"NCAP_TLIFE\",$AY$10:$AY$14)),0,\"\"))","v":""},{"$f":"IF($B128<>\"PRC_RESID\",\"\",IF(R$7=2005+OFFSET(AGR!$B$49,$AX128,SUMIF($B$10:$B$14,\"NCAP_TLIFE\",$AY$10:$AY$14)),0,\"\"))","v":""},{"$f":"IF($B128<>\"PRC_RESID\",\"\",IF(S$7=2005+OFFSET(AGR!$B$49,$AX128,SUMIF($B$10:$B$14,\"NCAP_TLIFE\",$AY$10:$AY$14)),0,\"\"))","v":""},{"$f":"IF($B128<>\"PRC_RESID\",\"\",IF(T$7=2005+OFFSET(AGR!$B$49,$AX128,SUMIF($B$10:$B$14,\"NCAP_TLIFE\",$AY$10:$AY$14)),0,\"\"))","v":""},{"$f":"IF($B128<>\"PRC_RESID\",\"\",IF(U$7=2005+OFFSET(AGR!$B$49,$AX128,SUMIF($B$10:$B$14,\"NCAP_TLIFE\",$AY$10:$AY$14)),0,\"\"))","v":""},{"$f":"IF($B128<>\"PRC_RESID\",\"\",IF(V$7=2005+OFFSET(AGR!$B$49,$AX128,SUMIF($B$10:$B$14,\"NCAP_TLIFE\",$AY$10:$AY$14)),0,\"\"))","v":""},{"$f":"IF($B128<>\"PRC_RESID\",\"\",IF(W$7=2005+OFFSET(AGR!$B$49,$AX128,SUMIF($B$10:$B$14,\"NCAP_TLIFE\",$AY$10:$AY$14)),0,\"\"))","v":""},{"$f":"IF($B128<>\"PRC_RESID\",\"\",IF(X$7=2005+OFFSET(AGR!$B$49,$AX128,SUMIF($B$10:$B$14,\"NCAP_TLIFE\",$AY$10:$AY$14)),0,\"\"))","v":0},{"$f":"IF($B128<>\"PRC_RESID\",\"\",IF(Y$7=2005+OFFSET(AGR!$B$49,$AX128,SUMIF($B$10:$B$14,\"NCAP_TLIFE\",$AY$10:$AY$14)),0,\"\"))","v":""},{"$f":"IF($B128<>\"PRC_RESID\",\"\",IF(Z$7=2005+OFFSET(AGR!$B$49,$AX128,SUMIF($B$10:$B$14,\"NCAP_TLIFE\",$AY$10:$AY$14)),0,\"\"))","v":""},{"$f":"IF($B128<>\"PRC_RESID\",\"\",IF(AA$7=2005+OFFSET(AGR!$B$49,$AX128,SUMIF($B$10:$B$14,\"NCAP_TLIFE\",$AY$10:$AY$14)),0,\"\"))","v":""},{"$f":"IF($B128<>\"PRC_RESID\",\"\",IF(AB$7=2005+OFFSET(AGR!$B$49,$AX128,SUMIF($B$10:$B$14,\"NCAP_TLIFE\",$AY$10:$AY$14)),0,\"\"))","v":""},{"$f":"IF($B128<>\"PRC_RESID\",\"\",IF(AC$7=2005+OFFSET(AGR!$B$49,$AX128,SUMIF($B$10:$B$14,\"NCAP_TLIFE\",$AY$10:$AY$14)),0,\"\"))","v":""},{"$f":"IF($B128<>\"PRC_RESID\",\"\",IF(AD$7=2005+OFFSET(AGR!$B$49,$AX128,SUMIF($B$10:$B$14,\"NCAP_TLIFE\",$AY$10:$AY$14)),0,\"\"))","v":""},{"$f":"IF($B128<>\"PRC_RESID\",\"\",IF(AE$7=2005+OFFSET(AGR!$B$49,$AX128,SUMIF($B$10:$B$14,\"NCAP_TLIFE\",$AY$10:$AY$14)),0,\"\"))","v":""},{"$f":"IF($B128<>\"PRC_RESID\",\"\",IF(AF$7=2005+OFFSET(AGR!$B$49,$AX128,SUMIF($B$10:$B$14,\"NCAP_TLIFE\",$AY$10:$AY$14)),0,\"\"))","v":""},{"$f":"IF($B128<>\"PRC_RESID\",\"\",IF(AG$7=2005+OFFSET(AGR!$B$49,$AX128,SUMIF($B$10:$B$14,\"NCAP_TLIFE\",$AY$10:$AY$14)),0,\"\"))","v":""},{"$f":"IF($B128<>\"PRC_RESID\",\"\",IF(AH$7=2005+OFFSET(AGR!$B$49,$AX128,SUMIF($B$10:$B$14,\"NCAP_TLIFE\",$AY$10:$AY$14)),0,\"\"))","v":""},null,null,null,null,{"$f":"IF($B128<>\"PRC_RESID\",\"\",IF(AM$7=2005+OFFSET(AGR!$B$49,$AX128,SUMIF($B$10:$B$14,\"NCAP_TLIFE\",$AY$10:$AY$14)),0,\"\"))","v":""},null,null,null,null,{"$f":"IF($B128<>\"PRC_RESID\",\"\",IF(AR$7=2005+OFFSET(AGR!$B$49,$AX128,SUMIF($B$10:$B$14,\"NCAP_TLIFE\",$AY$10:$AY$14)),0,\"\"))","v":""},{"$f":"IF($B128<>\"PRC_RESID\",\"\",IF(AS$7=2005+OFFSET(AGR!$B$49,$AX128,SUMIF($B$10:$B$14,\"NCAP_TLIFE\",$AY$10:$AY$14)),0,\"\"))","v":""},{"$f":"IF($B128<>\"PRC_RESID\",\"\",IF(AT$7=2005+OFFSET(AGR!$B$49,$AX128,SUMIF($B$10:$B$14,\"NCAP_TLIFE\",$AY$10:$AY$14)),0,\"\"))","v":""},{"$f":"IF($B128<>\"PRC_RESID\",\"\",IF(AU$7=2005+OFFSET(AGR!$B$49,$AX128,SUMIF($B$10:$B$14,\"NCAP_TLIFE\",$AY$10:$AY$14)),0,\"\"))","v":""},null,{"$f":"IF(AX127=AGR!$W$72,AW127+1,AW127)","v":5},21]
[{"$f":"IF(LEFT(OFFSET(AGR!$A$49,AX129,0),2)=\"\\I\",\"*\",\"\")","v":"*"},{"$f":"IF(A129=\"*\",\"\",VLOOKUP(\"*\"&AW129,$A$9:$B$14,2,FALSE))","v":""},{"$f":"IF($A129=\"*\",\"\",OFFSET(AGR!$B$49,AX129,0))","v":""},"","","","","","",{"$f":"IF($A129=\"*\",\"\",OFFSET(AGR!$B$49,AX129,SUMIF($B$10:$B$14,B129,$AY$10:$AY$14)))","v":""},{"$f":"IF($B129<>\"PRC_RESID\",\"\",IF(K$7=2005+OFFSET(AGR!$B$49,$AX129,SUMIF($B$10:$B$14,\"NCAP_TLIFE\",$AY$10:$AY$14)),0,\"\"))","v":""},{"$f":"IF($B129<>\"PRC_RESID\",\"\",IF(L$7=2005+OFFSET(AGR!$B$49,$AX129,SUMIF($B$10:$B$14,\"NCAP_TLIFE\",$AY$10:$AY$14)),0,\"\"))","v":""},{"$f":"IF($B129<>\"PRC_RESID\",\"\",IF(M$7=2005+OFFSET(AGR!$B$49,$AX129,SUMIF($B$10:$B$14,\"NCAP_TLIFE\",$AY$10:$AY$14)),0,\"\"))","v":""},{"$f":"IF($B129<>\"PRC_RESID\",\"\",IF(N$7=2005+OFFSET(AGR!$B$49,$AX129,SUMIF($B$10:$B$14,\"NCAP_TLIFE\",$AY$10:$AY$14)),0,\"\"))","v":""},{"$f":"IF($B129<>\"PRC_RESID\",\"\",IF(O$7=2005+OFFSET(AGR!$B$49,$AX129,SUMIF($B$10:$B$14,\"NCAP_TLIFE\",$AY$10:$AY$14)),0,\"\"))","v":""},{"$f":"IF($B129<>\"PRC_RESID\",\"\",IF(P$7=2005+OFFSET(AGR!$B$49,$AX129,SUMIF($B$10:$B$14,\"NCAP_TLIFE\",$AY$10:$AY$14)),0,\"\"))","v":""},{"$f":"IF($B129<>\"PRC_RESID\",\"\",IF(Q$7=2005+OFFSET(AGR!$B$49,$AX129,SUMIF($B$10:$B$14,\"NCAP_TLIFE\",$AY$10:$AY$14)),0,\"\"))","v":""},{"$f":"IF($B129<>\"PRC_RESID\",\"\",IF(R$7=2005+OFFSET(AGR!$B$49,$AX129,SUMIF($B$10:$B$14,\"NCAP_TLIFE\",$AY$10:$AY$14)),0,\"\"))","v":""},{"$f":"IF($B129<>\"PRC_RESID\",\"\",IF(S$7=2005+OFFSET(AGR!$B$49,$AX129,SUMIF($B$10:$B$14,\"NCAP_TLIFE\",$AY$10:$AY$14)),0,\"\"))","v":""},{"$f":"IF($B129<>\"PRC_RESID\",\"\",IF(T$7=2005+OFFSET(AGR!$B$49,$AX129,SUMIF($B$10:$B$14,\"NCAP_TLIFE\",$AY$10:$AY$14)),0,\"\"))","v":""},{"$f":"IF($B129<>\"PRC_RESID\",\"\",IF(U$7=2005+OFFSET(AGR!$B$49,$AX129,SUMIF($B$10:$B$14,\"NCAP_TLIFE\",$AY$10:$AY$14)),0,\"\"))","v":""},{"$f":"IF($B129<>\"PRC_RESID\",\"\",IF(V$7=2005+OFFSET(AGR!$B$49,$AX129,SUMIF($B$10:$B$14,\"NCAP_TLIFE\",$AY$10:$AY$14)),0,\"\"))","v":""},{"$f":"IF($B129<>\"PRC_RESID\",\"\",IF(W$7=2005+OFFSET(AGR!$B$49,$AX129,SUMIF($B$10:$B$14,\"NCAP_TLIFE\",$AY$10:$AY$14)),0,\"\"))","v":""},{"$f":"IF($B129<>\"PRC_RESID\",\"\",IF(X$7=2005+OFFSET(AGR!$B$49,$AX129,SUMIF($B$10:$B$14,\"NCAP_TLIFE\",$AY$10:$AY$14)),0,\"\"))","v":""},{"$f":"IF($B129<>\"PRC_RESID\",\"\",IF(Y$7=2005+OFFSET(AGR!$B$49,$AX129,SUMIF($B$10:$B$14,\"NCAP_TLIFE\",$AY$10:$AY$14)),0,\"\"))","v":""},{"$f":"IF($B129<>\"PRC_RESID\",\"\",IF(Z$7=2005+OFFSET(AGR!$B$49,$AX129,SUMIF($B$10:$B$14,\"NCAP_TLIFE\",$AY$10:$AY$14)),0,\"\"))","v":""},{"$f":"IF($B129<>\"PRC_RESID\",\"\",IF(AA$7=2005+OFFSET(AGR!$B$49,$AX129,SUMIF($B$10:$B$14,\"NCAP_TLIFE\",$AY$10:$AY$14)),0,\"\"))","v":""},{"$f":"IF($B129<>\"PRC_RESID\",\"\",IF(AB$7=2005+OFFSET(AGR!$B$49,$AX129,SUMIF($B$10:$B$14,\"NCAP_TLIFE\",$AY$10:$AY$14)),0,\"\"))","v":""},{"$f":"IF($B129<>\"PRC_RESID\",\"\",IF(AC$7=2005+OFFSET(AGR!$B$49,$AX129,SUMIF($B$10:$B$14,\"NCAP_TLIFE\",$AY$10:$AY$14)),0,\"\"))","v":""},{"$f":"IF($B129<>\"PRC_RESID\",\"\",IF(AD$7=2005+OFFSET(AGR!$B$49,$AX129,SUMIF($B$10:$B$14,\"NCAP_TLIFE\",$AY$10:$AY$14)),0,\"\"))","v":""},{"$f":"IF($B129<>\"PRC_RESID\",\"\",IF(AE$7=2005+OFFSET(AGR!$B$49,$AX129,SUMIF($B$10:$B$14,\"NCAP_TLIFE\",$AY$10:$AY$14)),0,\"\"))","v":""},{"$f":"IF($B129<>\"PRC_RESID\",\"\",IF(AF$7=2005+OFFSET(AGR!$B$49,$AX129,SUMIF($B$10:$B$14,\"NCAP_TLIFE\",$AY$10:$AY$14)),0,\"\"))","v":""},{"$f":"IF($B129<>\"PRC_RESID\",\"\",IF(AG$7=2005+OFFSET(AGR!$B$49,$AX129,SUMIF($B$10:$B$14,\"NCAP_TLIFE\",$AY$10:$AY$14)),0,\"\"))","v":""},{"$f":"IF($B129<>\"PRC_RESID\",\"\",IF(AH$7=2005+OFFSET(AGR!$B$49,$AX129,SUMIF($B$10:$B$14,\"NCAP_TLIFE\",$AY$10:$AY$14)),0,\"\"))","v":""},null,null,null,null,{"$f":"IF($B129<>\"PRC_RESID\",\"\",IF(AM$7=2005+OFFSET(AGR!$B$49,$AX129,SUMIF($B$10:$B$14,\"NCAP_TLIFE\",$AY$10:$AY$14)),0,\"\"))","v":""},null,null,null,null,{"$f":"IF($B129<>\"PRC_RESID\",\"\",IF(AR$7=2005+OFFSET(AGR!$B$49,$AX129,SUMIF($B$10:$B$14,\"NCAP_TLIFE\",$AY$10:$AY$14)),0,\"\"))","v":""},{"$f":"IF($B129<>\"PRC_RESID\",\"\",IF(AS$7=2005+OFFSET(AGR!$B$49,$AX129,SUMIF($B$10:$B$14,\"NCAP_TLIFE\",$AY$10:$AY$14)),0,\"\"))","v":""},{"$f":"IF($B129<>\"PRC_RESID\",\"\",IF(AT$7=2005+OFFSET(AGR!$B$49,$AX129,SUMIF($B$10:$B$14,\"NCAP_TLIFE\",$AY$10:$AY$14)),0,\"\"))","v":""},{"$f":"IF($B129<>\"PRC_RESID\",\"\",IF(AU$7=2005+OFFSET(AGR!$B$49,$AX129,SUMIF($B$10:$B$14,\"NCAP_TLIFE\",$AY$10:$AY$14)),0,\"\"))","v":""},null,{"$f":"IF(AX128=AGR!$W$72,AW128+1,AW128)","v":5},{"$f":"IF(AW129=AW128,AX128+1,1)","v":22}]
[{"$f":"IF(LEFT(OFFSET(AGR!$A$49,AX130,0),2)=\"\\I\",\"*\",\"\")","v":"*"},"",{"$f":"IF($A130=\"*\",\"\",OFFSET(AGR!$B$49,AX130,0))","v":""},"","","","","","",{"$f":"IF($A130=\"*\",\"\",OFFSET(AGR!$B$49,AX130,SUMIF($B$10:$B$14,B130,$AY$10:$AY$14)))","v":""},{"$f":"IF($B130<>\"PRC_RESID\",\"\",IF(K$7=2005+OFFSET(AGR!$B$49,$AX130,SUMIF($B$10:$B$14,\"NCAP_TLIFE\",$AY$10:$AY$14)),0,\"\"))","v":""},{"$f":"IF($B130<>\"PRC_RESID\",\"\",IF(L$7=2005+OFFSET(AGR!$B$49,$AX130,SUMIF($B$10:$B$14,\"NCAP_TLIFE\",$AY$10:$AY$14)),0,\"\"))","v":""},{"$f":"IF($B130<>\"PRC_RESID\",\"\",IF(M$7=2005+OFFSET(AGR!$B$49,$AX130,SUMIF($B$10:$B$14,\"NCAP_TLIFE\",$AY$10:$AY$14)),0,\"\"))","v":""},{"$f":"IF($B130<>\"PRC_RESID\",\"\",IF(N$7=2005+OFFSET(AGR!$B$49,$AX130,SUMIF($B$10:$B$14,\"NCAP_TLIFE\",$AY$10:$AY$14)),0,\"\"))","v":""},{"$f":"IF($B130<>\"PRC_RESID\",\"\",IF(O$7=2005+OFFSET(AGR!$B$49,$AX130,SUMIF($B$10:$B$14,\"NCAP_TLIFE\",$AY$10:$AY$14)),0,\"\"))","v":""},{"$f":"IF($B130<>\"PRC_RESID\",\"\",IF(P$7=2005+OFFSET(AGR!$B$49,$AX130,SUMIF($B$10:$B$14,\"NCAP_TLIFE\",$AY$10:$AY$14)),0,\"\"))","v":""},{"$f":"IF($B130<>\"PRC_RESID\",\"\",IF(Q$7=2005+OFFSET(AGR!$B$49,$AX130,SUMIF($B$10:$B$14,\"NCAP_TLIFE\",$AY$10:$AY$14)),0,\"\"))","v":""},{"$f":"IF($B130<>\"PRC_RESID\",\"\",IF(R$7=2005+OFFSET(AGR!$B$49,$AX130,SUMIF($B$10:$B$14,\"NCAP_TLIFE\",$AY$10:$AY$14)),0,\"\"))","v":""},{"$f":"IF($B130<>\"PRC_RESID\",\"\",IF(S$7=2005+OFFSET(AGR!$B$49,$AX130,SUMIF($B$10:$B$14,\"NCAP_TLIFE\",$AY$10:$AY$14)),0,\"\"))","v":""},{"$f":"IF($B130<>\"PRC_RESID\",\"\",IF(T$7=2005+OFFSET(AGR!$B$49,$AX130,SUMIF($B$10:$B$14,\"NCAP_TLIFE\",$AY$10:$AY$14)),0,\"\"))","v":""},{"$f":"IF($B130<>\"PRC_RESID\",\"\",IF(U$7=2005+OFFSET(AGR!$B$49,$AX130,SUMIF($B$10:$B$14,\"NCAP_TLIFE\",$AY$10:$AY$14)),0,\"\"))","v":""},{"$f":"IF($B130<>\"PRC_RESID\",\"\",IF(V$7=2005+OFFSET(AGR!$B$49,$AX130,SUMIF($B$10:$B$14,\"NCAP_TLIFE\",$AY$10:$AY$14)),0,\"\"))","v":""},{"$f":"IF($B130<>\"PRC_RESID\",\"\",IF(W$7=2005+OFFSET(AGR!$B$49,$AX130,SUMIF($B$10:$B$14,\"NCAP_TLIFE\",$AY$10:$AY$14)),0,\"\"))","v":""},{"$f":"IF($B130<>\"PRC_RESID\",\"\",IF(X$7=2005+OFFSET(AGR!$B$49,$AX130,SUMIF($B$10:$B$14,\"NCAP_TLIFE\",$AY$10:$AY$14)),0,\"\"))","v":""},{"$f":"IF($B130<>\"PRC_RESID\",\"\",IF(Y$7=2005+OFFSET(AGR!$B$49,$AX130,SUMIF($B$10:$B$14,\"NCAP_TLIFE\",$AY$10:$AY$14)),0,\"\"))","v":""},{"$f":"IF($B130<>\"PRC_RESID\",\"\",IF(Z$7=2005+OFFSET(AGR!$B$49,$AX130,SUMIF($B$10:$B$14,\"NCAP_TLIFE\",$AY$10:$AY$14)),0,\"\"))","v":""},{"$f":"IF($B130<>\"PRC_RESID\",\"\",IF(AA$7=2005+OFFSET(AGR!$B$49,$AX130,SUMIF($B$10:$B$14,\"NCAP_TLIFE\",$AY$10:$AY$14)),0,\"\"))","v":""},{"$f":"IF($B130<>\"PRC_RESID\",\"\",IF(AB$7=2005+OFFSET(AGR!$B$49,$AX130,SUMIF($B$10:$B$14,\"NCAP_TLIFE\",$AY$10:$AY$14)),0,\"\"))","v":""},{"$f":"IF($B130<>\"PRC_RESID\",\"\",IF(AC$7=2005+OFFSET(AGR!$B$49,$AX130,SUMIF($B$10:$B$14,\"NCAP_TLIFE\",$AY$10:$AY$14)),0,\"\"))","v":""},{"$f":"IF($B130<>\"PRC_RESID\",\"\",IF(AD$7=2005+OFFSET(AGR!$B$49,$AX130,SUMIF($B$10:$B$14,\"NCAP_TLIFE\",$AY$10:$AY$14)),0,\"\"))","v":""},{"$f":"IF($B130<>\"PRC_RESID\",\"\",IF(AE$7=2005+OFFSET(AGR!$B$49,$AX130,SUMIF($B$10:$B$14,\"NCAP_TLIFE\",$AY$10:$AY$14)),0,\"\"))","v":""},{"$f":"IF($B130<>\"PRC_RESID\",\"\",IF(AF$7=2005+OFFSET(AGR!$B$49,$AX130,SUMIF($B$10:$B$14,\"NCAP_TLIFE\",$AY$10:$AY$14)),0,\"\"))","v":""},{"$f":"IF($B130<>\"PRC_RESID\",\"\",IF(AG$7=2005+OFFSET(AGR!$B$49,$AX130,SUMIF($B$10:$B$14,\"NCAP_TLIFE\",$AY$10:$AY$14)),0,\"\"))","v":""},{"$f":"IF($B130<>\"PRC_RESID\",\"\",IF(AH$7=2005+OFFSET(AGR!$B$49,$AX130,SUMIF($B$10:$B$14,\"NCAP_TLIFE\",$AY$10:$AY$14)),0,\"\"))","v":""},null,null,null,null,{"$f":"IF($B130<>\"PRC_RESID\",\"\",IF(AM$7=2005+OFFSET(AGR!$B$49,$AX130,SUMIF($B$10:$B$14,\"NCAP_TLIFE\",$AY$10:$AY$14)),0,\"\"))","v":""},null,null,null,null,{"$f":"IF($B130<>\"PRC_RESID\",\"\",IF(AR$7=2005+OFFSET(AGR!$B$49,$AX130,SUMIF($B$10:$B$14,\"NCAP_TLIFE\",$AY$10:$AY$14)),0,\"\"))","v":""},{"$f":"IF($B130<>\"PRC_RESID\",\"\",IF(AS$7=2005+OFFSET(AGR!$B$49,$AX130,SUMIF($B$10:$B$14,\"NCAP_TLIFE\",$AY$10:$AY$14)),0,\"\"))","v":""},{"$f":"IF($B130<>\"PRC_RESID\",\"\",IF(AT$7=2005+OFFSET(AGR!$B$49,$AX130,SUMIF($B$10:$B$14,\"NCAP_TLIFE\",$AY$10:$AY$14)),0,\"\"))","v":""},{"$f":"IF($B130<>\"PRC_RESID\",\"\",IF(AU$7=2005+OFFSET(AGR!$B$49,$AX130,SUMIF($B$10:$B$14,\"NCAP_TLIFE\",$AY$10:$AY$14)),0,\"\"))","v":""},null,{"$f":"IF(AX129=AGR!$W$72,AW129+1,AW129)","v":5},23]

{"sheet":"TS DMARK","index":14,"n_rows":58,"n_cols":51,"rows_kept":58,"cut":false,"hidden":false,"merged":[]}
["TS DATA","REGION1",null,null,null,null,null,null,null,null,null,null,null,null,null,null,null,null,null,null,null,null,null,null,null,null,null,null,null,null,null,null,null,null,null,null,null,null,null,null,null,null,null,null,null,null,null,null,"*","*","*"]
["*",null,null,null,null,null,null,null,null,null,null,null,null,null,null,null,null,null,null,null,null,null,null,null,null,null,null,null,null,null,null,null,null,null,null,null,null,null,null,null,null,null,null,null,null,null,null,null,"Parameter #","row #","Col #"]
["*"]
["*"]
["*"]
["*"]
["*","Parameter","Arg1","Arg2","Arg3","Arg4","Arg5","Arg6","I/E Opt\nor Value",2006,{"$f":"J7+1","v":2007},{"$f":"K7+1","v":2008},2009,2010,2011,2012,2013,2014,2015,2016,2017,2018,2019,2020,2021,2022,2023,{"$f":"AA7+1","v":2024},2025,2026,2027,2028,2029,2030,{"$f":"AH7+1","v":2031},{"$f":"AI7+1","v":2032},{"$f":"AJ7+1","v":2033},{"$f":"AK7+1","v":2034},{"$f":"AL7+1","v":2035},{"$f":"AM7+1","v":2036},{"$f":"AN7+1","v":2037},{"$f":"AO7+1","v":2038},{"$f":"AP7+1","v":2039},{"$f":"AQ7+1","v":2040},{"$f":"AR7+5","v":2045},{"$f":"AS7+5","v":2050},{"$f":"AT7+10","v":2060}]
["*"]
["*",2,{"$f":"B9+1","v":3},{"$f":"C9+1","v":4},5,6,7,8,9,10]
["*1","FLO_MARK","Process","-","-","-","-","UP",0,"U",null,null,null,null,null,null,null,null,null,null,null,null,null,null,null,null,null,null,null,null,null,null,null,null,null,null,null,null,null,null,null,null,null,null,null,null,null,null,null,null,{"$f":"AGR!$E$48","v":3}]
["*2","FLO_MARK","Process","-","-","-","-","LO",0,"L",null,null,null,null,null,null,null,null,null,null,null,null,null,null,null,null,null,null,null,null,null,null,null,null,null,null,null,null,null,null,null,null,null,null,null,null,null,null,null,null,{"$f":"AGR!$F$48","v":4}]
["*"]
[{"$f":"IF(LEFT(OFFSET(AGR!$A$49,AX13,0),2)=\"\\I\",\"*\",\"\")","v":""},{"$f":"IF(A13=\"*\",\"\",VLOOKUP(\"*\"&AW13,$A$9:$B$11,2,FALSE))","v":"FLO_MARK"},{"$f":"IF($A13=\"*\",\"\",OFFSET(AGR!$B$49,AX13,0))","v":"AHCOA-E"},{"$f":"IF($A13=\"*\",\"\",LEFT(C13,2))","v":"AH"},{"$f":"IF($A13=\"*\",\"\",VLOOKUP($B13,$B$10:$I$11,E$9,FALSE))","v":"-"},"-","-",{"$f":"IF($A13=\"*\",\"\",VLOOKUP(\"*\"&$AW13,$A$10:$I$11,H$9,FALSE))","v":"UP"},0,{"$f":"IF(A13=\"*\",\"\",IF(H13=\"UP\",1,0))","v":1},{"$f":"IFERROR(VLOOKUP($C13,AGR!$B$50:$V$70,MATCH(VLOOKUP(\"*\"&$AW13,$A$10:$J$11,$J$9,FALSE)&K$7,AGR!$B$47:$V$47,0),FALSE),\"\")","v":""},{"$f":"IFERROR(VLOOKUP($C13,AGR!$B$50:$V$70,MATCH(VLOOKUP(\"*\"&$AW13,$A$10:$J$11,$J$9,FALSE)&L$7,AGR!$B$47:$V$47,0),FALSE),\"\")","v":""},{"$f":"IFERROR(VLOOKUP($C13,AGR!$B$50:$V$70,MATCH(VLOOKUP(\"*\"&$AW13,$A$10:$J$11,$J$9,FALSE)&M$7,AGR!$B$47:$V$47,0),FALSE),\"\")","v":""},{"$f":"IFERROR(VLOOKUP($C13,AGR!$B$50:$V$70,MATCH(VLOOKUP(\"*\"&$AW13,$A$10:$J$11,$J$9,FALSE)&N$7,AGR!$B$47:$V$47,0),FALSE),\"\")","v":0.19221009646928827},{"$f":"IFERROR(VLOOKUP($C13,AGR!$B$50:$V$70,MATCH(VLOOKUP(\"*\"&$AW13,$A$10:$J$11,$J$9,FALSE)&O$7,AGR!$B$47:$V$47,0),FALSE),\"\")","v":""},{"$f":"IFERROR(VLOOKUP($C13,AGR!$B$50:$V$70,MATCH(VLOOKUP(\"*\"&$AW13,$A$10:$J$11,$J$9,FALSE)&P$7,AGR!$B$47:$V$47,0),FALSE),\"\")","v":""},{"$f":"IFERROR(VLOOKUP($C13,AGR!$B$50:$V$70,MATCH(VLOOKUP(\"*\"&$AW13,$A$10:$J$11,$J$9,FALSE)&Q$7,AGR!$B$47:$V$47,0),FALSE),\"\")","v":""},{"$f":"IFERROR(VLOOKUP($C13,AGR!$B$50:$V$70,MATCH(VLOOKUP(\"*\"&$AW13,$A$10:$J$11,$J$9,FALSE)&R$7,AGR!$B$47:$V$47,0),FALSE),\"\")","v":""},{"$f":"IFERROR(VLOOKUP($C13,AGR!$B$50:$V$70,MATCH(VLOOKUP(\"*\"&$AW13,$A$10:$J$11,$J$9,FALSE)&S$7,AGR!$B$47:$V$47,0),FALSE),\"\")","v":""},{"$f":"IFERROR(VLOOKUP($C13,AGR!$B$50:$V$70,MATCH(VLOOKUP(\"*\"&$AW13,$A$10:$J$11,$J$9,FALSE)&T$7,AGR!$B$47:$V$47,0),FALSE),\"\")","v":""},{"$f":"IFERROR(VLOOKUP($C13,AGR!$B$50:$V$70,MATCH(VLOOKUP(\"*\"&$AW13,$A$10:$J$11,$J$9,FALSE)&U$7,AGR!$B$47:$V$47,0),FALSE),\"\")","v":""},{"$f":"IFERROR(VLOOKUP($C13,AGR!$B$50:$V$70,MATCH(VLOOKUP(\"*\"&$AW13,$A$10:$J$11,$J$9,FALSE)&V$7,AGR!$B$47:$V$47,0),FALSE),\"\")","v":""},{"$f":"IFERROR(VLOOKUP($C13,AGR!$B$50:$V$70,MATCH(VLOOKUP(\"*\"&$AW13,$A$10:$J$11,$J$9,FALSE)&W$7,AGR!$B$47:$V$47,0),FALSE),\"\")","v":""},{"$f":"IFERROR(VLOOKUP($C13,AGR!$B$50:$V$70,MATCH(VLOOKUP(\"*\"&$AW13,$A$10:$J$11,$J$9,FALSE)&X$7,AGR!$B$47:$V$47,0),FALSE),\"\")","v":""},{"$f":"IFERROR(VLOOKUP($C13,AGR!$B$50:$V$70,MATCH(VLOOKUP(\"*\"&$AW13,$A$10:$J$11,$J$9,FALSE)&Y$7,AGR!$B$47:$V$47,0),FALSE),\"\")","v":""},{"$f":"IFERROR(VLOOKUP($C13,AGR!$B$50:$V$70,MATCH(VLOOKUP(\"*\"&$AW13,$A$10:$J$11,$J$9,FALSE)&Z$7,AGR!$B$47:$V$47,0),FALSE),\"\")","v":""},{"$f":"IFERROR(VLOOKUP($C13,AGR!$B$50:$V$70,MATCH(VLOOKUP(\"*\"&$AW13,$A$10:$J$11,$J$9,FALSE)&AA$7,AGR!$B$47:$V$47,0),FALSE),\"\")","v":""},{"$f":"IFERROR(VLOOKUP($C13,AGR!$B$50:$V$70,MATCH(VLOOKUP(\"*\"&$AW13,$A$10:$J$11,$J$9,FALSE)&AB$7,AGR!$B$47:$V$47,0),FALSE),\"\")","v":""},{"$f":"IFERROR(VLOOKUP($C13,AGR!$B$50:$V$70,MATCH(VLOOKUP(\"*\"&$AW13,$A$10:$J$11,$J$9,FALSE)&AC$7,AGR!$B$47:$V$47,0),FALSE),\"\")","v":""},{"$f":"IFERROR(VLOOKUP($C13,AGR!$B$50:$V$70,MATCH(VLOOKUP(\"*\"&$AW13,$A$10:$J$11,$J$9,FALSE)&AD$7,AGR!$B$47:$V$47,0),FALSE),\"\")","v":""},{"$f":"IFERROR(VLOOKUP($C13,AGR!$B$50:$V$70,MATCH(VLOOKUP(\"*\"&$AW13,$A$10:$J$11,$J$9,FALSE)&AE$7,AGR!$B$47:$V$47,0),FALSE),\"\")","v":""},{"$f":"IFERROR(VLOOKUP($C13,AGR!$B$50:$V$70,MATCH(VLOOKUP(\"*\"&$AW13,$A$10:$J$11,$J$9,FALSE)&AF$7,AGR!$B$47:$V$47,0),FALSE),\"\")","v":""},{"$f":"IFERROR(VLOOKUP($C13,AGR!$B$50:$V$70,MATCH(VLOOKUP(\"*\"&$AW13,$A$10:$J$11,$J$9,FALSE)&AG$7,AGR!$B$47:$V$47,0),FALSE),\"\")","v":""},{"$f":"IFERROR(VLOOKUP($C13,AGR!$B$50:$V$70,MATCH(VLOOKUP(\"*\"&$AW13,$A$10:$J$11,$J$9,FALSE)&AH$7,AGR!$B$47:$V$47,0),FALSE),\"\")","v":0.39221009646928828},null,null,null,null,{"$f":"IFERROR(VLOOKUP($C13,AGR!$B$50:$V$70,MATCH(VLOOKUP(\"*\"&$AW13,$A$10:$J$11,$J$9,FALSE)&AM$7,AGR!$B$47:$V$47,0),FALSE),\"\")","v":""},null,null,null,null,{"$f":"IFERROR(VLOOKUP($C13,AGR!$B$50:$V$70,MATCH(VLOOKUP(\"*\"&$AW13,$A$10:$J$11,$J$9,FALSE)&AR$7,AGR!$B$47:$V$47,0),FALSE),\"\")","v":""},{"$f":"IFERROR(VLOOKUP($C13,AGR!$B$50:$V$70,MATCH(VLOOKUP(\"*\"&$AW13,$A$10:$J$11,$J$9,FALSE)&AS$7,AGR!$B$47:$V$47,0),FALSE),\"\")","v":""},{"$f":"IFERROR(VLOOKUP($C13,AGR!$B$50:$V$70,MATCH(VLOOKUP(\"*\"&$AW13,$A$10:$J$11,$J$9,FALSE)&AT$7,AGR!$B$47:$V$47,0),FALSE),\"\")","v":0.64221009646928828},{"$f":"AT13","v":0.64221009646928828},null,1,1]
[{"$f":"IF(LEFT(OFFSET(AGR!$A$49,AX14,0),2)=\"\\I\",\"*\",\"\")","v":""},"FLO_MARK",{"$f":"IF($A14=\"*\",\"\",OFFSET(AGR!$B$49,AX14,0))","v":"AHOHF-E"},{"$f":"IF($A14=\"*\",\"\",LEFT(C14,2))","v":"AH"},"-","-","-","UP",0,{"$f":"IF(A14=\"*\",\"\",IF(H14=\"UP\",1,0))","v":1},{"$f":"IFERROR(VLOOKUP($C14,AGR!$B$50:$V$70,MATCH(VLOOKUP(\"*\"&$AW14,$A$10:$J$11,$J$9,FALSE)&K$7,AGR!$B$47:$V$47,0),FALSE),\"\")","v":""},{"$f":"IFERROR(VLOOKUP($C14,AGR!$B$50:$V$70,MATCH(VLOOKUP(\"*\"&$AW14,$A$10:$J$11,$J$9,FALSE)&L$7,AGR!$B$47:$V$47,0),FALSE),\"\")","v":""},{"$f":"IFERROR(VLOOKUP($C14,AGR!$B$50:$V$70,MATCH(VLOOKUP(\"*\"&$AW14,$A$10:$J$11,$J$9,FALSE)&M$7,AGR!$B$47:$V$47,0),FALSE),\"\")","v":""},{"$f":"IFERROR(VLOOKUP($C14,AGR!$B$50:$V$70,MATCH(VLOOKUP(\"*\"&$AW14,$A$10:$J$11,$J$9,FALSE)&N$7,AGR!$B$47:$V$47,0),FALSE),\"\")","v":0.40391050532956241},{"$f":"IFERROR(VLOOKUP($C14,AGR!$B$50:$V$70,MATCH(VLOOKUP(\"*\"&$AW14,$A$10:$J$11,$J$9,FALSE)&O$7,AGR!$B$47:$V$47,0),FALSE),\"\")","v":""},{"$f":"IFERROR(VLOOKUP($C14,AGR!$B$50:$V$70,MATCH(VLOOKUP(\"*\"&$AW14,$A$10:$J$11,$J$9,FALSE)&P$7,AGR!$B$47:$V$47,0),FALSE),\"\")","v":""},{"$f":"IFERROR(VLOOKUP($C14,AGR!$B$50:$V$70,MATCH(VLOOKUP(\"*\"&$AW14,$A$10:$J$11,$J$9,FALSE)&Q$7,AGR!$B$47:$V$47,0),FALSE),\"\")","v":""},{"$f":"IFERROR(VLOOKUP($C14,AGR!$B$50:$V$70,MATCH(VLOOKUP(\"*\"&$AW14,$A$10:$J$11,$J$9,FALSE)&R$7,AGR!$B$47:$V$47,0),FALSE),\"\")","v":""},{"$f":"IFERROR(VLOOKUP($C14,AGR!$B$50:$V$70,MATCH(VLOOKUP(\"*\"&$AW14,$A$10:$J$11,$J$9,FALSE)&S$7,AGR!$B$47:$V$47,0),FALSE),\"\")","v":""},{"$f":"IFERROR(VLOOKUP($C14,AGR!$B$50:$V$70,MATCH(VLOOKUP(\"*\"&$AW14,$A$10:$J$11,$J$9,FALSE)&T$7,AGR!$B$47:$V$47,0),FALSE),\"\")","v":""},{"$f":"IFERROR(VLOOKUP($C14,AGR!$B$50:$V$70,MATCH(VLOOKUP(\"*\"&$AW14,$A$10:$J$11,$J$9,FALSE)&U$7,AGR!$B$47:$V$47,0),FALSE),\"\")","v":""},{"$f":"IFERROR(VLOOKUP($C14,AGR!$B$50:$V$70,MATCH(VLOOKUP(\"*\"&$AW14,$A$10:$J$11,$J$9,FALSE)&V$7,AGR!$B$47:$V$47,0),FALSE),\"\")","v":""},{"$f":"IFERROR(VLOOKUP($C14,AGR!$B$50:$V$70,MATCH(VLOOKUP(\"*\"&$AW14,$A$10:$J$11,$J$9,FALSE)&W$7,AGR!$B$47:$V$47,0),FALSE),\"\")","v":""},{"$f":"IFERROR(VLOOKUP($C14,AGR!$B$50:$V$70,MATCH(VLOOKUP(\"*\"&$AW14,$A$10:$J$11,$J$9,FALSE)&X$7,AGR!$B$47:$V$47,0),FALSE),\"\")","v":""},{"$f":"IFERROR(VLOOKUP($C14,AGR!$B$50:$V$70,MATCH(VLOOKUP(\"*\"&$AW14,$A$10:$J$11,$J$9,FALSE)&Y$7,AGR!$B$47:$V$47,0),FALSE),\"\")","v":""},{"$f":"IFERROR(VLOOKUP($C14,AGR!$B$50:$V$70,MATCH(VLOOKUP(\"*\"&$AW14,$A$10:$J$11,$J$9,FALSE)&Z$7,AGR!$B$47:$V$47,0),FALSE),\"\")","v":""},{"$f":"IFERROR(VLOOKUP($C14,AGR!$B$50:$V$70,MATCH(VLOOKUP(\"*\"&$AW14,$A$10:$J$11,$J$9,FALSE)&AA$7,AGR!$B$47:$V$47,0),FALSE),\"\")","v":""},{"$f":"IFERROR(VLOOKUP($C14,AGR!$B$50:$V$70,MATCH(VLOOKUP(\"*\"&$AW14,$A$10:$J$11,$J$9,FALSE)&AB$7,AGR!$B$47:$V$47,0),FALSE),\"\")","v":""},{"$f":"IFERROR(VLOOKUP($C14,AGR!$B$50:$V$70,MATCH(VLOOKUP(\"*\"&$AW14,$A$10:$J$11,$J$9,FALSE)&AC$7,AGR!$B$47:$V$47,0),FALSE),\"\")","v":""},{"$f":"IFERROR(VLOOKUP($C14,AGR!$B$50:$V$70,MATCH(VLOOKUP(\"*\"&$AW14,$A$10:$J$11,$J$9,FALSE)&AD$7,AGR!$B$47:$V$47,0),FALSE),\"\")","v":""},{"$f":"IFERROR(VLOOKUP($C14,AGR!$B$50:$V$70,MATCH(VLOOKUP(\"*\"&$AW14,$A$10:$J$11,$J$9,FALSE)&AE$7,AGR!$B$47:$V$47,0),FALSE),\"\")","v":""},{"$f":"IFERROR(VLOOKUP($C14,AGR!$B$50:$V$70,MATCH(VLOOKUP(\"*\"&$AW14,$A$10:$J$11,$J$9,FALSE)&AF$7,AGR!$B$47:$V$47,0),FALSE),\"\")","v":""},{"$f":"IFERROR(VLOOKUP($C14,AGR!$B$50:$V$70,MATCH(VLOOKUP(\"*\"&$AW14,$A$10:$J$11,$J$9,FALSE)&AG$7,AGR!$B$47:$V$47,0),FALSE),\"\")","v":""},{"$f":"IFERROR(VLOOKUP($C14,AGR!$B$50:$V$70,MATCH(VLOOKUP(\"*\"&$AW14,$A$10:$J$11,$J$9,FALSE)&AH$7,AGR!$B$47:$V$47,0),FALSE),\"\")","v":0.60391050532956236},null,null,null,null,{"$f":"IFERROR(VLOOKUP($C14,AGR!$B$50:$V$70,MATCH(VLOOKUP(\"*\"&$AW14,$A$10:$J$11,$J$9,FALSE)&AM$7,AGR!$B$47:$V$47,0),FALSE),\"\")","v":""},null,null,null,null,{"$f":"IFERROR(VLOOKUP($C14,AGR!$B$50:$V$70,MATCH(VLOOKUP(\"*\"&$AW14,$A$10:$J$11,$J$9,FALSE)&AR$7,AGR!$B$47:$V$47,0),FALSE),\"\")","v":""},{"$f":"IFERROR(VLOOKUP($C14,AGR!$B$50:$V$70,MATCH(VLOOKUP(\"*\"&$AW14,$A$10:$J$11,$J$9,FALSE)&AS$7,AGR!$B$47:$V$47,0),FALSE),\"\")","v":""},{"$f":"IFERROR(VLOOKUP($C14,AGR!$B$50:$V$70,MATCH(VLOOKUP(\"*\"&$AW14,$A$10:$J$11,$J$9,FALSE)&AT$7,AGR!$B$47:$V$47,0),FALSE),\"\")","v":0.85391050532956236},{"$f":"AT14","v":0.85391050532956236},null,{"$f":"IF(AX13=AGR!$W$72,AW13+1,AW13)","v":1},{"$f":"IF(AW14=AW13,AX13+1,1)","v":2}]
[{"$f":"IF(LEFT(OFFSET(AGR!$A$49,AX15,0),2)=\"\\I\",\"*\",\"\")","v":""},"FLO_MARK",{"$f":"IF($A15=\"*\",\"\",OFFSET(AGR!$B$49,AX15,0))","v":"AHOKE-E"},"AH","-","-","-","UP",0,1,{"$f":"IFERROR(VLOOKUP($C15,AGR!$B$50:$V$70,MATCH(VLOOKUP(\"*\"&$AW15,$A$10:$J$11,$J$9,FALSE)&K$7,AGR!$B$47:$V$47,0),FALSE),\"\")","v":""},{"$f":"IFERROR(VLOOKUP($C15,AGR!$B$50:$V$70,MATCH(VLOOKUP(\"*\"&$AW15,$A$10:$J$11,$J$9,FALSE)&L$7,AGR!$B$47:$V$47,0),FALSE),\"\")","v":""},{"$f":"IFERROR(VLOOKUP($C15,AGR!$B$50:$V$70,MATCH(VLOOKUP(\"*\"&$AW15,$A$10:$J$11,$J$9,FALSE)&M$7,AGR!$B$47:$V$47,0),FALSE),\"\")","v":""},{"$f":"IFERROR(VLOOKUP($C15,AGR!$B$50:$V$70,MATCH(VLOOKUP(\"*\"&$AW15,$A$10:$J$11,$J$9,FALSE)&N$7,AGR!$B$47:$V$47,0),FALSE),\"\")","v":0.55358854431933102},{"$f":"IFERROR(VLOOKUP($C15,AGR!$B$50:$V$70,MATCH(VLOOKUP(\"*\"&$AW15,$A$10:$J$11,$J$9,FALSE)&O$7,AGR!$B$47:$V$47,0),FALSE),\"\")","v":""},{"$f":"IFERROR(VLOOKUP($C15,AGR!$B$50:$V$70,MATCH(VLOOKUP(\"*\"&$AW15,$A$10:$J$11,$J$9,FALSE)&P$7,AGR!$B$47:$V$47,0),FALSE),\"\")","v":""},{"$f":"IFERROR(VLOOKUP($C15,AGR!$B$50:$V$70,MATCH(VLOOKUP(\"*\"&$AW15,$A$10:$J$11,$J$9,FALSE)&Q$7,AGR!$B$47:$V$47,0),FALSE),\"\")","v":""},{"$f":"IFERROR(VLOOKUP($C15,AGR!$B$50:$V$70,MATCH(VLOOKUP(\"*\"&$AW15,$A$10:$J$11,$J$9,FALSE)&R$7,AGR!$B$47:$V$47,0),FALSE),\"\")","v":""},{"$f":"IFERROR(VLOOKUP($C15,AGR!$B$50:$V$70,MATCH(VLOOKUP(\"*\"&$AW15,$A$10:$J$11,$J$9,FALSE)&S$7,AGR!$B$47:$V$47,0),FALSE),\"\")","v":""},{"$f":"IFERROR(VLOOKUP($C15,AGR!$B$50:$V$70,MATCH(VLOOKUP(\"*\"&$AW15,$A$10:$J$11,$J$9,FALSE)&T$7,AGR!$B$47:$V$47,0),FALSE),\"\")","v":""},{"$f":"IFERROR(VLOOKUP($C15,AGR!$B$50:$V$70,MATCH(VLOOKUP(\"*\"&$AW15,$A$10:$J$11,$J$9,FALSE)&U$7,AGR!$B$47:$V$47,0),FALSE),\"\")","v":""},{"$f":"IFERROR(VLOOKUP($C15,AGR!$B$50:$V$70,MATCH(VLOOKUP(\"*\"&$AW15,$A$10:$J$11,$J$9,FALSE)&V$7,AGR!$B$47:$V$47,0),FALSE),\"\")","v":""},{"$f":"IFERROR(VLOOKUP($C15,AGR!$B$50:$V$70,MATCH(VLOOKUP(\"*\"&$AW15,$A$10:$J$11,$J$9,FALSE)&W$7,AGR!$B$47:$V$47,0),FALSE),\"\")","v":""},{"$f":"IFERROR(VLOOKUP($C15,AGR!$B$50:$V$70,MATCH(VLOOKUP(\"*\"&$AW15,$A$10:$J$11,$J$9,FALSE)&X$7,AGR!$B$47:$V$47,0),FALSE),\"\")","v":""},{"$f":"IFERROR(VLOOKUP($C15,AGR!$B$50:$V$70,MATCH(VLOOKUP(\"*\"&$AW15,$A$10:$J$11,$J$9,FALSE)&Y$7,AGR!$B$47:$V$47,0),FALSE),\"\")","v":""},{"$f":"IFERROR(VLOOKUP($C15,AGR!$B$50:$V$70,MATCH(VLOOKUP(\"*\"&$AW15,$A$10:$J$11,$J$9,FALSE)&Z$7,AGR!$B$47:$V$47,0),FALSE),\"\")","v":""},{"$f":"IFERROR(VLOOKUP($C15,AGR!$B$50:$V$70,MATCH(VLOOKUP(\"*\"&$AW15,$A$10:$J$11,$J$9,FALSE)&AA$7,AGR!$B$47:$V$47,0),FALSE),\"\")","v":""},{"$f":"IFERROR(VLOOKUP($C15,AGR!$B$50:$V$70,MATCH(VLOOKUP(\"*\"&$AW15,$A$10:$J$11,$J$9,FALSE)&AB$7,AGR!$B$47:$V$47,0),FALSE),\"\")","v":""},{"$f":"IFERROR(VLOOKUP($C15,AGR!$B$50:$V$70,MATCH(VLOOKUP(\"*\"&$AW15,$A$10:$J$11,$J$9,FALSE)&AC$7,AGR!$B$47:$V$47,0),FALSE),\"\")","v":""},{"$f":"IFERROR(VLOOKUP($C15,AGR!$B$50:$V$70,MATCH(VLOOKUP(\"*\"&$AW15,$A$10:$J$11,$J$9,FALSE)&AD$7,AGR!$B$47:$V$47,0),FALSE),\"\")","v":""},{"$f":"IFERROR(VLOOKUP($C15,AGR!$B$50:$V$70,MATCH(VLOOKUP(\"*\"&$AW15,$A$10:$J$11,$J$9,FALSE)&AE$7,AGR!$B$47:$V$47,0),FALSE),\"\")","v":""},{"$f":"IFERROR(VLOOKUP($C15,AGR!$B$50:$V$70,MATCH(VLOOKUP(\"*\"&$AW15,$A$10:$J$11,$J$9,FALSE)&AF$7,AGR!$B$47:$V$47,0),FALSE),\"\")","v":""},{"$f":"IFERROR(VLOOKUP($C15,AGR!$B$50:$V$70,MATCH(VLOOKUP(\"*\"&$AW15,$A$10:$J$11,$J$9,FALSE)&AG$7,AGR!$B$47:$V$47,0),FALSE),\"\")","v":""},{"$f":"IFERROR(VLOOKUP($C15,AGR!$B$50:$V$70,MATCH(VLOOKUP(\"*\"&$AW15,$A$10:$J$11,$J$9,FALSE)&AH$7,AGR!$B$47:$V$47,0),FALSE),\"\")","v":0.75358854431933098},null,null,null,null,{"$f":"IFERROR(VLOOKUP($C15,AGR!$B$50:$V$70,MATCH(VLOOKUP(\"*\"&$AW15,$A$10:$J$11,$J$9,FALSE)&AM$7,AGR!$B$47:$V$47,0),FALSE),\"\")","v":""},null,null,null,null,{"$f":"IFERROR(VLOOKUP($C15,AGR!$B$50:$V$70,MATCH(VLOOKUP(\"*\"&$AW15,$A$10:$J$11,$J$9,FALSE)&AR$7,AGR!$B$47:$V$47,0),FALSE),\"\")","v":""},{"$f":"IFERROR(VLOOKUP($C15,AGR!$B$50:$V$70,MATCH(VLOOKUP(\"*\"&$AW15,$A$10:$J$11,$J$9,FALSE)&AS$7,AGR!$B$47:$V$47,0),FALSE),\"\")","v":""},{"$f":"IFERROR(VLOOKUP($C15,AGR!$B$50:$V$70,MATCH(VLOOKUP(\"*\"&$AW15,$A$10:$J$11,$J$9,FALSE)&AT$7,AGR!$B$47:$V$47,0),FALSE),\"\")","v":1},1,null,{"$f":"IF(AX14=AGR!$W$72,AW14+1,AW14)","v":1},{"$f":"IF(AW15=AW14,AX14+1,1)","v":3}]
[{"$f":"IF(LEFT(OFFSET(AGR!$A$49,AX16,0),2)=\"\\I\",\"*\",\"\")","v":""},"FLO_MARK",{"$f":"IF($A16=\"*\",\"\",OFFSET(AGR!$B$49,AX16,0))","v":"AHOLP-E"},"AH","-","-","-","UP",0,1,{"$f":"IFERROR(VLOOKUP($C16,AGR!$B$50:$V$70,MATCH(VLOOKUP(\"*\"&$AW16,$A$10:$J$11,$J$9,FALSE)&K$7,AGR!$B$47:$V$47,0),FALSE),\"\")","v":""},{"$f":"IFERROR(VLOOKUP($C16,AGR!$B$50:$V$70,MATCH(VLOOKUP(\"*\"&$AW16,$A$10:$J$11,$J$9,FALSE)&L$7,AGR!$B$47:$V$47,0),FALSE),\"\")","v":""},{"$f":"IFERROR(VLOOKUP($C16,AGR!$B$50:$V$70,MATCH(VLOOKUP(\"*\"&$AW16,$A$10:$J$11,$J$9,FALSE)&M$7,AGR!$B$47:$V$47,0),FALSE),\"\")","v":""},{"$f":"IFERROR(VLOOKUP($C16,AGR!$B$50:$V$70,MATCH(VLOOKUP(\"*\"&$AW16,$A$10:$J$11,$J$9,FALSE)&N$7,AGR!$B$47:$V$47,0),FALSE),\"\")","v":5.0290853881818261E-2},{"$f":"IFERROR(VLOOKUP($C16,AGR!$B$50:$V$70,MATCH(VLOOKUP(\"*\"&$AW16,$A$10:$J$11,$J$9,FALSE)&O$7,AGR!$B$47:$V$47,0),FALSE),\"\")","v":""},{"$f":"IFERROR(VLOOKUP($C16,AGR!$B$50:$V$70,MATCH(VLOOKUP(\"*\"&$AW16,$A$10:$J$11,$J$9,FALSE)&P$7,AGR!$B$47:$V$47,0),FALSE),\"\")","v":""},{"$f":"IFERROR(VLOOKUP($C16,AGR!$B$50:$V$70,MATCH(VLOOKUP(\"*\"&$AW16,$A$10:$J$11,$J$9,FALSE)&Q$7,AGR!$B$47:$V$47,0),FALSE),\"\")","v":""},{"$f":"IFERROR(VLOOKUP($C16,AGR!$B$50:$V$70,MATCH(VLOOKUP(\"*\"&$AW16,$A$10:$J$11,$J$9,FALSE)&R$7,AGR!$B$47:$V$47,0),FALSE),\"\")","v":""},{"$f":"IFERROR(VLOOKUP($C16,AGR!$B$50:$V$70,MATCH(VLOOKUP(\"*\"&$AW16,$A$10:$J$11,$J$9,FALSE)&S$7,AGR!$B$47:$V$47,0),FALSE),\"\")","v":""},{"$f":"IFERROR(VLOOKUP($C16,AGR!$B$50:$V$70,MATCH(VLOOKUP(\"*\"&$AW16,$A$10:$J$11,$J$9,FALSE)&T$7,AGR!$B$47:$V$47,0),FALSE),\"\")","v":""},{"$f":"IFERROR(VLOOKUP($C16,AGR!$B$50:$V$70,MATCH(VLOOKUP(\"*\"&$AW16,$A$10:$J$11,$J$9,FALSE)&U$7,AGR!$B$47:$V$47,0),FALSE),\"\")","v":""},{"$f":"IFERROR(VLOOKUP($C16,AGR!$B$50:$V$70,MATCH(VLOOKUP(\"*\"&$AW16,$A$10:$J$11,$J$9,FALSE)&V$7,AGR!$B$47:$V$47,0),FALSE),\"\")","v":""},{"$f":"IFERROR(VLOOKUP($C16,AGR!$B$50:$V$70,MATCH(VLOOKUP(\"*\"&$AW16,$A$10:$J$11,$J$9,FALSE)&W$7,AGR!$B$47:$V$47,0),FALSE),\"\")","v":""},{"$f":"IFERROR(VLOOKUP($C16,AGR!$B$50:$V$70,MATCH(VLOOKUP(\"*\"&$AW16,$A$10:$J$11,$J$9,FALSE)&X$7,AGR!$B$47:$V$47,0),FALSE),\"\")","v":""},{"$f":"IFERROR(VLOOKUP($C16,AGR!$B$50:$V$70,MATCH(VLOOKUP(\"*\"&$AW16,$A$10:$J$11,$J$9,FALSE)&Y$7,AGR!$B$47:$V$47,0),FALSE),\"\")","v":""},{"$f":"IFERROR(VLOOKUP($C16,AGR!$B$50:$V$70,MATCH(VLOOKUP(\"*\"&$AW16,$A$10:$J$11,$J$9,FALSE)&Z$7,AGR!$B$47:$V$47,0),FALSE),\"\")","v":""},{"$f":"IFERROR(VLOOKUP($C16,AGR!$B$50:$V$70,MATCH(VLOOKUP(\"*\"&$AW16,$A$10:$J$11,$J$9,FALSE)&AA$7,AGR!$B$47:$V$47,0),FALSE),\"\")","v":""},{"$f":"IFERROR(VLOOKUP($C16,AGR!$B$50:$V$70,MATCH(VLOOKUP(\"*\"&$AW16,$A$10:$J$11,$J$9,FALSE)&AB$7,AGR!$B$47:$V$47,0),FALSE),\"\")","v":""},{"$f":"IFERROR(VLOOKUP($C16,AGR!$B$50:$V$70,MATCH(VLOOKUP(\"*\"&$AW16,$A$10:$J$11,$J$9,FALSE)&AC$7,AGR!$B$47:$V$47,0),FALSE),\"\")","v":""},{"$f":"IFERROR(VLOOKUP($C16,AGR!$B$50:$V$70,MATCH(VLOOKUP(\"*\"&$AW16,$A$10:$J$11,$J$9,FALSE)&AD$7,AGR!$B$47:$V$47,0),FALSE),\"\")","v":""},{"$f":"IFERROR(VLOOKUP($C16,AGR!$B$50:$V$70,MATCH(VLOOKUP(\"*\"&$AW16,$A$10:$J$11,$J$9,FALSE)&AE$7,AGR!$B$47:$V$47,0),FALSE),\"\")","v":""},{"$f":"IFERROR(VLOOKUP($C16,AGR!$B$50:$V$70,MATCH(VLOOKUP(\"*\"&$AW16,$A$10:$J$11,$J$9,FALSE)&AF$7,AGR!$B$47:$V$47,0),FALSE),\"\")","v":""},{"$f":"IFERROR(VLOOKUP($C16,AGR!$B$50:$V$70,MATCH(VLOOKUP(\"*\"&$AW16,$A$10:$J$11,$J$9,FALSE)&AG$7,AGR!$B$47:$V$47,0),FALSE),\"\")","v":""},{"$f":"IFERROR(VLOOKUP($C16,AGR!$B$50:$V$70,MATCH(VLOOKUP(\"*\"&$AW16,$A$10:$J$11,$J$9,FALSE)&AH$7,AGR!$B$47:$V$47,0),FALSE),\"\")","v":0.25029085388181826},null,null,null,null,{"$f":"IFERROR(VLOOKUP($C16,AGR!$B$50:$V$70,MATCH(VLOOKUP(\"*\"&$AW16,$A$10:$J$11,$J$9,FALSE)&AM$7,AGR!$B$47:$V$47,0),FALSE),\"\")","v":""},null,null,null,null,{"$f":"IFERROR(VLOOKUP($C16,AGR!$B$50:$V$70,MATCH(VLOOKUP(\"*\"&$AW16,$A$10:$J$11,$J$9,FALSE)&AR$7,AGR!$B$47:$V$47,0),FALSE),\"\")","v":""},{"$f":"IFERROR(VLOOKUP($C16,AGR!$B$50:$V$70,MATCH(VLOOKUP(\"*\"&$AW16,$A$10:$J$11,$J$9,FALSE)&AS$7,AGR!$B$47:$V$47,0),FALSE),\"\")","v":""},{"$f":"IFERROR(VLOOKUP($C16,AGR!$B$50:$V$70,MATCH(VLOOKUP(\"*\"&$AW16,$A$10:$J$11,$J$9,FALSE)&AT$7,AGR!$B$47:$V$47,0),FALSE),\"\")","v":0.50029085388181826},0.50029085388181826,null,{"$f":"IF(AX15=AGR!$W$72,AW15+1,AW15)","v":1},4]
[{"$f":"IF(LEFT(OFFSET(AGR!$A$49,AX17,0),2)=\"\\I\",\"*\",\"\")","v":""},"FLO_MARK",{"$f":"IF($A17=\"*\",\"\",OFFSET(AGR!$B$49,AX17,0))","v":"AHELC-E"},"AH","-","-","-","UP",0,1,{"$f":"IFERROR(VLOOKUP($C17,AGR!$B$50:$V$70,MATCH(VLOOKUP(\"*\"&$AW17,$A$10:$J$11,$J$9,FALSE)&K$7,AGR!$B$47:$V$47,0),FALSE),\"\")","v":""},{"$f":"IFERROR(VLOOKUP($C17,AGR!$B$50:$V$70,MATCH(VLOOKUP(\"*\"&$AW17,$A$10:$J$11,$J$9,FALSE)&L$7,AGR!$B$47:$V$47,0),FALSE),\"\")","v":""},{"$f":"IFERROR(VLOOKUP($C17,AGR!$B$50:$V$70,MATCH(VLOOKUP(\"*\"&$AW17,$A$10:$J$11,$J$9,FALSE)&M$7,AGR!$B$47:$V$47,0),FALSE),\"\")","v":""},{"$f":"IFERROR(VLOOKUP($C17,AGR!$B$50:$V$70,MATCH(VLOOKUP(\"*\"&$AW17,$A$10:$J$11,$J$9,FALSE)&N$7,AGR!$B$47:$V$47,0),FALSE),\"\")","v":0.05},{"$f":"IFERROR(VLOOKUP($C17,AGR!$B$50:$V$70,MATCH(VLOOKUP(\"*\"&$AW17,$A$10:$J$11,$J$9,FALSE)&O$7,AGR!$B$47:$V$47,0),FALSE),\"\")","v":""},{"$f":"IFERROR(VLOOKUP($C17,AGR!$B$50:$V$70,MATCH(VLOOKUP(\"*\"&$AW17,$A$10:$J$11,$J$9,FALSE)&P$7,AGR!$B$47:$V$47,0),FALSE),\"\")","v":""},{"$f":"IFERROR(VLOOKUP($C17,AGR!$B$50:$V$70,MATCH(VLOOKUP(\"*\"&$AW17,$A$10:$J$11,$J$9,FALSE)&Q$7,AGR!$B$47:$V$47,0),FALSE),\"\")","v":""},{"$f":"IFERROR(VLOOKUP($C17,AGR!$B$50:$V$70,MATCH(VLOOKUP(\"*\"&$AW17,$A$10:$J$11,$J$9,FALSE)&R$7,AGR!$B$47:$V$47,0),FALSE),\"\")","v":""},{"$f":"IFERROR(VLOOKUP($C17,AGR!$B$50:$V$70,MATCH(VLOOKUP(\"*\"&$AW17,$A$10:$J$11,$J$9,FALSE)&S$7,AGR!$B$47:$V$47,0),FALSE),\"\")","v":""},{"$f":"IFERROR(VLOOKUP($C17,AGR!$B$50:$V$70,MATCH(VLOOKUP(\"*\"&$AW17,$A$10:$J$11,$J$9,FALSE)&T$7,AGR!$B$47:$V$47,0),FALSE),\"\")","v":""},{"$f":"IFERROR(VLOOKUP($C17,AGR!$B$50:$V$70,MATCH(VLOOKUP(\"*\"&$AW17,$A$10:$J$11,$J$9,FALSE)&U$7,AGR!$B$47:$V$47,0),FALSE),\"\")","v":""},{"$f":"IFERROR(VLOOKUP($C17,AGR!$B$50:$V$70,MATCH(VLOOKUP(\"*\"&$AW17,$A$10:$J$11,$J$9,FALSE)&V$7,AGR!$B$47:$V$47,0),FALSE),\"\")","v":""},{"$f":"IFERROR(VLOOKUP($C17,AGR!$B$50:$V$70,MATCH(VLOOKUP(\"*\"&$AW17,$A$10:$J$11,$J$9,FALSE)&W$7,AGR!$B$47:$V$47,0),FALSE),\"\")","v":""},{"$f":"IFERROR(VLOOKUP($C17,AGR!$B$50:$V$70,MATCH(VLOOKUP(\"*\"&$AW17,$A$10:$J$11,$J$9,FALSE)&X$7,AGR!$B$47:$V$47,0),FALSE),\"\")","v":""},{"$f":"IFERROR(VLOOKUP($C17,AGR!$B$50:$V$70,MATCH(VLOOKUP(\"*\"&$AW17,$A$10:$J$11,$J$9,FALSE)&Y$7,AGR!$B$47:$V$47,0),FALSE),\"\")","v":""},{"$f":"IFERROR(VLOOKUP($C17,AGR!$B$50:$V$70,MATCH(VLOOKUP(\"*\"&$AW17,$A$10:$J$11,$J$9,FALSE)&Z$7,AGR!$B$47:$V$47,0),FALSE),\"\")","v":""},{"$f":"IFERROR(VLOOKUP($C17,AGR!$B$50:$V$70,MATCH(VLOOKUP(\"*\"&$AW17,$A$10:$J$11,$J$9,FALSE)&AA$7,AGR!$B$47:$V$47,0),FALSE),\"\")","v":""},{"$f":"IFERROR(VLOOKUP($C17,AGR!$B$50:$V$70,MATCH(VLOOKUP(\"*\"&$AW17,$A$10:$J$11,$J$9,FALSE)&AB$7,AGR!$B$47:$V$47,0),FALSE),\"\")","v":""},{"$f":"IFERROR(VLOOKUP($C17,AGR!$B$50:$V$70,MATCH(VLOOKUP(\"*\"&$AW17,$A$10:$J$11,$J$9,FALSE)&AC$7,AGR!$B$47:$V$47,0),FALSE),\"\")","v":""},{"$f":"IFERROR(VLOOKUP($C17,AGR!$B$50:$V$70,MATCH(VLOOKUP(\"*\"&$AW17,$A$10:$J$11,$J$9,FALSE)&AD$7,AGR!$B$47:$V$47,0),FALSE),\"\")","v":""},{"$f":"IFERROR(VLOOKUP($C17,AGR!$B$50:$V$70,MATCH(VLOOKUP(\"*\"&$AW17,$A$10:$J$11,$J$9,FALSE)&AE$7,AGR!$B$47:$V$47,0),FALSE),\"\")","v":""},{"$f":"IFERROR(VLOOKUP($C17,AGR!$B$50:$V$70,MATCH(VLOOKUP(\"*\"&$AW17,$A$10:$J$11,$J$9,FALSE)&AF$7,AGR!$B$47:$V$47,0),FALSE),\"\")","v":""},{"$f":"IFERROR(VLOOKUP($C17,AGR!$B$50:$V$70,MATCH(VLOOKUP(\"*\"&$AW17,$A$10:$J$11,$J$9,FALSE)&AG$7,AGR!$B$47:$V$47,0),FALSE),\"\")","v":""},{"$f":"IFERROR(VLOOKUP($C17,AGR!$B$50:$V$70,MATCH(VLOOKUP(\"*\"&$AW17,$A$10:$J$11,$J$9,FALSE)&AH$7,AGR!$B$47:$V$47,0),FALSE),\"\")","v":0.25},null,null,null,null,{"$f":"IFERROR(VLOOKUP($C17,AGR!$B$50:$V$70,MATCH(VLOOKUP(\"*\"&$AW17,$A$10:$J$11,$J$9,FALSE)&AM$7,AGR!$B$47:$V$47,0),FALSE),\"\")","v":""},null,null,null,null,{"$f":"IFERROR(VLOOKUP($C17,AGR!$B$50:$V$70,MATCH(VLOOKUP(\"*\"&$AW17,$A$10:$J$11,$J$9,FALSE)&AR$7,AGR!$B$47:$V$47,0),FALSE),\"\")","v":""},{"$f":"IFERROR(VLOOKUP($C17,AGR!$B$50:$V$70,MATCH(VLOOKUP(\"*\"&$AW17,$A$10:$J$11,$J$9,FALSE)&AS$7,AGR!$B$47:$V$47,0),FALSE),\"\")","v":""},{"$f":"IFERROR(VLOOKUP($C17,AGR!$B$50:$V$70,MATCH(VLOOKUP(\"*\"&$AW17,$A$10:$J$11,$J$9,FALSE)&AT$7,AGR!$B$47:$V$47,0),FALSE),\"\")","v":0.5},0.5,null,{"$f":"IF(AX16=AGR!$W$72,AW16+1,AW16)","v":1},5]
[{"$f":"IF(LEFT(OFFSET(AGR!$A$49,AX18,0),2)=\"\\I\",\"*\",\"\")","v":"*"},"",{"$f":"IF($A18=\"*\",\"\",OFFSET(AGR!$B$49,AX18,0))","v":""},"","","","-","","","",{"$f":"IFERROR(VLOOKUP($C18,AGR!$B$50:$V$70,MATCH(VLOOKUP(\"*\"&$AW18,$A$10:$J$11,$J$9,FALSE)&K$7,AGR!$B$47:$V$47,0),FALSE),\"\")","v":""},{"$f":"IFERROR(VLOOKUP($C18,AGR!$B$50:$V$70,MATCH(VLOOKUP(\"*\"&$AW18,$A$10:$J$11,$J$9,FALSE)&L$7,AGR!$B$47:$V$47,0),FALSE),\"\")","v":""},{"$f":"IFERROR(VLOOKUP($C18,AGR!$B$50:$V$70,MATCH(VLOOKUP(\"*\"&$AW18,$A$10:$J$11,$J$9,FALSE)&M$7,AGR!$B$47:$V$47,0),FALSE),\"\")","v":""},{"$f":"IFERROR(VLOOKUP($C18,AGR!$B$50:$V$70,MATCH(VLOOKUP(\"*\"&$AW18,$A$10:$J$11,$J$9,FALSE)&N$7,AGR!$B$47:$V$47,0),FALSE),\"\")","v":""},{"$f":"IFERROR(VLOOKUP($C18,AGR!$B$50:$V$70,MATCH(VLOOKUP(\"*\"&$AW18,$A$10:$J$11,$J$9,FALSE)&O$7,AGR!$B$47:$V$47,0),FALSE),\"\")","v":""},{"$f":"IFERROR(VLOOKUP($C18,AGR!$B$50:$V$70,MATCH(VLOOKUP(\"*\"&$AW18,$A$10:$J$11,$J$9,FALSE)&P$7,AGR!$B$47:$V$47,0),FALSE),\"\")","v":""},{"$f":"IFERROR(VLOOKUP($C18,AGR!$B$50:$V$70,MATCH(VLOOKUP(\"*\"&$AW18,$A$10:$J$11,$J$9,FALSE)&Q$7,AGR!$B$47:$V$47,0),FALSE),\"\")","v":""},{"$f":"IFERROR(VLOOKUP($C18,AGR!$B$50:$V$70,MATCH(VLOOKUP(\"*\"&$AW18,$A$10:$J$11,$J$9,FALSE)&R$7,AGR!$B$47:$V$47,0),FALSE),\"\")","v":""},{"$f":"IFERROR(VLOOKUP($C18,AGR!$B$50:$V$70,MATCH(VLOOKUP(\"*\"&$AW18,$A$10:$J$11,$J$9,FALSE)&S$7,AGR!$B$47:$V$47,0),FALSE),\"\")","v":""},{"$f":"IFERROR(VLOOKUP($C18,AGR!$B$50:$V$70,MATCH(VLOOKUP(\"*\"&$AW18,$A$10:$J$11,$J$9,FALSE)&T$7,AGR!$B$47:$V$47,0),FALSE),\"\")","v":""},{"$f":"IFERROR(VLOOKUP($C18,AGR!$B$50:$V$70,MATCH(VLOOKUP(\"*\"&$AW18,$A$10:$J$11,$J$9,FALSE)&U$7,AGR!$B$47:$V$47,0),FALSE),\"\")","v":""},{"$f":"IFERROR(VLOOKUP($C18,AGR!$B$50:$V$70,MATCH(VLOOKUP(\"*\"&$AW18,$A$10:$J$11,$J$9,FALSE)&V$7,AGR!$B$47:$V$47,0),FALSE),\"\")","v":""},{"$f":"IFERROR(VLOOKUP($C18,AGR!$B$50:$V$70,MATCH(VLOOKUP(\"*\"&$AW18,$A$10:$J$11,$J$9,FALSE)&W$7,AGR!$B$47:$V$47,0),FALSE),\"\")","v":""},{"$f":"IFERROR(VLOOKUP($C18,AGR!$B$50:$V$70,MATCH(VLOOKUP(\"*\"&$AW18,$A$10:$J$11,$J$9,FALSE)&X$7,AGR!$B$47:$V$47,0),FALSE),\"\")","v":""},{"$f":"IFERROR(VLOOKUP($C18,AGR!$B$50:$V$70,MATCH(VLOOKUP(\"*\"&$AW18,$A$10:$J$11,$J$9,FALSE)&Y$7,AGR!$B$47:$V$47,0),FALSE),\"\")","v":""},{"$f":"IFERROR(VLOOKUP($C18,AGR!$B$50:$V$70,MATCH(VLOOKUP(\"*\"&$AW18,$A$10:$J$11,$J$9,FALSE)&Z$7,AGR!$B$47:$V$47,0),FALSE),\"\")","v":""},{"$f":"IFERROR(VLOOKUP($C18,AGR!$B$50:$V$70,MATCH(VLOOKUP(\"*\"&$AW18,$A$10:$J$11,$J$9,FALSE)&AA$7,AGR!$B$47:$V$47,0),FALSE),\"\")","v":""},{"$f":"IFERROR(VLOOKUP($C18,AGR!$B$50:$V$70,MATCH(VLOOKUP(\"*\"&$AW18,$A$10:$J$11,$J$9,FALSE)&AB$7,AGR!$B$47:$V$47,0),FALSE),\"\")","v":""},{"$f":"IFERROR(VLOOKUP($C18,AGR!$B$50:$V$70,MATCH(VLOOKUP(\"*\"&$AW18,$A$10:$J$11,$J$9,FALSE)&AC$7,AGR!$B$47:$V$47,0),FALSE),\"\")","v":""},{"$f":"IFERROR(VLOOKUP($C18,AGR!$B$50:$V$70,MATCH(VLOOKUP(\"*\"&$AW18,$A$10:$J$11,$J$9,FALSE)&AD$7,AGR!$B$47:$V$47,0),FALSE),\"\")","v":""},{"$f":"IFERROR(VLOOKUP($C18,AGR!$B$50:$V$70,MATCH(VLOOKUP(\"*\"&$AW18,$A$10:$J$11,$J$9,FALSE)&AE$7,AGR!$B$47:$V$47,0),FALSE),\"\")","v":""},{"$f":"IFERROR(VLOOKUP($C18,AGR!$B$50:$V$70,MATCH(VLOOKUP(\"*\"&$AW18,$A$10:$J$11,$J$9,FALSE)&AF$7,AGR!$B$47:$V$47,0),FALSE),\"\")","v":""},{"$f":"IFERROR(VLOOKUP($C18,AGR!$B$50:$V$70,MATCH(VLOOKUP(\"*\"&$AW18,$A$10:$J$11,$J$9,FALSE)&AG$7,AGR!$B$47:$V$47,0),FALSE),\"\")","v":""},{"$f":"IFERROR(VLOOKUP($C18,AGR!$B$50:$V$70,MATCH(VLOOKUP(\"*\"&$AW18,$A$10:$J$11,$J$9,FALSE)&AH$7,AGR!$B$47:$V$47,0),FALSE),\"\")","v":""},null,null,null,null,{"$f":"IFERROR(VLOOKUP($C18,AGR!$B$50:$V$70,MATCH(VLOOKUP(\"*\"&$AW18,$A$10:$J$11,$J$9,FALSE)&AM$7,AGR!$B$47:$V$47,0),FALSE),\"\")","v":""},null,null,null,null,{"$f":"IFERROR(VLOOKUP($C18,AGR!$B$50:$V$70,MATCH(VLOOKUP(\"*\"&$AW18,$A$10:$J$11,$J$9,FALSE)&AR$7,AGR!$B$47:$V$47,0),FALSE),\"\")","v":""},{"$f":"IFERROR(VLOOKUP($C18,AGR!$B$50:$V$70,MATCH(VLOOKUP(\"*\"&$AW18,$A$10:$J$11,$J$9,FALSE)&AS$7,AGR!$B$47:$V$47,0),FALSE),\"\")","v":""},{"$f":"IFERROR(VLOOKUP($C18,AGR!$B$50:$V$70,MATCH(VLOOKUP(\"*\"&$AW18,$A$10:$J$11,$J$9,FALSE)&AT$7,AGR!$B$47:$V$47,0),FALSE),\"\")","v":""},"",null,{"$f":"IF(AX17=AGR!$W$72,AW17+1,AW17)","v":1},6]
[{"$f":"IF(LEFT(OFFSET(AGR!$A$49,AX19,0),2)=\"\\I\",\"*\",\"\")","v":"*"},"",{"$f":"IF($A19=\"*\",\"\",OFFSET(AGR!$B$49,AX19,0))","v":""},"","","","-","","","",{"$f":"IFERROR(VLOOKUP($C19,AGR!$B$50:$V$70,MATCH(VLOOKUP(\"*\"&$AW19,$A$10:$J$11,$J$9,FALSE)&K$7,AGR!$B$47:$V$47,0),FALSE),\"\")","v":""},{"$f":"IFERROR(VLOOKUP($C19,AGR!$B$50:$V$70,MATCH(VLOOKUP(\"*\"&$AW19,$A$10:$J$11,$J$9,FALSE)&L$7,AGR!$B$47:$V$47,0),FALSE),\"\")","v":""},{"$f":"IFERROR(VLOOKUP($C19,AGR!$B$50:$V$70,MATCH(VLOOKUP(\"*\"&$AW19,$A$10:$J$11,$J$9,FALSE)&M$7,AGR!$B$47:$V$47,0),FALSE),\"\")","v":""},{"$f":"IFERROR(VLOOKUP($C19,AGR!$B$50:$V$70,MATCH(VLOOKUP(\"*\"&$AW19,$A$10:$J$11,$J$9,FALSE)&N$7,AGR!$B$47:$V$47,0),FALSE),\"\")","v":""},{"$f":"IFERROR(VLOOKUP($C19,AGR!$B$50:$V$70,MATCH(VLOOKUP(\"*\"&$AW19,$A$10:$J$11,$J$9,FALSE)&O$7,AGR!$B$47:$V$47,0),FALSE),\"\")","v":""},{"$f":"IFERROR(VLOOKUP($C19,AGR!$B$50:$V$70,MATCH(VLOOKUP(\"*\"&$AW19,$A$10:$J$11,$J$9,FALSE)&P$7,AGR!$B$47:$V$47,0),FALSE),\"\")","v":""},{"$f":"IFERROR(VLOOKUP($C19,AGR!$B$50:$V$70,MATCH(VLOOKUP(\"*\"&$AW19,$A$10:$J$11,$J$9,FALSE)&Q$7,AGR!$B$47:$V$47,0),FALSE),\"\")","v":""},{"$f":"IFERROR(VLOOKUP($C19,AGR!$B$50:$V$70,MATCH(VLOOKUP(\"*\"&$AW19,$A$10:$J$11,$J$9,FALSE)&R$7,AGR!$B$47:$V$47,0),FALSE),\"\")","v":""},{"$f":"IFERROR(VLOOKUP($C19,AGR!$B$50:$V$70,MATCH(VLOOKUP(\"*\"&$AW19,$A$10:$J$11,$J$9,FALSE)&S$7,AGR!$B$47:$V$47,0),FALSE),\"\")","v":""},{"$f":"IFERROR(VLOOKUP($C19,AGR!$B$50:$V$70,MATCH(VLOOKUP(\"*\"&$AW19,$A$10:$J$11,$J$9,FALSE)&T$7,AGR!$B$47:$V$47,0),FALSE),\"\")","v":""},{"$f":"IFERROR(VLOOKUP($C19,AGR!$B$50:$V$70,MATCH(VLOOKUP(\"*\"&$AW19,$A$10:$J$11,$J$9,FALSE)&U$7,AGR!$B$47:$V$47,0),FALSE),\"\")","v":""},{"$f":"IFERROR(VLOOKUP($C19,AGR!$B$50:$V$70,MATCH(VLOOKUP(\"*\"&$AW19,$A$10:$J$11,$J$9,FALSE)&V$7,AGR!$B$47:$V$47,0),FALSE),\"\")","v":""},{"$f":"IFERROR(VLOOKUP($C19,AGR!$B$50:$V$70,MATCH(VLOOKUP(\"*\"&$AW19,$A$10:$J$11,$J$9,FALSE)&W$7,AGR!$B$47:$V$47,0),FALSE),\"\")","v":""},{"$f":"IFERROR(VLOOKUP($C19,AGR!$B$50:$V$70,MATCH(VLOOKUP(\"*\"&$AW19,$A$10:$J$11,$J$9,FALSE)&X$7,AGR!$B$47:$V$47,0),FALSE),\"\")","v":""},{"$f":"IFERROR(VLOOKUP($C19,AGR!$B$50:$V$70,MATCH(VLOOKUP(\"*\"&$AW19,$A$10:$J$11,$J$9,FALSE)&Y$7,AGR!$B$47:$V$47,0),FALSE),\"\")","v":""},{"$f":"IFERROR(VLOOKUP($C19,AGR!$B$50:$V$70,MATCH(VLOOKUP(\"*\"&$AW19,$A$10:$J$11,$J$9,FALSE)&Z$7,AGR!$B$47:$V$47,0),FALSE),\"\")","v":""},{"$f":"IFERROR(VLOOKUP($C19,AGR!$B$50:$V$70,MATCH(VLOOKUP(\"*\"&$AW19,$A$10:$J$11,$J$9,FALSE)&AA$7,AGR!$B$47:$V$47,0),FALSE),\"\")","v":""},{"$f":"IFERROR(VLOOKUP($C19,AGR!$B$50:$V$70,MATCH(VLOOKUP(\"*\"&$AW19,$A$10:$J$11,$J$9,FALSE)&AB$7,AGR!$B$47:$V$47,0),FALSE),\"\")","v":""},{"$f":"IFERROR(VLOOKUP($C19,AGR!$B$50:$V$70,MATCH(VLOOKUP(\"*\"&$AW19,$A$10:$J$11,$J$9,FALSE)&AC$7,AGR!$B$47:$V$47,0),FALSE),\"\")","v":""},{"$f":"IFERROR(VLOOKUP($C19,AGR!$B$50:$V$70,MATCH(VLOOKUP(\"*\"&$AW19,$A$10:$J$11,$J$9,FALSE)&AD$7,AGR!$B$47:$V$47,0),FALSE),\"\")","v":""},{"$f":"IFERROR(VLOOKUP($C19,AGR!$B$50:$V$70,MATCH(VLOOKUP(\"*\"&$AW19,$A$10:$J$11,$J$9,FALSE)&AE$7,AGR!$B$47:$V$47,0),FALSE),\"\")","v":""},{"$f":"IFERROR(VLOOKUP($C19,AGR!$B$50:$V$70,MATCH(VLOOKUP(\"*\"&$AW19,$A$10:$J$11,$J$9,FALSE)&AF$7,AGR!$B$47:$V$47,0),FALSE),\"\")","v":""},{"$f":"IFERROR(VLOOKUP($C19,AGR!$B$50:$V$70,MATCH(VLOOKUP(\"*\"&$AW19,$A$10:$J$11,$J$9,FALSE)&AG$7,AGR!$B$47:$V$47,0),FALSE),\"\")","v":""},{"$f":"IFERROR(VLOOKUP($C19,AGR!$B$50:$V$70,MATCH(VLOOKUP(\"*\"&$AW19,$A$10:$J$11,$J$9,FALSE)&AH$7,AGR!$B$47:$V$47,0),FALSE),\"\")","v":""},null,null,null,null,{"$f":"IFERROR(VLOOKUP($C19,AGR!$B$50:$V$70,MATCH(VLOOKUP(\"*\"&$AW19,$A$10:$J$11,$J$9,FALSE)&AM$7,AGR!$B$47:$V$47,0),FALSE),\"\")","v":""},null,null,null,null,{"$f":"IFERROR(VLOOKUP($C19,AGR!$B$50:$V$70,MATCH(VLOOKUP(\"*\"&$AW19,$A$10:$J$11,$J$9,FALSE)&AR$7,AGR!$B$47:$V$47,0),FALSE),\"\")","v":""},{"$f":"IFERROR(VLOOKUP($C19,AGR!$B$50:$V$70,MATCH(VLOOKUP(\"*\"&$AW19,$A$10:$J$11,$J$9,FALSE)&AS$7,AGR!$B$47:$V$47,0),FALSE),\"\")","v":""},{"$f":"IFERROR(VLOOKUP($C19,AGR!$B$50:$V$70,MATCH(VLOOKUP(\"*\"&$AW19,$A$10:$J$11,$J$9,FALSE)&AT$7,AGR!$B$47:$V$47,0),FALSE),\"\")","v":""},"",null,{"$f":"IF(AX18=AGR!$W$72,AW18+1,AW18)","v":1},7]
[{"$f":"IF(LEFT(OFFSET(AGR!$A$49,AX20,0),2)=\"\\I\",\"*\",\"\")","v":""},"FLO_MARK",{"$f":"IF($A20=\"*\",\"\",OFFSET(AGR!$B$49,AX20,0))","v":"APELC-E"},"AP","-","-","-","UP",0,1,{"$f":"IFERROR(VLOOKUP($C20,AGR!$B$50:$V$70,MATCH(VLOOKUP(\"*\"&$AW20,$A$10:$J$11,$J$9,FALSE)&K$7,AGR!$B$47:$V$47,0),FALSE),\"\")","v":""},{"$f":"IFERROR(VLOOKUP($C20,AGR!$B$50:$V$70,MATCH(VLOOKUP(\"*\"&$AW20,$A$10:$J$11,$J$9,FALSE)&L$7,AGR!$B$47:$V$47,0),FALSE),\"\")","v":""},{"$f":"IFERROR(VLOOKUP($C20,AGR!$B$50:$V$70,MATCH(VLOOKUP(\"*\"&$AW20,$A$10:$J$11,$J$9,FALSE)&M$7,AGR!$B$47:$V$47,0),FALSE),\"\")","v":""},{"$f":"IFERROR(VLOOKUP($C20,AGR!$B$50:$V$70,MATCH(VLOOKUP(\"*\"&$AW20,$A$10:$J$11,$J$9,FALSE)&N$7,AGR!$B$47:$V$47,0),FALSE),\"\")","v":1},{"$f":"IFERROR(VLOOKUP($C20,AGR!$B$50:$V$70,MATCH(VLOOKUP(\"*\"&$AW20,$A$10:$J$11,$J$9,FALSE)&O$7,AGR!$B$47:$V$47,0),FALSE),\"\")","v":""},{"$f":"IFERROR(VLOOKUP($C20,AGR!$B$50:$V$70,MATCH(VLOOKUP(\"*\"&$AW20,$A$10:$J$11,$J$9,FALSE)&P$7,AGR!$B$47:$V$47,0),FALSE),\"\")","v":""},{"$f":"IFERROR(VLOOKUP($C20,AGR!$B$50:$V$70,MATCH(VLOOKUP(\"*\"&$AW20,$A$10:$J$11,$J$9,FALSE)&Q$7,AGR!$B$47:$V$47,0),FALSE),\"\")","v":""},{"$f":"IFERROR(VLOOKUP($C20,AGR!$B$50:$V$70,MATCH(VLOOKUP(\"*\"&$AW20,$A$10:$J$11,$J$9,FALSE)&R$7,AGR!$B$47:$V$47,0),FALSE),\"\")","v":""},{"$f":"IFERROR(VLOOKUP($C20,AGR!$B$50:$V$70,MATCH(VLOOKUP(\"*\"&$AW20,$A$10:$J$11,$J$9,FALSE)&S$7,AGR!$B$47:$V$47,0),FALSE),\"\")","v":""},{"$f":"IFERROR(VLOOKUP($C20,AGR!$B$50:$V$70,MATCH(VLOOKUP(\"*\"&$AW20,$A$10:$J$11,$J$9,FALSE)&T$7,AGR!$B$47:$V$47,0),FALSE),\"\")","v":""},{"$f":"IFERROR(VLOOKUP($C20,AGR!$B$50:$V$70,MATCH(VLOOKUP(\"*\"&$AW20,$A$10:$J$11,$J$9,FALSE)&U$7,AGR!$B$47:$V$47,0),FALSE),\"\")","v":""},{"$f":"IFERROR(VLOOKUP($C20,AGR!$B$50:$V$70,MATCH(VLOOKUP(\"*\"&$AW20,$A$10:$J$11,$J$9,FALSE)&V$7,AGR!$B$47:$V$47,0),FALSE),\"\")","v":""},{"$f":"IFERROR(VLOOKUP($C20,AGR!$B$50:$V$70,MATCH(VLOOKUP(\"*\"&$AW20,$A$10:$J$11,$J$9,FALSE)&W$7,AGR!$B$47:$V$47,0),FALSE),\"\")","v":""},{"$f":"IFERROR(VLOOKUP($C20,AGR!$B$50:$V$70,MATCH(VLOOKUP(\"*\"&$AW20,$A$10:$J$11,$J$9,FALSE)&X$7,AGR!$B$47:$V$47,0),FALSE),\"\")","v":""},{"$f":"IFERROR(VLOOKUP($C20,AGR!$B$50:$V$70,MATCH(VLOOKUP(\"*\"&$AW20,$A$10:$J$11,$J$9,FALSE)&Y$7,AGR!$B$47:$V$47,0),FALSE),\"\")","v":""},{"$f":"IFERROR(VLOOKUP($C20,AGR!$B$50:$V$70,MATCH(VLOOKUP(\"*\"&$AW20,$A$10:$J$11,$J$9,FALSE)&Z$7,AGR!$B$47:$V$47,0),FALSE),\"\")","v":""},{"$f":"IFERROR(VLOOKUP($C20,AGR!$B$50:$V$70,MATCH(VLOOKUP(\"*\"&$AW20,$A$10:$J$11,$J$9,FALSE)&AA$7,AGR!$B$47:$V$47,0),FALSE),\"\")","v":""},{"$f":"IFERROR(VLOOKUP($C20,AGR!$B$50:$V$70,MATCH(VLOOKUP(\"*\"&$AW20,$A$10:$J$11,$J$9,FALSE)&AB$7,AGR!$B$47:$V$47,0),FALSE),\"\")","v":""},{"$f":"IFERROR(VLOOKUP($C20,AGR!$B$50:$V$70,MATCH(VLOOKUP(\"*\"&$AW20,$A$10:$J$11,$J$9,FALSE)&AC$7,AGR!$B$47:$V$47,0),FALSE),\"\")","v":""},{"$f":"IFERROR(VLOOKUP($C20,AGR!$B$50:$V$70,MATCH(VLOOKUP(\"*\"&$AW20,$A$10:$J$11,$J$9,FALSE)&AD$7,AGR!$B$47:$V$47,0),FALSE),\"\")","v":""},{"$f":"IFERROR(VLOOKUP($C20,AGR!$B$50:$V$70,MATCH(VLOOKUP(\"*\"&$AW20,$A$10:$J$11,$J$9,FALSE)&AE$7,AGR!$B$47:$V$47,0),FALSE),\"\")","v":""},{"$f":"IFERROR(VLOOKUP($C20,AGR!$B$50:$V$70,MATCH(VLOOKUP(\"*\"&$AW20,$A$10:$J$11,$J$9,FALSE)&AF$7,AGR!$B$47:$V$47,0),FALSE),\"\")","v":""},{"$f":"IFERROR(VLOOKUP($C20,AGR!$B$50:$V$70,MATCH(VLOOKUP(\"*\"&$AW20,$A$10:$J$11,$J$9,FALSE)&AG$7,AGR!$B$47:$V$47,0),FALSE),\"\")","v":""},{"$f":"IFERROR(VLOOKUP($C20,AGR!$B$50:$V$70,MATCH(VLOOKUP(\"*\"&$AW20,$A$10:$J$11,$J$9,FALSE)&AH$7,AGR!$B$47:$V$47,0),FALSE),\"\")","v":1},null,null,null,null,{"$f":"IFERROR(VLOOKUP($C20,AGR!$B$50:$V$70,MATCH(VLOOKUP(\"*\"&$AW20,$A$10:$J$11,$J$9,FALSE)&AM$7,AGR!$B$47:$V$47,0),FALSE),\"\")","v":""},null,null,null,null,{"$f":"IFERROR(VLOOKUP($C20,AGR!$B$50:$V$70,MATCH(VLOOKUP(\"*\"&$AW20,$A$10:$J$11,$J$9,FALSE)&AR$7,AGR!$B$47:$V$47,0),FALSE),\"\")","v":""},{"$f":"IFERROR(VLOOKUP($C20,AGR!$B$50:$V$70,MATCH(VLOOKUP(\"*\"&$AW20,$A$10:$J$11,$J$9,FALSE)&AS$7,AGR!$B$47:$V$47,0),FALSE),\"\")","v":""},{"$f":"IFERROR(VLOOKUP($C20,AGR!$B$50:$V$70,MATCH(VLOOKUP(\"*\"&$AW20,$A$10:$J$11,$J$9,FALSE)&AT$7,AGR!$B$47:$V$47,0),FALSE),\"\")","v":1},1,null,{"$f":"IF(AX19=AGR!$W$72,AW19+1,AW19)","v":1},8]
[{"$f":"IF(LEFT(OFFSET(AGR!$A$49,AX21,0),2)=\"\\I\",\"*\",\"\")","v":"*"},"",{"$f":"IF($A21=\"*\",\"\",OFFSET(AGR!$B$49,AX21,0))","v":""},"","","","-","","","",{"$f":"IFERROR(VLOOKUP($C21,AGR!$B$50:$V$70,MATCH(VLOOKUP(\"*\"&$AW21,$A$10:$J$11,$J$9,FALSE)&K$7,AGR!$B$47:$V$47,0),FALSE),\"\")","v":""},{"$f":"IFERROR(VLOOKUP($C21,AGR!$B$50:$V$70,MATCH(VLOOKUP(\"*\"&$AW21,$A$10:$J$11,$J$9,FALSE)&L$7,AGR!$B$47:$V$47,0),FALSE),\"\")","v":""},{"$f":"IFERROR(VLOOKUP($C21,AGR!$B$50:$V$70,MATCH(VLOOKUP(\"*\"&$AW21,$A$10:$J$11,$J$9,FALSE)&M$7,AGR!$B$47:$V$47,0),FALSE),\"\")","v":""},{"$f":"IFERROR(VLOOKUP($C21,AGR!$B$50:$V$70,MATCH(VLOOKUP(\"*\"&$AW21,$A$10:$J$11,$J$9,FALSE)&N$7,AGR!$B$47:$V$47,0),FALSE),\"\")","v":""},{"$f":"IFERROR(VLOOKUP($C21,AGR!$B$50:$V$70,MATCH(VLOOKUP(\"*\"&$AW21,$A$10:$J$11,$J$9,FALSE)&O$7,AGR!$B$47:$V$47,0),FALSE),\"\")","v":""},{"$f":"IFERROR(VLOOKUP($C21,AGR!$B$50:$V$70,MATCH(VLOOKUP(\"*\"&$AW21,$A$10:$J$11,$J$9,FALSE)&P$7,AGR!$B$47:$V$47,0),FALSE),\"\")","v":""},{"$f":"IFERROR(VLOOKUP($C21,AGR!$B$50:$V$70,MATCH(VLOOKUP(\"*\"&$AW21,$A$10:$J$11,$J$9,FALSE)&Q$7,AGR!$B$47:$V$47,0),FALSE),\"\")","v":""},{"$f":"IFERROR(VLOOKUP($C21,AGR!$B$50:$V$70,MATCH(VLOOKUP(\"*\"&$AW21,$A$10:$J$11,$J$9,FALSE)&R$7,AGR!$B$47:$V$47,0),FALSE),\"\")","v":""},{"$f":"IFERROR(VLOOKUP($C21,AGR!$B$50:$V$70,MATCH(VLOOKUP(\"*\"&$AW21,$A$10:$J$11,$J$9,FALSE)&S$7,AGR!$B$47:$V$47,0),FALSE),\"\")","v":""},{"$f":"IFERROR(VLOOKUP($C21,AGR!$B$50:$V$70,MATCH(VLOOKUP(\"*\"&$AW21,$A$10:$J$11,$J$9,FALSE)&T$7,AGR!$B$47:$V$47,0),FALSE),\"\")","v":""},{"$f":"IFERROR(VLOOKUP($C21,AGR!$B$50:$V$70,MATCH(VLOOKUP(\"*\"&$AW21,$A$10:$J$11,$J$9,FALSE)&U$7,AGR!$B$47:$V$47,0),FALSE),\"\")","v":""},{"$f":"IFERROR(VLOOKUP($C21,AGR!$B$50:$V$70,MATCH(VLOOKUP(\"*\"&$AW21,$A$10:$J$11,$J$9,FALSE)&V$7,AGR!$B$47:$V$47,0),FALSE),\"\")","v":""},{"$f":"IFERROR(VLOOKUP($C21,AGR!$B$50:$V$70,MATCH(VLOOKUP(\"*\"&$AW21,$A$10:$J$11,$J$9,FALSE)&W$7,AGR!$B$47:$V$47,0),FALSE),\"\")","v":""},{"$f":"IFERROR(VLOOKUP($C21,AGR!$B$50:$V$70,MATCH(VLOOKUP(\"*\"&$AW21,$A$10:$J$11,$J$9,FALSE)&X$7,AGR!$B$47:$V$47,0),FALSE),\"\")","v":""},{"$f":"IFERROR(VLOOKUP($C21,AGR!$B$50:$V$70,MATCH(VLOOKUP(\"*\"&$AW21,$A$10:$J$11,$J$9,FALSE)&Y$7,AGR!$B$47:$V$47,0),FALSE),\"\")","v":""},{"$f":"IFERROR(VLOOKUP($C21,AGR!$B$50:$V$70,MATCH(VLOOKUP(\"*\"&$AW21,$A$10:$J$11,$J$9,FALSE)&Z$7,AGR!$B$47:$V$47,0),FALSE),\"\")","v":""},{"$f":"IFERROR(VLOOKUP($C21,AGR!$B$50:$V$70,MATCH(VLOOKUP(\"*\"&$AW21,$A$10:$J$11,$J$9,FALSE)&AA$7,AGR!$B$47:$V$47,0),FALSE),\"\")","v":""},{"$f":"IFERROR(VLOOKUP($C21,AGR!$B$50:$V$70,MATCH(VLOOKUP(\"*\"&$AW21,$A$10:$J$11,$J$9,FALSE)&AB$7,AGR!$B$47:$V$47,0),FALSE),\"\")","v":""},{"$f":"IFERROR(VLOOKUP($C21,AGR!$B$50:$V$70,MATCH(VLOOKUP(\"*\"&$AW21,$A$10:$J$11,$J$9,FALSE)&AC$7,AGR!$B$47:$V$47,0),FALSE),\"\")","v":""},{"$f":"IFERROR(VLOOKUP($C21,AGR!$B$50:$V$70,MATCH(VLOOKUP(\"*\"&$AW21,$A$10:$J$11,$J$9,FALSE)&AD$7,AGR!$B$47:$V$47,0),FALSE),\"\")","v":""},{"$f":"IFERROR(VLOOKUP($C21,AGR!$B$50:$V$70,MATCH(VLOOKUP(\"*\"&$AW21,$A$10:$J$11,$J$9,FALSE)&AE$7,AGR!$B$47:$V$47,0),FALSE),\"\")","v":""},{"$f":"IFERROR(VLOOKUP($C21,AGR!$B$50:$V$70,MATCH(VLOOKUP(\"*\"&$AW21,$A$10:$J$11,$J$9,FALSE)&AF$7,AGR!$B$47:$V$47,0),FALSE),\"\")","v":""},{"$f":"IFERROR(VLOOKUP($C21,AGR!$B$50:$V$70,MATCH(VLOOKUP(\"*\"&$AW21,$A$10:$J$11,$J$9,FALSE)&AG$7,AGR!$B$47:$V$47,0),FALSE),\"\")","v":""},{"$f":"IFERROR(VLOOKUP($C21,AGR!$B$50:$V$70,MATCH(VLOOKUP(\"*\"&$AW21,$A$10:$J$11,$J$9,FALSE)&AH$7,AGR!$B$47:$V$47,0),FALSE),\"\")","v":""},null,null,null,null,{"$f":"IFERROR(VLOOKUP($C21,AGR!$B$50:$V$70,MATCH(VLOOKUP(\"*\"&$AW21,$A$10:$J$11,$J$9,FALSE)&AM$7,AGR!$B$47:$V$47,0),FALSE),\"\")","v":""},null,null,null,null,{"$f":"IFERROR(VLOOKUP($C21,AGR!$B$50:$V$70,MATCH(VLOOKUP(\"*\"&$AW21,$A$10:$J$11,$J$9,FALSE)&AR$7,AGR!$B$47:$V$47,0),FALSE),\"\")","v":""},{"$f":"IFERROR(VLOOKUP($C21,AGR!$B$50:$V$70,MATCH(VLOOKUP(\"*\"&$AW21,$A$10:$J$11,$J$9,FALSE)&AS$7,AGR!$B$47:$V$47,0),FALSE),\"\")","v":""},{"$f":"IFERROR(VLOOKUP($C21,AGR!$B$50:$V$70,MATCH(VLOOKUP(\"*\"&$AW21,$A$10:$J$11,$J$9,FALSE)&AT$7,AGR!$B$47:$V$47,0),FALSE),\"\")","v":""},"",null,{"$f":"IF(AX20=AGR!$W$72,AW20+1,AW20)","v":1},9]
[{"$f":"IF(LEFT(OFFSET(AGR!$A$49,AX22,0),2)=\"\\I\",\"*\",\"\")","v":"*"},"",{"$f":"IF($A22=\"*\",\"\",OFFSET(AGR!$B$49,AX22,0))","v":""},"","","","-","","","",{"$f":"IFERROR(VLOOKUP($C22,AGR!$B$50:$V$70,MATCH(VLOOKUP(\"*\"&$AW22,$A$10:$J$11,$J$9,FALSE)&K$7,AGR!$B$47:$V$47,0),FALSE),\"\")","v":""},{"$f":"IFERROR(VLOOKUP($C22,AGR!$B$50:$V$70,MATCH(VLOOKUP(\"*\"&$AW22,$A$10:$J$11,$J$9,FALSE)&L$7,AGR!$B$47:$V$47,0),FALSE),\"\")","v":""},{"$f":"IFERROR(VLOOKUP($C22,AGR!$B$50:$V$70,MATCH(VLOOKUP(\"*\"&$AW22,$A$10:$J$11,$J$9,FALSE)&M$7,AGR!$B$47:$V$47,0),FALSE),\"\")","v":""},{"$f":"IFERROR(VLOOKUP($C22,AGR!$B$50:$V$70,MATCH(VLOOKUP(\"*\"&$AW22,$A$10:$J$11,$J$9,FALSE)&N$7,AGR!$B$47:$V$47,0),FALSE),\"\")","v":""},{"$f":"IFERROR(VLOOKUP($C22,AGR!$B$50:$V$70,MATCH(VLOOKUP(\"*\"&$AW22,$A$10:$J$11,$J$9,FALSE)&O$7,AGR!$B$47:$V$47,0),FALSE),\"\")","v":""},{"$f":"IFERROR(VLOOKUP($C22,AGR!$B$50:$V$70,MATCH(VLOOKUP(\"*\"&$AW22,$A$10:$J$11,$J$9,FALSE)&P$7,AGR!$B$47:$V$47,0),FALSE),\"\")","v":""},{"$f":"IFERROR(VLOOKUP($C22,AGR!$B$50:$V$70,MATCH(VLOOKUP(\"*\"&$AW22,$A$10:$J$11,$J$9,FALSE)&Q$7,AGR!$B$47:$V$47,0),FALSE),\"\")","v":""},{"$f":"IFERROR(VLOOKUP($C22,AGR!$B$50:$V$70,MATCH(VLOOKUP(\"*\"&$AW22,$A$10:$J$11,$J$9,FALSE)&R$7,AGR!$B$47:$V$47,0),FALSE),\"\")","v":""},{"$f":"IFERROR(VLOOKUP($C22,AGR!$B$50:$V$70,MATCH(VLOOKUP(\"*\"&$AW22,$A$10:$J$11,$J$9,FALSE)&S$7,AGR!$B$47:$V$47,0),FALSE),\"\")","v":""},{"$f":"IFERROR(VLOOKUP($C22,AGR!$B$50:$V$70,MATCH(VLOOKUP(\"*\"&$AW22,$A$10:$J$11,$J$9,FALSE)&T$7,AGR!$B$47:$V$47,0),FALSE),\"\")","v":""},{"$f":"IFERROR(VLOOKUP($C22,AGR!$B$50:$V$70,MATCH(VLOOKUP(\"*\"&$AW22,$A$10:$J$11,$J$9,FALSE)&U$7,AGR!$B$47:$V$47,0),FALSE),\"\")","v":""},{"$f":"IFERROR(VLOOKUP($C22,AGR!$B$50:$V$70,MATCH(VLOOKUP(\"*\"&$AW22,$A$10:$J$11,$J$9,FALSE)&V$7,AGR!$B$47:$V$47,0),FALSE),\"\")","v":""},{"$f":"IFERROR(VLOOKUP($C22,AGR!$B$50:$V$70,MATCH(VLOOKUP(\"*\"&$AW22,$A$10:$J$11,$J$9,FALSE)&W$7,AGR!$B$47:$V$47,0),FALSE),\"\")","v":""},{"$f":"IFERROR(VLOOKUP($C22,AGR!$B$50:$V$70,MATCH(VLOOKUP(\"*\"&$AW22,$A$10:$J$11,$J$9,FALSE)&X$7,AGR!$B$47:$V$47,0),FALSE),\"\")","v":""},{"$f":"IFERROR(VLOOKUP($C22,AGR!$B$50:$V$70,MATCH(VLOOKUP(\"*\"&$AW22,$A$10:$J$11,$J$9,FALSE)&Y$7,AGR!$B$47:$V$47,0),FALSE),\"\")","v":""},{"$f":"IFERROR(VLOOKUP($C22,AGR!$B$50:$V$70,MATCH(VLOOKUP(\"*\"&$AW22,$A$10:$J$11,$J$9,FALSE)&Z$7,AGR!$B$47:$V$47,0),FALSE),\"\")","v":""},{"$f":"IFERROR(VLOOKUP($C22,AGR!$B$50:$V$70,MATCH(VLOOKUP(\"*\"&$AW22,$A$10:$J$11,$J$9,FALSE)&AA$7,AGR!$B$47:$V$47,0),FALSE),\"\")","v":""},{"$f":"IFERROR(VLOOKUP($C22,AGR!$B$50:$V$70,MATCH(VLOOKUP(\"*\"&$AW22,$A$10:$J$11,$J$9,FALSE)&AB$7,AGR!$B$47:$V$47,0),FALSE),\"\")","v":""},{"$f":"IFERROR(VLOOKUP($C22,AGR!$B$50:$V$70,MATCH(VLOOKUP(\"*\"&$AW22,$A$10:$J$11,$J$9,FALSE)&AC$7,AGR!$B$47:$V$47,0),FALSE),\"\")","v":""},{"$f":"IFERROR(VLOOKUP($C22,AGR!$B$50:$V$70,MATCH(VLOOKUP(\"*\"&$AW22,$A$10:$J$11,$J$9,FALSE)&AD$7,AGR!$B$47:$V$47,0),FALSE),\"\")","v":""},{"$f":"IFERROR(VLOOKUP($C22,AGR!$B$50:$V$70,MATCH(VLOOKUP(\"*\"&$AW22,$A$10:$J$11,$J$9,FALSE)&AE$7,AGR!$B$47:$V$47,0),FALSE),\"\")","v":""},{"$f":"IFERROR(VLOOKUP($C22,AGR!$B$50:$V$70,MATCH(VLOOKUP(\"*\"&$AW22,$A$10:$J$11,$J$9,FALSE)&AF$7,AGR!$B$47:$V$47,0),FALSE),\"\")","v":""},{"$f":"IFERROR(VLOOKUP($C22,AGR!$B$50:$V$70,MATCH(VLOOKUP(\"*\"&$AW22,$A$10:$J$11,$J$9,FALSE)&AG$7,AGR!$B$47:$V$47,0),FALSE),\"\")","v":""},{"$f":"IFERROR(VLOOKUP($C22,AGR!$B$50:$V$70,MATCH(VLOOKUP(\"*\"&$AW22,$A$10:$J$11,$J$9,FALSE)&AH$7,AGR!$B$47:$V$47,0),FALSE),\"\")","v":""},null,null,null,null,{"$f":"IFERROR(VLOOKUP($C22,AGR!$B$50:$V$70,MATCH(VLOOKUP(\"*\"&$AW22,$A$10:$J$11,$J$9,FALSE)&AM$7,AGR!$B$47:$V$47,0),FALSE),\"\")","v":""},null,null,null,null,{"$f":"IFERROR(VLOOKUP($C22,AGR!$B$50:$V$70,MATCH(VLOOKUP(\"*\"&$AW22,$A$10:$J$11,$J$9,FALSE)&AR$7,AGR!$B$47:$V$47,0),FALSE),\"\")","v":""},{"$f":"IFERROR(VLOOKUP($C22,AGR!$B$50:$V$70,MATCH(VLOOKUP(\"*\"&$AW22,$A$10:$J$11,$J$9,FALSE)&AS$7,AGR!$B$47:$V$47,0),FALSE),\"\")","v":""},{"$f":"IFERROR(VLOOKUP($C22,AGR!$B$50:$V$70,MATCH(VLOOKUP(\"*\"&$AW22,$A$10:$J$11,$J$9,FALSE)&AT$7,AGR!$B$47:$V$47,0),FALSE),\"\")","v":""},"",null,{"$f":"IF(AX21=AGR!$W$72,AW21+1,AW21)","v":1},10]
[{"$f":"IF(LEFT(OFFSET(AGR!$A$49,AX23,0),2)=\"\\I\",\"*\",\"\")","v":""},"FLO_MARK",{"$f":"IF($A23=\"*\",\"\",OFFSET(AGR!$B$49,AX23,0))","v":"ATODS-E"},"AT","-","-","-","UP",0,1,{"$f":"IFERROR(VLOOKUP($C23,AGR!$B$50:$V$70,MATCH(VLOOKUP(\"*\"&$AW23,$A$10:$J$11,$J$9,FALSE)&K$7,AGR!$B$47:$V$47,0),FALSE),\"\")","v":""},{"$f":"IFERROR(VLOOKUP($C23,AGR!$B$50:$V$70,MATCH(VLOOKUP(\"*\"&$AW23,$A$10:$J$11,$J$9,FALSE)&L$7,AGR!$B$47:$V$47,0),FALSE),\"\")","v":""},{"$f":"IFERROR(VLOOKUP($C23,AGR!$B$50:$V$70,MATCH(VLOOKUP(\"*\"&$AW23,$A$10:$J$11,$J$9,FALSE)&M$7,AGR!$B$47:$V$47,0),FALSE),\"\")","v":""},{"$f":"IFERROR(VLOOKUP($C23,AGR!$B$50:$V$70,MATCH(VLOOKUP(\"*\"&$AW23,$A$10:$J$11,$J$9,FALSE)&N$7,AGR!$B$47:$V$47,0),FALSE),\"\")","v":0.96858018479463315},{"$f":"IFERROR(VLOOKUP($C23,AGR!$B$50:$V$70,MATCH(VLOOKUP(\"*\"&$AW23,$A$10:$J$11,$J$9,FALSE)&O$7,AGR!$B$47:$V$47,0),FALSE),\"\")","v":""},{"$f":"IFERROR(VLOOKUP($C23,AGR!$B$50:$V$70,MATCH(VLOOKUP(\"*\"&$AW23,$A$10:$J$11,$J$9,FALSE)&P$7,AGR!$B$47:$V$47,0),FALSE),\"\")","v":""},{"$f":"IFERROR(VLOOKUP($C23,AGR!$B$50:$V$70,MATCH(VLOOKUP(\"*\"&$AW23,$A$10:$J$11,$J$9,FALSE)&Q$7,AGR!$B$47:$V$47,0),FALSE),\"\")","v":""},{"$f":"IFERROR(VLOOKUP($C23,AGR!$B$50:$V$70,MATCH(VLOOKUP(\"*\"&$AW23,$A$10:$J$11,$J$9,FALSE)&R$7,AGR!$B$47:$V$47,0),FALSE),\"\")","v":""},{"$f":"IFERROR(VLOOKUP($C23,AGR!$B$50:$V$70,MATCH(VLOOKUP(\"*\"&$AW23,$A$10:$J$11,$J$9,FALSE)&S$7,AGR!$B$47:$V$47,0),FALSE),\"\")","v":""},{"$f":"IFERROR(VLOOKUP($C23,AGR!$B$50:$V$70,MATCH(VLOOKUP(\"*\"&$AW23,$A$10:$J$11,$J$9,FALSE)&T$7,AGR!$B$47:$V$47,0),FALSE),\"\")","v":""},{"$f":"IFERROR(VLOOKUP($C23,AGR!$B$50:$V$70,MATCH(VLOOKUP(\"*\"&$AW23,$A$10:$J$11,$J$9,FALSE)&U$7,AGR!$B$47:$V$47,0),FALSE),\"\")","v":""},{"$f":"IFERROR(VLOOKUP($C23,AGR!$B$50:$V$70,MATCH(VLOOKUP(\"*\"&$AW23,$A$10:$J$11,$J$9,FALSE)&V$7,AGR!$B$47:$V$47,0),FALSE),\"\")","v":""},{"$f":"IFERROR(VLOOKUP($C23,AGR!$B$50:$V$70,MATCH(VLOOKUP(\"*\"&$AW23,$A$10:$J$11,$J$9,FALSE)&W$7,AGR!$B$47:$V$47,0),FALSE),\"\")","v":""},{"$f":"IFERROR(VLOOKUP($C23,AGR!$B$50:$V$70,MATCH(VLOOKUP(\"*\"&$AW23,$A$10:$J$11,$J$9,FALSE)&X$7,AGR!$B$47:$V$47,0),FALSE),\"\")","v":""},{"$f":"IFERROR(VLOOKUP($C23,AGR!$B$50:$V$70,MATCH(VLOOKUP(\"*\"&$AW23,$A$10:$J$11,$J$9,FALSE)&Y$7,AGR!$B$47:$V$47,0),FALSE),\"\")","v":""},{"$f":"IFERROR(VLOOKUP($C23,AGR!$B$50:$V$70,MATCH(VLOOKUP(\"*\"&$AW23,$A$10:$J$11,$J$9,FALSE)&Z$7,AGR!$B$47:$V$47,0),FALSE),\"\")","v":""},{"$f":"IFERROR(VLOOKUP($C23,AGR!$B$50:$V$70,MATCH(VLOOKUP(\"*\"&$AW23,$A$10:$J$11,$J$9,FALSE)&AA$7,AGR!$B$47:$V$47,0),FALSE),\"\")","v":""},{"$f":"IFERROR(VLOOKUP($C23,AGR!$B$50:$V$70,MATCH(VLOOKUP(\"*\"&$AW23,$A$10:$J$11,$J$9,FALSE)&AB$7,AGR!$B$47:$V$47,0),FALSE),\"\")","v":""},{"$f":"IFERROR(VLOOKUP($C23,AGR!$B$50:$V$70,MATCH(VLOOKUP(\"*\"&$AW23,$A$10:$J$11,$J$9,FALSE)&AC$7,AGR!$B$47:$V$47,0),FALSE),\"\")","v":""},{"$f":"IFERROR(VLOOKUP($C23,AGR!$B$50:$V$70,MATCH(VLOOKUP(\"*\"&$AW23,$A$10:$J$11,$J$9,FALSE)&AD$7,AGR!$B$47:$V$47,0),FALSE),\"\")","v":""},{"$f":"IFERROR(VLOOKUP($C23,AGR!$B$50:$V$70,MATCH(VLOOKUP(\"*\"&$AW23,$A$10:$J$11,$J$9,FALSE)&AE$7,AGR!$B$47:$V$47,0),FALSE),\"\")","v":""},{"$f":"IFERROR(VLOOKUP($C23,AGR!$B$50:$V$70,MATCH(VLOOKUP(\"*\"&$AW23,$A$10:$J$11,$J$9,FALSE)&AF$7,AGR!$B$47:$V$47,0),FALSE),\"\")","v":""},{"$f":"IFERROR(VLOOKUP($C23,AGR!$B$50:$V$70,MATCH(VLOOKUP(\"*\"&$AW23,$A$10:$J$11,$J$9,FALSE)&AG$7,AGR!$B$47:$V$47,0),FALSE),\"\")","v":""},{"$f":"IFERROR(VLOOKUP($C23,AGR!$B$50:$V$70,MATCH(VLOOKUP(\"*\"&$AW23,$A$10:$J$11,$J$9,FALSE)&AH$7,AGR!$B$47:$V$47,0),FALSE),\"\")","v":1},null,null,null,null,{"$f":"IFERROR(VLOOKUP($C23,AGR!$B$50:$V$70,MATCH(VLOOKUP(\"*\"&$AW23,$A$10:$J$11,$J$9,FALSE)&AM$7,AGR!$B$47:$V$47,0),FALSE),\"\")","v":""},null,null,null,null,{"$f":"IFERROR(VLOOKUP($C23,AGR!$B$50:$V$70,MATCH(VLOOKUP(\"*\"&$AW23,$A$10:$J$11,$J$9,FALSE)&AR$7,AGR!$B$47:$V$47,0),FALSE),\"\")","v":""},{"$f":"IFERROR(VLOOKUP($C23,AGR!$B$50:$V$70,MATCH(VLOOKUP(\"*\"&$AW23,$A$10:$J$11,$J$9,FALSE)&AS$7,AGR!$B$47:$V$47,0),FALSE),\"\")","v":""},{"$f":"IFERROR(VLOOKUP($C23,AGR!$B$50:$V$70,MATCH(VLOOKUP(\"*\"&$AW23,$A$10:$J$11,$J$9,FALSE)&AT$7,AGR!$B$47:$V$47,0),FALSE),\"\")","v":1},1,null,{"$f":"IF(AX22=AGR!$W$72,AW22+1,AW22)","v":1},11]
[{"$f":"IF(LEFT(OFFSET(AGR!$A$49,AX24,0),2)=\"\\I\",\"*\",\"\")","v":""},"FLO_MARK",{"$f":"IF($A24=\"*\",\"\",OFFSET(AGR!$B$49,AX24,0))","v":"ATELC-E"},"AT","-","-","-","UP",0,1,{"$f":"IFERROR(VLOOKUP($C24,AGR!$B$50:$V$70,MATCH(VLOOKUP(\"*\"&$AW24,$A$10:$J$11,$J$9,FALSE)&K$7,AGR!$B$47:$V$47,0),FALSE),\"\")","v":""},{"$f":"IFERROR(VLOOKUP($C24,AGR!$B$50:$V$70,MATCH(VLOOKUP(\"*\"&$AW24,$A$10:$J$11,$J$9,FALSE)&L$7,AGR!$B$47:$V$47,0),FALSE),\"\")","v":""},{"$f":"IFERROR(VLOOKUP($C24,AGR!$B$50:$V$70,MATCH(VLOOKUP(\"*\"&$AW24,$A$10:$J$11,$J$9,FALSE)&M$7,AGR!$B$47:$V$47,0),FALSE),\"\")","v":""},{"$f":"IFERROR(VLOOKUP($C24,AGR!$B$50:$V$70,MATCH(VLOOKUP(\"*\"&$AW24,$A$10:$J$11,$J$9,FALSE)&N$7,AGR!$B$47:$V$47,0),FALSE),\"\")","v":0.05},{"$f":"IFERROR(VLOOKUP($C24,AGR!$B$50:$V$70,MATCH(VLOOKUP(\"*\"&$AW24,$A$10:$J$11,$J$9,FALSE)&O$7,AGR!$B$47:$V$47,0),FALSE),\"\")","v":""},{"$f":"IFERROR(VLOOKUP($C24,AGR!$B$50:$V$70,MATCH(VLOOKUP(\"*\"&$AW24,$A$10:$J$11,$J$9,FALSE)&P$7,AGR!$B$47:$V$47,0),FALSE),\"\")","v":""},{"$f":"IFERROR(VLOOKUP($C24,AGR!$B$50:$V$70,MATCH(VLOOKUP(\"*\"&$AW24,$A$10:$J$11,$J$9,FALSE)&Q$7,AGR!$B$47:$V$47,0),FALSE),\"\")","v":""},{"$f":"IFERROR(VLOOKUP($C24,AGR!$B$50:$V$70,MATCH(VLOOKUP(\"*\"&$AW24,$A$10:$J$11,$J$9,FALSE)&R$7,AGR!$B$47:$V$47,0),FALSE),\"\")","v":""},{"$f":"IFERROR(VLOOKUP($C24,AGR!$B$50:$V$70,MATCH(VLOOKUP(\"*\"&$AW24,$A$10:$J$11,$J$9,FALSE)&S$7,AGR!$B$47:$V$47,0),FALSE),\"\")","v":""},{"$f":"IFERROR(VLOOKUP($C24,AGR!$B$50:$V$70,MATCH(VLOOKUP(\"*\"&$AW24,$A$10:$J$11,$J$9,FALSE)&T$7,AGR!$B$47:$V$47,0),FALSE),\"\")","v":""},{"$f":"IFERROR(VLOOKUP($C24,AGR!$B$50:$V$70,MATCH(VLOOKUP(\"*\"&$AW24,$A$10:$J$11,$J$9,FALSE)&U$7,AGR!$B$47:$V$47,0),FALSE),\"\")","v":""},{"$f":"IFERROR(VLOOKUP($C24,AGR!$B$50:$V$70,MATCH(VLOOKUP(\"*\"&$AW24,$A$10:$J$11,$J$9,FALSE)&V$7,AGR!$B$47:$V$47,0),FALSE),\"\")","v":""},{"$f":"IFERROR(VLOOKUP($C24,AGR!$B$50:$V$70,MATCH(VLOOKUP(\"*\"&$AW24,$A$10:$J$11,$J$9,FALSE)&W$7,AGR!$B$47:$V$47,0),FALSE),\"\")","v":""},{"$f":"IFERROR(VLOOKUP($C24,AGR!$B$50:$V$70,MATCH(VLOOKUP(\"*\"&$AW24,$A$10:$J$11,$J$9,FALSE)&X$7,AGR!$B$47:$V$47,0),FALSE),\"\")","v":""},{"$f":"IFERROR(VLOOKUP($C24,AGR!$B$50:$V$70,MATCH(VLOOKUP(\"*\"&$AW24,$A$10:$J$11,$J$9,FALSE)&Y$7,AGR!$B$47:$V$47,0),FALSE),\"\")","v":""},{"$f":"IFERROR(VLOOKUP($C24,AGR!$B$50:$V$70,MATCH(VLOOKUP(\"*\"&$AW24,$A$10:$J$11,$J$9,FALSE)&Z$7,AGR!$B$47:$V$47,0),FALSE),\"\")","v":""},{"$f":"IFERROR(VLOOKUP($C24,AGR!$B$50:$V$70,MATCH(VLOOKUP(\"*\"&$AW24,$A$10:$J$11,$J$9,FALSE)&AA$7,AGR!$B$47:$V$47,0),FALSE),\"\")","v":""},{"$f":"IFERROR(VLOOKUP($C24,AGR!$B$50:$V$70,MATCH(VLOOKUP(\"*\"&$AW24,$A$10:$J$11,$J$9,FALSE)&AB$7,AGR!$B$47:$V$47,0),FALSE),\"\")","v":""},{"$f":"IFERROR(VLOOKUP($C24,AGR!$B$50:$V$70,MATCH(VLOOKUP(\"*\"&$AW24,$A$10:$J$11,$J$9,FALSE)&AC$7,AGR!$B$47:$V$47,0),FALSE),\"\")","v":""},{"$f":"IFERROR(VLOOKUP($C24,AGR!$B$50:$V$70,MATCH(VLOOKUP(\"*\"&$AW24,$A$10:$J$11,$J$9,FALSE)&AD$7,AGR!$B$47:$V$47,0),FALSE),\"\")","v":""},{"$f":"IFERROR(VLOOKUP($C24,AGR!$B$50:$V$70,MATCH(VLOOKUP(\"*\"&$AW24,$A$10:$J$11,$J$9,FALSE)&AE$7,AGR!$B$47:$V$47,0),FALSE),\"\")","v":""},{"$f":"IFERROR(VLOOKUP($C24,AGR!$B$50:$V$70,MATCH(VLOOKUP(\"*\"&$AW24,$A$10:$J$11,$J$9,FALSE)&AF$7,AGR!$B$47:$V$47,0),FALSE),\"\")","v":""},{"$f":"IFERROR(VLOOKUP($C24,AGR!$B$50:$V$70,MATCH(VLOOKUP(\"*\"&$AW24,$A$10:$J$11,$J$9,FALSE)&AG$7,AGR!$B$47:$V$47,0),FALSE),\"\")","v":""},{"$f":"IFERROR(VLOOKUP($C24,AGR!$B$50:$V$70,MATCH(VLOOKUP(\"*\"&$AW24,$A$10:$J$11,$J$9,FALSE)&AH$7,AGR!$B$47:$V$47,0),FALSE),\"\")","v":0.25},null,null,null,null,{"$f":"IFERROR(VLOOKUP($C24,AGR!$B$50:$V$70,MATCH(VLOOKUP(\"*\"&$AW24,$A$10:$J$11,$J$9,FALSE)&AM$7,AGR!$B$47:$V$47,0),FALSE),\"\")","v":""},null,null,null,null,{"$f":"IFERROR(VLOOKUP($C24,AGR!$B$50:$V$70,MATCH(VLOOKUP(\"*\"&$AW24,$A$10:$J$11,$J$9,FALSE)&AR$7,AGR!$B$47:$V$47,0),FALSE),\"\")","v":""},{"$f":"IFERROR(VLOOKUP($C24,AGR!$B$50:$V$70,MATCH(VLOOKUP(\"*\"&$AW24,$A$10:$J$11,$J$9,FALSE)&AS$7,AGR!$B$47:$V$47,0),FALSE),\"\")","v":""},{"$f":"IFERROR(VLOOKUP($C24,AGR!$B$50:$V$70,MATCH(VLOOKUP(\"*\"&$AW24,$A$10:$J$11,$J$9,FALSE)&AT$7,AGR!$B$47:$V$47,0),FALSE),\"\")","v":0.5},0.5,null,{"$f":"IF(AX23=AGR!$W$72,AW23+1,AW23)","v":1},12]
[{"$f":"IF(LEFT(OFFSET(AGR!$A$49,AX25,0),2)=\"\\I\",\"*\",\"\")","v":""},"FLO_MARK",{"$f":"IF($A25=\"*\",\"\",OFFSET(AGR!$B$49,AX25,0))","v":"ATOGS-E"},"AT","-","-","-","UP",0,1,{"$f":"IFERROR(VLOOKUP($C25,AGR!$B$50:$V$70,MATCH(VLOOKUP(\"*\"&$AW25,$A$10:$J$11,$J$9,FALSE)&K$7,AGR!$B$47:$V$47,0),FALSE),\"\")","v":""},{"$f":"IFERROR(VLOOKUP($C25,AGR!$B$50:$V$70,MATCH(VLOOKUP(\"*\"&$AW25,$A$10:$J$11,$J$9,FALSE)&L$7,AGR!$B$47:$V$47,0),FALSE),\"\")","v":""},{"$f":"IFERROR(VLOOKUP($C25,AGR!$B$50:$V$70,MATCH(VLOOKUP(\"*\"&$AW25,$A$10:$J$11,$J$9,FALSE)&M$7,AGR!$B$47:$V$47,0),FALSE),\"\")","v":""},{"$f":"IFERROR(VLOOKUP($C25,AGR!$B$50:$V$70,MATCH(VLOOKUP(\"*\"&$AW25,$A$10:$J$11,$J$9,FALSE)&N$7,AGR!$B$47:$V$47,0),FALSE),\"\")","v":0.13141981520536689},{"$f":"IFERROR(VLOOKUP($C25,AGR!$B$50:$V$70,MATCH(VLOOKUP(\"*\"&$AW25,$A$10:$J$11,$J$9,FALSE)&O$7,AGR!$B$47:$V$47,0),FALSE),\"\")","v":""},{"$f":"IFERROR(VLOOKUP($C25,AGR!$B$50:$V$70,MATCH(VLOOKUP(\"*\"&$AW25,$A$10:$J$11,$J$9,FALSE)&P$7,AGR!$B$47:$V$47,0),FALSE),\"\")","v":""},{"$f":"IFERROR(VLOOKUP($C25,AGR!$B$50:$V$70,MATCH(VLOOKUP(\"*\"&$AW25,$A$10:$J$11,$J$9,FALSE)&Q$7,AGR!$B$47:$V$47,0),FALSE),\"\")","v":""},{"$f":"IFERROR(VLOOKUP($C25,AGR!$B$50:$V$70,MATCH(VLOOKUP(\"*\"&$AW25,$A$10:$J$11,$J$9,FALSE)&R$7,AGR!$B$47:$V$47,0),FALSE),\"\")","v":""},{"$f":"IFERROR(VLOOKUP($C25,AGR!$B$50:$V$70,MATCH(VLOOKUP(\"*\"&$AW25,$A$10:$J$11,$J$9,FALSE)&S$7,AGR!$B$47:$V$47,0),FALSE),\"\")","v":""},{"$f":"IFERROR(VLOOKUP($C25,AGR!$B$50:$V$70,MATCH(VLOOKUP(\"*\"&$AW25,$A$10:$J$11,$J$9,FALSE)&T$7,AGR!$B$47:$V$47,0),FALSE),\"\")","v":""},{"$f":"IFERROR(VLOOKUP($C25,AGR!$B$50:$V$70,MATCH(VLOOKUP(\"*\"&$AW25,$A$10:$J$11,$J$9,FALSE)&U$7,AGR!$B$47:$V$47,0),FALSE),\"\")","v":""},{"$f":"IFERROR(VLOOKUP($C25,AGR!$B$50:$V$70,MATCH(VLOOKUP(\"*\"&$AW25,$A$10:$J$11,$J$9,FALSE)&V$7,AGR!$B$47:$V$47,0),FALSE),\"\")","v":""},{"$f":"IFERROR(VLOOKUP($C25,AGR!$B$50:$V$70,MATCH(VLOOKUP(\"*\"&$AW25,$A$10:$J$11,$J$9,FALSE)&W$7,AGR!$B$47:$V$47,0),FALSE),\"\")","v":""},{"$f":"IFERROR(VLOOKUP($C25,AGR!$B$50:$V$70,MATCH(VLOOKUP(\"*\"&$AW25,$A$10:$J$11,$J$9,FALSE)&X$7,AGR!$B$47:$V$47,0),FALSE),\"\")","v":""},{"$f":"IFERROR(VLOOKUP($C25,AGR!$B$50:$V$70,MATCH(VLOOKUP(\"*\"&$AW25,$A$10:$J$11,$J$9,FALSE)&Y$7,AGR!$B$47:$V$47,0),FALSE),\"\")","v":""},{"$f":"IFERROR(VLOOKUP($C25,AGR!$B$50:$V$70,MATCH(VLOOKUP(\"*\"&$AW25,$A$10:$J$11,$J$9,FALSE)&Z$7,AGR!$B$47:$V$47,0),FALSE),\"\")","v":""},{"$f":"IFERROR(VLOOKUP($C25,AGR!$B$50:$V$70,MATCH(VLOOKUP(\"*\"&$AW25,$A$10:$J$11,$J$9,FALSE)&AA$7,AGR!$B$47:$V$47,0),FALSE),\"\")","v":""},{"$f":"IFERROR(VLOOKUP($C25,AGR!$B$50:$V$70,MATCH(VLOOKUP(\"*\"&$AW25,$A$10:$J$11,$J$9,FALSE)&AB$7,AGR!$B$47:$V$47,0),FALSE),\"\")","v":""},{"$f":"IFERROR(VLOOKUP($C25,AGR!$B$50:$V$70,MATCH(VLOOKUP(\"*\"&$AW25,$A$10:$J$11,$J$9,FALSE)&AC$7,AGR!$B$47:$V$47,0),FALSE),\"\")","v":""},{"$f":"IFERROR(VLOOKUP($C25,AGR!$B$50:$V$70,MATCH(VLOOKUP(\"*\"&$AW25,$A$10:$J$11,$J$9,FALSE)&AD$7,AGR!$B$47:$V$47,0),FALSE),\"\")","v":""},{"$f":"IFERROR(VLOOKUP($C25,AGR!$B$50:$V$70,MATCH(VLOOKUP(\"*\"&$AW25,$A$10:$J$11,$J$9,FALSE)&AE$7,AGR!$B$47:$V$47,0),FALSE),\"\")","v":""},{"$f":"IFERROR(VLOOKUP($C25,AGR!$B$50:$V$70,MATCH(VLOOKUP(\"*\"&$AW25,$A$10:$J$11,$J$9,FALSE)&AF$7,AGR!$B$47:$V$47,0),FALSE),\"\")","v":""},{"$f":"IFERROR(VLOOKUP($C25,AGR!$B$50:$V$70,MATCH(VLOOKUP(\"*\"&$AW25,$A$10:$J$11,$J$9,FALSE)&AG$7,AGR!$B$47:$V$47,0),FALSE),\"\")","v":""},{"$f":"IFERROR(VLOOKUP($C25,AGR!$B$50:$V$70,MATCH(VLOOKUP(\"*\"&$AW25,$A$10:$J$11,$J$9,FALSE)&AH$7,AGR!$B$47:$V$47,0),FALSE),\"\")","v":0.3314198152053669},null,null,null,null,{"$f":"IFERROR(VLOOKUP($C25,AGR!$B$50:$V$70,MATCH(VLOOKUP(\"*\"&$AW25,$A$10:$J$11,$J$9,FALSE)&AM$7,AGR!$B$47:$V$47,0),FALSE),\"\")","v":""},null,null,null,null,{"$f":"IFERROR(VLOOKUP($C25,AGR!$B$50:$V$70,MATCH(VLOOKUP(\"*\"&$AW25,$A$10:$J$11,$J$9,FALSE)&AR$7,AGR!$B$47:$V$47,0),FALSE),\"\")","v":""},{"$f":"IFERROR(VLOOKUP($C25,AGR!$B$50:$V$70,MATCH(VLOOKUP(\"*\"&$AW25,$A$10:$J$11,$J$9,FALSE)&AS$7,AGR!$B$47:$V$47,0),FALSE),\"\")","v":""},{"$f":"IFERROR(VLOOKUP($C25,AGR!$B$50:$V$70,MATCH(VLOOKUP(\"*\"&$AW25,$A$10:$J$11,$J$9,FALSE)&AT$7,AGR!$B$47:$V$47,0),FALSE),\"\")","v":0.5814198152053669},0.5814198152053669,null,{"$f":"IF(AX24=AGR!$W$72,AW24+1,AW24)","v":1},13]
[{"$f":"IF(LEFT(OFFSET(AGR!$A$49,AX26,0),2)=\"\\I\",\"*\",\"\")","v":"*"},"",{"$f":"IF($A26=\"*\",\"\",OFFSET(AGR!$B$49,AX26,0))","v":""},"","","","-","","","",{"$f":"IFERROR(VLOOKUP($C26,AGR!$B$50:$V$70,MATCH(VLOOKUP(\"*\"&$AW26,$A$10:$J$11,$J$9,FALSE)&K$7,AGR!$B$47:$V$47,0),FALSE),\"\")","v":""},{"$f":"IFERROR(VLOOKUP($C26,AGR!$B$50:$V$70,MATCH(VLOOKUP(\"*\"&$AW26,$A$10:$J$11,$J$9,FALSE)&L$7,AGR!$B$47:$V$47,0),FALSE),\"\")","v":""},{"$f":"IFERROR(VLOOKUP($C26,AGR!$B$50:$V$70,MATCH(VLOOKUP(\"*\"&$AW26,$A$10:$J$11,$J$9,FALSE)&M$7,AGR!$B$47:$V$47,0),FALSE),\"\")","v":""},{"$f":"IFERROR(VLOOKUP($C26,AGR!$B$50:$V$70,MATCH(VLOOKUP(\"*\"&$AW26,$A$10:$J$11,$J$9,FALSE)&N$7,AGR!$B$47:$V$47,0),FALSE),\"\")","v":""},{"$f":"IFERROR(VLOOKUP($C26,AGR!$B$50:$V$70,MATCH(VLOOKUP(\"*\"&$AW26,$A$10:$J$11,$J$9,FALSE)&O$7,AGR!$B$47:$V$47,0),FALSE),\"\")","v":""},{"$f":"IFERROR(VLOOKUP($C26,AGR!$B$50:$V$70,MATCH(VLOOKUP(\"*\"&$AW26,$A$10:$J$11,$J$9,FALSE)&P$7,AGR!$B$47:$V$47,0),FALSE),\"\")","v":""},{"$f":"IFERROR(VLOOKUP($C26,AGR!$B$50:$V$70,MATCH(VLOOKUP(\"*\"&$AW26,$A$10:$J$11,$J$9,FALSE)&Q$7,AGR!$B$47:$V$47,0),FALSE),\"\")","v":""},{"$f":"IFERROR(VLOOKUP($C26,AGR!$B$50:$V$70,MATCH(VLOOKUP(\"*\"&$AW26,$A$10:$J$11,$J$9,FALSE)&R$7,AGR!$B$47:$V$47,0),FALSE),\"\")","v":""},{"$f":"IFERROR(VLOOKUP($C26,AGR!$B$50:$V$70,MATCH(VLOOKUP(\"*\"&$AW26,$A$10:$J$11,$J$9,FALSE)&S$7,AGR!$B$47:$V$47,0),FALSE),\"\")","v":""},{"$f":"IFERROR(VLOOKUP($C26,AGR!$B$50:$V$70,MATCH(VLOOKUP(\"*\"&$AW26,$A$10:$J$11,$J$9,FALSE)&T$7,AGR!$B$47:$V$47,0),FALSE),\"\")","v":""},{"$f":"IFERROR(VLOOKUP($C26,AGR!$B$50:$V$70,MATCH(VLOOKUP(\"*\"&$AW26,$A$10:$J$11,$J$9,FALSE)&U$7,AGR!$B$47:$V$47,0),FALSE),\"\")","v":""},{"$f":"IFERROR(VLOOKUP($C26,AGR!$B$50:$V$70,MATCH(VLOOKUP(\"*\"&$AW26,$A$10:$J$11,$J$9,FALSE)&V$7,AGR!$B$47:$V$47,0),FALSE),\"\")","v":""},{"$f":"IFERROR(VLOOKUP($C26,AGR!$B$50:$V$70,MATCH(VLOOKUP(\"*\"&$AW26,$A$10:$J$11,$J$9,FALSE)&W$7,AGR!$B$47:$V$47,0),FALSE),\"\")","v":""},{"$f":"IFERROR(VLOOKUP($C26,AGR!$B$50:$V$70,MATCH(VLOOKUP(\"*\"&$AW26,$A$10:$J$11,$J$9,FALSE)&X$7,AGR!$B$47:$V$47,0),FALSE),\"\")","v":""},{"$f":"IFERROR(VLOOKUP($C26,AGR!$B$50:$V$70,MATCH(VLOOKUP(\"*\"&$AW26,$A$10:$J$11,$J$9,FALSE)&Y$7,AGR!$B$47:$V$47,0),FALSE),\"\")","v":""},{"$f":"IFERROR(VLOOKUP($C26,AGR!$B$50:$V$70,MATCH(VLOOKUP(\"*\"&$AW26,$A$10:$J$11,$J$9,FALSE)&Z$7,AGR!$B$47:$V$47,0),FALSE),\"\")","v":""},{"$f":"IFERROR(VLOOKUP($C26,AGR!$B$50:$V$70,MATCH(VLOOKUP(\"*\"&$AW26,$A$10:$J$11,$J$9,FALSE)&AA$7,AGR!$B$47:$V$47,0),FALSE),\"\")","v":""},{"$f":"IFERROR(VLOOKUP($C26,AGR!$B$50:$V$70,MATCH(VLOOKUP(\"*\"&$AW26,$A$10:$J$11,$J$9,FALSE)&AB$7,AGR!$B$47:$V$47,0),FALSE),\"\")","v":""},{"$f":"IFERROR(VLOOKUP($C26,AGR!$B$50:$V$70,MATCH(VLOOKUP(\"*\"&$AW26,$A$10:$J$11,$J$9,FALSE)&AC$7,AGR!$B$47:$V$47,0),FALSE),\"\")","v":""},{"$f":"IFERROR(VLOOKUP($C26,AGR!$B$50:$V$70,MATCH(VLOOKUP(\"*\"&$AW26,$A$10:$J$11,$J$9,FALSE)&AD$7,AGR!$B$47:$V$47,0),FALSE),\"\")","v":""},{"$f":"IFERROR(VLOOKUP($C26,AGR!$B$50:$V$70,MATCH(VLOOKUP(\"*\"&$AW26,$A$10:$J$11,$J$9,FALSE)&AE$7,AGR!$B$47:$V$47,0),FALSE),\"\")","v":""},{"$f":"IFERROR(VLOOKUP($C26,AGR!$B$50:$V$70,MATCH(VLOOKUP(\"*\"&$AW26,$A$10:$J$11,$J$9,FALSE)&AF$7,AGR!$B$47:$V$47,0),FALSE),\"\")","v":""},{"$f":"IFERROR(VLOOKUP($C26,AGR!$B$50:$V$70,MATCH(VLOOKUP(\"*\"&$AW26,$A$10:$J$11,$J$9,FALSE)&AG$7,AGR!$B$47:$V$47,0),FALSE),\"\")","v":""},{"$f":"IFERROR(VLOOKUP($C26,AGR!$B$50:$V$70,MATCH(VLOOKUP(\"*\"&$AW26,$A$10:$J$11,$J$9,FALSE)&AH$7,AGR!$B$47:$V$47,0),FALSE),\"\")","v":""},null,null,null,null,{"$f":"IFERROR(VLOOKUP($C26,AGR!$B$50:$V$70,MATCH(VLOOKUP(\"*\"&$AW26,$A$10:$J$11,$J$9,FALSE)&AM$7,AGR!$B$47:$V$47,0),FALSE),\"\")","v":""},null,null,null,null,{"$f":"IFERROR(VLOOKUP($C26,AGR!$B$50:$V$70,MATCH(VLOOKUP(\"*\"&$AW26,$A$10:$J$11,$J$9,FALSE)&AR$7,AGR!$B$47:$V$47,0),FALSE),\"\")","v":""},{"$f":"IFERROR(VLOOKUP($C26,AGR!$B$50:$V$70,MATCH(VLOOKUP(\"*\"&$AW26,$A$10:$J$11,$J$9,FALSE)&AS$7,AGR!$B$47:$V$47,0),FALSE),\"\")","v":""},{"$f":"IFERROR(VLOOKUP($C26,AGR!$B$50:$V$70,MATCH(VLOOKUP(\"*\"&$AW26,$A$10:$J$11,$J$9,FALSE)&AT$7,AGR!$B$47:$V$47,0),FALSE),\"\")","v":""},"",null,{"$f":"IF(AX25=AGR!$W$72,AW25+1,AW25)","v":1},14]
[{"$f":"IF(LEFT(OFFSET(AGR!$A$49,AX27,0),2)=\"\\I\",\"*\",\"\")","v":"*"},"",{"$f":"IF($A27=\"*\",\"\",OFFSET(AGR!$B$49,AX27,0))","v":""},"","","","-","","","",{"$f":"IFERROR(VLOOKUP($C27,AGR!$B$50:$V$70,MATCH(VLOOKUP(\"*\"&$AW27,$A$10:$J$11,$J$9,FALSE)&K$7,AGR!$B$47:$V$47,0),FALSE),\"\")","v":""},{"$f":"IFERROR(VLOOKUP($C27,AGR!$B$50:$V$70,MATCH(VLOOKUP(\"*\"&$AW27,$A$10:$J$11,$J$9,FALSE)&L$7,AGR!$B$47:$V$47,0),FALSE),\"\")","v":""},{"$f":"IFERROR(VLOOKUP($C27,AGR!$B$50:$V$70,MATCH(VLOOKUP(\"*\"&$AW27,$A$10:$J$11,$J$9,FALSE)&M$7,AGR!$B$47:$V$47,0),FALSE),\"\")","v":""},{"$f":"IFERROR(VLOOKUP($C27,AGR!$B$50:$V$70,MATCH(VLOOKUP(\"*\"&$AW27,$A$10:$J$11,$J$9,FALSE)&N$7,AGR!$B$47:$V$47,0),FALSE),\"\")","v":""},{"$f":"IFERROR(VLOOKUP($C27,AGR!$B$50:$V$70,MATCH(VLOOKUP(\"*\"&$AW27,$A$10:$J$11,$J$9,FALSE)&O$7,AGR!$B$47:$V$47,0),FALSE),\"\")","v":""},{"$f":"IFERROR(VLOOKUP($C27,AGR!$B$50:$V$70,MATCH(VLOOKUP(\"*\"&$AW27,$A$10:$J$11,$J$9,FALSE)&P$7,AGR!$B$47:$V$47,0),FALSE),\"\")","v":""},{"$f":"IFERROR(VLOOKUP($C27,AGR!$B$50:$V$70,MATCH(VLOOKUP(\"*\"&$AW27,$A$10:$J$11,$J$9,FALSE)&Q$7,AGR!$B$47:$V$47,0),FALSE),\"\")","v":""},{"$f":"IFERROR(VLOOKUP($C27,AGR!$B$50:$V$70,MATCH(VLOOKUP(\"*\"&$AW27,$A$10:$J$11,$J$9,FALSE)&R$7,AGR!$B$47:$V$47,0),FALSE),\"\")","v":""},{"$f":"IFERROR(VLOOKUP($C27,AGR!$B$50:$V$70,MATCH(VLOOKUP(\"*\"&$AW27,$A$10:$J$11,$J$9,FALSE)&S$7,AGR!$B$47:$V$47,0),FALSE),\"\")","v":""},{"$f":"IFERROR(VLOOKUP($C27,AGR!$B$50:$V$70,MATCH(VLOOKUP(\"*\"&$AW27,$A$10:$J$11,$J$9,FALSE)&T$7,AGR!$B$47:$V$47,0),FALSE),\"\")","v":""},{"$f":"IFERROR(VLOOKUP($C27,AGR!$B$50:$V$70,MATCH(VLOOKUP(\"*\"&$AW27,$A$10:$J$11,$J$9,FALSE)&U$7,AGR!$B$47:$V$47,0),FALSE),\"\")","v":""},{"$f":"IFERROR(VLOOKUP($C27,AGR!$B$50:$V$70,MATCH(VLOOKUP(\"*\"&$AW27,$A$10:$J$11,$J$9,FALSE)&V$7,AGR!$B$47:$V$47,0),FALSE),\"\")","v":""},{"$f":"IFERROR(VLOOKUP($C27,AGR!$B$50:$V$70,MATCH(VLOOKUP(\"*\"&$AW27,$A$10:$J$11,$J$9,FALSE)&W$7,AGR!$B$47:$V$47,0),FALSE),\"\")","v":""},{"$f":"IFERROR(VLOOKUP($C27,AGR!$B$50:$V$70,MATCH(VLOOKUP(\"*\"&$AW27,$A$10:$J$11,$J$9,FALSE)&X$7,AGR!$B$47:$V$47,0),FALSE),\"\")","v":""},{"$f":"IFERROR(VLOOKUP($C27,AGR!$B$50:$V$70,MATCH(VLOOKUP(\"*\"&$AW27,$A$10:$J$11,$J$9,FALSE)&Y$7,AGR!$B$47:$V$47,0),FALSE),\"\")","v":""},{"$f":"IFERROR(VLOOKUP($C27,AGR!$B$50:$V$70,MATCH(VLOOKUP(\"*\"&$AW27,$A$10:$J$11,$J$9,FALSE)&Z$7,AGR!$B$47:$V$47,0),FALSE),\"\")","v":""},{"$f":"IFERROR(VLOOKUP($C27,AGR!$B$50:$V$70,MATCH(VLOOKUP(\"*\"&$AW27,$A$10:$J$11,$J$9,FALSE)&AA$7,AGR!$B$47:$V$47,0),FALSE),\"\")","v":""},{"$f":"IFERROR(VLOOKUP($C27,AGR!$B$50:$V$70,MATCH(VLOOKUP(\"*\"&$AW27,$A$10:$J$11,$J$9,FALSE)&AB$7,AGR!$B$47:$V$47,0),FALSE),\"\")","v":""},{"$f":"IFERROR(VLOOKUP($C27,AGR!$B$50:$V$70,MATCH(VLOOKUP(\"*\"&$AW27,$A$10:$J$11,$J$9,FALSE)&AC$7,AGR!$B$47:$V$47,0),FALSE),\"\")","v":""},{"$f":"IFERROR(VLOOKUP($C27,AGR!$B$50:$V$70,MATCH(VLOOKUP(\"*\"&$AW27,$A$10:$J$11,$J$9,FALSE)&AD$7,AGR!$B$47:$V$47,0),FALSE),\"\")","v":""},{"$f":"IFERROR(VLOOKUP($C27,AGR!$B$50:$V$70,MATCH(VLOOKUP(\"*\"&$AW27,$A$10:$J$11,$J$9,FALSE)&AE$7,AGR!$B$47:$V$47,0),FALSE),\"\")","v":""},{"$f":"IFERROR(VLOOKUP($C27,AGR!$B$50:$V$70,MATCH(VLOOKUP(\"*\"&$AW27,$A$10:$J$11,$J$9,FALSE)&AF$7,AGR!$B$47:$V$47,0),FALSE),\"\")","v":""},{"$f":"IFERROR(VLOOKUP($C27,AGR!$B$50:$V$70,MATCH(VLOOKUP(\"*\"&$AW27,$A$10:$J$11,$J$9,FALSE)&AG$7,AGR!$B$47:$V$47,0),FALSE),\"\")","v":""},{"$f":"IFERROR(VLOOKUP($C27,AGR!$B$50:$V$70,MATCH(VLOOKUP(\"*\"&$AW27,$A$10:$J$11,$J$9,FALSE)&AH$7,AGR!$B$47:$V$47,0),FALSE),\"\")","v":""},null,null,null,null,{"$f":"IFERROR(VLOOKUP($C27,AGR!$B$50:$V$70,MATCH(VLOOKUP(\"*\"&$AW27,$A$10:$J$11,$J$9,FALSE)&AM$7,AGR!$B$47:$V$47,0),FALSE),\"\")","v":""},null,null,null,null,{"$f":"IFERROR(VLOOKUP($C27,AGR!$B$50:$V$70,MATCH(VLOOKUP(\"*\"&$AW27,$A$10:$J$11,$J$9,FALSE)&AR$7,AGR!$B$47:$V$47,0),FALSE),\"\")","v":""},{"$f":"IFERROR(VLOOKUP($C27,AGR!$B$50:$V$70,MATCH(VLOOKUP(\"*\"&$AW27,$A$10:$J$11,$J$9,FALSE)&AS$7,AGR!$B$47:$V$47,0),FALSE),\"\")","v":""},{"$f":"IFERROR(VLOOKUP($C27,AGR!$B$50:$V$70,MATCH(VLOOKUP(\"*\"&$AW27,$A$10:$J$11,$J$9,FALSE)&AT$7,AGR!$B$47:$V$47,0),FALSE),\"\")","v":""},"",null,{"$f":"IF(AX26=AGR!$W$72,AW26+1,AW26)","v":1},15]
[{"$f":"IF(LEFT(OFFSET(AGR!$A$49,AX28,0),2)=\"\\I\",\"*\",\"\")","v":""},"FLO_MARK",{"$f":"IF($A28=\"*\",\"\",OFFSET(AGR!$B$49,AX28,0))","v":"AIODS-E"},"AI","-","-","-","UP",0,1,{"$f":"IFERROR(VLOOKUP($C28,AGR!$B$50:$V$70,MATCH(VLOOKUP(\"*\"&$AW28,$A$10:$J$11,$J$9,FALSE)&K$7,AGR!$B$47:$V$47,0),FALSE),\"\")","v":""},{"$f":"IFERROR(VLOOKUP($C28,AGR!$B$50:$V$70,MATCH(VLOOKUP(\"*\"&$AW28,$A$10:$J$11,$J$9,FALSE)&L$7,AGR!$B$47:$V$47,0),FALSE),\"\")","v":""},{"$f":"IFERROR(VLOOKUP($C28,AGR!$B$50:$V$70,MATCH(VLOOKUP(\"*\"&$AW28,$A$10:$J$11,$J$9,FALSE)&M$7,AGR!$B$47:$V$47,0),FALSE),\"\")","v":""},{"$f":"IFERROR(VLOOKUP($C28,AGR!$B$50:$V$70,MATCH(VLOOKUP(\"*\"&$AW28,$A$10:$J$11,$J$9,FALSE)&N$7,AGR!$B$47:$V$47,0),FALSE),\"\")","v":9.0603248259860797E-2},{"$f":"IFERROR(VLOOKUP($C28,AGR!$B$50:$V$70,MATCH(VLOOKUP(\"*\"&$AW28,$A$10:$J$11,$J$9,FALSE)&O$7,AGR!$B$47:$V$47,0),FALSE),\"\")","v":""},{"$f":"IFERROR(VLOOKUP($C28,AGR!$B$50:$V$70,MATCH(VLOOKUP(\"*\"&$AW28,$A$10:$J$11,$J$9,FALSE)&P$7,AGR!$B$47:$V$47,0),FALSE),\"\")","v":""},{"$f":"IFERROR(VLOOKUP($C28,AGR!$B$50:$V$70,MATCH(VLOOKUP(\"*\"&$AW28,$A$10:$J$11,$J$9,FALSE)&Q$7,AGR!$B$47:$V$47,0),FALSE),\"\")","v":""},{"$f":"IFERROR(VLOOKUP($C28,AGR!$B$50:$V$70,MATCH(VLOOKUP(\"*\"&$AW28,$A$10:$J$11,$J$9,FALSE)&R$7,AGR!$B$47:$V$47,0),FALSE),\"\")","v":""},{"$f":"IFERROR(VLOOKUP($C28,AGR!$B$50:$V$70,MATCH(VLOOKUP(\"*\"&$AW28,$A$10:$J$11,$J$9,FALSE)&S$7,AGR!$B$47:$V$47,0),FALSE),\"\")","v":""},{"$f":"IFERROR(VLOOKUP($C28,AGR!$B$50:$V$70,MATCH(VLOOKUP(\"*\"&$AW28,$A$10:$J$11,$J$9,FALSE)&T$7,AGR!$B$47:$V$47,0),FALSE),\"\")","v":""},{"$f":"IFERROR(VLOOKUP($C28,AGR!$B$50:$V$70,MATCH(VLOOKUP(\"*\"&$AW28,$A$10:$J$11,$J$9,FALSE)&U$7,AGR!$B$47:$V$47,0),FALSE),\"\")","v":""},{"$f":"IFERROR(VLOOKUP($C28,AGR!$B$50:$V$70,MATCH(VLOOKUP(\"*\"&$AW28,$A$10:$J$11,$J$9,FALSE)&V$7,AGR!$B$47:$V$47,0),FALSE),\"\")","v":""},{"$f":"IFERROR(VLOOKUP($C28,AGR!$B$50:$V$70,MATCH(VLOOKUP(\"*\"&$AW28,$A$10:$J$11,$J$9,FALSE)&W$7,AGR!$B$47:$V$47,0),FALSE),\"\")","v":""},{"$f":"IFERROR(VLOOKUP($C28,AGR!$B$50:$V$70,MATCH(VLOOKUP(\"*\"&$AW28,$A$10:$J$11,$J$9,FALSE)&X$7,AGR!$B$47:$V$47,0),FALSE),\"\")","v":""},{"$f":"IFERROR(VLOOKUP($C28,AGR!$B$50:$V$70,MATCH(VLOOKUP(\"*\"&$AW28,$A$10:$J$11,$J$9,FALSE)&Y$7,AGR!$B$47:$V$47,0),FALSE),\"\")","v":""},{"$f":"IFERROR(VLOOKUP($C28,AGR!$B$50:$V$70,MATCH(VLOOKUP(\"*\"&$AW28,$A$10:$J$11,$J$9,FALSE)&Z$7,AGR!$B$47:$V$47,0),FALSE),\"\")","v":""},{"$f":"IFERROR(VLOOKUP($C28,AGR!$B$50:$V$70,MATCH(VLOOKUP(\"*\"&$AW28,$A$10:$J$11,$J$9,FALSE)&AA$7,AGR!$B$47:$V$47,0),FALSE),\"\")","v":""},{"$f":"IFERROR(VLOOKUP($C28,AGR!$B$50:$V$70,MATCH(VLOOKUP(\"*\"&$AW28,$A$10:$J$11,$J$9,FALSE)&AB$7,AGR!$B$47:$V$47,0),FALSE),\"\")","v":""},{"$f":"IFERROR(VLOOKUP($C28,AGR!$B$50:$V$70,MATCH(VLOOKUP(\"*\"&$AW28,$A$10:$J$11,$J$9,FALSE)&AC$7,AGR!$B$47:$V$47,0),FALSE),\"\")","v":""},{"$f":"IFERROR(VLOOKUP($C28,AGR!$B$50:$V$70,MATCH(VLOOKUP(\"*\"&$AW28,$A$10:$J$11,$J$9,FALSE)&AD$7,AGR!$B$47:$V$47,0),FALSE),\"\")","v":""},{"$f":"IFERROR(VLOOKUP($C28,AGR!$B$50:$V$70,MATCH(VLOOKUP(\"*\"&$AW28,$A$10:$J$11,$J$9,FALSE)&AE$7,AGR!$B$47:$V$47,0),FALSE),\"\")","v":""},{"$f":"IFERROR(VLOOKUP($C28,AGR!$B$50:$V$70,MATCH(VLOOKUP(\"*\"&$AW28,$A$10:$J$11,$J$9,FALSE)&AF$7,AGR!$B$47:$V$47,0),FALSE),\"\")","v":""},{"$f":"IFERROR(VLOOKUP($C28,AGR!$B$50:$V$70,MATCH(VLOOKUP(\"*\"&$AW28,$A$10:$J$11,$J$9,FALSE)&AG$7,AGR!$B$47:$V$47,0),FALSE),\"\")","v":""},{"$f":"IFERROR(VLOOKUP($C28,AGR!$B$50:$V$70,MATCH(VLOOKUP(\"*\"&$AW28,$A$10:$J$11,$J$9,FALSE)&AH$7,AGR!$B$47:$V$47,0),FALSE),\"\")","v":0.29060324825986078},null,null,null,null,{"$f":"IFERROR(VLOOKUP($C28,AGR!$B$50:$V$70,MATCH(VLOOKUP(\"*\"&$AW28,$A$10:$J$11,$J$9,FALSE)&AM$7,AGR!$B$47:$V$47,0),FALSE),\"\")","v":""},null,null,null,null,{"$f":"IFERROR(VLOOKUP($C28,AGR!$B$50:$V$70,MATCH(VLOOKUP(\"*\"&$AW28,$A$10:$J$11,$J$9,FALSE)&AR$7,AGR!$B$47:$V$47,0),FALSE),\"\")","v":""},{"$f":"IFERROR(VLOOKUP($C28,AGR!$B$50:$V$70,MATCH(VLOOKUP(\"*\"&$AW28,$A$10:$J$11,$J$9,FALSE)&AS$7,AGR!$B$47:$V$47,0),FALSE),\"\")","v":""},{"$f":"IFERROR(VLOOKUP($C28,AGR!$B$50:$V$70,MATCH(VLOOKUP(\"*\"&$AW28,$A$10:$J$11,$J$9,FALSE)&AT$7,AGR!$B$47:$V$47,0),FALSE),\"\")","v":0.54060324825986084},0.54060324825986084,null,{"$f":"IF(AX27=AGR!$W$72,AW27+1,AW27)","v":1},16]
[{"$f":"IF(LEFT(OFFSET(AGR!$A$49,AX29,0),2)=\"\\I\",\"*\",\"\")","v":""},"FLO_MARK",{"$f":"IF($A29=\"*\",\"\",OFFSET(AGR!$B$49,AX29,0))","v":"AIELC-E"},"AI","-","-","-","UP",0,1,{"$f":"IFERROR(VLOOKUP($C29,AGR!$B$50:$V$70,MATCH(VLOOKUP(\"*\"&$AW29,$A$10:$J$11,$J$9,FALSE)&K$7,AGR!$B$47:$V$47,0),FALSE),\"\")","v":""},{"$f":"IFERROR(VLOOKUP($C29,AGR!$B$50:$V$70,MATCH(VLOOKUP(\"*\"&$AW29,$A$10:$J$11,$J$9,FALSE)&L$7,AGR!$B$47:$V$47,0),FALSE),\"\")","v":""},{"$f":"IFERROR(VLOOKUP($C29,AGR!$B$50:$V$70,MATCH(VLOOKUP(\"*\"&$AW29,$A$10:$J$11,$J$9,FALSE)&M$7,AGR!$B$47:$V$47,0),FALSE),\"\")","v":""},{"$f":"IFERROR(VLOOKUP($C29,AGR!$B$50:$V$70,MATCH(VLOOKUP(\"*\"&$AW29,$A$10:$J$11,$J$9,FALSE)&N$7,AGR!$B$47:$V$47,0),FALSE),\"\")","v":0.99779582366589337},{"$f":"IFERROR(VLOOKUP($C29,AGR!$B$50:$V$70,MATCH(VLOOKUP(\"*\"&$AW29,$A$10:$J$11,$J$9,FALSE)&O$7,AGR!$B$47:$V$47,0),FALSE),\"\")","v":""},{"$f":"IFERROR(VLOOKUP($C29,AGR!$B$50:$V$70,MATCH(VLOOKUP(\"*\"&$AW29,$A$10:$J$11,$J$9,FALSE)&P$7,AGR!$B$47:$V$47,0),FALSE),\"\")","v":""},{"$f":"IFERROR(VLOOKUP($C29,AGR!$B$50:$V$70,MATCH(VLOOKUP(\"*\"&$AW29,$A$10:$J$11,$J$9,FALSE)&Q$7,AGR!$B$47:$V$47,0),FALSE),\"\")","v":""},{"$f":"IFERROR(VLOOKUP($C29,AGR!$B$50:$V$70,MATCH(VLOOKUP(\"*\"&$AW29,$A$10:$J$11,$J$9,FALSE)&R$7,AGR!$B$47:$V$47,0),FALSE),\"\")","v":""},{"$f":"IFERROR(VLOOKUP($C29,AGR!$B$50:$V$70,MATCH(VLOOKUP(\"*\"&$AW29,$A$10:$J$11,$J$9,FALSE)&S$7,AGR!$B$47:$V$47,0),FALSE),\"\")","v":""},{"$f":"IFERROR(VLOOKUP($C29,AGR!$B$50:$V$70,MATCH(VLOOKUP(\"*\"&$AW29,$A$10:$J$11,$J$9,FALSE)&T$7,AGR!$B$47:$V$47,0),FALSE),\"\")","v":""},{"$f":"IFERROR(VLOOKUP($C29,AGR!$B$50:$V$70,MATCH(VLOOKUP(\"*\"&$AW29,$A$10:$J$11,$J$9,FALSE)&U$7,AGR!$B$47:$V$47,0),FALSE),\"\")","v":""},{"$f":"IFERROR(VLOOKUP($C29,AGR!$B$50:$V$70,MATCH(VLOOKUP(\"*\"&$AW29,$A$10:$J$11,$J$9,FALSE)&V$7,AGR!$B$47:$V$47,0),FALSE),\"\")","v":""},{"$f":"IFERROR(VLOOKUP($C29,AGR!$B$50:$V$70,MATCH(VLOOKUP(\"*\"&$AW29,$A$10:$J$11,$J$9,FALSE)&W$7,AGR!$B$47:$V$47,0),FALSE),\"\")","v":""},{"$f":"IFERROR(VLOOKUP($C29,AGR!$B$50:$V$70,MATCH(VLOOKUP(\"*\"&$AW29,$A$10:$J$11,$J$9,FALSE)&X$7,AGR!$B$47:$V$47,0),FALSE),\"\")","v":""},{"$f":"IFERROR(VLOOKUP($C29,AGR!$B$50:$V$70,MATCH(VLOOKUP(\"*\"&$AW29,$A$10:$J$11,$J$9,FALSE)&Y$7,AGR!$B$47:$V$47,0),FALSE),\"\")","v":""},{"$f":"IFERROR(VLOOKUP($C29,AGR!$B$50:$V$70,MATCH(VLOOKUP(\"*\"&$AW29,$A$10:$J$11,$J$9,FALSE)&Z$7,AGR!$B$47:$V$47,0),FALSE),\"\")","v":""},{"$f":"IFERROR(VLOOKUP($C29,AGR!$B$50:$V$70,MATCH(VLOOKUP(\"*\"&$AW29,$A$10:$J$11,$J$9,FALSE)&AA$7,AGR!$B$47:$V$47,0),FALSE),\"\")","v":""},{"$f":"IFERROR(VLOOKUP($C29,AGR!$B$50:$V$70,MATCH(VLOOKUP(\"*\"&$AW29,$A$10:$J$11,$J$9,FALSE)&AB$7,AGR!$B$47:$V$47,0),FALSE),\"\")","v":""},{"$f":"IFERROR(VLOOKUP($C29,AGR!$B$50:$V$70,MATCH(VLOOKUP(\"*\"&$AW29,$A$10:$J$11,$J$9,FALSE)&AC$7,AGR!$B$47:$V$47,0),FALSE),\"\")","v":""},{"$f":"IFERROR(VLOOKUP($C29,AGR!$B$50:$V$70,MATCH(VLOOKUP(\"*\"&$AW29,$A$10:$J$11,$J$9,FALSE)&AD$7,AGR!$B$47:$V$47,0),FALSE),\"\")","v":""},{"$f":"IFERROR(VLOOKUP($C29,AGR!$B$50:$V$70,MATCH(VLOOKUP(\"*\"&$AW29,$A$10:$J$11,$J$9,FALSE)&AE$7,AGR!$B$47:$V$47,0),FALSE),\"\")","v":""},{"$f":"IFERROR(VLOOKUP($C29,AGR!$B$50:$V$70,MATCH(VLOOKUP(\"*\"&$AW29,$A$10:$J$11,$J$9,FALSE)&AF$7,AGR!$B$47:$V$47,0),FALSE),\"\")","v":""},{"$f":"IFERROR(VLOOKUP($C29,AGR!$B$50:$V$70,MATCH(VLOOKUP(\"*\"&$AW29,$A$10:$J$11,$J$9,FALSE)&AG$7,AGR!$B$47:$V$47,0),FALSE),\"\")","v":""},{"$f":"IFERROR(VLOOKUP($C29,AGR!$B$50:$V$70,MATCH(VLOOKUP(\"*\"&$AW29,$A$10:$J$11,$J$9,FALSE)&AH$7,AGR!$B$47:$V$47,0),FALSE),\"\")","v":1},null,null,null,null,{"$f":"IFERROR(VLOOKUP($C29,AGR!$B$50:$V$70,MATCH(VLOOKUP(\"*\"&$AW29,$A$10:$J$11,$J$9,FALSE)&AM$7,AGR!$B$47:$V$47,0),FALSE),\"\")","v":""},null,null,null,null,{"$f":"IFERROR(VLOOKUP($C29,AGR!$B$50:$V$70,MATCH(VLOOKUP(\"*\"&$AW29,$A$10:$J$11,$J$9,FALSE)&AR$7,AGR!$B$47:$V$47,0),FALSE),\"\")","v":""},{"$f":"IFERROR(VLOOKUP($C29,AGR!$B$50:$V$70,MATCH(VLOOKUP(\"*\"&$AW29,$A$10:$J$11,$J$9,FALSE)&AS$7,AGR!$B$47:$V$47,0),FALSE),\"\")","v":""},{"$f":"IFERROR(VLOOKUP($C29,AGR!$B$50:$V$70,MATCH(VLOOKUP(\"*\"&$AW29,$A$10:$J$11,$J$9,FALSE)&AT$7,AGR!$B$47:$V$47,0),FALSE),\"\")","v":1},1,null,{"$f":"IF(AX28=AGR!$W$72,AW28+1,AW28)","v":1},17]
[{"$f":"IF(LEFT(OFFSET(AGR!$A$49,AX30,0),2)=\"\\I\",\"*\",\"\")","v":""},"FLO_MARK",{"$f":"IF($A30=\"*\",\"\",OFFSET(AGR!$B$49,AX30,0))","v":"AIOGS-E"},"AI","-","-","-","UP",0,1,{"$f":"IFERROR(VLOOKUP($C30,AGR!$B$50:$V$70,MATCH(VLOOKUP(\"*\"&$AW30,$A$10:$J$11,$J$9,FALSE)&K$7,AGR!$B$47:$V$47,0),FALSE),\"\")","v":""},{"$f":"IFERROR(VLOOKUP($C30,AGR!$B$50:$V$70,MATCH(VLOOKUP(\"*\"&$AW30,$A$10:$J$11,$J$9,FALSE)&L$7,AGR!$B$47:$V$47,0),FALSE),\"\")","v":""},{"$f":"IFERROR(VLOOKUP($C30,AGR!$B$50:$V$70,MATCH(VLOOKUP(\"*\"&$AW30,$A$10:$J$11,$J$9,FALSE)&M$7,AGR!$B$47:$V$47,0),FALSE),\"\")","v":""},{"$f":"IFERROR(VLOOKUP($C30,AGR!$B$50:$V$70,MATCH(VLOOKUP(\"*\"&$AW30,$A$10:$J$11,$J$9,FALSE)&N$7,AGR!$B$47:$V$47,0),FALSE),\"\")","v":6.1600928074245942E-2},{"$f":"IFERROR(VLOOKUP($C30,AGR!$B$50:$V$70,MATCH(VLOOKUP(\"*\"&$AW30,$A$10:$J$11,$J$9,FALSE)&O$7,AGR!$B$47:$V$47,0),FALSE),\"\")","v":""},{"$f":"IFERROR(VLOOKUP($C30,AGR!$B$50:$V$70,MATCH(VLOOKUP(\"*\"&$AW30,$A$10:$J$11,$J$9,FALSE)&P$7,AGR!$B$47:$V$47,0),FALSE),\"\")","v":""},{"$f":"IFERROR(VLOOKUP($C30,AGR!$B$50:$V$70,MATCH(VLOOKUP(\"*\"&$AW30,$A$10:$J$11,$J$9,FALSE)&Q$7,AGR!$B$47:$V$47,0),FALSE),\"\")","v":""},{"$f":"IFERROR(VLOOKUP($C30,AGR!$B$50:$V$70,MATCH(VLOOKUP(\"*\"&$AW30,$A$10:$J$11,$J$9,FALSE)&R$7,AGR!$B$47:$V$47,0),FALSE),\"\")","v":""},{"$f":"IFERROR(VLOOKUP($C30,AGR!$B$50:$V$70,MATCH(VLOOKUP(\"*\"&$AW30,$A$10:$J$11,$J$9,FALSE)&S$7,AGR!$B$47:$V$47,0),FALSE),\"\")","v":""},{"$f":"IFERROR(VLOOKUP($C30,AGR!$B$50:$V$70,MATCH(VLOOKUP(\"*\"&$AW30,$A$10:$J$11,$J$9,FALSE)&T$7,AGR!$B$47:$V$47,0),FALSE),\"\")","v":""},{"$f":"IFERROR(VLOOKUP($C30,AGR!$B$50:$V$70,MATCH(VLOOKUP(\"*\"&$AW30,$A$10:$J$11,$J$9,FALSE)&U$7,AGR!$B$47:$V$47,0),FALSE),\"\")","v":""},{"$f":"IFERROR(VLOOKUP($C30,AGR!$B$50:$V$70,MATCH(VLOOKUP(\"*\"&$AW30,$A$10:$J$11,$J$9,FALSE)&V$7,AGR!$B$47:$V$47,0),FALSE),\"\")","v":""},{"$f":"IFERROR(VLOOKUP($C30,AGR!$B$50:$V$70,MATCH(VLOOKUP(\"*\"&$AW30,$A$10:$J$11,$J$9,FALSE)&W$7,AGR!$B$47:$V$47,0),FALSE),\"\")","v":""},{"$f":"IFERROR(VLOOKUP($C30,AGR!$B$50:$V$70,MATCH(VLOOKUP(\"*\"&$AW30,$A$10:$J$11,$J$9,FALSE)&X$7,AGR!$B$47:$V$47,0),FALSE),\"\")","v":""},{"$f":"IFERROR(VLOOKUP($C30,AGR!$B$50:$V$70,MATCH(VLOOKUP(\"*\"&$AW30,$A$10:$J$11,$J$9,FALSE)&Y$7,AGR!$B$47:$V$47,0),FALSE),\"\")","v":""},{"$f":"IFERROR(VLOOKUP($C30,AGR!$B$50:$V$70,MATCH(VLOOKUP(\"*\"&$AW30,$A$10:$J$11,$J$9,FALSE)&Z$7,AGR!$B$47:$V$47,0),FALSE),\"\")","v":""},{"$f":"IFERROR(VLOOKUP($C30,AGR!$B$50:$V$70,MATCH(VLOOKUP(\"*\"&$AW30,$A$10:$J$11,$J$9,FALSE)&AA$7,AGR!$B$47:$V$47,0),FALSE),\"\")","v":""},{"$f":"IFERROR(VLOOKUP($C30,AGR!$B$50:$V$70,MATCH(VLOOKUP(\"*\"&$AW30,$A$10:$J$11,$J$9,FALSE)&AB$7,AGR!$B$47:$V$47,0),FALSE),\"\")","v":""},{"$f":"IFERROR(VLOOKUP($C30,AGR!$B$50:$V$70,MATCH(VLOOKUP(\"*\"&$AW30,$A$10:$J$11,$J$9,FALSE)&AC$7,AGR!$B$47:$V$47,0),FALSE),\"\")","v":""},{"$f":"IFERROR(VLOOKUP($C30,AGR!$B$50:$V$70,MATCH(VLOOKUP(\"*\"&$AW30,$A$10:$J$11,$J$9,FALSE)&AD$7,AGR!$B$47:$V$47,0),FALSE),\"\")","v":""},{"$f":"IFERROR(VLOOKUP($C30,AGR!$B$50:$V$70,MATCH(VLOOKUP(\"*\"&$AW30,$A$10:$J$11,$J$9,FALSE)&AE$7,AGR!$B$47:$V$47,0),FALSE),\"\")","v":""},{"$f":"IFERROR(VLOOKUP($C30,AGR!$B$50:$V$70,MATCH(VLOOKUP(\"*\"&$AW30,$A$10:$J$11,$J$9,FALSE)&AF$7,AGR!$B$47:$V$47,0),FALSE),\"\")","v":""},{"$f":"IFERROR(VLOOKUP($C30,AGR!$B$50:$V$70,MATCH(VLOOKUP(\"*\"&$AW30,$A$10:$J$11,$J$9,FALSE)&AG$7,AGR!$B$47:$V$47,0),FALSE),\"\")","v":""},{"$f":"IFERROR(VLOOKUP($C30,AGR!$B$50:$V$70,MATCH(VLOOKUP(\"*\"&$AW30,$A$10:$J$11,$J$9,FALSE)&AH$7,AGR!$B$47:$V$47,0),FALSE),\"\")","v":0.26160092807424595},null,null,null,null,{"$f":"IFERROR(VLOOKUP($C30,AGR!$B$50:$V$70,MATCH(VLOOKUP(\"*\"&$AW30,$A$10:$J$11,$J$9,FALSE)&AM$7,AGR!$B$47:$V$47,0),FALSE),\"\")","v":""},null,null,null,null,{"$f":"IFERROR(VLOOKUP($C30,AGR!$B$50:$V$70,MATCH(VLOOKUP(\"*\"&$AW30,$A$10:$J$11,$J$9,FALSE)&AR$7,AGR!$B$47:$V$47,0),FALSE),\"\")","v":""},{"$f":"IFERROR(VLOOKUP($C30,AGR!$B$50:$V$70,MATCH(VLOOKUP(\"*\"&$AW30,$A$10:$J$11,$J$9,FALSE)&AS$7,AGR!$B$47:$V$47,0),FALSE),\"\")","v":""},{"$f":"IFERROR(VLOOKUP($C30,AGR!$B$50:$V$70,MATCH(VLOOKUP(\"*\"&$AW30,$A$10:$J$11,$J$9,FALSE)&AT$7,AGR!$B$47:$V$47,0),FALSE),\"\")","v":0.51160092807424595},0.51160092807424595,null,{"$f":"IF(AX29=AGR!$W$72,AW29+1,AW29)","v":1},18]
[{"$f":"IF(LEFT(OFFSET(AGR!$A$49,AX31,0),2)=\"\\I\",\"*\",\"\")","v":"*"},"",{"$f":"IF($A31=\"*\",\"\",OFFSET(AGR!$B$49,AX31,0))","v":""},"","","","-","","","",{"$f":"IFERROR(VLOOKUP($C31,AGR!$B$50:$V$70,MATCH(VLOOKUP(\"*\"&$AW31,$A$10:$J$11,$J$9,FALSE)&K$7,AGR!$B$47:$V$47,0),FALSE),\"\")","v":""},{"$f":"IFERROR(VLOOKUP($C31,AGR!$B$50:$V$70,MATCH(VLOOKUP(\"*\"&$AW31,$A$10:$J$11,$J$9,FALSE)&L$7,AGR!$B$47:$V$47,0),FALSE),\"\")","v":""},{"$f":"IFERROR(VLOOKUP($C31,AGR!$B$50:$V$70,MATCH(VLOOKUP(\"*\"&$AW31,$A$10:$J$11,$J$9,FALSE)&M$7,AGR!$B$47:$V$47,0),FALSE),\"\")","v":""},{"$f":"IFERROR(VLOOKUP($C31,AGR!$B$50:$V$70,MATCH(VLOOKUP(\"*\"&$AW31,$A$10:$J$11,$J$9,FALSE)&N$7,AGR!$B$47:$V$47,0),FALSE),\"\")","v":""},{"$f":"IFERROR(VLOOKUP($C31,AGR!$B$50:$V$70,MATCH(VLOOKUP(\"*\"&$AW31,$A$10:$J$11,$J$9,FALSE)&O$7,AGR!$B$47:$V$47,0),FALSE),\"\")","v":""},{"$f":"IFERROR(VLOOKUP($C31,AGR!$B$50:$V$70,MATCH(VLOOKUP(\"*\"&$AW31,$A$10:$J$11,$J$9,FALSE)&P$7,AGR!$B$47:$V$47,0),FALSE),\"\")","v":""},{"$f":"IFERROR(VLOOKUP($C31,AGR!$B$50:$V$70,MATCH(VLOOKUP(\"*\"&$AW31,$A$10:$J$11,$J$9,FALSE)&Q$7,AGR!$B$47:$V$47,0),FALSE),\"\")","v":""},{"$f":"IFERROR(VLOOKUP($C31,AGR!$B$50:$V$70,MATCH(VLOOKUP(\"*\"&$AW31,$A$10:$J$11,$J$9,FALSE)&R$7,AGR!$B$47:$V$47,0),FALSE),\"\")","v":""},{"$f":"IFERROR(VLOOKUP($C31,AGR!$B$50:$V$70,MATCH(VLOOKUP(\"*\"&$AW31,$A$10:$J$11,$J$9,FALSE)&S$7,AGR!$B$47:$V$47,0),FALSE),\"\")","v":""},{"$f":"IFERROR(VLOOKUP($C31,AGR!$B$50:$V$70,MATCH(VLOOKUP(\"*\"&$AW31,$A$10:$J$11,$J$9,FALSE)&T$7,AGR!$B$47:$V$47,0),FALSE),\"\")","v":""},{"$f":"IFERROR(VLOOKUP($C31,AGR!$B$50:$V$70,MATCH(VLOOKUP(\"*\"&$AW31,$A$10:$J$11,$J$9,FALSE)&U$7,AGR!$B$47:$V$47,0),FALSE),\"\")","v":""},{"$f":"IFERROR(VLOOKUP($C31,AGR!$B$50:$V$70,MATCH(VLOOKUP(\"*\"&$AW31,$A$10:$J$11,$J$9,FALSE)&V$7,AGR!$B$47:$V$47,0),FALSE),\"\")","v":""},{"$f":"IFERROR(VLOOKUP($C31,AGR!$B$50:$V$70,MATCH(VLOOKUP(\"*\"&$AW31,$A$10:$J$11,$J$9,FALSE)&W$7,AGR!$B$47:$V$47,0),FALSE),\"\")","v":""},{"$f":"IFERROR(VLOOKUP($C31,AGR!$B$50:$V$70,MATCH(VLOOKUP(\"*\"&$AW31,$A$10:$J$11,$J$9,FALSE)&X$7,AGR!$B$47:$V$47,0),FALSE),\"\")","v":""},{"$f":"IFERROR(VLOOKUP($C31,AGR!$B$50:$V$70,MATCH(VLOOKUP(\"*\"&$AW31,$A$10:$J$11,$J$9,FALSE)&Y$7,AGR!$B$47:$V$47,0),FALSE),\"\")","v":""},{"$f":"IFERROR(VLOOKUP($C31,AGR!$B$50:$V$70,MATCH(VLOOKUP(\"*\"&$AW31,$A$10:$J$11,$J$9,FALSE)&Z$7,AGR!$B$47:$V$47,0),FALSE),\"\")","v":""},{"$f":"IFERROR(VLOOKUP($C31,AGR!$B$50:$V$70,MATCH(VLOOKUP(\"*\"&$AW31,$A$10:$J$11,$J$9,FALSE)&AA$7,AGR!$B$47:$V$47,0),FALSE),\"\")","v":""},{"$f":"IFERROR(VLOOKUP($C31,AGR!$B$50:$V$70,MATCH(VLOOKUP(\"*\"&$AW31,$A$10:$J$11,$J$9,FALSE)&AB$7,AGR!$B$47:$V$47,0),FALSE),\"\")","v":""},{"$f":"IFERROR(VLOOKUP($C31,AGR!$B$50:$V$70,MATCH(VLOOKUP(\"*\"&$AW31,$A$10:$J$11,$J$9,FALSE)&AC$7,AGR!$B$47:$V$47,0),FALSE),\"\")","v":""},{"$f":"IFERROR(VLOOKUP($C31,AGR!$B$50:$V$70,MATCH(VLOOKUP(\"*\"&$AW31,$A$10:$J$11,$J$9,FALSE)&AD$7,AGR!$B$47:$V$47,0),FALSE),\"\")","v":""},{"$f":"IFERROR(VLOOKUP($C31,AGR!$B$50:$V$70,MATCH(VLOOKUP(\"*\"&$AW31,$A$10:$J$11,$J$9,FALSE)&AE$7,AGR!$B$47:$V$47,0),FALSE),\"\")","v":""},{"$f":"IFERROR(VLOOKUP($C31,AGR!$B$50:$V$70,MATCH(VLOOKUP(\"*\"&$AW31,$A$10:$J$11,$J$9,FALSE)&AF$7,AGR!$B$47:$V$47,0),FALSE),\"\")","v":""},{"$f":"IFERROR(VLOOKUP($C31,AGR!$B$50:$V$70,MATCH(VLOOKUP(\"*\"&$AW31,$A$10:$J$11,$J$9,FALSE)&AG$7,AGR!$B$47:$V$47,0),FALSE),\"\")","v":""},{"$f":"IFERROR(VLOOKUP($C31,AGR!$B$50:$V$70,MATCH(VLOOKUP(\"*\"&$AW31,$A$10:$J$11,$J$9,FALSE)&AH$7,AGR!$B$47:$V$47,0),FALSE),\"\")","v":""},null,null,null,null,{"$f":"IFERROR(VLOOKUP($C31,AGR!$B$50:$V$70,MATCH(VLOOKUP(\"*\"&$AW31,$A$10:$J$11,$J$9,FALSE)&AM$7,AGR!$B$47:$V$47,0),FALSE),\"\")","v":""},null,null,null,null,{"$f":"IFERROR(VLOOKUP($C31,AGR!$B$50:$V$70,MATCH(VLOOKUP(\"*\"&$AW31,$A$10:$J$11,$J$9,FALSE)&AR$7,AGR!$B$47:$V$47,0),FALSE),\"\")","v":""},{"$f":"IFERROR(VLOOKUP($C31,AGR!$B$50:$V$70,MATCH(VLOOKUP(\"*\"&$AW31,$A$10:$J$11,$J$9,FALSE)&AS$7,AGR!$B$47:$V$47,0),FALSE),\"\")","v":""},{"$f":"IFERROR(VLOOKUP($C31,AGR!$B$50:$V$70,MATCH(VLOOKUP(\"*\"&$AW31,$A$10:$J$11,$J$9,FALSE)&AT$7,AGR!$B$47:$V$47,0),FALSE),\"\")","v":""},"",null,{"$f":"IF(AX30=AGR!$W$72,AW30+1,AW30)","v":1},19]
[{"$f":"IF(LEFT(OFFSET(AGR!$A$49,AX32,0),2)=\"\\I\",\"*\",\"\")","v":"*"},{"$f":"IF(A32=\"*\",\"\",VLOOKUP(\"*\"&AW32,$A$9:$B$11,2,FALSE))","v":""},{"$f":"IF($A32=\"*\",\"\",OFFSET(AGR!$B$49,AX32,0))","v":""},{"$f":"IF($A32=\"*\",\"\",LEFT(C32,2))","v":""},"","","-","","",{"$f":"IF(A32=\"*\",\"\",IF(H32=\"UP\",1,0))","v":""},{"$f":"IFERROR(VLOOKUP($C32,AGR!$B$50:$V$70,MATCH(VLOOKUP(\"*\"&$AW32,$A$10:$J$11,$J$9,FALSE)&K$7,AGR!$B$47:$V$47,0),FALSE),\"\")","v":""},{"$f":"IFERROR(VLOOKUP($C32,AGR!$B$50:$V$70,MATCH(VLOOKUP(\"*\"&$AW32,$A$10:$J$11,$J$9,FALSE)&L$7,AGR!$B$47:$V$47,0),FALSE),\"\")","v":""},{"$f":"IFERROR(VLOOKUP($C32,AGR!$B$50:$V$70,MATCH(VLOOKUP(\"*\"&$AW32,$A$10:$J$11,$J$9,FALSE)&M$7,AGR!$B$47:$V$47,0),FALSE),\"\")","v":""},{"$f":"IFERROR(VLOOKUP($C32,AGR!$B$50:$V$70,MATCH(VLOOKUP(\"*\"&$AW32,$A$10:$J$11,$J$9,FALSE)&N$7,AGR!$B$47:$V$47,0),FALSE),\"\")","v":""},{"$f":"IFERROR(VLOOKUP($C32,AGR!$B$50:$V$70,MATCH(VLOOKUP(\"*\"&$AW32,$A$10:$J$11,$J$9,FALSE)&O$7,AGR!$B$47:$V$47,0),FALSE),\"\")","v":""},{"$f":"IFERROR(VLOOKUP($C32,AGR!$B$50:$V$70,MATCH(VLOOKUP(\"*\"&$AW32,$A$10:$J$11,$J$9,FALSE)&P$7,AGR!$B$47:$V$47,0),FALSE),\"\")","v":""},{"$f":"IFERROR(VLOOKUP($C32,AGR!$B$50:$V$70,MATCH(VLOOKUP(\"*\"&$AW32,$A$10:$J$11,$J$9,FALSE)&Q$7,AGR!$B$47:$V$47,0),FALSE),\"\")","v":""},{"$f":"IFERROR(VLOOKUP($C32,AGR!$B$50:$V$70,MATCH(VLOOKUP(\"*\"&$AW32,$A$10:$J$11,$J$9,FALSE)&R$7,AGR!$B$47:$V$47,0),FALSE),\"\")","v":""},{"$f":"IFERROR(VLOOKUP($C32,AGR!$B$50:$V$70,MATCH(VLOOKUP(\"*\"&$AW32,$A$10:$J$11,$J$9,FALSE)&S$7,AGR!$B$47:$V$47,0),FALSE),\"\")","v":""},{"$f":"IFERROR(VLOOKUP($C32,AGR!$B$50:$V$70,MATCH(VLOOKUP(\"*\"&$AW32,$A$10:$J$11,$J$9,FALSE)&T$7,AGR!$B$47:$V$47,0),FALSE),\"\")","v":""},{"$f":"IFERROR(VLOOKUP($C32,AGR!$B$50:$V$70,MATCH(VLOOKUP(\"*\"&$AW32,$A$10:$J$11,$J$9,FALSE)&U$7,AGR!$B$47:$V$47,0),FALSE),\"\")","v":""},{"$f":"IFERROR(VLOOKUP($C32,AGR!$B$50:$V$70,MATCH(VLOOKUP(\"*\"&$AW32,$A$10:$J$11,$J$9,FALSE)&V$7,AGR!$B$47:$V$47,0),FALSE),\"\")","v":""},{"$f":"IFERROR(VLOOKUP($C32,AGR!$B$50:$V$70,MATCH(VLOOKUP(\"*\"&$AW32,$A$10:$J$11,$J$9,FALSE)&W$7,AGR!$B$47:$V$47,0),FALSE),\"\")","v":""},{"$f":"IFERROR(VLOOKUP($C32,AGR!$B$50:$V$70,MATCH(VLOOKUP(\"*\"&$AW32,$A$10:$J$11,$J$9,FALSE)&X$7,AGR!$B$47:$V$47,0),FALSE),\"\")","v":""},{"$f":"IFERROR(VLOOKUP($C32,AGR!$B$50:$V$70,MATCH(VLOOKUP(\"*\"&$AW32,$A$10:$J$11,$J$9,FALSE)&Y$7,AGR!$B$47:$V$47,0),FALSE),\"\")","v":""},{"$f":"IFERROR(VLOOKUP($C32,AGR!$B$50:$V$70,MATCH(VLOOKUP(\"*\"&$AW32,$A$10:$J$11,$J$9,FALSE)&Z$7,AGR!$B$47:$V$47,0),FALSE),\"\")","v":""},{"$f":"IFERROR(VLOOKUP($C32,AGR!$B$50:$V$70,MATCH(VLOOKUP(\"*\"&$AW32,$A$10:$J$11,$J$9,FALSE)&AA$7,AGR!$B$47:$V$47,0),FALSE),\"\")","v":""},{"$f":"IFERROR(VLOOKUP($C32,AGR!$B$50:$V$70,MATCH(VLOOKUP(\"*\"&$AW32,$A$10:$J$11,$J$9,FALSE)&AB$7,AGR!$B$47:$V$47,0),FALSE),\"\")","v":""},{"$f":"IFERROR(VLOOKUP($C32,AGR!$B$50:$V$70,MATCH(VLOOKUP(\"*\"&$AW32,$A$10:$J$11,$J$9,FALSE)&AC$7,AGR!$B$47:$V$47,0),FALSE),\"\")","v":""},{"$f":"IFERROR(VLOOKUP($C32,AGR!$B$50:$V$70,MATCH(VLOOKUP(\"*\"&$AW32,$A$10:$J$11,$J$9,FALSE)&AD$7,AGR!$B$47:$V$47,0),FALSE),\"\")","v":""},{"$f":"IFERROR(VLOOKUP($C32,AGR!$B$50:$V$70,MATCH(VLOOKUP(\"*\"&$AW32,$A$10:$J$11,$J$9,FALSE)&AE$7,AGR!$B$47:$V$47,0),FALSE),\"\")","v":""},{"$f":"IFERROR(VLOOKUP($C32,AGR!$B$50:$V$70,MATCH(VLOOKUP(\"*\"&$AW32,$A$10:$J$11,$J$9,FALSE)&AF$7,AGR!$B$47:$V$47,0),FALSE),\"\")","v":""},{"$f":"IFERROR(VLOOKUP($C32,AGR!$B$50:$V$70,MATCH(VLOOKUP(\"*\"&$AW32,$A$10:$J$11,$J$9,FALSE)&AG$7,AGR!$B$47:$V$47,0),FALSE),\"\")","v":""},{"$f":"IFERROR(VLOOKUP($C32,AGR!$B$50:$V$70,MATCH(VLOOKUP(\"*\"&$AW32,$A$10:$J$11,$J$9,FALSE)&AH$7,AGR!$B$47:$V$47,0),FALSE),\"\")","v":""},null,null,null,null,{"$f":"IFERROR(VLOOKUP($C32,AGR!$B$50:$V$70,MATCH(VLOOKUP(\"*\"&$AW32,$A$10:$J$11,$J$9,FALSE)&AM$7,AGR!$B$47:$V$47,0),FALSE),\"\")","v":""},null,null,null,null,{"$f":"IFERROR(VLOOKUP($C32,AGR!$B$50:$V$70,MATCH(VLOOKUP(\"*\"&$AW32,$A$10:$J$11,$J$9,FALSE)&AR$7,AGR!$B$47:$V$47,0),FALSE),\"\")","v":""},{"$f":"IFERROR(VLOOKUP($C32,AGR!$B$50:$V$70,MATCH(VLOOKUP(\"*\"&$AW32,$A$10:$J$11,$J$9,FALSE)&AS$7,AGR!$B$47:$V$47,0),FALSE),\"\")","v":""},{"$f":"IFERROR(VLOOKUP($C32,AGR!$B$50:$V$70,MATCH(VLOOKUP(\"*\"&$AW32,$A$10:$J$11,$J$9,FALSE)&AT$7,AGR!$B$47:$V$47,0),FALSE),\"\")","v":""},{"$f":"AT32","v":""},null,{"$f":"IF(AX31=AGR!$W$72,AW31+1,AW31)","v":1},{"$f":"IF(AW32=AW31,AX31+1,1)","v":20}]
[{"$f":"IF(LEFT(OFFSET(AGR!$A$49,AX33,0),2)=\"\\I\",\"*\",\"\")","v":""},"FLO_MARK",{"$f":"IF($A33=\"*\",\"\",OFFSET(AGR!$B$49,AX33,0))","v":"AOELC-E"},"AO",{"$f":"IF($A33=\"*\",\"\",VLOOKUP($B33,$B$10:$I$11,E$9,FALSE))","v":"-"},"-","-",{"$f":"IF($A33=\"*\",\"\",VLOOKUP(\"*\"&$AW33,$A$10:$I$11,H$9,FALSE))","v":"UP"},0,1,{"$f":"IFERROR(VLOOKUP($C33,AGR!$B$50:$V$70,MATCH(VLOOKUP(\"*\"&$AW33,$A$10:$J$11,$J$9,FALSE)&K$7,AGR!$B$47:$V$47,0),FALSE),\"\")","v":""},{"$f":"IFERROR(VLOOKUP($C33,AGR!$B$50:$V$70,MATCH(VLOOKUP(\"*\"&$AW33,$A$10:$J$11,$J$9,FALSE)&L$7,AGR!$B$47:$V$47,0),FALSE),\"\")","v":""},{"$f":"IFERROR(VLOOKUP($C33,AGR!$B$50:$V$70,MATCH(VLOOKUP(\"*\"&$AW33,$A$10:$J$11,$J$9,FALSE)&M$7,AGR!$B$47:$V$47,0),FALSE),\"\")","v":""},{"$f":"IFERROR(VLOOKUP($C33,AGR!$B$50:$V$70,MATCH(VLOOKUP(\"*\"&$AW33,$A$10:$J$11,$J$9,FALSE)&N$7,AGR!$B$47:$V$47,0),FALSE),\"\")","v":1},{"$f":"IFERROR(VLOOKUP($C33,AGR!$B$50:$V$70,MATCH(VLOOKUP(\"*\"&$AW33,$A$10:$J$11,$J$9,FALSE)&O$7,AGR!$B$47:$V$47,0),FALSE),\"\")","v":""},{"$f":"IFERROR(VLOOKUP($C33,AGR!$B$50:$V$70,MATCH(VLOOKUP(\"*\"&$AW33,$A$10:$J$11,$J$9,FALSE)&P$7,AGR!$B$47:$V$47,0),FALSE),\"\")","v":""},{"$f":"IFERROR(VLOOKUP($C33,AGR!$B$50:$V$70,MATCH(VLOOKUP(\"*\"&$AW33,$A$10:$J$11,$J$9,FALSE)&Q$7,AGR!$B$47:$V$47,0),FALSE),\"\")","v":""},{"$f":"IFERROR(VLOOKUP($C33,AGR!$B$50:$V$70,MATCH(VLOOKUP(\"*\"&$AW33,$A$10:$J$11,$J$9,FALSE)&R$7,AGR!$B$47:$V$47,0),FALSE),\"\")","v":""},{"$f":"IFERROR(VLOOKUP($C33,AGR!$B$50:$V$70,MATCH(VLOOKUP(\"*\"&$AW33,$A$10:$J$11,$J$9,FALSE)&S$7,AGR!$B$47:$V$47,0),FALSE),\"\")","v":""},{"$f":"IFERROR(VLOOKUP($C33,AGR!$B$50:$V$70,MATCH(VLOOKUP(\"*\"&$AW33,$A$10:$J$11,$J$9,FALSE)&T$7,AGR!$B$47:$V$47,0),FALSE),\"\")","v":""},{"$f":"IFERROR(VLOOKUP($C33,AGR!$B$50:$V$70,MATCH(VLOOKUP(\"*\"&$AW33,$A$10:$J$11,$J$9,FALSE)&U$7,AGR!$B$47:$V$47,0),FALSE),\"\")","v":""},{"$f":"IFERROR(VLOOKUP($C33,AGR!$B$50:$V$70,MATCH(VLOOKUP(\"*\"&$AW33,$A$10:$J$11,$J$9,FALSE)&V$7,AGR!$B$47:$V$47,0),FALSE),\"\")","v":""},{"$f":"IFERROR(VLOOKUP($C33,AGR!$B$50:$V$70,MATCH(VLOOKUP(\"*\"&$AW33,$A$10:$J$11,$J$9,FALSE)&W$7,AGR!$B$47:$V$47,0),FALSE),\"\")","v":""},{"$f":"IFERROR(VLOOKUP($C33,AGR!$B$50:$V$70,MATCH(VLOOKUP(\"*\"&$AW33,$A$10:$J$11,$J$9,FALSE)&X$7,AGR!$B$47:$V$47,0),FALSE),\"\")","v":""},{"$f":"IFERROR(VLOOKUP($C33,AGR!$B$50:$V$70,MATCH(VLOOKUP(\"*\"&$AW33,$A$10:$J$11,$J$9,FALSE)&Y$7,AGR!$B$47:$V$47,0),FALSE),\"\")","v":""},{"$f":"IFERROR(VLOOKUP($C33,AGR!$B$50:$V$70,MATCH(VLOOKUP(\"*\"&$AW33,$A$10:$J$11,$J$9,FALSE)&Z$7,AGR!$B$47:$V$47,0),FALSE),\"\")","v":""},{"$f":"IFERROR(VLOOKUP($C33,AGR!$B$50:$V$70,MATCH(VLOOKUP(\"*\"&$AW33,$A$10:$J$11,$J$9,FALSE)&AA$7,AGR!$B$47:$V$47,0),FALSE),\"\")","v":""},{"$f":"IFERROR(VLOOKUP($C33,AGR!$B$50:$V$70,MATCH(VLOOKUP(\"*\"&$AW33,$A$10:$J$11,$J$9,FALSE)&AB$7,AGR!$B$47:$V$47,0),FALSE),\"\")","v":""},{"$f":"IFERROR(VLOOKUP($C33,AGR!$B$50:$V$70,MATCH(VLOOKUP(\"*\"&$AW33,$A$10:$J$11,$J$9,FALSE)&AC$7,AGR!$B$47:$V$47,0),FALSE),\"\")","v":""},{"$f":"IFERROR(VLOOKUP($C33,AGR!$B$50:$V$70,MATCH(VLOOKUP(\"*\"&$AW33,$A$10:$J$11,$J$9,FALSE)&AD$7,AGR!$B$47:$V$47,0),FALSE),\"\")","v":""},{"$f":"IFERROR(VLOOKUP($C33,AGR!$B$50:$V$70,MATCH(VLOOKUP(\"*\"&$AW33,$A$10:$J$11,$J$9,FALSE)&AE$7,AGR!$B$47:$V$47,0),FALSE),\"\")","v":""},{"$f":"IFERROR(VLOOKUP($C33,AGR!$B$50:$V$70,MATCH(VLOOKUP(\"*\"&$AW33,$A$10:$J$11,$J$9,FALSE)&AF$7,AGR!$B$47:$V$47,0),FALSE),\"\")","v":""},{"$f":"IFERROR(VLOOKUP($C33,AGR!$B$50:$V$70,MATCH(VLOOKUP(\"*\"&$AW33,$A$10:$J$11,$J$9,FALSE)&AG$7,AGR!$B$47:$V$47,0),FALSE),\"\")","v":""},{"$f":"IFERROR(VLOOKUP($C33,AGR!$B$50:$V$70,MATCH(VLOOKUP(\"*\"&$AW33,$A$10:$J$11,$J$9,FALSE)&AH$7,AGR!$B$47:$V$47,0),FALSE),\"\")","v":1},null,null,null,null,{"$f":"IFERROR(VLOOKUP($C33,AGR!$B$50:$V$70,MATCH(VLOOKUP(\"*\"&$AW33,$A$10:$J$11,$J$9,FALSE)&AM$7,AGR!$B$47:$V$47,0),FALSE),\"\")","v":""},null,null,null,null,{"$f":"IFERROR(VLOOKUP($C33,AGR!$B$50:$V$70,MATCH(VLOOKUP(\"*\"&$AW33,$A$10:$J$11,$J$9,FALSE)&AR$7,AGR!$B$47:$V$47,0),FALSE),\"\")","v":""},{"$f":"IFERROR(VLOOKUP($C33,AGR!$B$50:$V$70,MATCH(VLOOKUP(\"*\"&$AW33,$A$10:$J$11,$J$9,FALSE)&AS$7,AGR!$B$47:$V$47,0),FALSE),\"\")","v":""},{"$f":"IFERROR(VLOOKUP($C33,AGR!$B$50:$V$70,MATCH(VLOOKUP(\"*\"&$AW33,$A$10:$J$11,$J$9,FALSE)&AT$7,AGR!$B$47:$V$47,0),FALSE),\"\")","v":1},1,null,{"$f":"IF(AX32=AGR!$W$72,AW32+1,AW32)","v":1},21]
[{"$f":"IF(LEFT(OFFSET(AGR!$A$49,AX34,0),2)=\"\\I\",\"*\",\"\")","v":"*"},"",{"$f":"IF($A34=\"*\",\"\",OFFSET(AGR!$B$49,AX34,0))","v":""},"","","","-","","","",{"$f":"IFERROR(VLOOKUP($C34,AGR!$B$50:$V$70,MATCH(VLOOKUP(\"*\"&$AW34,$A$10:$J$11,$J$9,FALSE)&K$7,AGR!$B$47:$V$47,0),FALSE),\"\")","v":""},{"$f":"IFERROR(VLOOKUP($C34,AGR!$B$50:$V$70,MATCH(VLOOKUP(\"*\"&$AW34,$A$10:$J$11,$J$9,FALSE)&L$7,AGR!$B$47:$V$47,0),FALSE),\"\")","v":""},{"$f":"IFERROR(VLOOKUP($C34,AGR!$B$50:$V$70,MATCH(VLOOKUP(\"*\"&$AW34,$A$10:$J$11,$J$9,FALSE)&M$7,AGR!$B$47:$V$47,0),FALSE),\"\")","v":""},{"$f":"IFERROR(VLOOKUP($C34,AGR!$B$50:$V$70,MATCH(VLOOKUP(\"*\"&$AW34,$A$10:$J$11,$J$9,FALSE)&N$7,AGR!$B$47:$V$47,0),FALSE),\"\")","v":""},{"$f":"IFERROR(VLOOKUP($C34,AGR!$B$50:$V$70,MATCH(VLOOKUP(\"*\"&$AW34,$A$10:$J$11,$J$9,FALSE)&O$7,AGR!$B$47:$V$47,0),FALSE),\"\")","v":""},{"$f":"IFERROR(VLOOKUP($C34,AGR!$B$50:$V$70,MATCH(VLOOKUP(\"*\"&$AW34,$A$10:$J$11,$J$9,FALSE)&P$7,AGR!$B$47:$V$47,0),FALSE),\"\")","v":""},{"$f":"IFERROR(VLOOKUP($C34,AGR!$B$50:$V$70,MATCH(VLOOKUP(\"*\"&$AW34,$A$10:$J$11,$J$9,FALSE)&Q$7,AGR!$B$47:$V$47,0),FALSE),\"\")","v":""},{"$f":"IFERROR(VLOOKUP($C34,AGR!$B$50:$V$70,MATCH(VLOOKUP(\"*\"&$AW34,$A$10:$J$11,$J$9,FALSE)&R$7,AGR!$B$47:$V$47,0),FALSE),\"\")","v":""},{"$f":"IFERROR(VLOOKUP($C34,AGR!$B$50:$V$70,MATCH(VLOOKUP(\"*\"&$AW34,$A$10:$J$11,$J$9,FALSE)&S$7,AGR!$B$47:$V$47,0),FALSE),\"\")","v":""},{"$f":"IFERROR(VLOOKUP($C34,AGR!$B$50:$V$70,MATCH(VLOOKUP(\"*\"&$AW34,$A$10:$J$11,$J$9,FALSE)&T$7,AGR!$B$47:$V$47,0),FALSE),\"\")","v":""},{"$f":"IFERROR(VLOOKUP($C34,AGR!$B$50:$V$70,MATCH(VLOOKUP(\"*\"&$AW34,$A$10:$J$11,$J$9,FALSE)&U$7,AGR!$B$47:$V$47,0),FALSE),\"\")","v":""},{"$f":"IFERROR(VLOOKUP($C34,AGR!$B$50:$V$70,MATCH(VLOOKUP(\"*\"&$AW34,$A$10:$J$11,$J$9,FALSE)&V$7,AGR!$B$47:$V$47,0),FALSE),\"\")","v":""},{"$f":"IFERROR(VLOOKUP($C34,AGR!$B$50:$V$70,MATCH(VLOOKUP(\"*\"&$AW34,$A$10:$J$11,$J$9,FALSE)&W$7,AGR!$B$47:$V$47,0),FALSE),\"\")","v":""},{"$f":"IFERROR(VLOOKUP($C34,AGR!$B$50:$V$70,MATCH(VLOOKUP(\"*\"&$AW34,$A$10:$J$11,$J$9,FALSE)&X$7,AGR!$B$47:$V$47,0),FALSE),\"\")","v":""},{"$f":"IFERROR(VLOOKUP($C34,AGR!$B$50:$V$70,MATCH(VLOOKUP(\"*\"&$AW34,$A$10:$J$11,$J$9,FALSE)&Y$7,AGR!$B$47:$V$47,0),FALSE),\"\")","v":""},{"$f":"IFERROR(VLOOKUP($C34,AGR!$B$50:$V$70,MATCH(VLOOKUP(\"*\"&$AW34,$A$10:$J$11,$J$9,FALSE)&Z$7,AGR!$B$47:$V$47,0),FALSE),\"\")","v":""},{"$f":"IFERROR(VLOOKUP($C34,AGR!$B$50:$V$70,MATCH(VLOOKUP(\"*\"&$AW34,$A$10:$J$11,$J$9,FALSE)&AA$7,AGR!$B$47:$V$47,0),FALSE),\"\")","v":""},{"$f":"IFERROR(VLOOKUP($C34,AGR!$B$50:$V$70,MATCH(VLOOKUP(\"*\"&$AW34,$A$10:$J$11,$J$9,FALSE)&AB$7,AGR!$B$47:$V$47,0),FALSE),\"\")","v":""},{"$f":"IFERROR(VLOOKUP($C34,AGR!$B$50:$V$70,MATCH(VLOOKUP(\"*\"&$AW34,$A$10:$J$11,$J$9,FALSE)&AC$7,AGR!$B$47:$V$47,0),FALSE),\"\")","v":""},{"$f":"IFERROR(VLOOKUP($C34,AGR!$B$50:$V$70,MATCH(VLOOKUP(\"*\"&$AW34,$A$10:$J$11,$J$9,FALSE)&AD$7,AGR!$B$47:$V$47,0),FALSE),\"\")","v":""},{"$f":"IFERROR(VLOOKUP($C34,AGR!$B$50:$V$70,MATCH(VLOOKUP(\"*\"&$AW34,$A$10:$J$11,$J$9,FALSE)&AE$7,AGR!$B$47:$V$47,0),FALSE),\"\")","v":""},{"$f":"IFERROR(VLOOKUP($C34,AGR!$B$50:$V$70,MATCH(VLOOKUP(\"*\"&$AW34,$A$10:$J$11,$J$9,FALSE)&AF$7,AGR!$B$47:$V$47,0),FALSE),\"\")","v":""},{"$f":"IFERROR(VLOOKUP($C34,AGR!$B$50:$V$70,MATCH(VLOOKUP(\"*\"&$AW34,$A$10:$J$11,$J$9,FALSE)&AG$7,AGR!$B$47:$V$47,0),FALSE),\"\")","v":""},{"$f":"IFERROR(VLOOKUP($C34,AGR!$B$50:$V$70,MATCH(VLOOKUP(\"*\"&$AW34,$A$10:$J$11,$J$9,FALSE)&AH$7,AGR!$B$47:$V$47,0),FALSE),\"\")","v":""},null,null,null,null,{"$f":"IFERROR(VLOOKUP($C34,AGR!$B$50:$V$70,MATCH(VLOOKUP(\"*\"&$AW34,$A$10:$J$11,$J$9,FALSE)&AM$7,AGR!$B$47:$V$47,0),FALSE),\"\")","v":""},null,null,null,null,{"$f":"IFERROR(VLOOKUP($C34,AGR!$B$50:$V$70,MATCH(VLOOKUP(\"*\"&$AW34,$A$10:$J$11,$J$9,FALSE)&AR$7,AGR!$B$47:$V$47,0),FALSE),\"\")","v":""},{"$f":"IFERROR(VLOOKUP($C34,AGR!$B$50:$V$70,MATCH(VLOOKUP(\"*\"&$AW34,$A$10:$J$11,$J$9,FALSE)&AS$7,AGR!$B$47:$V$47,0),FALSE),\"\")","v":""},{"$f":"IFERROR(VLOOKUP($C34,AGR!$B$50:$V$70,MATCH(VLOOKUP(\"*\"&$AW34,$A$10:$J$11,$J$9,FALSE)&AT$7,AGR!$B$47:$V$47,0),FALSE),\"\")","v":""},"",null,{"$f":"IF(AX33=AGR!$W$72,AW33+1,AW33)","v":1},22]
[{"$f":"IF(LEFT(OFFSET(AGR!$A$49,AX35,0),2)=\"\\I\",\"*\",\"\")","v":"*"},"",{"$f":"IF($A35=\"*\",\"\",OFFSET(AGR!$B$49,AX35,0))","v":""},"","","","-","","","",{"$f":"IFERROR(VLOOKUP($C35,AGR!$B$50:$V$70,MATCH(VLOOKUP(\"*\"&$AW35,$A$10:$J$11,$J$9,FALSE)&K$7,AGR!$B$47:$V$47,0),FALSE),\"\")","v":""},{"$f":"IFERROR(VLOOKUP($C35,AGR!$B$50:$V$70,MATCH(VLOOKUP(\"*\"&$AW35,$A$10:$J$11,$J$9,FALSE)&L$7,AGR!$B$47:$V$47,0),FALSE),\"\")","v":""},{"$f":"IFERROR(VLOOKUP($C35,AGR!$B$50:$V$70,MATCH(VLOOKUP(\"*\"&$AW35,$A$10:$J$11,$J$9,FALSE)&M$7,AGR!$B$47:$V$47,0),FALSE),\"\")","v":""},{"$f":"IFERROR(VLOOKUP($C35,AGR!$B$50:$V$70,MATCH(VLOOKUP(\"*\"&$AW35,$A$10:$J$11,$J$9,FALSE)&N$7,AGR!$B$47:$V$47,0),FALSE),\"\")","v":""},{"$f":"IFERROR(VLOOKUP($C35,AGR!$B$50:$V$70,MATCH(VLOOKUP(\"*\"&$AW35,$A$10:$J$11,$J$9,FALSE)&O$7,AGR!$B$47:$V$47,0),FALSE),\"\")","v":""},{"$f":"IFERROR(VLOOKUP($C35,AGR!$B$50:$V$70,MATCH(VLOOKUP(\"*\"&$AW35,$A$10:$J$11,$J$9,FALSE)&P$7,AGR!$B$47:$V$47,0),FALSE),\"\")","v":""},{"$f":"IFERROR(VLOOKUP($C35,AGR!$B$50:$V$70,MATCH(VLOOKUP(\"*\"&$AW35,$A$10:$J$11,$J$9,FALSE)&Q$7,AGR!$B$47:$V$47,0),FALSE),\"\")","v":""},{"$f":"IFERROR(VLOOKUP($C35,AGR!$B$50:$V$70,MATCH(VLOOKUP(\"*\"&$AW35,$A$10:$J$11,$J$9,FALSE)&R$7,AGR!$B$47:$V$47,0),FALSE),\"\")","v":""},{"$f":"IFERROR(VLOOKUP($C35,AGR!$B$50:$V$70,MATCH(VLOOKUP(\"*\"&$AW35,$A$10:$J$11,$J$9,FALSE)&S$7,AGR!$B$47:$V$47,0),FALSE),\"\")","v":""},{"$f":"IFERROR(VLOOKUP($C35,AGR!$B$50:$V$70,MATCH(VLOOKUP(\"*\"&$AW35,$A$10:$J$11,$J$9,FALSE)&T$7,AGR!$B$47:$V$47,0),FALSE),\"\")","v":""},{"$f":"IFERROR(VLOOKUP($C35,AGR!$B$50:$V$70,MATCH(VLOOKUP(\"*\"&$AW35,$A$10:$J$11,$J$9,FALSE)&U$7,AGR!$B$47:$V$47,0),FALSE),\"\")","v":""},{"$f":"IFERROR(VLOOKUP($C35,AGR!$B$50:$V$70,MATCH(VLOOKUP(\"*\"&$AW35,$A$10:$J$11,$J$9,FALSE)&V$7,AGR!$B$47:$V$47,0),FALSE),\"\")","v":""},{"$f":"IFERROR(VLOOKUP($C35,AGR!$B$50:$V$70,MATCH(VLOOKUP(\"*\"&$AW35,$A$10:$J$11,$J$9,FALSE)&W$7,AGR!$B$47:$V$47,0),FALSE),\"\")","v":""},{"$f":"IFERROR(VLOOKUP($C35,AGR!$B$50:$V$70,MATCH(VLOOKUP(\"*\"&$AW35,$A$10:$J$11,$J$9,FALSE)&X$7,AGR!$B$47:$V$47,0),FALSE),\"\")","v":""},{"$f":"IFERROR(VLOOKUP($C35,AGR!$B$50:$V$70,MATCH(VLOOKUP(\"*\"&$AW35,$A$10:$J$11,$J$9,FALSE)&Y$7,AGR!$B$47:$V$47,0),FALSE),\"\")","v":""},{"$f":"IFERROR(VLOOKUP($C35,AGR!$B$50:$V$70,MATCH(VLOOKUP(\"*\"&$AW35,$A$10:$J$11,$J$9,FALSE)&Z$7,AGR!$B$47:$V$47,0),FALSE),\"\")","v":""},{"$f":"IFERROR(VLOOKUP($C35,AGR!$B$50:$V$70,MATCH(VLOOKUP(\"*\"&$AW35,$A$10:$J$11,$J$9,FALSE)&AA$7,AGR!$B$47:$V$47,0),FALSE),\"\")","v":""},{"$f":"IFERROR(VLOOKUP($C35,AGR!$B$50:$V$70,MATCH(VLOOKUP(\"*\"&$AW35,$A$10:$J$11,$J$9,FALSE)&AB$7,AGR!$B$47:$V$47,0),FALSE),\"\")","v":""},{"$f":"IFERROR(VLOOKUP($C35,AGR!$B$50:$V$70,MATCH(VLOOKUP(\"*\"&$AW35,$A$10:$J$11,$J$9,FALSE)&AC$7,AGR!$B$47:$V$47,0),FALSE),\"\")","v":""},{"$f":"IFERROR(VLOOKUP($C35,AGR!$B$50:$V$70,MATCH(VLOOKUP(\"*\"&$AW35,$A$10:$J$11,$J$9,FALSE)&AD$7,AGR!$B$47:$V$47,0),FALSE),\"\")","v":""},{"$f":"IFERROR(VLOOKUP($C35,AGR!$B$50:$V$70,MATCH(VLOOKUP(\"*\"&$AW35,$A$10:$J$11,$J$9,FALSE)&AE$7,AGR!$B$47:$V$47,0),FALSE),\"\")","v":""},{"$f":"IFERROR(VLOOKUP($C35,AGR!$B$50:$V$70,MATCH(VLOOKUP(\"*\"&$AW35,$A$10:$J$11,$J$9,FALSE)&AF$7,AGR!$B$47:$V$47,0),FALSE),\"\")","v":""},{"$f":"IFERROR(VLOOKUP($C35,AGR!$B$50:$V$70,MATCH(VLOOKUP(\"*\"&$AW35,$A$10:$J$11,$J$9,FALSE)&AG$7,AGR!$B$47:$V$47,0),FALSE),\"\")","v":""},{"$f":"IFERROR(VLOOKUP($C35,AGR!$B$50:$V$70,MATCH(VLOOKUP(\"*\"&$AW35,$A$10:$J$11,$J$9,FALSE)&AH$7,AGR!$B$47:$V$47,0),FALSE),\"\")","v":""},null,null,null,null,{"$f":"IFERROR(VLOOKUP($C35,AGR!$B$50:$V$70,MATCH(VLOOKUP(\"*\"&$AW35,$A$10:$J$11,$J$9,FALSE)&AM$7,AGR!$B$47:$V$47,0),FALSE),\"\")","v":""},null,null,null,null,{"$f":"IFERROR(VLOOKUP($C35,AGR!$B$50:$V$70,MATCH(VLOOKUP(\"*\"&$AW35,$A$10:$J$11,$J$9,FALSE)&AR$7,AGR!$B$47:$V$47,0),FALSE),\"\")","v":""},{"$f":"IFERROR(VLOOKUP($C35,AGR!$B$50:$V$70,MATCH(VLOOKUP(\"*\"&$AW35,$A$10:$J$11,$J$9,FALSE)&AS$7,AGR!$B$47:$V$47,0),FALSE),\"\")","v":""},{"$f":"IFERROR(VLOOKUP($C35,AGR!$B$50:$V$70,MATCH(VLOOKUP(\"*\"&$AW35,$A$10:$J$11,$J$9,FALSE)&AT$7,AGR!$B$47:$V$47,0),FALSE),\"\")","v":""},"",null,{"$f":"IF(AX34=AGR!$W$72,AW34+1,AW34)","v":1},23]
[{"$f":"IF(LEFT(OFFSET(AGR!$A$49,AX36,0),2)=\"\\I\",\"*\",\"\")","v":""},"FLO_MARK",{"$f":"IF($A36=\"*\",\"\",OFFSET(AGR!$B$49,AX36,0))","v":"AHCOA-E"},"AH","-","-","-","LO",0,0,{"$f":"IFERROR(VLOOKUP($C36,AGR!$B$50:$V$70,MATCH(VLOOKUP(\"*\"&$AW36,$A$10:$J$11,$J$9,FALSE)&K$7,AGR!$B$47:$V$47,0),FALSE),\"\")","v":""},{"$f":"IFERROR(VLOOKUP($C36,AGR!$B$50:$V$70,MATCH(VLOOKUP(\"*\"&$AW36,$A$10:$J$11,$J$9,FALSE)&L$7,AGR!$B$47:$V$47,0),FALSE),\"\")","v":""},{"$f":"IFERROR(VLOOKUP($C36,AGR!$B$50:$V$70,MATCH(VLOOKUP(\"*\"&$AW36,$A$10:$J$11,$J$9,FALSE)&M$7,AGR!$B$47:$V$47,0),FALSE),\"\")","v":""},{"$f":"IFERROR(VLOOKUP($C36,AGR!$B$50:$V$70,MATCH(VLOOKUP(\"*\"&$AW36,$A$10:$J$11,$J$9,FALSE)&N$7,AGR!$B$47:$V$47,0),FALSE),\"\")","v":7.1105048234644128E-2},{"$f":"IFERROR(VLOOKUP($C36,AGR!$B$50:$V$70,MATCH(VLOOKUP(\"*\"&$AW36,$A$10:$J$11,$J$9,FALSE)&O$7,AGR!$B$47:$V$47,0),FALSE),\"\")","v":""},{"$f":"IFERROR(VLOOKUP($C36,AGR!$B$50:$V$70,MATCH(VLOOKUP(\"*\"&$AW36,$A$10:$J$11,$J$9,FALSE)&P$7,AGR!$B$47:$V$47,0),FALSE),\"\")","v":""},{"$f":"IFERROR(VLOOKUP($C36,AGR!$B$50:$V$70,MATCH(VLOOKUP(\"*\"&$AW36,$A$10:$J$11,$J$9,FALSE)&Q$7,AGR!$B$47:$V$47,0),FALSE),\"\")","v":""},{"$f":"IFERROR(VLOOKUP($C36,AGR!$B$50:$V$70,MATCH(VLOOKUP(\"*\"&$AW36,$A$10:$J$11,$J$9,FALSE)&R$7,AGR!$B$47:$V$47,0),FALSE),\"\")","v":""},{"$f":"IFERROR(VLOOKUP($C36,AGR!$B$50:$V$70,MATCH(VLOOKUP(\"*\"&$AW36,$A$10:$J$11,$J$9,FALSE)&S$7,AGR!$B$47:$V$47,0),FALSE),\"\")","v":""},{"$f":"IFERROR(VLOOKUP($C36,AGR!$B$50:$V$70,MATCH(VLOOKUP(\"*\"&$AW36,$A$10:$J$11,$J$9,FALSE)&T$7,AGR!$B$47:$V$47,0),FALSE),\"\")","v":""},{"$f":"IFERROR(VLOOKUP($C36,AGR!$B$50:$V$70,MATCH(VLOOKUP(\"*\"&$AW36,$A$10:$J$11,$J$9,FALSE)&U$7,AGR!$B$47:$V$47,0),FALSE),\"\")","v":""},{"$f":"IFERROR(VLOOKUP($C36,AGR!$B$50:$V$70,MATCH(VLOOKUP(\"*\"&$AW36,$A$10:$J$11,$J$9,FALSE)&V$7,AGR!$B$47:$V$47,0),FALSE),\"\")","v":""},{"$f":"IFERROR(VLOOKUP($C36,AGR!$B$50:$V$70,MATCH(VLOOKUP(\"*\"&$AW36,$A$10:$J$11,$J$9,FALSE)&W$7,AGR!$B$47:$V$47,0),FALSE),\"\")","v":""},{"$f":"IFERROR(VLOOKUP($C36,AGR!$B$50:$V$70,MATCH(VLOOKUP(\"*\"&$AW36,$A$10:$J$11,$J$9,FALSE)&X$7,AGR!$B$47:$V$47,0),FALSE),\"\")","v":""},{"$f":"IFERROR(VLOOKUP($C36,AGR!$B$50:$V$70,MATCH(VLOOKUP(\"*\"&$AW36,$A$10:$J$11,$J$9,FALSE)&Y$7,AGR!$B$47:$V$47,0),FALSE),\"\")","v":""},{"$f":"IFERROR(VLOOKUP($C36,AGR!$B$50:$V$70,MATCH(VLOOKUP(\"*\"&$AW36,$A$10:$J$11,$J$9,FALSE)&Z$7,AGR!$B$47:$V$47,0),FALSE),\"\")","v":""},{"$f":"IFERROR(VLOOKUP($C36,AGR!$B$50:$V$70,MATCH(VLOOKUP(\"*\"&$AW36,$A$10:$J$11,$J$9,FALSE)&AA$7,AGR!$B$47:$V$47,0),FALSE),\"\")","v":""},{"$f":"IFERROR(VLOOKUP($C36,AGR!$B$50:$V$70,MATCH(VLOOKUP(\"*\"&$AW36,$A$10:$J$11,$J$9,FALSE)&AB$7,AGR!$B$47:$V$47,0),FALSE),\"\")","v":""},{"$f":"IFERROR(VLOOKUP($C36,AGR!$B$50:$V$70,MATCH(VLOOKUP(\"*\"&$AW36,$A$10:$J$11,$J$9,FALSE)&AC$7,AGR!$B$47:$V$47,0),FALSE),\"\")","v":""},{"$f":"IFERROR(VLOOKUP($C36,AGR!$B$50:$V$70,MATCH(VLOOKUP(\"*\"&$AW36,$A$10:$J$11,$J$9,FALSE)&AD$7,AGR!$B$47:$V$47,0),FALSE),\"\")","v":""},{"$f":"IFERROR(VLOOKUP($C36,AGR!$B$50:$V$70,MATCH(VLOOKUP(\"*\"&$AW36,$A$10:$J$11,$J$9,FALSE)&AE$7,AGR!$B$47:$V$47,0),FALSE),\"\")","v":""},{"$f":"IFERROR(VLOOKUP($C36,AGR!$B$50:$V$70,MATCH(VLOOKUP(\"*\"&$AW36,$A$10:$J$11,$J$9,FALSE)&AF$7,AGR!$B$47:$V$47,0),FALSE),\"\")","v":""},{"$f":"IFERROR(VLOOKUP($C36,AGR!$B$50:$V$70,MATCH(VLOOKUP(\"*\"&$AW36,$A$10:$J$11,$J$9,FALSE)&AG$7,AGR!$B$47:$V$47,0),FALSE),\"\")","v":""},{"$f":"IFERROR(VLOOKUP($C36,AGR!$B$50:$V$70,MATCH(VLOOKUP(\"*\"&$AW36,$A$10:$J$11,$J$9,FALSE)&AH$7,AGR!$B$47:$V$47,0),FALSE),\"\")","v":3.5552524117322064E-2},null,null,null,null,{"$f":"IFERROR(VLOOKUP($C36,AGR!$B$50:$V$70,MATCH(VLOOKUP(\"*\"&$AW36,$A$10:$J$11,$J$9,FALSE)&AM$7,AGR!$B$47:$V$47,0),FALSE),\"\")","v":""},null,null,null,null,{"$f":"IFERROR(VLOOKUP($C36,AGR!$B$50:$V$70,MATCH(VLOOKUP(\"*\"&$AW36,$A$10:$J$11,$J$9,FALSE)&AR$7,AGR!$B$47:$V$47,0),FALSE),\"\")","v":""},{"$f":"IFERROR(VLOOKUP($C36,AGR!$B$50:$V$70,MATCH(VLOOKUP(\"*\"&$AW36,$A$10:$J$11,$J$9,FALSE)&AS$7,AGR!$B$47:$V$47,0),FALSE),\"\")","v":""},{"$f":"IFERROR(VLOOKUP($C36,AGR!$B$50:$V$70,MATCH(VLOOKUP(\"*\"&$AW36,$A$10:$J$11,$J$9,FALSE)&AT$7,AGR!$B$47:$V$47,0),FALSE),\"\")","v":7.1105048234644131E-3},7.1105048234644131E-3,null,{"$f":"IF(AX35=AGR!$W$72,AW35+1,AW35)","v":2},1]
[{"$f":"IF(LEFT(OFFSET(AGR!$A$49,AX37,0),2)=\"\\I\",\"*\",\"\")","v":""},"FLO_MARK",{"$f":"IF($A37=\"*\",\"\",OFFSET(AGR!$B$49,AX37,0))","v":"AHOHF-E"},"AH","-","-","-","LO",0,0,{"$f":"IFERROR(VLOOKUP($C37,AGR!$B$50:$V$70,MATCH(VLOOKUP(\"*\"&$AW37,$A$10:$J$11,$J$9,FALSE)&K$7,AGR!$B$47:$V$47,0),FALSE),\"\")","v":""},{"$f":"IFERROR(VLOOKUP($C37,AGR!$B$50:$V$70,MATCH(VLOOKUP(\"*\"&$AW37,$A$10:$J$11,$J$9,FALSE)&L$7,AGR!$B$47:$V$47,0),FALSE),\"\")","v":""},{"$f":"IFERROR(VLOOKUP($C37,AGR!$B$50:$V$70,MATCH(VLOOKUP(\"*\"&$AW37,$A$10:$J$11,$J$9,FALSE)&M$7,AGR!$B$47:$V$47,0),FALSE),\"\")","v":""},{"$f":"IFERROR(VLOOKUP($C37,AGR!$B$50:$V$70,MATCH(VLOOKUP(\"*\"&$AW37,$A$10:$J$11,$J$9,FALSE)&N$7,AGR!$B$47:$V$47,0),FALSE),\"\")","v":0.17695525266478121},{"$f":"IFERROR(VLOOKUP($C37,AGR!$B$50:$V$70,MATCH(VLOOKUP(\"*\"&$AW37,$A$10:$J$11,$J$9,FALSE)&O$7,AGR!$B$47:$V$47,0),FALSE),\"\")","v":""},{"$f":"IFERROR(VLOOKUP($C37,AGR!$B$50:$V$70,MATCH(VLOOKUP(\"*\"&$AW37,$A$10:$J$11,$J$9,FALSE)&P$7,AGR!$B$47:$V$47,0),FALSE),\"\")","v":""},{"$f":"IFERROR(VLOOKUP($C37,AGR!$B$50:$V$70,MATCH(VLOOKUP(\"*\"&$AW37,$A$10:$J$11,$J$9,FALSE)&Q$7,AGR!$B$47:$V$47,0),FALSE),\"\")","v":""},{"$f":"IFERROR(VLOOKUP($C37,AGR!$B$50:$V$70,MATCH(VLOOKUP(\"*\"&$AW37,$A$10:$J$11,$J$9,FALSE)&R$7,AGR!$B$47:$V$47,0),FALSE),\"\")","v":""},{"$f":"IFERROR(VLOOKUP($C37,AGR!$B$50:$V$70,MATCH(VLOOKUP(\"*\"&$AW37,$A$10:$J$11,$J$9,FALSE)&S$7,AGR!$B$47:$V$47,0),FALSE),\"\")","v":""},{"$f":"IFERROR(VLOOKUP($C37,AGR!$B$50:$V$70,MATCH(VLOOKUP(\"*\"&$AW37,$A$10:$J$11,$J$9,FALSE)&T$7,AGR!$B$47:$V$47,0),FALSE),\"\")","v":""},{"$f":"IFERROR(VLOOKUP($C37,AGR!$B$50:$V$70,MATCH(VLOOKUP(\"*\"&$AW37,$A$10:$J$11,$J$9,FALSE)&U$7,AGR!$B$47:$V$47,0),FALSE),\"\")","v":""},{"$f":"IFERROR(VLOOKUP($C37,AGR!$B$50:$V$70,MATCH(VLOOKUP(\"*\"&$AW37,$A$10:$J$11,$J$9,FALSE)&V$7,AGR!$B$47:$V$47,0),FALSE),\"\")","v":""},{"$f":"IFERROR(VLOOKUP($C37,AGR!$B$50:$V$70,MATCH(VLOOKUP(\"*\"&$AW37,$A$10:$J$11,$J$9,FALSE)&W$7,AGR!$B$47:$V$47,0),FALSE),\"\")","v":""},{"$f":"IFERROR(VLOOKUP($C37,AGR!$B$50:$V$70,MATCH(VLOOKUP(\"*\"&$AW37,$A$10:$J$11,$J$9,FALSE)&X$7,AGR!$B$47:$V$47,0),FALSE),\"\")","v":""},{"$f":"IFERROR(VLOOKUP($C37,AGR!$B$50:$V$70,MATCH(VLOOKUP(\"*\"&$AW37,$A$10:$J$11,$J$9,FALSE)&Y$7,AGR!$B$47:$V$47,0),FALSE),\"\")","v":""},{"$f":"IFERROR(VLOOKUP($C37,AGR!$B$50:$V$70,MATCH(VLOOKUP(\"*\"&$AW37,$A$10:$J$11,$J$9,FALSE)&Z$7,AGR!$B$47:$V$47,0),FALSE),\"\")","v":""},{"$f":"IFERROR(VLOOKUP($C37,AGR!$B$50:$V$70,MATCH(VLOOKUP(\"*\"&$AW37,$A$10:$J$11,$J$9,FALSE)&AA$7,AGR!$B$47:$V$47,0),FALSE),\"\")","v":""},{"$f":"IFERROR(VLOOKUP($C37,AGR!$B$50:$V$70,MATCH(VLOOKUP(\"*\"&$AW37,$A$10:$J$11,$J$9,FALSE)&AB$7,AGR!$B$47:$V$47,0),FALSE),\"\")","v":""},{"$f":"IFERROR(VLOOKUP($C37,AGR!$B$50:$V$70,MATCH(VLOOKUP(\"*\"&$AW37,$A$10:$J$11,$J$9,FALSE)&AC$7,AGR!$B$47:$V$47,0),FALSE),\"\")","v":""},{"$f":"IFERROR(VLOOKUP($C37,AGR!$B$50:$V$70,MATCH(VLOOKUP(\"*\"&$AW37,$A$10:$J$11,$J$9,FALSE)&AD$7,AGR!$B$47:$V$47,0),FALSE),\"\")","v":""},{"$f":"IFERROR(VLOOKUP($C37,AGR!$B$50:$V$70,MATCH(VLOOKUP(\"*\"&$AW37,$A$10:$J$11,$J$9,FALSE)&AE$7,AGR!$B$47:$V$47,0),FALSE),\"\")","v":""},{"$f":"IFERROR(VLOOKUP($C37,AGR!$B$50:$V$70,MATCH(VLOOKUP(\"*\"&$AW37,$A$10:$J$11,$J$9,FALSE)&AF$7,AGR!$B$47:$V$47,0),FALSE),\"\")","v":""},{"$f":"IFERROR(VLOOKUP($C37,AGR!$B$50:$V$70,MATCH(VLOOKUP(\"*\"&$AW37,$A$10:$J$11,$J$9,FALSE)&AG$7,AGR!$B$47:$V$47,0),FALSE),\"\")","v":""},{"$f":"IFERROR(VLOOKUP($C37,AGR!$B$50:$V$70,MATCH(VLOOKUP(\"*\"&$AW37,$A$10:$J$11,$J$9,FALSE)&AH$7,AGR!$B$47:$V$47,0),FALSE),\"\")","v":8.8477626332390605E-2},null,null,null,null,{"$f":"IFERROR(VLOOKUP($C37,AGR!$B$50:$V$70,MATCH(VLOOKUP(\"*\"&$AW37,$A$10:$J$11,$J$9,FALSE)&AM$7,AGR!$B$47:$V$47,0),FALSE),\"\")","v":""},null,null,null,null,{"$f":"IFERROR(VLOOKUP($C37,AGR!$B$50:$V$70,MATCH(VLOOKUP(\"*\"&$AW37,$A$10:$J$11,$J$9,FALSE)&AR$7,AGR!$B$47:$V$47,0),FALSE),\"\")","v":""},{"$f":"IFERROR(VLOOKUP($C37,AGR!$B$50:$V$70,MATCH(VLOOKUP(\"*\"&$AW37,$A$10:$J$11,$J$9,FALSE)&AS$7,AGR!$B$47:$V$47,0),FALSE),\"\")","v":""},{"$f":"IFERROR(VLOOKUP($C37,AGR!$B$50:$V$70,MATCH(VLOOKUP(\"*\"&$AW37,$A$10:$J$11,$J$9,FALSE)&AT$7,AGR!$B$47:$V$47,0),FALSE),\"\")","v":1.7695525266478121E-2},1.7695525266478121E-2,null,{"$f":"IF(AX36=AGR!$W$72,AW36+1,AW36)","v":2},2]
[{"$f":"IF(LEFT(OFFSET(AGR!$A$49,AX38,0),2)=\"\\I\",\"*\",\"\")","v":""},"FLO_MARK",{"$f":"IF($A38=\"*\",\"\",OFFSET(AGR!$B$49,AX38,0))","v":"AHOKE-E"},"AH","-","-","-","LO",0,0,{"$f":"IFERROR(VLOOKUP($C38,AGR!$B$50:$V$70,MATCH(VLOOKUP(\"*\"&$AW38,$A$10:$J$11,$J$9,FALSE)&K$7,AGR!$B$47:$V$47,0),FALSE),\"\")","v":""},{"$f":"IFERROR(VLOOKUP($C38,AGR!$B$50:$V$70,MATCH(VLOOKUP(\"*\"&$AW38,$A$10:$J$11,$J$9,FALSE)&L$7,AGR!$B$47:$V$47,0),FALSE),\"\")","v":""},{"$f":"IFERROR(VLOOKUP($C38,AGR!$B$50:$V$70,MATCH(VLOOKUP(\"*\"&$AW38,$A$10:$J$11,$J$9,FALSE)&M$7,AGR!$B$47:$V$47,0),FALSE),\"\")","v":""},{"$f":"IFERROR(VLOOKUP($C38,AGR!$B$50:$V$70,MATCH(VLOOKUP(\"*\"&$AW38,$A$10:$J$11,$J$9,FALSE)&N$7,AGR!$B$47:$V$47,0),FALSE),\"\")","v":0.25179427215966549},{"$f":"IFERROR(VLOOKUP($C38,AGR!$B$50:$V$70,MATCH(VLOOKUP(\"*\"&$AW38,$A$10:$J$11,$J$9,FALSE)&O$7,AGR!$B$47:$V$47,0),FALSE),\"\")","v":""},{"$f":"IFERROR(VLOOKUP($C38,AGR!$B$50:$V$70,MATCH(VLOOKUP(\"*\"&$AW38,$A$10:$J$11,$J$9,FALSE)&P$7,AGR!$B$47:$V$47,0),FALSE),\"\")","v":""},{"$f":"IFERROR(VLOOKUP($C38,AGR!$B$50:$V$70,MATCH(VLOOKUP(\"*\"&$AW38,$A$10:$J$11,$J$9,FALSE)&Q$7,AGR!$B$47:$V$47,0),FALSE),\"\")","v":""},{"$f":"IFERROR(VLOOKUP($C38,AGR!$B$50:$V$70,MATCH(VLOOKUP(\"*\"&$AW38,$A$10:$J$11,$J$9,FALSE)&R$7,AGR!$B$47:$V$47,0),FALSE),\"\")","v":""},{"$f":"IFERROR(VLOOKUP($C38,AGR!$B$50:$V$70,MATCH(VLOOKUP(\"*\"&$AW38,$A$10:$J$11,$J$9,FALSE)&S$7,AGR!$B$47:$V$47,0),FALSE),\"\")","v":""},{"$f":"IFERROR(VLOOKUP($C38,AGR!$B$50:$V$70,MATCH(VLOOKUP(\"*\"&$AW38,$A$10:$J$11,$J$9,FALSE)&T$7,AGR!$B$47:$V$47,0),FALSE),\"\")","v":""},{"$f":"IFERROR(VLOOKUP($C38,AGR!$B$50:$V$70,MATCH(VLOOKUP(\"*\"&$AW38,$A$10:$J$11,$J$9,FALSE)&U$7,AGR!$B$47:$V$47,0),FALSE),\"\")","v":""},{"$f":"IFERROR(VLOOKUP($C38,AGR!$B$50:$V$70,MATCH(VLOOKUP(\"*\"&$AW38,$A$10:$J$11,$J$9,FALSE)&V$7,AGR!$B$47:$V$47,0),FALSE),\"\")","v":""},{"$f":"IFERROR(VLOOKUP($C38,AGR!$B$50:$V$70,MATCH(VLOOKUP(\"*\"&$AW38,$A$10:$J$11,$J$9,FALSE)&W$7,AGR!$B$47:$V$47,0),FALSE),\"\")","v":""},{"$f":"IFERROR(VLOOKUP($C38,AGR!$B$50:$V$70,MATCH(VLOOKUP(\"*\"&$AW38,$A$10:$J$11,$J$9,FALSE)&X$7,AGR!$B$47:$V$47,0),FALSE),\"\")","v":""},{"$f":"IFERROR(VLOOKUP($C38,AGR!$B$50:$V$70,MATCH(VLOOKUP(\"*\"&$AW38,$A$10:$J$11,$J$9,FALSE)&Y$7,AGR!$B$47:$V$47,0),FALSE),\"\")","v":""},{"$f":"IFERROR(VLOOKUP($C38,AGR!$B$50:$V$70,MATCH(VLOOKUP(\"*\"&$AW38,$A$10:$J$11,$J$9,FALSE)&Z$7,AGR!$B$47:$V$47,0),FALSE),\"\")","v":""},{"$f":"IFERROR(VLOOKUP($C38,AGR!$B$50:$V$70,MATCH(VLOOKUP(\"*\"&$AW38,$A$10:$J$11,$J$9,FALSE)&AA$7,AGR!$B$47:$V$47,0),FALSE),\"\")","v":""},{"$f":"IFERROR(VLOOKUP($C38,AGR!$B$50:$V$70,MATCH(VLOOKUP(\"*\"&$AW38,$A$10:$J$11,$J$9,FALSE)&AB$7,AGR!$B$47:$V$47,0),FALSE),\"\")","v":""},{"$f":"IFERROR(VLOOKUP($C38,AGR!$B$50:$V$70,MATCH(VLOOKUP(\"*\"&$AW38,$A$10:$J$11,$J$9,FALSE)&AC$7,AGR!$B$47:$V$47,0),FALSE),\"\")","v":""},{"$f":"IFERROR(VLOOKUP($C38,AGR!$B$50:$V$70,MATCH(VLOOKUP(\"*\"&$AW38,$A$10:$J$11,$J$9,FALSE)&AD$7,AGR!$B$47:$V$47,0),FALSE),\"\")","v":""},{"$f":"IFERROR(VLOOKUP($C38,AGR!$B$50:$V$70,MATCH(VLOOKUP(\"*\"&$AW38,$A$10:$J$11,$J$9,FALSE)&AE$7,AGR!$B$47:$V$47,0),FALSE),\"\")","v":""},{"$f":"IFERROR(VLOOKUP($C38,AGR!$B$50:$V$70,MATCH(VLOOKUP(\"*\"&$AW38,$A$10:$J$11,$J$9,FALSE)&AF$7,AGR!$B$47:$V$47,0),FALSE),\"\")","v":""},{"$f":"IFERROR(VLOOKUP($C38,AGR!$B$50:$V$70,MATCH(VLOOKUP(\"*\"&$AW38,$A$10:$J$11,$J$9,FALSE)&AG$7,AGR!$B$47:$V$47,0),FALSE),\"\")","v":""},{"$f":"IFERROR(VLOOKUP($C38,AGR!$B$50:$V$70,MATCH(VLOOKUP(\"*\"&$AW38,$A$10:$J$11,$J$9,FALSE)&AH$7,AGR!$B$47:$V$47,0),FALSE),\"\")","v":0.12589713607983274},null,null,null,null,{"$f":"IFERROR(VLOOKUP($C38,AGR!$B$50:$V$70,MATCH(VLOOKUP(\"*\"&$AW38,$A$10:$J$11,$J$9,FALSE)&AM$7,AGR!$B$47:$V$47,0),FALSE),\"\")","v":""},null,null,null,null,{"$f":"IFERROR(VLOOKUP($C38,AGR!$B$50:$V$70,MATCH(VLOOKUP(\"*\"&$AW38,$A$10:$J$11,$J$9,FALSE)&AR$7,AGR!$B$47:$V$47,0),FALSE),\"\")","v":""},{"$f":"IFERROR(VLOOKUP($C38,AGR!$B$50:$V$70,MATCH(VLOOKUP(\"*\"&$AW38,$A$10:$J$11,$J$9,FALSE)&AS$7,AGR!$B$47:$V$47,0),FALSE),\"\")","v":""},{"$f":"IFERROR(VLOOKUP($C38,AGR!$B$50:$V$70,MATCH(VLOOKUP(\"*\"&$AW38,$A$10:$J$11,$J$9,FALSE)&AT$7,AGR!$B$47:$V$47,0),FALSE),\"\")","v":2.5179427215966551E-2},2.5179427215966551E-2,null,{"$f":"IF(AX37=AGR!$W$72,AW37+1,AW37)","v":2},3]
[{"$f":"IF(LEFT(OFFSET(AGR!$A$49,AX39,0),2)=\"\\I\",\"*\",\"\")","v":""},"FLO_MARK",{"$f":"IF($A39=\"*\",\"\",OFFSET(AGR!$B$49,AX39,0))","v":"AHOLP-E"},"AH","-","-","-","LO",0,0,{"$f":"IFERROR(VLOOKUP($C39,AGR!$B$50:$V$70,MATCH(VLOOKUP(\"*\"&$AW39,$A$10:$J$11,$J$9,FALSE)&K$7,AGR!$B$47:$V$47,0),FALSE),\"\")","v":""},{"$f":"IFERROR(VLOOKUP($C39,AGR!$B$50:$V$70,MATCH(VLOOKUP(\"*\"&$AW39,$A$10:$J$11,$J$9,FALSE)&L$7,AGR!$B$47:$V$47,0),FALSE),\"\")","v":""},{"$f":"IFERROR(VLOOKUP($C39,AGR!$B$50:$V$70,MATCH(VLOOKUP(\"*\"&$AW39,$A$10:$J$11,$J$9,FALSE)&M$7,AGR!$B$47:$V$47,0),FALSE),\"\")","v":""},{"$f":"IFERROR(VLOOKUP($C39,AGR!$B$50:$V$70,MATCH(VLOOKUP(\"*\"&$AW39,$A$10:$J$11,$J$9,FALSE)&N$7,AGR!$B$47:$V$47,0),FALSE),\"\")","v":1.4542694090912808E-4},{"$f":"IFERROR(VLOOKUP($C39,AGR!$B$50:$V$70,MATCH(VLOOKUP(\"*\"&$AW39,$A$10:$J$11,$J$9,FALSE)&O$7,AGR!$B$47:$V$47,0),FALSE),\"\")","v":""},{"$f":"IFERROR(VLOOKUP($C39,AGR!$B$50:$V$70,MATCH(VLOOKUP(\"*\"&$AW39,$A$10:$J$11,$J$9,FALSE)&P$7,AGR!$B$47:$V$47,0),FALSE),\"\")","v":""},{"$f":"IFERROR(VLOOKUP($C39,AGR!$B$50:$V$70,MATCH(VLOOKUP(\"*\"&$AW39,$A$10:$J$11,$J$9,FALSE)&Q$7,AGR!$B$47:$V$47,0),FALSE),\"\")","v":""},{"$f":"IFERROR(VLOOKUP($C39,AGR!$B$50:$V$70,MATCH(VLOOKUP(\"*\"&$AW39,$A$10:$J$11,$J$9,FALSE)&R$7,AGR!$B$47:$V$47,0),FALSE),\"\")","v":""},{"$f":"IFERROR(VLOOKUP($C39,AGR!$B$50:$V$70,MATCH(VLOOKUP(\"*\"&$AW39,$A$10:$J$11,$J$9,FALSE)&S$7,AGR!$B$47:$V$47,0),FALSE),\"\")","v":""},{"$f":"IFERROR(VLOOKUP($C39,AGR!$B$50:$V$70,MATCH(VLOOKUP(\"*\"&$AW39,$A$10:$J$11,$J$9,FALSE)&T$7,AGR!$B$47:$V$47,0),FALSE),\"\")","v":""},{"$f":"IFERROR(VLOOKUP($C39,AGR!$B$50:$V$70,MATCH(VLOOKUP(\"*\"&$AW39,$A$10:$J$11,$J$9,FALSE)&U$7,AGR!$B$47:$V$47,0),FALSE),\"\")","v":""},{"$f":"IFERROR(VLOOKUP($C39,AGR!$B$50:$V$70,MATCH(VLOOKUP(\"*\"&$AW39,$A$10:$J$11,$J$9,FALSE)&V$7,AGR!$B$47:$V$47,0),FALSE),\"\")","v":""},{"$f":"IFERROR(VLOOKUP($C39,AGR!$B$50:$V$70,MATCH(VLOOKUP(\"*\"&$AW39,$A$10:$J$11,$J$9,FALSE)&W$7,AGR!$B$47:$V$47,0),FALSE),\"\")","v":""},{"$f":"IFERROR(VLOOKUP($C39,AGR!$B$50:$V$70,MATCH(VLOOKUP(\"*\"&$AW39,$A$10:$J$11,$J$9,FALSE)&X$7,AGR!$B$47:$V$47,0),FALSE),\"\")","v":""},{"$f":"IFERROR(VLOOKUP($C39,AGR!$B$50:$V$70,MATCH(VLOOKUP(\"*\"&$AW39,$A$10:$J$11,$J$9,FALSE)&Y$7,AGR!$B$47:$V$47,0),FALSE),\"\")","v":""},{"$f":"IFERROR(VLOOKUP($C39,AGR!$B$50:$V$70,MATCH(VLOOKUP(\"*\"&$AW39,$A$10:$J$11,$J$9,FALSE)&Z$7,AGR!$B$47:$V$47,0),FALSE),\"\")","v":""},{"$f":"IFERROR(VLOOKUP($C39,AGR!$B$50:$V$70,MATCH(VLOOKUP(\"*\"&$AW39,$A$10:$J$11,$J$9,FALSE)&AA$7,AGR!$B$47:$V$47,0),FALSE),\"\")","v":""},{"$f":"IFERROR(VLOOKUP($C39,AGR!$B$50:$V$70,MATCH(VLOOKUP(\"*\"&$AW39,$A$10:$J$11,$J$9,FALSE)&AB$7,AGR!$B$47:$V$47,0),FALSE),\"\")","v":""},{"$f":"IFERROR(VLOOKUP($C39,AGR!$B$50:$V$70,MATCH(VLOOKUP(\"*\"&$AW39,$A$10:$J$11,$J$9,FALSE)&AC$7,AGR!$B$47:$V$47,0),FALSE),\"\")","v":""},{"$f":"IFERROR(VLOOKUP($C39,AGR!$B$50:$V$70,MATCH(VLOOKUP(\"*\"&$AW39,$A$10:$J$11,$J$9,FALSE)&AD$7,AGR!$B$47:$V$47,0),FALSE),\"\")","v":""},{"$f":"IFERROR(VLOOKUP($C39,AGR!$B$50:$V$70,MATCH(VLOOKUP(\"*\"&$AW39,$A$10:$J$11,$J$9,FALSE)&AE$7,AGR!$B$47:$V$47,0),FALSE),\"\")","v":""},{"$f":"IFERROR(VLOOKUP($C39,AGR!$B$50:$V$70,MATCH(VLOOKUP(\"*\"&$AW39,$A$10:$J$11,$J$9,FALSE)&AF$7,AGR!$B$47:$V$47,0),FALSE),\"\")","v":""},{"$f":"IFERROR(VLOOKUP($C39,AGR!$B$50:$V$70,MATCH(VLOOKUP(\"*\"&$AW39,$A$10:$J$11,$J$9,FALSE)&AG$7,AGR!$B$47:$V$47,0),FALSE),\"\")","v":""},{"$f":"IFERROR(VLOOKUP($C39,AGR!$B$50:$V$70,MATCH(VLOOKUP(\"*\"&$AW39,$A$10:$J$11,$J$9,FALSE)&AH$7,AGR!$B$47:$V$47,0),FALSE),\"\")","v":7.2713470454564038E-5},null,null,null,null,{"$f":"IFERROR(VLOOKUP($C39,AGR!$B$50:$V$70,MATCH(VLOOKUP(\"*\"&$AW39,$A$10:$J$11,$J$9,FALSE)&AM$7,AGR!$B$47:$V$47,0),FALSE),\"\")","v":""},null,null,null,null,{"$f":"IFERROR(VLOOKUP($C39,AGR!$B$50:$V$70,MATCH(VLOOKUP(\"*\"&$AW39,$A$10:$J$11,$J$9,FALSE)&AR$7,AGR!$B$47:$V$47,0),FALSE),\"\")","v":""},{"$f":"IFERROR(VLOOKUP($C39,AGR!$B$50:$V$70,MATCH(VLOOKUP(\"*\"&$AW39,$A$10:$J$11,$J$9,FALSE)&AS$7,AGR!$B$47:$V$47,0),FALSE),\"\")","v":""},{"$f":"IFERROR(VLOOKUP($C39,AGR!$B$50:$V$70,MATCH(VLOOKUP(\"*\"&$AW39,$A$10:$J$11,$J$9,FALSE)&AT$7,AGR!$B$47:$V$47,0),FALSE),\"\")","v":1.4542694090912808E-5},1.4542694090912808E-5,null,{"$f":"IF(AX38=AGR!$W$72,AW38+1,AW38)","v":2},4]
[{"$f":"IF(LEFT(OFFSET(AGR!$A$49,AX40,0),2)=\"\\I\",\"*\",\"\")","v":""},"FLO_MARK",{"$f":"IF($A40=\"*\",\"\",OFFSET(AGR!$B$49,AX40,0))","v":"AHELC-E"},"AH","-","-","-","LO",0,0,{"$f":"IFERROR(VLOOKUP($C40,AGR!$B$50:$V$70,MATCH(VLOOKUP(\"*\"&$AW40,$A$10:$J$11,$J$9,FALSE)&K$7,AGR!$B$47:$V$47,0),FALSE),\"\")","v":""},{"$f":"IFERROR(VLOOKUP($C40,AGR!$B$50:$V$70,MATCH(VLOOKUP(\"*\"&$AW40,$A$10:$J$11,$J$9,FALSE)&L$7,AGR!$B$47:$V$47,0),FALSE),\"\")","v":""},{"$f":"IFERROR(VLOOKUP($C40,AGR!$B$50:$V$70,MATCH(VLOOKUP(\"*\"&$AW40,$A$10:$J$11,$J$9,FALSE)&M$7,AGR!$B$47:$V$47,0),FALSE),\"\")","v":""},{"$f":"IFERROR(VLOOKUP($C40,AGR!$B$50:$V$70,MATCH(VLOOKUP(\"*\"&$AW40,$A$10:$J$11,$J$9,FALSE)&N$7,AGR!$B$47:$V$47,0),FALSE),\"\")","v":0},{"$f":"IFERROR(VLOOKUP($C40,AGR!$B$50:$V$70,MATCH(VLOOKUP(\"*\"&$AW40,$A$10:$J$11,$J$9,FALSE)&O$7,AGR!$B$47:$V$47,0),FALSE),\"\")","v":""},{"$f":"IFERROR(VLOOKUP($C40,AGR!$B$50:$V$70,MATCH(VLOOKUP(\"*\"&$AW40,$A$10:$J$11,$J$9,FALSE)&P$7,AGR!$B$47:$V$47,0),FALSE),\"\")","v":""},{"$f":"IFERROR(VLOOKUP($C40,AGR!$B$50:$V$70,MATCH(VLOOKUP(\"*\"&$AW40,$A$10:$J$11,$J$9,FALSE)&Q$7,AGR!$B$47:$V$47,0),FALSE),\"\")","v":""},{"$f":"IFERROR(VLOOKUP($C40,AGR!$B$50:$V$70,MATCH(VLOOKUP(\"*\"&$AW40,$A$10:$J$11,$J$9,FALSE)&R$7,AGR!$B$47:$V$47,0),FALSE),\"\")","v":""},{"$f":"IFERROR(VLOOKUP($C40,AGR!$B$50:$V$70,MATCH(VLOOKUP(\"*\"&$AW40,$A$10:$J$11,$J$9,FALSE)&S$7,AGR!$B$47:$V$47,0),FALSE),\"\")","v":""},{"$f":"IFERROR(VLOOKUP($C40,AGR!$B$50:$V$70,MATCH(VLOOKUP(\"*\"&$AW40,$A$10:$J$11,$J$9,FALSE)&T$7,AGR!$B$47:$V$47,0),FALSE),\"\")","v":""},{"$f":"IFERROR(VLOOKUP($C40,AGR!$B$50:$V$70,MATCH(VLOOKUP(\"*\"&$AW40,$A$10:$J$11,$J$9,FALSE)&U$7,AGR!$B$47:$V$47,0),FALSE),\"\")","v":""},{"$f":"IFERROR(VLOOKUP($C40,AGR!$B$50:$V$70,MATCH(VLOOKUP(\"*\"&$AW40,$A$10:$J$11,$J$9,FALSE)&V$7,AGR!$B$47:$V$47,0),FALSE),\"\")","v":""},{"$f":"IFERROR(VLOOKUP($C40,AGR!$B$50:$V$70,MATCH(VLOOKUP(\"*\"&$AW40,$A$10:$J$11,$J$9,FALSE)&W$7,AGR!$B$47:$V$47,0),FALSE),\"\")","v":""},{"$f":"IFERROR(VLOOKUP($C40,AGR!$B$50:$V$70,MATCH(VLOOKUP(\"*\"&$AW40,$A$10:$J$11,$J$9,FALSE)&X$7,AGR!$B$47:$V$47,0),FALSE),\"\")","v":""},{"$f":"IFERROR(VLOOKUP($C40,AGR!$B$50:$V$70,MATCH(VLOOKUP(\"*\"&$AW40,$A$10:$J$11,$J$9,FALSE)&Y$7,AGR!$B$47:$V$47,0),FALSE),\"\")","v":""},{"$f":"IFERROR(VLOOKUP($C40,AGR!$B$50:$V$70,MATCH(VLOOKUP(\"*\"&$AW40,$A$10:$J$11,$J$9,FALSE)&Z$7,AGR!$B$47:$V$47,0),FALSE),\"\")","v":""},{"$f":"IFERROR(VLOOKUP($C40,AGR!$B$50:$V$70,MATCH(VLOOKUP(\"*\"&$AW40,$A$10:$J$11,$J$9,FALSE)&AA$7,AGR!$B$47:$V$47,0),FALSE),\"\")","v":""},{"$f":"IFERROR(VLOOKUP($C40,AGR!$B$50:$V$70,MATCH(VLOOKUP(\"*\"&$AW40,$A$10:$J$11,$J$9,FALSE)&AB$7,AGR!$B$47:$V$47,0),FALSE),\"\")","v":""},{"$f":"IFERROR(VLOOKUP($C40,AGR!$B$50:$V$70,MATCH(VLOOKUP(\"*\"&$AW40,$A$10:$J$11,$J$9,FALSE)&AC$7,AGR!$B$47:$V$47,0),FALSE),\"\")","v":""},{"$f":"IFERROR(VLOOKUP($C40,AGR!$B$50:$V$70,MATCH(VLOOKUP(\"*\"&$AW40,$A$10:$J$11,$J$9,FALSE)&AD$7,AGR!$B$47:$V$47,0),FALSE),\"\")","v":""},{"$f":"IFERROR(VLOOKUP($C40,AGR!$B$50:$V$70,MATCH(VLOOKUP(\"*\"&$AW40,$A$10:$J$11,$J$9,FALSE)&AE$7,AGR!$B$47:$V$47,0),FALSE),\"\")","v":""},{"$f":"IFERROR(VLOOKUP($C40,AGR!$B$50:$V$70,MATCH(VLOOKUP(\"*\"&$AW40,$A$10:$J$11,$J$9,FALSE)&AF$7,AGR!$B$47:$V$47,0),FALSE),\"\")","v":""},{"$f":"IFERROR(VLOOKUP($C40,AGR!$B$50:$V$70,MATCH(VLOOKUP(\"*\"&$AW40,$A$10:$J$11,$J$9,FALSE)&AG$7,AGR!$B$47:$V$47,0),FALSE),\"\")","v":""},{"$f":"IFERROR(VLOOKUP($C40,AGR!$B$50:$V$70,MATCH(VLOOKUP(\"*\"&$AW40,$A$10:$J$11,$J$9,FALSE)&AH$7,AGR!$B$47:$V$47,0),FALSE),\"\")","v":0},null,null,null,null,{"$f":"IFERROR(VLOOKUP($C40,AGR!$B$50:$V$70,MATCH(VLOOKUP(\"*\"&$AW40,$A$10:$J$11,$J$9,FALSE)&AM$7,AGR!$B$47:$V$47,0),FALSE),\"\")","v":""},null,null,null,null,{"$f":"IFERROR(VLOOKUP($C40,AGR!$B$50:$V$70,MATCH(VLOOKUP(\"*\"&$AW40,$A$10:$J$11,$J$9,FALSE)&AR$7,AGR!$B$47:$V$47,0),FALSE),\"\")","v":""},{"$f":"IFERROR(VLOOKUP($C40,AGR!$B$50:$V$70,MATCH(VLOOKUP(\"*\"&$AW40,$A$10:$J$11,$J$9,FALSE)&AS$7,AGR!$B$47:$V$47,0),FALSE),\"\")","v":""},{"$f":"IFERROR(VLOOKUP($C40,AGR!$B$50:$V$70,MATCH(VLOOKUP(\"*\"&$AW40,$A$10:$J$11,$J$9,FALSE)&AT$7,AGR!$B$47:$V$47,0),FALSE),\"\")","v":0},0,null,{"$f":"IF(AX39=AGR!$W$72,AW39+1,AW39)","v":2},5]
[{"$f":"IF(LEFT(OFFSET(AGR!$A$49,AX41,0),2)=\"\\I\",\"*\",\"\")","v":"*"},"",{"$f":"IF($A41=\"*\",\"\",OFFSET(AGR!$B$49,AX41,0))","v":""},"","","","-","","","",{"$f":"IFERROR(VLOOKUP($C41,AGR!$B$50:$V$70,MATCH(VLOOKUP(\"*\"&$AW41,$A$10:$J$11,$J$9,FALSE)&K$7,AGR!$B$47:$V$47,0),FALSE),\"\")","v":""},{"$f":"IFERROR(VLOOKUP($C41,AGR!$B$50:$V$70,MATCH(VLOOKUP(\"*\"&$AW41,$A$10:$J$11,$J$9,FALSE)&L$7,AGR!$B$47:$V$47,0),FALSE),\"\")","v":""},{"$f":"IFERROR(VLOOKUP($C41,AGR!$B$50:$V$70,MATCH(VLOOKUP(\"*\"&$AW41,$A$10:$J$11,$J$9,FALSE)&M$7,AGR!$B$47:$V$47,0),FALSE),\"\")","v":""},{"$f":"IFERROR(VLOOKUP($C41,AGR!$B$50:$V$70,MATCH(VLOOKUP(\"*\"&$AW41,$A$10:$J$11,$J$9,FALSE)&N$7,AGR!$B$47:$V$47,0),FALSE),\"\")","v":""},{"$f":"IFERROR(VLOOKUP($C41,AGR!$B$50:$V$70,MATCH(VLOOKUP(\"*\"&$AW41,$A$10:$J$11,$J$9,FALSE)&O$7,AGR!$B$47:$V$47,0),FALSE),\"\")","v":""},{"$f":"IFERROR(VLOOKUP($C41,AGR!$B$50:$V$70,MATCH(VLOOKUP(\"*\"&$AW41,$A$10:$J$11,$J$9,FALSE)&P$7,AGR!$B$47:$V$47,0),FALSE),\"\")","v":""},{"$f":"IFERROR(VLOOKUP($C41,AGR!$B$50:$V$70,MATCH(VLOOKUP(\"*\"&$AW41,$A$10:$J$11,$J$9,FALSE)&Q$7,AGR!$B$47:$V$47,0),FALSE),\"\")","v":""},{"$f":"IFERROR(VLOOKUP($C41,AGR!$B$50:$V$70,MATCH(VLOOKUP(\"*\"&$AW41,$A$10:$J$11,$J$9,FALSE)&R$7,AGR!$B$47:$V$47,0),FALSE),\"\")","v":""},{"$f":"IFERROR(VLOOKUP($C41,AGR!$B$50:$V$70,MATCH(VLOOKUP(\"*\"&$AW41,$A$10:$J$11,$J$9,FALSE)&S$7,AGR!$B$47:$V$47,0),FALSE),\"\")","v":""},{"$f":"IFERROR(VLOOKUP($C41,AGR!$B$50:$V$70,MATCH(VLOOKUP(\"*\"&$AW41,$A$10:$J$11,$J$9,FALSE)&T$7,AGR!$B$47:$V$47,0),FALSE),\"\")","v":""},{"$f":"IFERROR(VLOOKUP($C41,AGR!$B$50:$V$70,MATCH(VLOOKUP(\"*\"&$AW41,$A$10:$J$11,$J$9,FALSE)&U$7,AGR!$B$47:$V$47,0),FALSE),\"\")","v":""},{"$f":"IFERROR(VLOOKUP($C41,AGR!$B$50:$V$70,MATCH(VLOOKUP(\"*\"&$AW41,$A$10:$J$11,$J$9,FALSE)&V$7,AGR!$B$47:$V$47,0),FALSE),\"\")","v":""},{"$f":"IFERROR(VLOOKUP($C41,AGR!$B$50:$V$70,MATCH(VLOOKUP(\"*\"&$AW41,$A$10:$J$11,$J$9,FALSE)&W$7,AGR!$B$47:$V$47,0),FALSE),\"\")","v":""},{"$f":"IFERROR(VLOOKUP($C41,AGR!$B$50:$V$70,MATCH(VLOOKUP(\"*\"&$AW41,$A$10:$J$11,$J$9,FALSE)&X$7,AGR!$B$47:$V$47,0),FALSE),\"\")","v":""},{"$f":"IFERROR(VLOOKUP($C41,AGR!$B$50:$V$70,MATCH(VLOOKUP(\"*\"&$AW41,$A$10:$J$11,$J$9,FALSE)&Y$7,AGR!$B$47:$V$47,0),FALSE),\"\")","v":""},{"$f":"IFERROR(VLOOKUP($C41,AGR!$B$50:$V$70,MATCH(VLOOKUP(\"*\"&$AW41,$A$10:$J$11,$J$9,FALSE)&Z$7,AGR!$B$47:$V$47,0),FALSE),\"\")","v":""},{"$f":"IFERROR(VLOOKUP($C41,AGR!$B$50:$V$70,MATCH(VLOOKUP(\"*\"&$AW41,$A$10:$J$11,$J$9,FALSE)&AA$7,AGR!$B$47:$V$47,0),FALSE),\"\")","v":""},{"$f":"IFERROR(VLOOKUP($C41,AGR!$B$50:$V$70,MATCH(VLOOKUP(\"*\"&$AW41,$A$10:$J$11,$J$9,FALSE)&AB$7,AGR!$B$47:$V$47,0),FALSE),\"\")","v":""},{"$f":"IFERROR(VLOOKUP($C41,AGR!$B$50:$V$70,MATCH(VLOOKUP(\"*\"&$AW41,$A$10:$J$11,$J$9,FALSE)&AC$7,AGR!$B$47:$V$47,0),FALSE),\"\")","v":""},{"$f":"IFERROR(VLOOKUP($C41,AGR!$B$50:$V$70,MATCH(VLOOKUP(\"*\"&$AW41,$A$10:$J$11,$J$9,FALSE)&AD$7,AGR!$B$47:$V$47,0),FALSE),\"\")","v":""},{"$f":"IFERROR(VLOOKUP($C41,AGR!$B$50:$V$70,MATCH(VLOOKUP(\"*\"&$AW41,$A$10:$J$11,$J$9,FALSE)&AE$7,AGR!$B$47:$V$47,0),FALSE),\"\")","v":""},{"$f":"IFERROR(VLOOKUP($C41,AGR!$B$50:$V$70,MATCH(VLOOKUP(\"*\"&$AW41,$A$10:$J$11,$J$9,FALSE)&AF$7,AGR!$B$47:$V$47,0),FALSE),\"\")","v":""},{"$f":"IFERROR(VLOOKUP($C41,AGR!$B$50:$V$70,MATCH(VLOOKUP(\"*\"&$AW41,$A$10:$J$11,$J$9,FALSE)&AG$7,AGR!$B$47:$V$47,0),FALSE),\"\")","v":""},{"$f":"IFERROR(VLOOKUP($C41,AGR!$B$50:$V$70,MATCH(VLOOKUP(\"*\"&$AW41,$A$10:$J$11,$J$9,FALSE)&AH$7,AGR!$B$47:$V$47,0),FALSE),\"\")","v":""},null,null,null,null,{"$f":"IFERROR(VLOOKUP($C41,AGR!$B$50:$V$70,MATCH(VLOOKUP(\"*\"&$AW41,$A$10:$J$11,$J$9,FALSE)&AM$7,AGR!$B$47:$V$47,0),FALSE),\"\")","v":""},null,null,null,null,{"$f":"IFERROR(VLOOKUP($C41,AGR!$B$50:$V$70,MATCH(VLOOKUP(\"*\"&$AW41,$A$10:$J$11,$J$9,FALSE)&AR$7,AGR!$B$47:$V$47,0),FALSE),\"\")","v":""},{"$f":"IFERROR(VLOOKUP($C41,AGR!$B$50:$V$70,MATCH(VLOOKUP(\"*\"&$AW41,$A$10:$J$11,$J$9,FALSE)&AS$7,AGR!$B$47:$V$47,0),FALSE),\"\")","v":""},{"$f":"IFERROR(VLOOKUP($C41,AGR!$B$50:$V$70,MATCH(VLOOKUP(\"*\"&$AW41,$A$10:$J$11,$J$9,FALSE)&AT$7,AGR!$B$47:$V$47,0),FALSE),\"\")","v":""},"",null,{"$f":"IF(AX40=AGR!$W$72,AW40+1,AW40)","v":2},6]
[{"$f":"IF(LEFT(OFFSET(AGR!$A$49,AX42,0),2)=\"\\I\",\"*\",\"\")","v":"*"},"",{"$f":"IF($A42=\"*\",\"\",OFFSET(AGR!$B$49,AX42,0))","v":""},"","","","-","","","",{"$f":"IFERROR(VLOOKUP($C42,AGR!$B$50:$V$70,MATCH(VLOOKUP(\"*\"&$AW42,$A$10:$J$11,$J$9,FALSE)&K$7,AGR!$B$47:$V$47,0),FALSE),\"\")","v":""},{"$f":"IFERROR(VLOOKUP($C42,AGR!$B$50:$V$70,MATCH(VLOOKUP(\"*\"&$AW42,$A$10:$J$11,$J$9,FALSE)&L$7,AGR!$B$47:$V$47,0),FALSE),\"\")","v":""},{"$f":"IFERROR(VLOOKUP($C42,AGR!$B$50:$V$70,MATCH(VLOOKUP(\"*\"&$AW42,$A$10:$J$11,$J$9,FALSE)&M$7,AGR!$B$47:$V$47,0),FALSE),\"\")","v":""},{"$f":"IFERROR(VLOOKUP($C42,AGR!$B$50:$V$70,MATCH(VLOOKUP(\"*\"&$AW42,$A$10:$J$11,$J$9,FALSE)&N$7,AGR!$B$47:$V$47,0),FALSE),\"\")","v":""},{"$f":"IFERROR(VLOOKUP($C42,AGR!$B$50:$V$70,MATCH(VLOOKUP(\"*\"&$AW42,$A$10:$J$11,$J$9,FALSE)&O$7,AGR!$B$47:$V$47,0),FALSE),\"\")","v":""},{"$f":"IFERROR(VLOOKUP($C42,AGR!$B$50:$V$70,MATCH(VLOOKUP(\"*\"&$AW42,$A$10:$J$11,$J$9,FALSE)&P$7,AGR!$B$47:$V$47,0),FALSE),\"\")","v":""},{"$f":"IFERROR(VLOOKUP($C42,AGR!$B$50:$V$70,MATCH(VLOOKUP(\"*\"&$AW42,$A$10:$J$11,$J$9,FALSE)&Q$7,AGR!$B$47:$V$47,0),FALSE),\"\")","v":""},{"$f":"IFERROR(VLOOKUP($C42,AGR!$B$50:$V$70,MATCH(VLOOKUP(\"*\"&$AW42,$A$10:$J$11,$J$9,FALSE)&R$7,AGR!$B$47:$V$47,0),FALSE),\"\")","v":""},{"$f":"IFERROR(VLOOKUP($C42,AGR!$B$50:$V$70,MATCH(VLOOKUP(\"*\"&$AW42,$A$10:$J$11,$J$9,FALSE)&S$7,AGR!$B$47:$V$47,0),FALSE),\"\")","v":""},{"$f":"IFERROR(VLOOKUP($C42,AGR!$B$50:$V$70,MATCH(VLOOKUP(\"*\"&$AW42,$A$10:$J$11,$J$9,FALSE)&T$7,AGR!$B$47:$V$47,0),FALSE),\"\")","v":""},{"$f":"IFERROR(VLOOKUP($C42,AGR!$B$50:$V$70,MATCH(VLOOKUP(\"*\"&$AW42,$A$10:$J$11,$J$9,FALSE)&U$7,AGR!$B$47:$V$47,0),FALSE),\"\")","v":""},{"$f":"IFERROR(VLOOKUP($C42,AGR!$B$50:$V$70,MATCH(VLOOKUP(\"*\"&$AW42,$A$10:$J$11,$J$9,FALSE)&V$7,AGR!$B$47:$V$47,0),FALSE),\"\")","v":""},{"$f":"IFERROR(VLOOKUP($C42,AGR!$B$50:$V$70,MATCH(VLOOKUP(\"*\"&$AW42,$A$10:$J$11,$J$9,FALSE)&W$7,AGR!$B$47:$V$47,0),FALSE),\"\")","v":""},{"$f":"IFERROR(VLOOKUP($C42,AGR!$B$50:$V$70,MATCH(VLOOKUP(\"*\"&$AW42,$A$10:$J$11,$J$9,FALSE)&X$7,AGR!$B$47:$V$47,0),FALSE),\"\")","v":""},{"$f":"IFERROR(VLOOKUP($C42,AGR!$B$50:$V$70,MATCH(VLOOKUP(\"*\"&$AW42,$A$10:$J$11,$J$9,FALSE)&Y$7,AGR!$B$47:$V$47,0),FALSE),\"\")","v":""},{"$f":"IFERROR(VLOOKUP($C42,AGR!$B$50:$V$70,MATCH(VLOOKUP(\"*\"&$AW42,$A$10:$J$11,$J$9,FALSE)&Z$7,AGR!$B$47:$V$47,0),FALSE),\"\")","v":""},{"$f":"IFERROR(VLOOKUP($C42,AGR!$B$50:$V$70,MATCH(VLOOKUP(\"*\"&$AW42,$A$10:$J$11,$J$9,FALSE)&AA$7,AGR!$B$47:$V$47,0),FALSE),\"\")","v":""},{"$f":"IFERROR(VLOOKUP($C42,AGR!$B$50:$V$70,MATCH(VLOOKUP(\"*\"&$AW42,$A$10:$J$11,$J$9,FALSE)&AB$7,AGR!$B$47:$V$47,0),FALSE),\"\")","v":""},{"$f":"IFERROR(VLOOKUP($C42,AGR!$B$50:$V$70,MATCH(VLOOKUP(\"*\"&$AW42,$A$10:$J$11,$J$9,FALSE)&AC$7,AGR!$B$47:$V$47,0),FALSE),\"\")","v":""},{"$f":"IFERROR(VLOOKUP($C42,AGR!$B$50:$V$70,MATCH(VLOOKUP(\"*\"&$AW42,$A$10:$J$11,$J$9,FALSE)&AD$7,AGR!$B$47:$V$47,0),FALSE),\"\")","v":""},{"$f":"IFERROR(VLOOKUP($C42,AGR!$B$50:$V$70,MATCH(VLOOKUP(\"*\"&$AW42,$A$10:$J$11,$J$9,FALSE)&AE$7,AGR!$B$47:$V$47,0),FALSE),\"\")","v":""},{"$f":"IFERROR(VLOOKUP($C42,AGR!$B$50:$V$70,MATCH(VLOOKUP(\"*\"&$AW42,$A$10:$J$11,$J$9,FALSE)&AF$7,AGR!$B$47:$V$47,0),FALSE),\"\")","v":""},{"$f":"IFERROR(VLOOKUP($C42,AGR!$B$50:$V$70,MATCH(VLOOKUP(\"*\"&$AW42,$A$10:$J$11,$J$9,FALSE)&AG$7,AGR!$B$47:$V$47,0),FALSE),\"\")","v":""},{"$f":"IFERROR(VLOOKUP($C42,AGR!$B$50:$V$70,MATCH(VLOOKUP(\"*\"&$AW42,$A$10:$J$11,$J$9,FALSE)&AH$7,AGR!$B$47:$V$47,0),FALSE),\"\")","v":""},null,null,null,null,{"$f":"IFERROR(VLOOKUP($C42,AGR!$B$50:$V$70,MATCH(VLOOKUP(\"*\"&$AW42,$A$10:$J$11,$J$9,FALSE)&AM$7,AGR!$B$47:$V$47,0),FALSE),\"\")","v":""},null,null,null,null,{"$f":"IFERROR(VLOOKUP($C42,AGR!$B$50:$V$70,MATCH(VLOOKUP(\"*\"&$AW42,$A$10:$J$11,$J$9,FALSE)&AR$7,AGR!$B$47:$V$47,0),FALSE),\"\")","v":""},{"$f":"IFERROR(VLOOKUP($C42,AGR!$B$50:$V$70,MATCH(VLOOKUP(\"*\"&$AW42,$A$10:$J$11,$J$9,FALSE)&AS$7,AGR!$B$47:$V$47,0),FALSE),\"\")","v":""},{"$f":"IFERROR(VLOOKUP($C42,AGR!$B$50:$V$70,MATCH(VLOOKUP(\"*\"&$AW42,$A$10:$J$11,$J$9,FALSE)&AT$7,AGR!$B$47:$V$47,0),FALSE),\"\")","v":""},"",null,{"$f":"IF(AX41=AGR!$W$72,AW41+1,AW41)","v":2},7]
[{"$f":"IF(LEFT(OFFSET(AGR!$A$49,AX43,0),2)=\"\\I\",\"*\",\"\")","v":""},"FLO_MARK",{"$f":"IF($A43=\"*\",\"\",OFFSET(AGR!$B$49,AX43,0))","v":"APELC-E"},"AP","-","-","-","LO",0,0,{"$f":"IFERROR(VLOOKUP($C43,AGR!$B$50:$V$70,MATCH(VLOOKUP(\"*\"&$AW43,$A$10:$J$11,$J$9,FALSE)&K$7,AGR!$B$47:$V$47,0),FALSE),\"\")","v":""},{"$f":"IFERROR(VLOOKUP($C43,AGR!$B$50:$V$70,MATCH(VLOOKUP(\"*\"&$AW43,$A$10:$J$11,$J$9,FALSE)&L$7,AGR!$B$47:$V$47,0),FALSE),\"\")","v":""},{"$f":"IFERROR(VLOOKUP($C43,AGR!$B$50:$V$70,MATCH(VLOOKUP(\"*\"&$AW43,$A$10:$J$11,$J$9,FALSE)&M$7,AGR!$B$47:$V$47,0),FALSE),\"\")","v":""},{"$f":"IFERROR(VLOOKUP($C43,AGR!$B$50:$V$70,MATCH(VLOOKUP(\"*\"&$AW43,$A$10:$J$11,$J$9,FALSE)&N$7,AGR!$B$47:$V$47,0),FALSE),\"\")","v":0.5},{"$f":"IFERROR(VLOOKUP($C43,AGR!$B$50:$V$70,MATCH(VLOOKUP(\"*\"&$AW43,$A$10:$J$11,$J$9,FALSE)&O$7,AGR!$B$47:$V$47,0),FALSE),\"\")","v":""},{"$f":"IFERROR(VLOOKUP($C43,AGR!$B$50:$V$70,MATCH(VLOOKUP(\"*\"&$AW43,$A$10:$J$11,$J$9,FALSE)&P$7,AGR!$B$47:$V$47,0),FALSE),\"\")","v":""},{"$f":"IFERROR(VLOOKUP($C43,AGR!$B$50:$V$70,MATCH(VLOOKUP(\"*\"&$AW43,$A$10:$J$11,$J$9,FALSE)&Q$7,AGR!$B$47:$V$47,0),FALSE),\"\")","v":""},{"$f":"IFERROR(VLOOKUP($C43,AGR!$B$50:$V$70,MATCH(VLOOKUP(\"*\"&$AW43,$A$10:$J$11,$J$9,FALSE)&R$7,AGR!$B$47:$V$47,0),FALSE),\"\")","v":""},{"$f":"IFERROR(VLOOKUP($C43,AGR!$B$50:$V$70,MATCH(VLOOKUP(\"*\"&$AW43,$A$10:$J$11,$J$9,FALSE)&S$7,AGR!$B$47:$V$47,0),FALSE),\"\")","v":""},{"$f":"IFERROR(VLOOKUP($C43,AGR!$B$50:$V$70,MATCH(VLOOKUP(\"*\"&$AW43,$A$10:$J$11,$J$9,FALSE)&T$7,AGR!$B$47:$V$47,0),FALSE),\"\")","v":""},{"$f":"IFERROR(VLOOKUP($C43,AGR!$B$50:$V$70,MATCH(VLOOKUP(\"*\"&$AW43,$A$10:$J$11,$J$9,FALSE)&U$7,AGR!$B$47:$V$47,0),FALSE),\"\")","v":""},{"$f":"IFERROR(VLOOKUP($C43,AGR!$B$50:$V$70,MATCH(VLOOKUP(\"*\"&$AW43,$A$10:$J$11,$J$9,FALSE)&V$7,AGR!$B$47:$V$47,0),FALSE),\"\")","v":""},{"$f":"IFERROR(VLOOKUP($C43,AGR!$B$50:$V$70,MATCH(VLOOKUP(\"*\"&$AW43,$A$10:$J$11,$J$9,FALSE)&W$7,AGR!$B$47:$V$47,0),FALSE),\"\")","v":""},{"$f":"IFERROR(VLOOKUP($C43,AGR!$B$50:$V$70,MATCH(VLOOKUP(\"*\"&$AW43,$A$10:$J$11,$J$9,FALSE)&X$7,AGR!$B$47:$V$47,0),FALSE),\"\")","v":""},{"$f":"IFERROR(VLOOKUP($C43,AGR!$B$50:$V$70,MATCH(VLOOKUP(\"*\"&$AW43,$A$10:$J$11,$J$9,FALSE)&Y$7,AGR!$B$47:$V$47,0),FALSE),\"\")","v":""},{"$f":"IFERROR(VLOOKUP($C43,AGR!$B$50:$V$70,MATCH(VLOOKUP(\"*\"&$AW43,$A$10:$J$11,$J$9,FALSE)&Z$7,AGR!$B$47:$V$47,0),FALSE),\"\")","v":""},{"$f":"IFERROR(VLOOKUP($C43,AGR!$B$50:$V$70,MATCH(VLOOKUP(\"*\"&$AW43,$A$10:$J$11,$J$9,FALSE)&AA$7,AGR!$B$47:$V$47,0),FALSE),\"\")","v":""},{"$f":"IFERROR(VLOOKUP($C43,AGR!$B$50:$V$70,MATCH(VLOOKUP(\"*\"&$AW43,$A$10:$J$11,$J$9,FALSE)&AB$7,AGR!$B$47:$V$47,0),FALSE),\"\")","v":""},{"$f":"IFERROR(VLOOKUP($C43,AGR!$B$50:$V$70,MATCH(VLOOKUP(\"*\"&$AW43,$A$10:$J$11,$J$9,FALSE)&AC$7,AGR!$B$47:$V$47,0),FALSE),\"\")","v":""},{"$f":"IFERROR(VLOOKUP($C43,AGR!$B$50:$V$70,MATCH(VLOOKUP(\"*\"&$AW43,$A$10:$J$11,$J$9,FALSE)&AD$7,AGR!$B$47:$V$47,0),FALSE),\"\")","v":""},{"$f":"IFERROR(VLOOKUP($C43,AGR!$B$50:$V$70,MATCH(VLOOKUP(\"*\"&$AW43,$A$10:$J$11,$J$9,FALSE)&AE$7,AGR!$B$47:$V$47,0),FALSE),\"\")","v":""},{"$f":"IFERROR(VLOOKUP($C43,AGR!$B$50:$V$70,MATCH(VLOOKUP(\"*\"&$AW43,$A$10:$J$11,$J$9,FALSE)&AF$7,AGR!$B$47:$V$47,0),FALSE),\"\")","v":""},{"$f":"IFERROR(VLOOKUP($C43,AGR!$B$50:$V$70,MATCH(VLOOKUP(\"*\"&$AW43,$A$10:$J$11,$J$9,FALSE)&AG$7,AGR!$B$47:$V$47,0),FALSE),\"\")","v":""},{"$f":"IFERROR(VLOOKUP($C43,AGR!$B$50:$V$70,MATCH(VLOOKUP(\"*\"&$AW43,$A$10:$J$11,$J$9,FALSE)&AH$7,AGR!$B$47:$V$47,0),FALSE),\"\")","v":0.25},null,null,null,null,{"$f":"IFERROR(VLOOKUP($C43,AGR!$B$50:$V$70,MATCH(VLOOKUP(\"*\"&$AW43,$A$10:$J$11,$J$9,FALSE)&AM$7,AGR!$B$47:$V$47,0),FALSE),\"\")","v":""},null,null,null,null,{"$f":"IFERROR(VLOOKUP($C43,AGR!$B$50:$V$70,MATCH(VLOOKUP(\"*\"&$AW43,$A$10:$J$11,$J$9,FALSE)&AR$7,AGR!$B$47:$V$47,0),FALSE),\"\")","v":""},{"$f":"IFERROR(VLOOKUP($C43,AGR!$B$50:$V$70,MATCH(VLOOKUP(\"*\"&$AW43,$A$10:$J$11,$J$9,FALSE)&AS$7,AGR!$B$47:$V$47,0),FALSE),\"\")","v":""},{"$f":"IFERROR(VLOOKUP($C43,AGR!$B$50:$V$70,MATCH(VLOOKUP(\"*\"&$AW43,$A$10:$J$11,$J$9,FALSE)&AT$7,AGR!$B$47:$V$47,0),FALSE),\"\")","v":0.05},0.05,null,{"$f":"IF(AX42=AGR!$W$72,AW42+1,AW42)","v":2},8]
[{"$f":"IF(LEFT(OFFSET(AGR!$A$49,AX44,0),2)=\"\\I\",\"*\",\"\")","v":"*"},"",{"$f":"IF($A44=\"*\",\"\",OFFSET(AGR!$B$49,AX44,0))","v":""},"","","","-","","","",{"$f":"IFERROR(VLOOKUP($C44,AGR!$B$50:$V$70,MATCH(VLOOKUP(\"*\"&$AW44,$A$10:$J$11,$J$9,FALSE)&K$7,AGR!$B$47:$V$47,0),FALSE),\"\")","v":""},{"$f":"IFERROR(VLOOKUP($C44,AGR!$B$50:$V$70,MATCH(VLOOKUP(\"*\"&$AW44,$A$10:$J$11,$J$9,FALSE)&L$7,AGR!$B$47:$V$47,0),FALSE),\"\")","v":""},{"$f":"IFERROR(VLOOKUP($C44,AGR!$B$50:$V$70,MATCH(VLOOKUP(\"*\"&$AW44,$A$10:$J$11,$J$9,FALSE)&M$7,AGR!$B$47:$V$47,0),FALSE),\"\")","v":""},{"$f":"IFERROR(VLOOKUP($C44,AGR!$B$50:$V$70,MATCH(VLOOKUP(\"*\"&$AW44,$A$10:$J$11,$J$9,FALSE)&N$7,AGR!$B$47:$V$47,0),FALSE),\"\")","v":""},{"$f":"IFERROR(VLOOKUP($C44,AGR!$B$50:$V$70,MATCH(VLOOKUP(\"*\"&$AW44,$A$10:$J$11,$J$9,FALSE)&O$7,AGR!$B$47:$V$47,0),FALSE),\"\")","v":""},{"$f":"IFERROR(VLOOKUP($C44,AGR!$B$50:$V$70,MATCH(VLOOKUP(\"*\"&$AW44,$A$10:$J$11,$J$9,FALSE)&P$7,AGR!$B$47:$V$47,0),FALSE),\"\")","v":""},{"$f":"IFERROR(VLOOKUP($C44,AGR!$B$50:$V$70,MATCH(VLOOKUP(\"*\"&$AW44,$A$10:$J$11,$J$9,FALSE)&Q$7,AGR!$B$47:$V$47,0),FALSE),\"\")","v":""},{"$f":"IFERROR(VLOOKUP($C44,AGR!$B$50:$V$70,MATCH(VLOOKUP(\"*\"&$AW44,$A$10:$J$11,$J$9,FALSE)&R$7,AGR!$B$47:$V$47,0),FALSE),\"\")","v":""},{"$f":"IFERROR(VLOOKUP($C44,AGR!$B$50:$V$70,MATCH(VLOOKUP(\"*\"&$AW44,$A$10:$J$11,$J$9,FALSE)&S$7,AGR!$B$47:$V$47,0),FALSE),\"\")","v":""},{"$f":"IFERROR(VLOOKUP($C44,AGR!$B$50:$V$70,MATCH(VLOOKUP(\"*\"&$AW44,$A$10:$J$11,$J$9,FALSE)&T$7,AGR!$B$47:$V$47,0),FALSE),\"\")","v":""},{"$f":"IFERROR(VLOOKUP($C44,AGR!$B$50:$V$70,MATCH(VLOOKUP(\"*\"&$AW44,$A$10:$J$11,$J$9,FALSE)&U$7,AGR!$B$47:$V$47,0),FALSE),\"\")","v":""},{"$f":"IFERROR(VLOOKUP($C44,AGR!$B$50:$V$70,MATCH(VLOOKUP(\"*\"&$AW44,$A$10:$J$11,$J$9,FALSE)&V$7,AGR!$B$47:$V$47,0),FALSE),\"\")","v":""},{"$f":"IFERROR(VLOOKUP($C44,AGR!$B$50:$V$70,MATCH(VLOOKUP(\"*\"&$AW44,$A$10:$J$11,$J$9,FALSE)&W$7,AGR!$B$47:$V$47,0),FALSE),\"\")","v":""},{"$f":"IFERROR(VLOOKUP($C44,AGR!$B$50:$V$70,MATCH(VLOOKUP(\"*\"&$AW44,$A$10:$J$11,$J$9,FALSE)&X$7,AGR!$B$47:$V$47,0),FALSE),\"\")","v":""},{"$f":"IFERROR(VLOOKUP($C44,AGR!$B$50:$V$70,MATCH(VLOOKUP(\"*\"&$AW44,$A$10:$J$11,$J$9,FALSE)&Y$7,AGR!$B$47:$V$47,0),FALSE),\"\")","v":""},{"$f":"IFERROR(VLOOKUP($C44,AGR!$B$50:$V$70,MATCH(VLOOKUP(\"*\"&$AW44,$A$10:$J$11,$J$9,FALSE)&Z$7,AGR!$B$47:$V$47,0),FALSE),\"\")","v":""},{"$f":"IFERROR(VLOOKUP($C44,AGR!$B$50:$V$70,MATCH(VLOOKUP(\"*\"&$AW44,$A$10:$J$11,$J$9,FALSE)&AA$7,AGR!$B$47:$V$47,0),FALSE),\"\")","v":""},{"$f":"IFERROR(VLOOKUP($C44,AGR!$B$50:$V$70,MATCH(VLOOKUP(\"*\"&$AW44,$A$10:$J$11,$J$9,FALSE)&AB$7,AGR!$B$47:$V$47,0),FALSE),\"\")","v":""},{"$f":"IFERROR(VLOOKUP($C44,AGR!$B$50:$V$70,MATCH(VLOOKUP(\"*\"&$AW44,$A$10:$J$11,$J$9,FALSE)&AC$7,AGR!$B$47:$V$47,0),FALSE),\"\")","v":""},{"$f":"IFERROR(VLOOKUP($C44,AGR!$B$50:$V$70,MATCH(VLOOKUP(\"*\"&$AW44,$A$10:$J$11,$J$9,FALSE)&AD$7,AGR!$B$47:$V$47,0),FALSE),\"\")","v":""},{"$f":"IFERROR(VLOOKUP($C44,AGR!$B$50:$V$70,MATCH(VLOOKUP(\"*\"&$AW44,$A$10:$J$11,$J$9,FALSE)&AE$7,AGR!$B$47:$V$47,0),FALSE),\"\")","v":""},{"$f":"IFERROR(VLOOKUP($C44,AGR!$B$50:$V$70,MATCH(VLOOKUP(\"*\"&$AW44,$A$10:$J$11,$J$9,FALSE)&AF$7,AGR!$B$47:$V$47,0),FALSE),\"\")","v":""},{"$f":"IFERROR(VLOOKUP($C44,AGR!$B$50:$V$70,MATCH(VLOOKUP(\"*\"&$AW44,$A$10:$J$11,$J$9,FALSE)&AG$7,AGR!$B$47:$V$47,0),FALSE),\"\")","v":""},{"$f":"IFERROR(VLOOKUP($C44,AGR!$B$50:$V$70,MATCH(VLOOKUP(\"*\"&$AW44,$A$10:$J$11,$J$9,FALSE)&AH$7,AGR!$B$47:$V$47,0),FALSE),\"\")","v":""},null,null,null,null,{"$f":"IFERROR(VLOOKUP($C44,AGR!$B$50:$V$70,MATCH(VLOOKUP(\"*\"&$AW44,$A$10:$J$11,$J$9,FALSE)&AM$7,AGR!$B$47:$V$47,0),FALSE),\"\")","v":""},null,null,null,null,{"$f":"IFERROR(VLOOKUP($C44,AGR!$B$50:$V$70,MATCH(VLOOKUP(\"*\"&$AW44,$A$10:$J$11,$J$9,FALSE)&AR$7,AGR!$B$47:$V$47,0),FALSE),\"\")","v":""},{"$f":"IFERROR(VLOOKUP($C44,AGR!$B$50:$V$70,MATCH(VLOOKUP(\"*\"&$AW44,$A$10:$J$11,$J$9,FALSE)&AS$7,AGR!$B$47:$V$47,0),FALSE),\"\")","v":""},{"$f":"IFERROR(VLOOKUP($C44,AGR!$B$50:$V$70,MATCH(VLOOKUP(\"*\"&$AW44,$A$10:$J$11,$J$9,FALSE)&AT$7,AGR!$B$47:$V$47,0),FALSE),\"\")","v":""},"",null,{"$f":"IF(AX43=AGR!$W$72,AW43+1,AW43)","v":2},9]
[{"$f":"IF(LEFT(OFFSET(AGR!$A$49,AX45,0),2)=\"\\I\",\"*\",\"\")","v":"*"},{"$f":"IF(A45=\"*\",\"\",VLOOKUP(\"*\"&AW45,$A$9:$B$11,2,FALSE))","v":""},{"$f":"IF($A45=\"*\",\"\",OFFSET(AGR!$B$49,AX45,0))","v":""},{"$f":"IF($A45=\"*\",\"\",LEFT(C45,2))","v":""},"","","-","","",{"$f":"IF(A45=\"*\",\"\",IF(H45=\"UP\",1,0))","v":""},{"$f":"IFERROR(VLOOKUP($C45,AGR!$B$50:$V$70,MATCH(VLOOKUP(\"*\"&$AW45,$A$10:$J$11,$J$9,FALSE)&K$7,AGR!$B$47:$V$47,0),FALSE),\"\")","v":""},{"$f":"IFERROR(VLOOKUP($C45,AGR!$B$50:$V$70,MATCH(VLOOKUP(\"*\"&$AW45,$A$10:$J$11,$J$9,FALSE)&L$7,AGR!$B$47:$V$47,0),FALSE),\"\")","v":""},{"$f":"IFERROR(VLOOKUP($C45,AGR!$B$50:$V$70,MATCH(VLOOKUP(\"*\"&$AW45,$A$10:$J$11,$J$9,FALSE)&M$7,AGR!$B$47:$V$47,0),FALSE),\"\")","v":""},{"$f":"IFERROR(VLOOKUP($C45,AGR!$B$50:$V$70,MATCH(VLOOKUP(\"*\"&$AW45,$A$10:$J$11,$J$9,FALSE)&N$7,AGR!$B$47:$V$47,0),FALSE),\"\")","v":""},{"$f":"IFERROR(VLOOKUP($C45,AGR!$B$50:$V$70,MATCH(VLOOKUP(\"*\"&$AW45,$A$10:$J$11,$J$9,FALSE)&O$7,AGR!$B$47:$V$47,0),FALSE),\"\")","v":""},{"$f":"IFERROR(VLOOKUP($C45,AGR!$B$50:$V$70,MATCH(VLOOKUP(\"*\"&$AW45,$A$10:$J$11,$J$9,FALSE)&P$7,AGR!$B$47:$V$47,0),FALSE),\"\")","v":""},{"$f":"IFERROR(VLOOKUP($C45,AGR!$B$50:$V$70,MATCH(VLOOKUP(\"*\"&$AW45,$A$10:$J$11,$J$9,FALSE)&Q$7,AGR!$B$47:$V$47,0),FALSE),\"\")","v":""},{"$f":"IFERROR(VLOOKUP($C45,AGR!$B$50:$V$70,MATCH(VLOOKUP(\"*\"&$AW45,$A$10:$J$11,$J$9,FALSE)&R$7,AGR!$B$47:$V$47,0),FALSE),\"\")","v":""},{"$f":"IFERROR(VLOOKUP($C45,AGR!$B$50:$V$70,MATCH(VLOOKUP(\"*\"&$AW45,$A$10:$J$11,$J$9,FALSE)&S$7,AGR!$B$47:$V$47,0),FALSE),\"\")","v":""},{"$f":"IFERROR(VLOOKUP($C45,AGR!$B$50:$V$70,MATCH(VLOOKUP(\"*\"&$AW45,$A$10:$J$11,$J$9,FALSE)&T$7,AGR!$B$47:$V$47,0),FALSE),\"\")","v":""},{"$f":"IFERROR(VLOOKUP($C45,AGR!$B$50:$V$70,MATCH(VLOOKUP(\"*\"&$AW45,$A$10:$J$11,$J$9,FALSE)&U$7,AGR!$B$47:$V$47,0),FALSE),\"\")","v":""},{"$f":"IFERROR(VLOOKUP($C45,AGR!$B$50:$V$70,MATCH(VLOOKUP(\"*\"&$AW45,$A$10:$J$11,$J$9,FALSE)&V$7,AGR!$B$47:$V$47,0),FALSE),\"\")","v":""},{"$f":"IFERROR(VLOOKUP($C45,AGR!$B$50:$V$70,MATCH(VLOOKUP(\"*\"&$AW45,$A$10:$J$11,$J$9,FALSE)&W$7,AGR!$B$47:$V$47,0),FALSE),\"\")","v":""},{"$f":"IFERROR(VLOOKUP($C45,AGR!$B$50:$V$70,MATCH(VLOOKUP(\"*\"&$AW45,$A$10:$J$11,$J$9,FALSE)&X$7,AGR!$B$47:$V$47,0),FALSE),\"\")","v":""},{"$f":"IFERROR(VLOOKUP($C45,AGR!$B$50:$V$70,MATCH(VLOOKUP(\"*\"&$AW45,$A$10:$J$11,$J$9,FALSE)&Y$7,AGR!$B$47:$V$47,0),FALSE),\"\")","v":""},{"$f":"IFERROR(VLOOKUP($C45,AGR!$B$50:$V$70,MATCH(VLOOKUP(\"*\"&$AW45,$A$10:$J$11,$J$9,FALSE)&Z$7,AGR!$B$47:$V$47,0),FALSE),\"\")","v":""},{"$f":"IFERROR(VLOOKUP($C45,AGR!$B$50:$V$70,MATCH(VLOOKUP(\"*\"&$AW45,$A$10:$J$11,$J$9,FALSE)&AA$7,AGR!$B$47:$V$47,0),FALSE),\"\")","v":""},{"$f":"IFERROR(VLOOKUP($C45,AGR!$B$50:$V$70,MATCH(VLOOKUP(\"*\"&$AW45,$A$10:$J$11,$J$9,FALSE)&AB$7,AGR!$B$47:$V$47,0),FALSE),\"\")","v":""},{"$f":"IFERROR(VLOOKUP($C45,AGR!$B$50:$V$70,MATCH(VLOOKUP(\"*\"&$AW45,$A$10:$J$11,$J$9,FALSE)&AC$7,AGR!$B$47:$V$47,0),FALSE),\"\")","v":""},{"$f":"IFERROR(VLOOKUP($C45,AGR!$B$50:$V$70,MATCH(VLOOKUP(\"*\"&$AW45,$A$10:$J$11,$J$9,FALSE)&AD$7,AGR!$B$47:$V$47,0),FALSE),\"\")","v":""},{"$f":"IFERROR(VLOOKUP($C45,AGR!$B$50:$V$70,MATCH(VLOOKUP(\"*\"&$AW45,$A$10:$J$11,$J$9,FALSE)&AE$7,AGR!$B$47:$V$47,0),FALSE),\"\")","v":""},{"$f":"IFERROR(VLOOKUP($C45,AGR!$B$50:$V$70,MATCH(VLOOKUP(\"*\"&$AW45,$A$10:$J$11,$J$9,FALSE)&AF$7,AGR!$B$47:$V$47,0),FALSE),\"\")","v":""},{"$f":"IFERROR(VLOOKUP($C45,AGR!$B$50:$V$70,MATCH(VLOOKUP(\"*\"&$AW45,$A$10:$J$11,$J$9,FALSE)&AG$7,AGR!$B$47:$V$47,0),FALSE),\"\")","v":""},{"$f":"IFERROR(VLOOKUP($C45,AGR!$B$50:$V$70,MATCH(VLOOKUP(\"*\"&$AW45,$A$10:$J$11,$J$9,FALSE)&AH$7,AGR!$B$47:$V$47,0),FALSE),\"\")","v":""},null,null,null,null,{"$f":"IFERROR(VLOOKUP($C45,AGR!$B$50:$V$70,MATCH(VLOOKUP(\"*\"&$AW45,$A$10:$J$11,$J$9,FALSE)&AM$7,AGR!$B$47:$V$47,0),FALSE),\"\")","v":""},null,null,null,null,{"$f":"IFERROR(VLOOKUP($C45,AGR!$B$50:$V$70,MATCH(VLOOKUP(\"*\"&$AW45,$A$10:$J$11,$J$9,FALSE)&AR$7,AGR!$B$47:$V$47,0),FALSE),\"\")","v":""},{"$f":"IFERROR(VLOOKUP($C45,AGR!$B$50:$V$70,MATCH(VLOOKUP(\"*\"&$AW45,$A$10:$J$11,$J$9,FALSE)&AS$7,AGR!$B$47:$V$47,0),FALSE),\"\")","v":""},{"$f":"IFERROR(VLOOKUP($C45,AGR!$B$50:$V$70,MATCH(VLOOKUP(\"*\"&$AW45,$A$10:$J$11,$J$9,FALSE)&AT$7,AGR!$B$47:$V$47,0),FALSE),\"\")","v":""},{"$f":"AT45","v":""},null,{"$f":"IF(AX44=AGR!$W$72,AW44+1,AW44)","v":2},{"$f":"IF(AW45=AW44,AX44+1,1)","v":10}]
[{"$f":"IF(LEFT(OFFSET(AGR!$A$49,AX46,0),2)=\"\\I\",\"*\",\"\")","v":""},"FLO_MARK",{"$f":"IF($A46=\"*\",\"\",OFFSET(AGR!$B$49,AX46,0))","v":"ATODS-E"},"AT","-","-","-","LO",0,0,{"$f":"IFERROR(VLOOKUP($C46,AGR!$B$50:$V$70,MATCH(VLOOKUP(\"*\"&$AW46,$A$10:$J$11,$J$9,FALSE)&K$7,AGR!$B$47:$V$47,0),FALSE),\"\")","v":""},{"$f":"IFERROR(VLOOKUP($C46,AGR!$B$50:$V$70,MATCH(VLOOKUP(\"*\"&$AW46,$A$10:$J$11,$J$9,FALSE)&L$7,AGR!$B$47:$V$47,0),FALSE),\"\")","v":""},{"$f":"IFERROR(VLOOKUP($C46,AGR!$B$50:$V$70,MATCH(VLOOKUP(\"*\"&$AW46,$A$10:$J$11,$J$9,FALSE)&M$7,AGR!$B$47:$V$47,0),FALSE),\"\")","v":""},{"$f":"IFERROR(VLOOKUP($C46,AGR!$B$50:$V$70,MATCH(VLOOKUP(\"*\"&$AW46,$A$10:$J$11,$J$9,FALSE)&N$7,AGR!$B$47:$V$47,0),FALSE),\"\")","v":0.45929009239731655},{"$f":"IFERROR(VLOOKUP($C46,AGR!$B$50:$V$70,MATCH(VLOOKUP(\"*\"&$AW46,$A$10:$J$11,$J$9,FALSE)&O$7,AGR!$B$47:$V$47,0),FALSE),\"\")","v":""},{"$f":"IFERROR(VLOOKUP($C46,AGR!$B$50:$V$70,MATCH(VLOOKUP(\"*\"&$AW46,$A$10:$J$11,$J$9,FALSE)&P$7,AGR!$B$47:$V$47,0),FALSE),\"\")","v":""},{"$f":"IFERROR(VLOOKUP($C46,AGR!$B$50:$V$70,MATCH(VLOOKUP(\"*\"&$AW46,$A$10:$J$11,$J$9,FALSE)&Q$7,AGR!$B$47:$V$47,0),FALSE),\"\")","v":""},{"$f":"IFERROR(VLOOKUP($C46,AGR!$B$50:$V$70,MATCH(VLOOKUP(\"*\"&$AW46,$A$10:$J$11,$J$9,FALSE)&R$7,AGR!$B$47:$V$47,0),FALSE),\"\")","v":""},{"$f":"IFERROR(VLOOKUP($C46,AGR!$B$50:$V$70,MATCH(VLOOKUP(\"*\"&$AW46,$A$10:$J$11,$J$9,FALSE)&S$7,AGR!$B$47:$V$47,0),FALSE),\"\")","v":""},{"$f":"IFERROR(VLOOKUP($C46,AGR!$B$50:$V$70,MATCH(VLOOKUP(\"*\"&$AW46,$A$10:$J$11,$J$9,FALSE)&T$7,AGR!$B$47:$V$47,0),FALSE),\"\")","v":""},{"$f":"IFERROR(VLOOKUP($C46,AGR!$B$50:$V$70,MATCH(VLOOKUP(\"*\"&$AW46,$A$10:$J$11,$J$9,FALSE)&U$7,AGR!$B$47:$V$47,0),FALSE),\"\")","v":""},{"$f":"IFERROR(VLOOKUP($C46,AGR!$B$50:$V$70,MATCH(VLOOKUP(\"*\"&$AW46,$A$10:$J$11,$J$9,FALSE)&V$7,AGR!$B$47:$V$47,0),FALSE),\"\")","v":""},{"$f":"IFERROR(VLOOKUP($C46,AGR!$B$50:$V$70,MATCH(VLOOKUP(\"*\"&$AW46,$A$10:$J$11,$J$9,FALSE)&W$7,AGR!$B$47:$V$47,0),FALSE),\"\")","v":""},{"$f":"IFERROR(VLOOKUP($C46,AGR!$B$50:$V$70,MATCH(VLOOKUP(\"*\"&$AW46,$A$10:$J$11,$J$9,FALSE)&X$7,AGR!$B$47:$V$47,0),FALSE),\"\")","v":""},{"$f":"IFERROR(VLOOKUP($C46,AGR!$B$50:$V$70,MATCH(VLOOKUP(\"*\"&$AW46,$A$10:$J$11,$J$9,FALSE)&Y$7,AGR!$B$47:$V$47,0),FALSE),\"\")","v":""},{"$f":"IFERROR(VLOOKUP($C46,AGR!$B$50:$V$70,MATCH(VLOOKUP(\"*\"&$AW46,$A$10:$J$11,$J$9,FALSE)&Z$7,AGR!$B$47:$V$47,0),FALSE),\"\")","v":""},{"$f":"IFERROR(VLOOKUP($C46,AGR!$B$50:$V$70,MATCH(VLOOKUP(\"*\"&$AW46,$A$10:$J$11,$J$9,FALSE)&AA$7,AGR!$B$47:$V$47,0),FALSE),\"\")","v":""},{"$f":"IFERROR(VLOOKUP($C46,AGR!$B$50:$V$70,MATCH(VLOOKUP(\"*\"&$AW46,$A$10:$J$11,$J$9,FALSE)&AB$7,AGR!$B$47:$V$47,0),FALSE),\"\")","v":""},{"$f":"IFERROR(VLOOKUP($C46,AGR!$B$50:$V$70,MATCH(VLOOKUP(\"*\"&$AW46,$A$10:$J$11,$J$9,FALSE)&AC$7,AGR!$B$47:$V$47,0),FALSE),\"\")","v":""},{"$f":"IFERROR(VLOOKUP($C46,AGR!$B$50:$V$70,MATCH(VLOOKUP(\"*\"&$AW46,$A$10:$J$11,$J$9,FALSE)&AD$7,AGR!$B$47:$V$47,0),FALSE),\"\")","v":""},{"$f":"IFERROR(VLOOKUP($C46,AGR!$B$50:$V$70,MATCH(VLOOKUP(\"*\"&$AW46,$A$10:$J$11,$J$9,FALSE)&AE$7,AGR!$B$47:$V$47,0),FALSE),\"\")","v":""},{"$f":"IFERROR(VLOOKUP($C46,AGR!$B$50:$V$70,MATCH(VLOOKUP(\"*\"&$AW46,$A$10:$J$11,$J$9,FALSE)&AF$7,AGR!$B$47:$V$47,0),FALSE),\"\")","v":""},{"$f":"IFERROR(VLOOKUP($C46,AGR!$B$50:$V$70,MATCH(VLOOKUP(\"*\"&$AW46,$A$10:$J$11,$J$9,FALSE)&AG$7,AGR!$B$47:$V$47,0),FALSE),\"\")","v":""},{"$f":"IFERROR(VLOOKUP($C46,AGR!$B$50:$V$70,MATCH(VLOOKUP(\"*\"&$AW46,$A$10:$J$11,$J$9,FALSE)&AH$7,AGR!$B$47:$V$47,0),FALSE),\"\")","v":0.22964504619865828},null,null,null,null,{"$f":"IFERROR(VLOOKUP($C46,AGR!$B$50:$V$70,MATCH(VLOOKUP(\"*\"&$AW46,$A$10:$J$11,$J$9,FALSE)&AM$7,AGR!$B$47:$V$47,0),FALSE),\"\")","v":""},null,null,null,null,{"$f":"IFERROR(VLOOKUP($C46,AGR!$B$50:$V$70,MATCH(VLOOKUP(\"*\"&$AW46,$A$10:$J$11,$J$9,FALSE)&AR$7,AGR!$B$47:$V$47,0),FALSE),\"\")","v":""},{"$f":"IFERROR(VLOOKUP($C46,AGR!$B$50:$V$70,MATCH(VLOOKUP(\"*\"&$AW46,$A$10:$J$11,$J$9,FALSE)&AS$7,AGR!$B$47:$V$47,0),FALSE),\"\")","v":""},{"$f":"IFERROR(VLOOKUP($C46,AGR!$B$50:$V$70,MATCH(VLOOKUP(\"*\"&$AW46,$A$10:$J$11,$J$9,FALSE)&AT$7,AGR!$B$47:$V$47,0),FALSE),\"\")","v":4.5929009239731658E-2},4.5929009239731658E-2,null,{"$f":"IF(AX45=AGR!$W$72,AW45+1,AW45)","v":2},11]
[{"$f":"IF(LEFT(OFFSET(AGR!$A$49,AX47,0),2)=\"\\I\",\"*\",\"\")","v":""},"FLO_MARK",{"$f":"IF($A47=\"*\",\"\",OFFSET(AGR!$B$49,AX47,0))","v":"ATELC-E"},"AT","-","-","-","LO",0,0,{"$f":"IFERROR(VLOOKUP($C47,AGR!$B$50:$V$70,MATCH(VLOOKUP(\"*\"&$AW47,$A$10:$J$11,$J$9,FALSE)&K$7,AGR!$B$47:$V$47,0),FALSE),\"\")","v":""},{"$f":"IFERROR(VLOOKUP($C47,AGR!$B$50:$V$70,MATCH(VLOOKUP(\"*\"&$AW47,$A$10:$J$11,$J$9,FALSE)&L$7,AGR!$B$47:$V$47,0),FALSE),\"\")","v":""},{"$f":"IFERROR(VLOOKUP($C47,AGR!$B$50:$V$70,MATCH(VLOOKUP(\"*\"&$AW47,$A$10:$J$11,$J$9,FALSE)&M$7,AGR!$B$47:$V$47,0),FALSE),\"\")","v":""},{"$f":"IFERROR(VLOOKUP($C47,AGR!$B$50:$V$70,MATCH(VLOOKUP(\"*\"&$AW47,$A$10:$J$11,$J$9,FALSE)&N$7,AGR!$B$47:$V$47,0),FALSE),\"\")","v":0},{"$f":"IFERROR(VLOOKUP($C47,AGR!$B$50:$V$70,MATCH(VLOOKUP(\"*\"&$AW47,$A$10:$J$11,$J$9,FALSE)&O$7,AGR!$B$47:$V$47,0),FALSE),\"\")","v":""},{"$f":"IFERROR(VLOOKUP($C47,AGR!$B$50:$V$70,MATCH(VLOOKUP(\"*\"&$AW47,$A$10:$J$11,$J$9,FALSE)&P$7,AGR!$B$47:$V$47,0),FALSE),\"\")","v":""},{"$f":"IFERROR(VLOOKUP($C47,AGR!$B$50:$V$70,MATCH(VLOOKUP(\"*\"&$AW47,$A$10:$J$11,$J$9,FALSE)&Q$7,AGR!$B$47:$V$47,0),FALSE),\"\")","v":""},{"$f":"IFERROR(VLOOKUP($C47,AGR!$B$50:$V$70,MATCH(VLOOKUP(\"*\"&$AW47,$A$10:$J$11,$J$9,FALSE)&R$7,AGR!$B$47:$V$47,0),FALSE),\"\")","v":""},{"$f":"IFERROR(VLOOKUP($C47,AGR!$B$50:$V$70,MATCH(VLOOKUP(\"*\"&$AW47,$A$10:$J$11,$J$9,FALSE)&S$7,AGR!$B$47:$V$47,0),FALSE),\"\")","v":""},{"$f":"IFERROR(VLOOKUP($C47,AGR!$B$50:$V$70,MATCH(VLOOKUP(\"*\"&$AW47,$A$10:$J$11,$J$9,FALSE)&T$7,AGR!$B$47:$V$47,0),FALSE),\"\")","v":""},{"$f":"IFERROR(VLOOKUP($C47,AGR!$B$50:$V$70,MATCH(VLOOKUP(\"*\"&$AW47,$A$10:$J$11,$J$9,FALSE)&U$7,AGR!$B$47:$V$47,0),FALSE),\"\")","v":""},{"$f":"IFERROR(VLOOKUP($C47,AGR!$B$50:$V$70,MATCH(VLOOKUP(\"*\"&$AW47,$A$10:$J$11,$J$9,FALSE)&V$7,AGR!$B$47:$V$47,0),FALSE),\"\")","v":""},{"$f":"IFERROR(VLOOKUP($C47,AGR!$B$50:$V$70,MATCH(VLOOKUP(\"*\"&$AW47,$A$10:$J$11,$J$9,FALSE)&W$7,AGR!$B$47:$V$47,0),FALSE),\"\")","v":""},{"$f":"IFERROR(VLOOKUP($C47,AGR!$B$50:$V$70,MATCH(VLOOKUP(\"*\"&$AW47,$A$10:$J$11,$J$9,FALSE)&X$7,AGR!$B$47:$V$47,0),FALSE),\"\")","v":""},{"$f":"IFERROR(VLOOKUP($C47,AGR!$B$50:$V$70,MATCH(VLOOKUP(\"*\"&$AW47,$A$10:$J$11,$J$9,FALSE)&Y$7,AGR!$B$47:$V$47,0),FALSE),\"\")","v":""},{"$f":"IFERROR(VLOOKUP($C47,AGR!$B$50:$V$70,MATCH(VLOOKUP(\"*\"&$AW47,$A$10:$J$11,$J$9,FALSE)&Z$7,AGR!$B$47:$V$47,0),FALSE),\"\")","v":""},{"$f":"IFERROR(VLOOKUP($C47,AGR!$B$50:$V$70,MATCH(VLOOKUP(\"*\"&$AW47,$A$10:$J$11,$J$9,FALSE)&AA$7,AGR!$B$47:$V$47,0),FALSE),\"\")","v":""},{"$f":"IFERROR(VLOOKUP($C47,AGR!$B$50:$V$70,MATCH(VLOOKUP(\"*\"&$AW47,$A$10:$J$11,$J$9,FALSE)&AB$7,AGR!$B$47:$V$47,0),FALSE),\"\")","v":""},{"$f":"IFERROR(VLOOKUP($C47,AGR!$B$50:$V$70,MATCH(VLOOKUP(\"*\"&$AW47,$A$10:$J$11,$J$9,FALSE)&AC$7,AGR!$B$47:$V$47,0),FALSE),\"\")","v":""},{"$f":"IFERROR(VLOOKUP($C47,AGR!$B$50:$V$70,MATCH(VLOOKUP(\"*\"&$AW47,$A$10:$J$11,$J$9,FALSE)&AD$7,AGR!$B$47:$V$47,0),FALSE),\"\")","v":""},{"$f":"IFERROR(VLOOKUP($C47,AGR!$B$50:$V$70,MATCH(VLOOKUP(\"*\"&$AW47,$A$10:$J$11,$J$9,FALSE)&AE$7,AGR!$B$47:$V$47,0),FALSE),\"\")","v":""},{"$f":"IFERROR(VLOOKUP($C47,AGR!$B$50:$V$70,MATCH(VLOOKUP(\"*\"&$AW47,$A$10:$J$11,$J$9,FALSE)&AF$7,AGR!$B$47:$V$47,0),FALSE),\"\")","v":""},{"$f":"IFERROR(VLOOKUP($C47,AGR!$B$50:$V$70,MATCH(VLOOKUP(\"*\"&$AW47,$A$10:$J$11,$J$9,FALSE)&AG$7,AGR!$B$47:$V$47,0),FALSE),\"\")","v":""},{"$f":"IFERROR(VLOOKUP($C47,AGR!$B$50:$V$70,MATCH(VLOOKUP(\"*\"&$AW47,$A$10:$J$11,$J$9,FALSE)&AH$7,AGR!$B$47:$V$47,0),FALSE),\"\")","v":0},null,null,null,null,{"$f":"IFERROR(VLOOKUP($C47,AGR!$B$50:$V$70,MATCH(VLOOKUP(\"*\"&$AW47,$A$10:$J$11,$J$9,FALSE)&AM$7,AGR!$B$47:$V$47,0),FALSE),\"\")","v":""},null,null,null,null,{"$f":"IFERROR(VLOOKUP($C47,AGR!$B$50:$V$70,MATCH(VLOOKUP(\"*\"&$AW47,$A$10:$J$11,$J$9,FALSE)&AR$7,AGR!$B$47:$V$47,0),FALSE),\"\")","v":""},{"$f":"IFERROR(VLOOKUP($C47,AGR!$B$50:$V$70,MATCH(VLOOKUP(\"*\"&$AW47,$A$10:$J$11,$J$9,FALSE)&AS$7,AGR!$B$47:$V$47,0),FALSE),\"\")","v":""},{"$f":"IFERROR(VLOOKUP($C47,AGR!$B$50:$V$70,MATCH(VLOOKUP(\"*\"&$AW47,$A$10:$J$11,$J$9,FALSE)&AT$7,AGR!$B$47:$V$47,0),FALSE),\"\")","v":0},0,null,{"$f":"IF(AX46=AGR!$W$72,AW46+1,AW46)","v":2},12]
[{"$f":"IF(LEFT(OFFSET(AGR!$A$49,AX48,0),2)=\"\\I\",\"*\",\"\")","v":""},"FLO_MARK",{"$f":"IF($A48=\"*\",\"\",OFFSET(AGR!$B$49,AX48,0))","v":"ATOGS-E"},"AT","-","-","-","LO",0,0,{"$f":"IFERROR(VLOOKUP($C48,AGR!$B$50:$V$70,MATCH(VLOOKUP(\"*\"&$AW48,$A$10:$J$11,$J$9,FALSE)&K$7,AGR!$B$47:$V$47,0),FALSE),\"\")","v":""},{"$f":"IFERROR(VLOOKUP($C48,AGR!$B$50:$V$70,MATCH(VLOOKUP(\"*\"&$AW48,$A$10:$J$11,$J$9,FALSE)&L$7,AGR!$B$47:$V$47,0),FALSE),\"\")","v":""},{"$f":"IFERROR(VLOOKUP($C48,AGR!$B$50:$V$70,MATCH(VLOOKUP(\"*\"&$AW48,$A$10:$J$11,$J$9,FALSE)&M$7,AGR!$B$47:$V$47,0),FALSE),\"\")","v":""},{"$f":"IFERROR(VLOOKUP($C48,AGR!$B$50:$V$70,MATCH(VLOOKUP(\"*\"&$AW48,$A$10:$J$11,$J$9,FALSE)&N$7,AGR!$B$47:$V$47,0),FALSE),\"\")","v":4.0709907602683434E-2},{"$f":"IFERROR(VLOOKUP($C48,AGR!$B$50:$V$70,MATCH(VLOOKUP(\"*\"&$AW48,$A$10:$J$11,$J$9,FALSE)&O$7,AGR!$B$47:$V$47,0),FALSE),\"\")","v":""},{"$f":"IFERROR(VLOOKUP($C48,AGR!$B$50:$V$70,MATCH(VLOOKUP(\"*\"&$AW48,$A$10:$J$11,$J$9,FALSE)&P$7,AGR!$B$47:$V$47,0),FALSE),\"\")","v":""},{"$f":"IFERROR(VLOOKUP($C48,AGR!$B$50:$V$70,MATCH(VLOOKUP(\"*\"&$AW48,$A$10:$J$11,$J$9,FALSE)&Q$7,AGR!$B$47:$V$47,0),FALSE),\"\")","v":""},{"$f":"IFERROR(VLOOKUP($C48,AGR!$B$50:$V$70,MATCH(VLOOKUP(\"*\"&$AW48,$A$10:$J$11,$J$9,FALSE)&R$7,AGR!$B$47:$V$47,0),FALSE),\"\")","v":""},{"$f":"IFERROR(VLOOKUP($C48,AGR!$B$50:$V$70,MATCH(VLOOKUP(\"*\"&$AW48,$A$10:$J$11,$J$9,FALSE)&S$7,AGR!$B$47:$V$47,0),FALSE),\"\")","v":""},{"$f":"IFERROR(VLOOKUP($C48,AGR!$B$50:$V$70,MATCH(VLOOKUP(\"*\"&$AW48,$A$10:$J$11,$J$9,FALSE)&T$7,AGR!$B$47:$V$47,0),FALSE),\"\")","v":""},{"$f":"IFERROR(VLOOKUP($C48,AGR!$B$50:$V$70,MATCH(VLOOKUP(\"*\"&$AW48,$A$10:$J$11,$J$9,FALSE)&U$7,AGR!$B$47:$V$47,0),FALSE),\"\")","v":""},{"$f":"IFERROR(VLOOKUP($C48,AGR!$B$50:$V$70,MATCH(VLOOKUP(\"*\"&$AW48,$A$10:$J$11,$J$9,FALSE)&V$7,AGR!$B$47:$V$47,0),FALSE),\"\")","v":""},{"$f":"IFERROR(VLOOKUP($C48,AGR!$B$50:$V$70,MATCH(VLOOKUP(\"*\"&$AW48,$A$10:$J$11,$J$9,FALSE)&W$7,AGR!$B$47:$V$47,0),FALSE),\"\")","v":""},{"$f":"IFERROR(VLOOKUP($C48,AGR!$B$50:$V$70,MATCH(VLOOKUP(\"*\"&$AW48,$A$10:$J$11,$J$9,FALSE)&X$7,AGR!$B$47:$V$47,0),FALSE),\"\")","v":""},{"$f":"IFERROR(VLOOKUP($C48,AGR!$B$50:$V$70,MATCH(VLOOKUP(\"*\"&$AW48,$A$10:$J$11,$J$9,FALSE)&Y$7,AGR!$B$47:$V$47,0),FALSE),\"\")","v":""},{"$f":"IFERROR(VLOOKUP($C48,AGR!$B$50:$V$70,MATCH(VLOOKUP(\"*\"&$AW48,$A$10:$J$11,$J$9,FALSE)&Z$7,AGR!$B$47:$V$47,0),FALSE),\"\")","v":""},{"$f":"IFERROR(VLOOKUP($C48,AGR!$B$50:$V$70,MATCH(VLOOKUP(\"*\"&$AW48,$A$10:$J$11,$J$9,FALSE)&AA$7,AGR!$B$47:$V$47,0),FALSE),\"\")","v":""},{"$f":"IFERROR(VLOOKUP($C48,AGR!$B$50:$V$70,MATCH(VLOOKUP(\"*\"&$AW48,$A$10:$J$11,$J$9,FALSE)&AB$7,AGR!$B$47:$V$47,0),FALSE),\"\")","v":""},{"$f":"IFERROR(VLOOKUP($C48,AGR!$B$50:$V$70,MATCH(VLOOKUP(\"*\"&$AW48,$A$10:$J$11,$J$9,FALSE)&AC$7,AGR!$B$47:$V$47,0),FALSE),\"\")","v":""},{"$f":"IFERROR(VLOOKUP($C48,AGR!$B$50:$V$70,MATCH(VLOOKUP(\"*\"&$AW48,$A$10:$J$11,$J$9,FALSE)&AD$7,AGR!$B$47:$V$47,0),FALSE),\"\")","v":""},{"$f":"IFERROR(VLOOKUP($C48,AGR!$B$50:$V$70,MATCH(VLOOKUP(\"*\"&$AW48,$A$10:$J$11,$J$9,FALSE)&AE$7,AGR!$B$47:$V$47,0),FALSE),\"\")","v":""},{"$f":"IFERROR(VLOOKUP($C48,AGR!$B$50:$V$70,MATCH(VLOOKUP(\"*\"&$AW48,$A$10:$J$11,$J$9,FALSE)&AF$7,AGR!$B$47:$V$47,0),FALSE),\"\")","v":""},{"$f":"IFERROR(VLOOKUP($C48,AGR!$B$50:$V$70,MATCH(VLOOKUP(\"*\"&$AW48,$A$10:$J$11,$J$9,FALSE)&AG$7,AGR!$B$47:$V$47,0),FALSE),\"\")","v":""},{"$f":"IFERROR(VLOOKUP($C48,AGR!$B$50:$V$70,MATCH(VLOOKUP(\"*\"&$AW48,$A$10:$J$11,$J$9,FALSE)&AH$7,AGR!$B$47:$V$47,0),FALSE),\"\")","v":2.0354953801341717E-2},null,null,null,null,{"$f":"IFERROR(VLOOKUP($C48,AGR!$B$50:$V$70,MATCH(VLOOKUP(\"*\"&$AW48,$A$10:$J$11,$J$9,FALSE)&AM$7,AGR!$B$47:$V$47,0),FALSE),\"\")","v":""},null,null,null,null,{"$f":"IFERROR(VLOOKUP($C48,AGR!$B$50:$V$70,MATCH(VLOOKUP(\"*\"&$AW48,$A$10:$J$11,$J$9,FALSE)&AR$7,AGR!$B$47:$V$47,0),FALSE),\"\")","v":""},{"$f":"IFERROR(VLOOKUP($C48,AGR!$B$50:$V$70,MATCH(VLOOKUP(\"*\"&$AW48,$A$10:$J$11,$J$9,FALSE)&AS$7,AGR!$B$47:$V$47,0),FALSE),\"\")","v":""},{"$f":"IFERROR(VLOOKUP($C48,AGR!$B$50:$V$70,MATCH(VLOOKUP(\"*\"&$AW48,$A$10:$J$11,$J$9,FALSE)&AT$7,AGR!$B$47:$V$47,0),FALSE),\"\")","v":4.070990760268344E-3},4.070990760268344E-3,null,{"$f":"IF(AX47=AGR!$W$72,AW47+1,AW47)","v":2},13]
[{"$f":"IF(LEFT(OFFSET(AGR!$A$49,AX49,0),2)=\"\\I\",\"*\",\"\")","v":"*"},"",{"$f":"IF($A49=\"*\",\"\",OFFSET(AGR!$B$49,AX49,0))","v":""},"",{"$f":"IF($A49=\"*\",\"\",VLOOKUP($B49,$B$10:$I$11,E$9,FALSE))","v":""},"","-",{"$f":"IF($A49=\"*\",\"\",VLOOKUP(\"*\"&$AW49,$A$10:$I$11,H$9,FALSE))","v":""},"","",{"$f":"IFERROR(VLOOKUP($C49,AGR!$B$50:$V$70,MATCH(VLOOKUP(\"*\"&$AW49,$A$10:$J$11,$J$9,FALSE)&K$7,AGR!$B$47:$V$47,0),FALSE),\"\")","v":""},{"$f":"IFERROR(VLOOKUP($C49,AGR!$B$50:$V$70,MATCH(VLOOKUP(\"*\"&$AW49,$A$10:$J$11,$J$9,FALSE)&L$7,AGR!$B$47:$V$47,0),FALSE),\"\")","v":""},{"$f":"IFERROR(VLOOKUP($C49,AGR!$B$50:$V$70,MATCH(VLOOKUP(\"*\"&$AW49,$A$10:$J$11,$J$9,FALSE)&M$7,AGR!$B$47:$V$47,0),FALSE),\"\")","v":""},{"$f":"IFERROR(VLOOKUP($C49,AGR!$B$50:$V$70,MATCH(VLOOKUP(\"*\"&$AW49,$A$10:$J$11,$J$9,FALSE)&N$7,AGR!$B$47:$V$47,0),FALSE),\"\")","v":""},{"$f":"IFERROR(VLOOKUP($C49,AGR!$B$50:$V$70,MATCH(VLOOKUP(\"*\"&$AW49,$A$10:$J$11,$J$9,FALSE)&O$7,AGR!$B$47:$V$47,0),FALSE),\"\")","v":""},{"$f":"IFERROR(VLOOKUP($C49,AGR!$B$50:$V$70,MATCH(VLOOKUP(\"*\"&$AW49,$A$10:$J$11,$J$9,FALSE)&P$7,AGR!$B$47:$V$47,0),FALSE),\"\")","v":""},{"$f":"IFERROR(VLOOKUP($C49,AGR!$B$50:$V$70,MATCH(VLOOKUP(\"*\"&$AW49,$A$10:$J$11,$J$9,FALSE)&Q$7,AGR!$B$47:$V$47,0),FALSE),\"\")","v":""},{"$f":"IFERROR(VLOOKUP($C49,AGR!$B$50:$V$70,MATCH(VLOOKUP(\"*\"&$AW49,$A$10:$J$11,$J$9,FALSE)&R$7,AGR!$B$47:$V$47,0),FALSE),\"\")","v":""},{"$f":"IFERROR(VLOOKUP($C49,AGR!$B$50:$V$70,MATCH(VLOOKUP(\"*\"&$AW49,$A$10:$J$11,$J$9,FALSE)&S$7,AGR!$B$47:$V$47,0),FALSE),\"\")","v":""},{"$f":"IFERROR(VLOOKUP($C49,AGR!$B$50:$V$70,MATCH(VLOOKUP(\"*\"&$AW49,$A$10:$J$11,$J$9,FALSE)&T$7,AGR!$B$47:$V$47,0),FALSE),\"\")","v":""},{"$f":"IFERROR(VLOOKUP($C49,AGR!$B$50:$V$70,MATCH(VLOOKUP(\"*\"&$AW49,$A$10:$J$11,$J$9,FALSE)&U$7,AGR!$B$47:$V$47,0),FALSE),\"\")","v":""},{"$f":"IFERROR(VLOOKUP($C49,AGR!$B$50:$V$70,MATCH(VLOOKUP(\"*\"&$AW49,$A$10:$J$11,$J$9,FALSE)&V$7,AGR!$B$47:$V$47,0),FALSE),\"\")","v":""},{"$f":"IFERROR(VLOOKUP($C49,AGR!$B$50:$V$70,MATCH(VLOOKUP(\"*\"&$AW49,$A$10:$J$11,$J$9,FALSE)&W$7,AGR!$B$47:$V$47,0),FALSE),\"\")","v":""},{"$f":"IFERROR(VLOOKUP($C49,AGR!$B$50:$V$70,MATCH(VLOOKUP(\"*\"&$AW49,$A$10:$J$11,$J$9,FALSE)&X$7,AGR!$B$47:$V$47,0),FALSE),\"\")","v":""},{"$f":"IFERROR(VLOOKUP($C49,AGR!$B$50:$V$70,MATCH(VLOOKUP(\"*\"&$AW49,$A$10:$J$11,$J$9,FALSE)&Y$7,AGR!$B$47:$V$47,0),FALSE),\"\")","v":""},{"$f":"IFERROR(VLOOKUP($C49,AGR!$B$50:$V$70,MATCH(VLOOKUP(\"*\"&$AW49,$A$10:$J$11,$J$9,FALSE)&Z$7,AGR!$B$47:$V$47,0),FALSE),\"\")","v":""},{"$f":"IFERROR(VLOOKUP($C49,AGR!$B$50:$V$70,MATCH(VLOOKUP(\"*\"&$AW49,$A$10:$J$11,$J$9,FALSE)&AA$7,AGR!$B$47:$V$47,0),FALSE),\"\")","v":""},{"$f":"IFERROR(VLOOKUP($C49,AGR!$B$50:$V$70,MATCH(VLOOKUP(\"*\"&$AW49,$A$10:$J$11,$J$9,FALSE)&AB$7,AGR!$B$47:$V$47,0),FALSE),\"\")","v":""},{"$f":"IFERROR(VLOOKUP($C49,AGR!$B$50:$V$70,MATCH(VLOOKUP(\"*\"&$AW49,$A$10:$J$11,$J$9,FALSE)&AC$7,AGR!$B$47:$V$47,0),FALSE),\"\")","v":""},{"$f":"IFERROR(VLOOKUP($C49,AGR!$B$50:$V$70,MATCH(VLOOKUP(\"*\"&$AW49,$A$10:$J$11,$J$9,FALSE)&AD$7,AGR!$B$47:$V$47,0),FALSE),\"\")","v":""},{"$f":"IFERROR(VLOOKUP($C49,AGR!$B$50:$V$70,MATCH(VLOOKUP(\"*\"&$AW49,$A$10:$J$11,$J$9,FALSE)&AE$7,AGR!$B$47:$V$47,0),FALSE),\"\")","v":""},{"$f":"IFERROR(VLOOKUP($C49,AGR!$B$50:$V$70,MATCH(VLOOKUP(\"*\"&$AW49,$A$10:$J$11,$J$9,FALSE)&AF$7,AGR!$B$47:$V$47,0),FALSE),\"\")","v":""},{"$f":"IFERROR(VLOOKUP($C49,AGR!$B$50:$V$70,MATCH(VLOOKUP(\"*\"&$AW49,$A$10:$J$11,$J$9,FALSE)&AG$7,AGR!$B$47:$V$47,0),FALSE),\"\")","v":""},{"$f":"IFERROR(VLOOKUP($C49,AGR!$B$50:$V$70,MATCH(VLOOKUP(\"*\"&$AW49,$A$10:$J$11,$J$9,FALSE)&AH$7,AGR!$B$47:$V$47,0),FALSE),\"\")","v":""},null,null,null,null,{"$f":"IFERROR(VLOOKUP($C49,AGR!$B$50:$V$70,MATCH(VLOOKUP(\"*\"&$AW49,$A$10:$J$11,$J$9,FALSE)&AM$7,AGR!$B$47:$V$47,0),FALSE),\"\")","v":""},null,null,null,null,{"$f":"IFERROR(VLOOKUP($C49,AGR!$B$50:$V$70,MATCH(VLOOKUP(\"*\"&$AW49,$A$10:$J$11,$J$9,FALSE)&AR$7,AGR!$B$47:$V$47,0),FALSE),\"\")","v":""},{"$f":"IFERROR(VLOOKUP($C49,AGR!$B$50:$V$70,MATCH(VLOOKUP(\"*\"&$AW49,$A$10:$J$11,$J$9,FALSE)&AS$7,AGR!$B$47:$V$47,0),FALSE),\"\")","v":""},{"$f":"IFERROR(VLOOKUP($C49,AGR!$B$50:$V$70,MATCH(VLOOKUP(\"*\"&$AW49,$A$10:$J$11,$J$9,FALSE)&AT$7,AGR!$B$47:$V$47,0),FALSE),\"\")","v":""},"",null,{"$f":"IF(AX48=AGR!$W$72,AW48+1,AW48)","v":2},14]
[{"$f":"IF(LEFT(OFFSET(AGR!$A$49,AX50,0),2)=\"\\I\",\"*\",\"\")","v":"*"},"",{"$f":"IF($A50=\"*\",\"\",OFFSET(AGR!$B$49,AX50,0))","v":""},"","","","-","","","",{"$f":"IFERROR(VLOOKUP($C50,AGR!$B$50:$V$70,MATCH(VLOOKUP(\"*\"&$AW50,$A$10:$J$11,$J$9,FALSE)&K$7,AGR!$B$47:$V$47,0),FALSE),\"\")","v":""},{"$f":"IFERROR(VLOOKUP($C50,AGR!$B$50:$V$70,MATCH(VLOOKUP(\"*\"&$AW50,$A$10:$J$11,$J$9,FALSE)&L$7,AGR!$B$47:$V$47,0),FALSE),\"\")","v":""},{"$f":"IFERROR(VLOOKUP($C50,AGR!$B$50:$V$70,MATCH(VLOOKUP(\"*\"&$AW50,$A$10:$J$11,$J$9,FALSE)&M$7,AGR!$B$47:$V$47,0),FALSE),\"\")","v":""},{"$f":"IFERROR(VLOOKUP($C50,AGR!$B$50:$V$70,MATCH(VLOOKUP(\"*\"&$AW50,$A$10:$J$11,$J$9,FALSE)&N$7,AGR!$B$47:$V$47,0),FALSE),\"\")","v":""},{"$f":"IFERROR(VLOOKUP($C50,AGR!$B$50:$V$70,MATCH(VLOOKUP(\"*\"&$AW50,$A$10:$J$11,$J$9,FALSE)&O$7,AGR!$B$47:$V$47,0),FALSE),\"\")","v":""},{"$f":"IFERROR(VLOOKUP($C50,AGR!$B$50:$V$70,MATCH(VLOOKUP(\"*\"&$AW50,$A$10:$J$11,$J$9,FALSE)&P$7,AGR!$B$47:$V$47,0),FALSE),\"\")","v":""},{"$f":"IFERROR(VLOOKUP($C50,AGR!$B$50:$V$70,MATCH(VLOOKUP(\"*\"&$AW50,$A$10:$J$11,$J$9,FALSE)&Q$7,AGR!$B$47:$V$47,0),FALSE),\"\")","v":""},{"$f":"IFERROR(VLOOKUP($C50,AGR!$B$50:$V$70,MATCH(VLOOKUP(\"*\"&$AW50,$A$10:$J$11,$J$9,FALSE)&R$7,AGR!$B$47:$V$47,0),FALSE),\"\")","v":""},{"$f":"IFERROR(VLOOKUP($C50,AGR!$B$50:$V$70,MATCH(VLOOKUP(\"*\"&$AW50,$A$10:$J$11,$J$9,FALSE)&S$7,AGR!$B$47:$V$47,0),FALSE),\"\")","v":""},{"$f":"IFERROR(VLOOKUP($C50,AGR!$B$50:$V$70,MATCH(VLOOKUP(\"*\"&$AW50,$A$10:$J$11,$J$9,FALSE)&T$7,AGR!$B$47:$V$47,0),FALSE),\"\")","v":""},{"$f":"IFERROR(VLOOKUP($C50,AGR!$B$50:$V$70,MATCH(VLOOKUP(\"*\"&$AW50,$A$10:$J$11,$J$9,FALSE)&U$7,AGR!$B$47:$V$47,0),FALSE),\"\")","v":""},{"$f":"IFERROR(VLOOKUP($C50,AGR!$B$50:$V$70,MATCH(VLOOKUP(\"*\"&$AW50,$A$10:$J$11,$J$9,FALSE)&V$7,AGR!$B$47:$V$47,0),FALSE),\"\")","v":""},{"$f":"IFERROR(VLOOKUP($C50,AGR!$B$50:$V$70,MATCH(VLOOKUP(\"*\"&$AW50,$A$10:$J$11,$J$9,FALSE)&W$7,AGR!$B$47:$V$47,0),FALSE),\"\")","v":""},{"$f":"IFERROR(VLOOKUP($C50,AGR!$B$50:$V$70,MATCH(VLOOKUP(\"*\"&$AW50,$A$10:$J$11,$J$9,FALSE)&X$7,AGR!$B$47:$V$47,0),FALSE),\"\")","v":""},{"$f":"IFERROR(VLOOKUP($C50,AGR!$B$50:$V$70,MATCH(VLOOKUP(\"*\"&$AW50,$A$10:$J$11,$J$9,FALSE)&Y$7,AGR!$B$47:$V$47,0),FALSE),\"\")","v":""},{"$f":"IFERROR(VLOOKUP($C50,AGR!$B$50:$V$70,MATCH(VLOOKUP(\"*\"&$AW50,$A$10:$J$11,$J$9,FALSE)&Z$7,AGR!$B$47:$V$47,0),FALSE),\"\")","v":""},{"$f":"IFERROR(VLOOKUP($C50,AGR!$B$50:$V$70,MATCH(VLOOKUP(\"*\"&$AW50,$A$10:$J$11,$J$9,FALSE)&AA$7,AGR!$B$47:$V$47,0),FALSE),\"\")","v":""},{"$f":"IFERROR(VLOOKUP($C50,AGR!$B$50:$V$70,MATCH(VLOOKUP(\"*\"&$AW50,$A$10:$J$11,$J$9,FALSE)&AB$7,AGR!$B$47:$V$47,0),FALSE),\"\")","v":""},{"$f":"IFERROR(VLOOKUP($C50,AGR!$B$50:$V$70,MATCH(VLOOKUP(\"*\"&$AW50,$A$10:$J$11,$J$9,FALSE)&AC$7,AGR!$B$47:$V$47,0),FALSE),\"\")","v":""},{"$f":"IFERROR(VLOOKUP($C50,AGR!$B$50:$V$70,MATCH(VLOOKUP(\"*\"&$AW50,$A$10:$J$11,$J$9,FALSE)&AD$7,AGR!$B$47:$V$47,0),FALSE),\"\")","v":""},{"$f":"IFERROR(VLOOKUP($C50,AGR!$B$50:$V$70,MATCH(VLOOKUP(\"*\"&$AW50,$A$10:$J$11,$J$9,FALSE)&AE$7,AGR!$B$47:$V$47,0),FALSE),\"\")","v":""},{"$f":"IFERROR(VLOOKUP($C50,AGR!$B$50:$V$70,MATCH(VLOOKUP(\"*\"&$AW50,$A$10:$J$11,$J$9,FALSE)&AF$7,AGR!$B$47:$V$47,0),FALSE),\"\")","v":""},{"$f":"IFERROR(VLOOKUP($C50,AGR!$B$50:$V$70,MATCH(VLOOKUP(\"*\"&$AW50,$A$10:$J$11,$J$9,FALSE)&AG$7,AGR!$B$47:$V$47,0),FALSE),\"\")","v":""},{"$f":"IFERROR(VLOOKUP($C50,AGR!$B$50:$V$70,MATCH(VLOOKUP(\"*\"&$AW50,$A$10:$J$11,$J$9,FALSE)&AH$7,AGR!$B$47:$V$47,0),FALSE),\"\")","v":""},null,null,null,null,{"$f":"IFERROR(VLOOKUP($C50,AGR!$B$50:$V$70,MATCH(VLOOKUP(\"*\"&$AW50,$A$10:$J$11,$J$9,FALSE)&AM$7,AGR!$B$47:$V$47,0),FALSE),\"\")","v":""},null,null,null,null,{"$f":"IFERROR(VLOOKUP($C50,AGR!$B$50:$V$70,MATCH(VLOOKUP(\"*\"&$AW50,$A$10:$J$11,$J$9,FALSE)&AR$7,AGR!$B$47:$V$47,0),FALSE),\"\")","v":""},{"$f":"IFERROR(VLOOKUP($C50,AGR!$B$50:$V$70,MATCH(VLOOKUP(\"*\"&$AW50,$A$10:$J$11,$J$9,FALSE)&AS$7,AGR!$B$47:$V$47,0),FALSE),\"\")","v":""},{"$f":"IFERROR(VLOOKUP($C50,AGR!$B$50:$V$70,MATCH(VLOOKUP(\"*\"&$AW50,$A$10:$J$11,$J$9,FALSE)&AT$7,AGR!$B$47:$V$47,0),FALSE),\"\")","v":""},"",null,{"$f":"IF(AX49=AGR!$W$72,AW49+1,AW49)","v":2},15]
[{"$f":"IF(LEFT(OFFSET(AGR!$A$49,AX51,0),2)=\"\\I\",\"*\",\"\")","v":""},{"$f":"IF(A51=\"*\",\"\",VLOOKUP(\"*\"&AW51,$A$9:$B$11,2,FALSE))","v":"FLO_MARK"},{"$f":"IF($A51=\"*\",\"\",OFFSET(AGR!$B$49,AX51,0))","v":"AIODS-E"},{"$f":"IF($A51=\"*\",\"\",LEFT(C51,2))","v":"AI"},"-","-","-","LO",0,{"$f":"IF(A51=\"*\",\"\",IF(H51=\"UP\",1,0))","v":0},{"$f":"IFERROR(VLOOKUP($C51,AGR!$B$50:$V$70,MATCH(VLOOKUP(\"*\"&$AW51,$A$10:$J$11,$J$9,FALSE)&K$7,AGR!$B$47:$V$47,0),FALSE),\"\")","v":""},{"$f":"IFERROR(VLOOKUP($C51,AGR!$B$50:$V$70,MATCH(VLOOKUP(\"*\"&$AW51,$A$10:$J$11,$J$9,FALSE)&L$7,AGR!$B$47:$V$47,0),FALSE),\"\")","v":""},{"$f":"IFERROR(VLOOKUP($C51,AGR!$B$50:$V$70,MATCH(VLOOKUP(\"*\"&$AW51,$A$10:$J$11,$J$9,FALSE)&M$7,AGR!$B$47:$V$47,0),FALSE),\"\")","v":""},{"$f":"IFERROR(VLOOKUP($C51,AGR!$B$50:$V$70,MATCH(VLOOKUP(\"*\"&$AW51,$A$10:$J$11,$J$9,FALSE)&N$7,AGR!$B$47:$V$47,0),FALSE),\"\")","v":2.0301624129930394E-2},{"$f":"IFERROR(VLOOKUP($C51,AGR!$B$50:$V$70,MATCH(VLOOKUP(\"*\"&$AW51,$A$10:$J$11,$J$9,FALSE)&O$7,AGR!$B$47:$V$47,0),FALSE),\"\")","v":""},{"$f":"IFERROR(VLOOKUP($C51,AGR!$B$50:$V$70,MATCH(VLOOKUP(\"*\"&$AW51,$A$10:$J$11,$J$9,FALSE)&P$7,AGR!$B$47:$V$47,0),FALSE),\"\")","v":""},{"$f":"IFERROR(VLOOKUP($C51,AGR!$B$50:$V$70,MATCH(VLOOKUP(\"*\"&$AW51,$A$10:$J$11,$J$9,FALSE)&Q$7,AGR!$B$47:$V$47,0),FALSE),\"\")","v":""},{"$f":"IFERROR(VLOOKUP($C51,AGR!$B$50:$V$70,MATCH(VLOOKUP(\"*\"&$AW51,$A$10:$J$11,$J$9,FALSE)&R$7,AGR!$B$47:$V$47,0),FALSE),\"\")","v":""},{"$f":"IFERROR(VLOOKUP($C51,AGR!$B$50:$V$70,MATCH(VLOOKUP(\"*\"&$AW51,$A$10:$J$11,$J$9,FALSE)&S$7,AGR!$B$47:$V$47,0),FALSE),\"\")","v":""},{"$f":"IFERROR(VLOOKUP($C51,AGR!$B$50:$V$70,MATCH(VLOOKUP(\"*\"&$AW51,$A$10:$J$11,$J$9,FALSE)&T$7,AGR!$B$47:$V$47,0),FALSE),\"\")","v":""},{"$f":"IFERROR(VLOOKUP($C51,AGR!$B$50:$V$70,MATCH(VLOOKUP(\"*\"&$AW51,$A$10:$J$11,$J$9,FALSE)&U$7,AGR!$B$47:$V$47,0),FALSE),\"\")","v":""},{"$f":"IFERROR(VLOOKUP($C51,AGR!$B$50:$V$70,MATCH(VLOOKUP(\"*\"&$AW51,$A$10:$J$11,$J$9,FALSE)&V$7,AGR!$B$47:$V$47,0),FALSE),\"\")","v":""},{"$f":"IFERROR(VLOOKUP($C51,AGR!$B$50:$V$70,MATCH(VLOOKUP(\"*\"&$AW51,$A$10:$J$11,$J$9,FALSE)&W$7,AGR!$B$47:$V$47,0),FALSE),\"\")","v":""},{"$f":"IFERROR(VLOOKUP($C51,AGR!$B$50:$V$70,MATCH(VLOOKUP(\"*\"&$AW51,$A$10:$J$11,$J$9,FALSE)&X$7,AGR!$B$47:$V$47,0),FALSE),\"\")","v":""},{"$f":"IFERROR(VLOOKUP($C51,AGR!$B$50:$V$70,MATCH(VLOOKUP(\"*\"&$AW51,$A$10:$J$11,$J$9,FALSE)&Y$7,AGR!$B$47:$V$47,0),FALSE),\"\")","v":""},{"$f":"IFERROR(VLOOKUP($C51,AGR!$B$50:$V$70,MATCH(VLOOKUP(\"*\"&$AW51,$A$10:$J$11,$J$9,FALSE)&Z$7,AGR!$B$47:$V$47,0),FALSE),\"\")","v":""},{"$f":"IFERROR(VLOOKUP($C51,AGR!$B$50:$V$70,MATCH(VLOOKUP(\"*\"&$AW51,$A$10:$J$11,$J$9,FALSE)&AA$7,AGR!$B$47:$V$47,0),FALSE),\"\")","v":""},{"$f":"IFERROR(VLOOKUP($C51,AGR!$B$50:$V$70,MATCH(VLOOKUP(\"*\"&$AW51,$A$10:$J$11,$J$9,FALSE)&AB$7,AGR!$B$47:$V$47,0),FALSE),\"\")","v":""},{"$f":"IFERROR(VLOOKUP($C51,AGR!$B$50:$V$70,MATCH(VLOOKUP(\"*\"&$AW51,$A$10:$J$11,$J$9,FALSE)&AC$7,AGR!$B$47:$V$47,0),FALSE),\"\")","v":""},{"$f":"IFERROR(VLOOKUP($C51,AGR!$B$50:$V$70,MATCH(VLOOKUP(\"*\"&$AW51,$A$10:$J$11,$J$9,FALSE)&AD$7,AGR!$B$47:$V$47,0),FALSE),\"\")","v":""},{"$f":"IFERROR(VLOOKUP($C51,AGR!$B$50:$V$70,MATCH(VLOOKUP(\"*\"&$AW51,$A$10:$J$11,$J$9,FALSE)&AE$7,AGR!$B$47:$V$47,0),FALSE),\"\")","v":""},{"$f":"IFERROR(VLOOKUP($C51,AGR!$B$50:$V$70,MATCH(VLOOKUP(\"*\"&$AW51,$A$10:$J$11,$J$9,FALSE)&AF$7,AGR!$B$47:$V$47,0),FALSE),\"\")","v":""},{"$f":"IFERROR(VLOOKUP($C51,AGR!$B$50:$V$70,MATCH(VLOOKUP(\"*\"&$AW51,$A$10:$J$11,$J$9,FALSE)&AG$7,AGR!$B$47:$V$47,0),FALSE),\"\")","v":""},{"$f":"IFERROR(VLOOKUP($C51,AGR!$B$50:$V$70,MATCH(VLOOKUP(\"*\"&$AW51,$A$10:$J$11,$J$9,FALSE)&AH$7,AGR!$B$47:$V$47,0),FALSE),\"\")","v":1.0150812064965197E-2},null,null,null,null,{"$f":"IFERROR(VLOOKUP($C51,AGR!$B$50:$V$70,MATCH(VLOOKUP(\"*\"&$AW51,$A$10:$J$11,$J$9,FALSE)&AM$7,AGR!$B$47:$V$47,0),FALSE),\"\")","v":""},null,null,null,null,{"$f":"IFERROR(VLOOKUP($C51,AGR!$B$50:$V$70,MATCH(VLOOKUP(\"*\"&$AW51,$A$10:$J$11,$J$9,FALSE)&AR$7,AGR!$B$47:$V$47,0),FALSE),\"\")","v":""},{"$f":"IFERROR(VLOOKUP($C51,AGR!$B$50:$V$70,MATCH(VLOOKUP(\"*\"&$AW51,$A$10:$J$11,$J$9,FALSE)&AS$7,AGR!$B$47:$V$47,0),FALSE),\"\")","v":""},{"$f":"IFERROR(VLOOKUP($C51,AGR!$B$50:$V$70,MATCH(VLOOKUP(\"*\"&$AW51,$A$10:$J$11,$J$9,FALSE)&AT$7,AGR!$B$47:$V$47,0),FALSE),\"\")","v":2.0301624129930394E-3},{"$f":"AT51","v":2.0301624129930394E-3},null,{"$f":"IF(AX50=AGR!$W$72,AW50+1,AW50)","v":2},16]
[{"$f":"IF(LEFT(OFFSET(AGR!$A$49,AX52,0),2)=\"\\I\",\"*\",\"\")","v":""},{"$f":"IF(A52=\"*\",\"\",VLOOKUP(\"*\"&AW52,$A$9:$B$11,2,FALSE))","v":"FLO_MARK"},{"$f":"IF($A52=\"*\",\"\",OFFSET(AGR!$B$49,AX52,0))","v":"AIELC-E"},{"$f":"IF($A52=\"*\",\"\",LEFT(C52,2))","v":"AI"},"-","-","-","LO",0,{"$f":"IF(A52=\"*\",\"\",IF(H52=\"UP\",1,0))","v":0},{"$f":"IFERROR(VLOOKUP($C52,AGR!$B$50:$V$70,MATCH(VLOOKUP(\"*\"&$AW52,$A$10:$J$11,$J$9,FALSE)&K$7,AGR!$B$47:$V$47,0),FALSE),\"\")","v":""},{"$f":"IFERROR(VLOOKUP($C52,AGR!$B$50:$V$70,MATCH(VLOOKUP(\"*\"&$AW52,$A$10:$J$11,$J$9,FALSE)&L$7,AGR!$B$47:$V$47,0),FALSE),\"\")","v":""},{"$f":"IFERROR(VLOOKUP($C52,AGR!$B$50:$V$70,MATCH(VLOOKUP(\"*\"&$AW52,$A$10:$J$11,$J$9,FALSE)&M$7,AGR!$B$47:$V$47,0),FALSE),\"\")","v":""},{"$f":"IFERROR(VLOOKUP($C52,AGR!$B$50:$V$70,MATCH(VLOOKUP(\"*\"&$AW52,$A$10:$J$11,$J$9,FALSE)&N$7,AGR!$B$47:$V$47,0),FALSE),\"\")","v":0.47389791183294666},{"$f":"IFERROR(VLOOKUP($C52,AGR!$B$50:$V$70,MATCH(VLOOKUP(\"*\"&$AW52,$A$10:$J$11,$J$9,FALSE)&O$7,AGR!$B$47:$V$47,0),FALSE),\"\")","v":""},{"$f":"IFERROR(VLOOKUP($C52,AGR!$B$50:$V$70,MATCH(VLOOKUP(\"*\"&$AW52,$A$10:$J$11,$J$9,FALSE)&P$7,AGR!$B$47:$V$47,0),FALSE),\"\")","v":""},{"$f":"IFERROR(VLOOKUP($C52,AGR!$B$50:$V$70,MATCH(VLOOKUP(\"*\"&$AW52,$A$10:$J$11,$J$9,FALSE)&Q$7,AGR!$B$47:$V$47,0),FALSE),\"\")","v":""},{"$f":"IFERROR(VLOOKUP($C52,AGR!$B$50:$V$70,MATCH(VLOOKUP(\"*\"&$AW52,$A$10:$J$11,$J$9,FALSE)&R$7,AGR!$B$47:$V$47,0),FALSE),\"\")","v":""},{"$f":"IFERROR(VLOOKUP($C52,AGR!$B$50:$V$70,MATCH(VLOOKUP(\"*\"&$AW52,$A$10:$J$11,$J$9,FALSE)&S$7,AGR!$B$47:$V$47,0),FALSE),\"\")","v":""},{"$f":"IFERROR(VLOOKUP($C52,AGR!$B$50:$V$70,MATCH(VLOOKUP(\"*\"&$AW52,$A$10:$J$11,$J$9,FALSE)&T$7,AGR!$B$47:$V$47,0),FALSE),\"\")","v":""},{"$f":"IFERROR(VLOOKUP($C52,AGR!$B$50:$V$70,MATCH(VLOOKUP(\"*\"&$AW52,$A$10:$J$11,$J$9,FALSE)&U$7,AGR!$B$47:$V$47,0),FALSE),\"\")","v":""},{"$f":"IFERROR(VLOOKUP($C52,AGR!$B$50:$V$70,MATCH(VLOOKUP(\"*\"&$AW52,$A$10:$J$11,$J$9,FALSE)&V$7,AGR!$B$47:$V$47,0),FALSE),\"\")","v":""},{"$f":"IFERROR(VLOOKUP($C52,AGR!$B$50:$V$70,MATCH(VLOOKUP(\"*\"&$AW52,$A$10:$J$11,$J$9,FALSE)&W$7,AGR!$B$47:$V$47,0),FALSE),\"\")","v":""},{"$f":"IFERROR(VLOOKUP($C52,AGR!$B$50:$V$70,MATCH(VLOOKUP(\"*\"&$AW52,$A$10:$J$11,$J$9,FALSE)&X$7,AGR!$B$47:$V$47,0),FALSE),\"\")","v":""},{"$f":"IFERROR(VLOOKUP($C52,AGR!$B$50:$V$70,MATCH(VLOOKUP(\"*\"&$AW52,$A$10:$J$11,$J$9,FALSE)&Y$7,AGR!$B$47:$V$47,0),FALSE),\"\")","v":""},{"$f":"IFERROR(VLOOKUP($C52,AGR!$B$50:$V$70,MATCH(VLOOKUP(\"*\"&$AW52,$A$10:$J$11,$J$9,FALSE)&Z$7,AGR!$B$47:$V$47,0),FALSE),\"\")","v":""},{"$f":"IFERROR(VLOOKUP($C52,AGR!$B$50:$V$70,MATCH(VLOOKUP(\"*\"&$AW52,$A$10:$J$11,$J$9,FALSE)&AA$7,AGR!$B$47:$V$47,0),FALSE),\"\")","v":""},{"$f":"IFERROR(VLOOKUP($C52,AGR!$B$50:$V$70,MATCH(VLOOKUP(\"*\"&$AW52,$A$10:$J$11,$J$9,FALSE)&AB$7,AGR!$B$47:$V$47,0),FALSE),\"\")","v":""},{"$f":"IFERROR(VLOOKUP($C52,AGR!$B$50:$V$70,MATCH(VLOOKUP(\"*\"&$AW52,$A$10:$J$11,$J$9,FALSE)&AC$7,AGR!$B$47:$V$47,0),FALSE),\"\")","v":""},{"$f":"IFERROR(VLOOKUP($C52,AGR!$B$50:$V$70,MATCH(VLOOKUP(\"*\"&$AW52,$A$10:$J$11,$J$9,FALSE)&AD$7,AGR!$B$47:$V$47,0),FALSE),\"\")","v":""},{"$f":"IFERROR(VLOOKUP($C52,AGR!$B$50:$V$70,MATCH(VLOOKUP(\"*\"&$AW52,$A$10:$J$11,$J$9,FALSE)&AE$7,AGR!$B$47:$V$47,0),FALSE),\"\")","v":""},{"$f":"IFERROR(VLOOKUP($C52,AGR!$B$50:$V$70,MATCH(VLOOKUP(\"*\"&$AW52,$A$10:$J$11,$J$9,FALSE)&AF$7,AGR!$B$47:$V$47,0),FALSE),\"\")","v":""},{"$f":"IFERROR(VLOOKUP($C52,AGR!$B$50:$V$70,MATCH(VLOOKUP(\"*\"&$AW52,$A$10:$J$11,$J$9,FALSE)&AG$7,AGR!$B$47:$V$47,0),FALSE),\"\")","v":""},{"$f":"IFERROR(VLOOKUP($C52,AGR!$B$50:$V$70,MATCH(VLOOKUP(\"*\"&$AW52,$A$10:$J$11,$J$9,FALSE)&AH$7,AGR!$B$47:$V$47,0),FALSE),\"\")","v":0.23694895591647333},null,null,null,null,{"$f":"IFERROR(VLOOKUP($C52,AGR!$B$50:$V$70,MATCH(VLOOKUP(\"*\"&$AW52,$A$10:$J$11,$J$9,FALSE)&AM$7,AGR!$B$47:$V$47,0),FALSE),\"\")","v":""},null,null,null,null,{"$f":"IFERROR(VLOOKUP($C52,AGR!$B$50:$V$70,MATCH(VLOOKUP(\"*\"&$AW52,$A$10:$J$11,$J$9,FALSE)&AR$7,AGR!$B$47:$V$47,0),FALSE),\"\")","v":""},{"$f":"IFERROR(VLOOKUP($C52,AGR!$B$50:$V$70,MATCH(VLOOKUP(\"*\"&$AW52,$A$10:$J$11,$J$9,FALSE)&AS$7,AGR!$B$47:$V$47,0),FALSE),\"\")","v":""},{"$f":"IFERROR(VLOOKUP($C52,AGR!$B$50:$V$70,MATCH(VLOOKUP(\"*\"&$AW52,$A$10:$J$11,$J$9,FALSE)&AT$7,AGR!$B$47:$V$47,0),FALSE),\"\")","v":4.7389791183294672E-2},{"$f":"AT52","v":4.7389791183294672E-2},null,{"$f":"IF(AX51=AGR!$W$72,AW51+1,AW51)","v":2},{"$f":"IF(AW52=AW51,AX51+1,1)","v":17}]
[{"$f":"IF(LEFT(OFFSET(AGR!$A$49,AX53,0),2)=\"\\I\",\"*\",\"\")","v":""},{"$f":"IF(A53=\"*\",\"\",VLOOKUP(\"*\"&AW53,$A$9:$B$11,2,FALSE))","v":"FLO_MARK"},{"$f":"IF($A53=\"*\",\"\",OFFSET(AGR!$B$49,AX53,0))","v":"AIOGS-E"},{"$f":"IF($A53=\"*\",\"\",LEFT(C53,2))","v":"AI"},"-","-","-","LO",0,{"$f":"IF(A53=\"*\",\"\",IF(H53=\"UP\",1,0))","v":0},{"$f":"IFERROR(VLOOKUP($C53,AGR!$B$50:$V$70,MATCH(VLOOKUP(\"*\"&$AW53,$A$10:$J$11,$J$9,FALSE)&K$7,AGR!$B$47:$V$47,0),FALSE),\"\")","v":""},{"$f":"IFERROR(VLOOKUP($C53,AGR!$B$50:$V$70,MATCH(VLOOKUP(\"*\"&$AW53,$A$10:$J$11,$J$9,FALSE)&L$7,AGR!$B$47:$V$47,0),FALSE),\"\")","v":""},{"$f":"IFERROR(VLOOKUP($C53,AGR!$B$50:$V$70,MATCH(VLOOKUP(\"*\"&$AW53,$A$10:$J$11,$J$9,FALSE)&M$7,AGR!$B$47:$V$47,0),FALSE),\"\")","v":""},{"$f":"IFERROR(VLOOKUP($C53,AGR!$B$50:$V$70,MATCH(VLOOKUP(\"*\"&$AW53,$A$10:$J$11,$J$9,FALSE)&N$7,AGR!$B$47:$V$47,0),FALSE),\"\")","v":5.8004640371229705E-3},{"$f":"IFERROR(VLOOKUP($C53,AGR!$B$50:$V$70,MATCH(VLOOKUP(\"*\"&$AW53,$A$10:$J$11,$J$9,FALSE)&O$7,AGR!$B$47:$V$47,0),FALSE),\"\")","v":""},{"$f":"IFERROR(VLOOKUP($C53,AGR!$B$50:$V$70,MATCH(VLOOKUP(\"*\"&$AW53,$A$10:$J$11,$J$9,FALSE)&P$7,AGR!$B$47:$V$47,0),FALSE),\"\")","v":""},{"$f":"IFERROR(VLOOKUP($C53,AGR!$B$50:$V$70,MATCH(VLOOKUP(\"*\"&$AW53,$A$10:$J$11,$J$9,FALSE)&Q$7,AGR!$B$47:$V$47,0),FALSE),\"\")","v":""},{"$f":"IFERROR(VLOOKUP($C53,AGR!$B$50:$V$70,MATCH(VLOOKUP(\"*\"&$AW53,$A$10:$J$11,$J$9,FALSE)&R$7,AGR!$B$47:$V$47,0),FALSE),\"\")","v":""},{"$f":"IFERROR(VLOOKUP($C53,AGR!$B$50:$V$70,MATCH(VLOOKUP(\"*\"&$AW53,$A$10:$J$11,$J$9,FALSE)&S$7,AGR!$B$47:$V$47,0),FALSE),\"\")","v":""},{"$f":"IFERROR(VLOOKUP($C53,AGR!$B$50:$V$70,MATCH(VLOOKUP(\"*\"&$AW53,$A$10:$J$11,$J$9,FALSE)&T$7,AGR!$B$47:$V$47,0),FALSE),\"\")","v":""},{"$f":"IFERROR(VLOOKUP($C53,AGR!$B$50:$V$70,MATCH(VLOOKUP(\"*\"&$AW53,$A$10:$J$11,$J$9,FALSE)&U$7,AGR!$B$47:$V$47,0),FALSE),\"\")","v":""},{"$f":"IFERROR(VLOOKUP($C53,AGR!$B$50:$V$70,MATCH(VLOOKUP(\"*\"&$AW53,$A$10:$J$11,$J$9,FALSE)&V$7,AGR!$B$47:$V$47,0),FALSE),\"\")","v":""},{"$f":"IFERROR(VLOOKUP($C53,AGR!$B$50:$V$70,MATCH(VLOOKUP(\"*\"&$AW53,$A$10:$J$11,$J$9,FALSE)&W$7,AGR!$B$47:$V$47,0),FALSE),\"\")","v":""},{"$f":"IFERROR(VLOOKUP($C53,AGR!$B$50:$V$70,MATCH(VLOOKUP(\"*\"&$AW53,$A$10:$J$11,$J$9,FALSE)&X$7,AGR!$B$47:$V$47,0),FALSE),\"\")","v":""},{"$f":"IFERROR(VLOOKUP($C53,AGR!$B$50:$V$70,MATCH(VLOOKUP(\"*\"&$AW53,$A$10:$J$11,$J$9,FALSE)&Y$7,AGR!$B$47:$V$47,0),FALSE),\"\")","v":""},{"$f":"IFERROR(VLOOKUP($C53,AGR!$B$50:$V$70,MATCH(VLOOKUP(\"*\"&$AW53,$A$10:$J$11,$J$9,FALSE)&Z$7,AGR!$B$47:$V$47,0),FALSE),\"\")","v":""},{"$f":"IFERROR(VLOOKUP($C53,AGR!$B$50:$V$70,MATCH(VLOOKUP(\"*\"&$AW53,$A$10:$J$11,$J$9,FALSE)&AA$7,AGR!$B$47:$V$47,0),FALSE),\"\")","v":""},{"$f":"IFERROR(VLOOKUP($C53,AGR!$B$50:$V$70,MATCH(VLOOKUP(\"*\"&$AW53,$A$10:$J$11,$J$9,FALSE)&AB$7,AGR!$B$47:$V$47,0),FALSE),\"\")","v":""},{"$f":"IFERROR(VLOOKUP($C53,AGR!$B$50:$V$70,MATCH(VLOOKUP(\"*\"&$AW53,$A$10:$J$11,$J$9,FALSE)&AC$7,AGR!$B$47:$V$47,0),FALSE),\"\")","v":""},{"$f":"IFERROR(VLOOKUP($C53,AGR!$B$50:$V$70,MATCH(VLOOKUP(\"*\"&$AW53,$A$10:$J$11,$J$9,FALSE)&AD$7,AGR!$B$47:$V$47,0),FALSE),\"\")","v":""},{"$f":"IFERROR(VLOOKUP($C53,AGR!$B$50:$V$70,MATCH(VLOOKUP(\"*\"&$AW53,$A$10:$J$11,$J$9,FALSE)&AE$7,AGR!$B$47:$V$47,0),FALSE),\"\")","v":""},{"$f":"IFERROR(VLOOKUP($C53,AGR!$B$50:$V$70,MATCH(VLOOKUP(\"*\"&$AW53,$A$10:$J$11,$J$9,FALSE)&AF$7,AGR!$B$47:$V$47,0),FALSE),\"\")","v":""},{"$f":"IFERROR(VLOOKUP($C53,AGR!$B$50:$V$70,MATCH(VLOOKUP(\"*\"&$AW53,$A$10:$J$11,$J$9,FALSE)&AG$7,AGR!$B$47:$V$47,0),FALSE),\"\")","v":""},{"$f":"IFERROR(VLOOKUP($C53,AGR!$B$50:$V$70,MATCH(VLOOKUP(\"*\"&$AW53,$A$10:$J$11,$J$9,FALSE)&AH$7,AGR!$B$47:$V$47,0),FALSE),\"\")","v":2.9002320185614852E-3},null,null,null,null,{"$f":"IFERROR(VLOOKUP($C53,AGR!$B$50:$V$70,MATCH(VLOOKUP(\"*\"&$AW53,$A$10:$J$11,$J$9,FALSE)&AM$7,AGR!$B$47:$V$47,0),FALSE),\"\")","v":""},null,null,null,null,{"$f":"IFERROR(VLOOKUP($C53,AGR!$B$50:$V$70,MATCH(VLOOKUP(\"*\"&$AW53,$A$10:$J$11,$J$9,FALSE)&AR$7,AGR!$B$47:$V$47,0),FALSE),\"\")","v":""},{"$f":"IFERROR(VLOOKUP($C53,AGR!$B$50:$V$70,MATCH(VLOOKUP(\"*\"&$AW53,$A$10:$J$11,$J$9,FALSE)&AS$7,AGR!$B$47:$V$47,0),FALSE),\"\")","v":""},{"$f":"IFERROR(VLOOKUP($C53,AGR!$B$50:$V$70,MATCH(VLOOKUP(\"*\"&$AW53,$A$10:$J$11,$J$9,FALSE)&AT$7,AGR!$B$47:$V$47,0),FALSE),\"\")","v":5.8004640371229707E-4},{"$f":"AT53","v":5.8004640371229707E-4},null,{"$f":"IF(AX52=AGR!$W$72,AW52+1,AW52)","v":2},{"$f":"IF(AW53=AW52,AX52+1,1)","v":18}]
[{"$f":"IF(LEFT(OFFSET(AGR!$A$49,AX54,0),2)=\"\\I\",\"*\",\"\")","v":"*"},{"$f":"IF(A54=\"*\",\"\",VLOOKUP(\"*\"&AW54,$A$9:$B$11,2,FALSE))","v":""},{"$f":"IF($A54=\"*\",\"\",OFFSET(AGR!$B$49,AX54,0))","v":""},{"$f":"IF($A54=\"*\",\"\",LEFT(C54,2))","v":""},"","","-","","",{"$f":"IF(A54=\"*\",\"\",IF(H54=\"UP\",1,0))","v":""},{"$f":"IFERROR(VLOOKUP($C54,AGR!$B$50:$V$70,MATCH(VLOOKUP(\"*\"&$AW54,$A$10:$J$11,$J$9,FALSE)&K$7,AGR!$B$47:$V$47,0),FALSE),\"\")","v":""},{"$f":"IFERROR(VLOOKUP($C54,AGR!$B$50:$V$70,MATCH(VLOOKUP(\"*\"&$AW54,$A$10:$J$11,$J$9,FALSE)&L$7,AGR!$B$47:$V$47,0),FALSE),\"\")","v":""},{"$f":"IFERROR(VLOOKUP($C54,AGR!$B$50:$V$70,MATCH(VLOOKUP(\"*\"&$AW54,$A$10:$J$11,$J$9,FALSE)&M$7,AGR!$B$47:$V$47,0),FALSE),\"\")","v":""},{"$f":"IFERROR(VLOOKUP($C54,AGR!$B$50:$V$70,MATCH(VLOOKUP(\"*\"&$AW54,$A$10:$J$11,$J$9,FALSE)&N$7,AGR!$B$47:$V$47,0),FALSE),\"\")","v":""},{"$f":"IFERROR(VLOOKUP($C54,AGR!$B$50:$V$70,MATCH(VLOOKUP(\"*\"&$AW54,$A$10:$J$11,$J$9,FALSE)&O$7,AGR!$B$47:$V$47,0),FALSE),\"\")","v":""},{"$f":"IFERROR(VLOOKUP($C54,AGR!$B$50:$V$70,MATCH(VLOOKUP(\"*\"&$AW54,$A$10:$J$11,$J$9,FALSE)&P$7,AGR!$B$47:$V$47,0),FALSE),\"\")","v":""},{"$f":"IFERROR(VLOOKUP($C54,AGR!$B$50:$V$70,MATCH(VLOOKUP(\"*\"&$AW54,$A$10:$J$11,$J$9,FALSE)&Q$7,AGR!$B$47:$V$47,0),FALSE),\"\")","v":""},{"$f":"IFERROR(VLOOKUP($C54,AGR!$B$50:$V$70,MATCH(VLOOKUP(\"*\"&$AW54,$A$10:$J$11,$J$9,FALSE)&R$7,AGR!$B$47:$V$47,0),FALSE),\"\")","v":""},{"$f":"IFERROR(VLOOKUP($C54,AGR!$B$50:$V$70,MATCH(VLOOKUP(\"*\"&$AW54,$A$10:$J$11,$J$9,FALSE)&S$7,AGR!$B$47:$V$47,0),FALSE),\"\")","v":""},{"$f":"IFERROR(VLOOKUP($C54,AGR!$B$50:$V$70,MATCH(VLOOKUP(\"*\"&$AW54,$A$10:$J$11,$J$9,FALSE)&T$7,AGR!$B$47:$V$47,0),FALSE),\"\")","v":""},{"$f":"IFERROR(VLOOKUP($C54,AGR!$B$50:$V$70,MATCH(VLOOKUP(\"*\"&$AW54,$A$10:$J$11,$J$9,FALSE)&U$7,AGR!$B$47:$V$47,0),FALSE),\"\")","v":""},{"$f":"IFERROR(VLOOKUP($C54,AGR!$B$50:$V$70,MATCH(VLOOKUP(\"*\"&$AW54,$A$10:$J$11,$J$9,FALSE)&V$7,AGR!$B$47:$V$47,0),FALSE),\"\")","v":""},{"$f":"IFERROR(VLOOKUP($C54,AGR!$B$50:$V$70,MATCH(VLOOKUP(\"*\"&$AW54,$A$10:$J$11,$J$9,FALSE)&W$7,AGR!$B$47:$V$47,0),FALSE),\"\")","v":""},{"$f":"IFERROR(VLOOKUP($C54,AGR!$B$50:$V$70,MATCH(VLOOKUP(\"*\"&$AW54,$A$10:$J$11,$J$9,FALSE)&X$7,AGR!$B$47:$V$47,0),FALSE),\"\")","v":""},{"$f":"IFERROR(VLOOKUP($C54,AGR!$B$50:$V$70,MATCH(VLOOKUP(\"*\"&$AW54,$A$10:$J$11,$J$9,FALSE)&Y$7,AGR!$B$47:$V$47,0),FALSE),\"\")","v":""},{"$f":"IFERROR(VLOOKUP($C54,AGR!$B$50:$V$70,MATCH(VLOOKUP(\"*\"&$AW54,$A$10:$J$11,$J$9,FALSE)&Z$7,AGR!$B$47:$V$47,0),FALSE),\"\")","v":""},{"$f":"IFERROR(VLOOKUP($C54,AGR!$B$50:$V$70,MATCH(VLOOKUP(\"*\"&$AW54,$A$10:$J$11,$J$9,FALSE)&AA$7,AGR!$B$47:$V$47,0),FALSE),\"\")","v":""},{"$f":"IFERROR(VLOOKUP($C54,AGR!$B$50:$V$70,MATCH(VLOOKUP(\"*\"&$AW54,$A$10:$J$11,$J$9,FALSE)&AB$7,AGR!$B$47:$V$47,0),FALSE),\"\")","v":""},{"$f":"IFERROR(VLOOKUP($C54,AGR!$B$50:$V$70,MATCH(VLOOKUP(\"*\"&$AW54,$A$10:$J$11,$J$9,FALSE)&AC$7,AGR!$B$47:$V$47,0),FALSE),\"\")","v":""},{"$f":"IFERROR(VLOOKUP($C54,AGR!$B$50:$V$70,MATCH(VLOOKUP(\"*\"&$AW54,$A$10:$J$11,$J$9,FALSE)&AD$7,AGR!$B$47:$V$47,0),FALSE),\"\")","v":""},{"$f":"IFERROR(VLOOKUP($C54,AGR!$B$50:$V$70,MATCH(VLOOKUP(\"*\"&$AW54,$A$10:$J$11,$J$9,FALSE)&AE$7,AGR!$B$47:$V$47,0),FALSE),\"\")","v":""},{"$f":"IFERROR(VLOOKUP($C54,AGR!$B$50:$V$70,MATCH(VLOOKUP(\"*\"&$AW54,$A$10:$J$11,$J$9,FALSE)&AF$7,AGR!$B$47:$V$47,0),FALSE),\"\")","v":""},{"$f":"IFERROR(VLOOKUP($C54,AGR!$B$50:$V$70,MATCH(VLOOKUP(\"*\"&$AW54,$A$10:$J$11,$J$9,FALSE)&AG$7,AGR!$B$47:$V$47,0),FALSE),\"\")","v":""},{"$f":"IFERROR(VLOOKUP($C54,AGR!$B$50:$V$70,MATCH(VLOOKUP(\"*\"&$AW54,$A$10:$J$11,$J$9,FALSE)&AH$7,AGR!$B$47:$V$47,0),FALSE),\"\")","v":""},null,null,null,null,{"$f":"IFERROR(VLOOKUP($C54,AGR!$B$50:$V$70,MATCH(VLOOKUP(\"*\"&$AW54,$A$10:$J$11,$J$9,FALSE)&AM$7,AGR!$B$47:$V$47,0),FALSE),\"\")","v":""},null,null,null,null,{"$f":"IFERROR(VLOOKUP($C54,AGR!$B$50:$V$70,MATCH(VLOOKUP(\"*\"&$AW54,$A$10:$J$11,$J$9,FALSE)&AR$7,AGR!$B$47:$V$47,0),FALSE),\"\")","v":""},{"$f":"IFERROR(VLOOKUP($C54,AGR!$B$50:$V$70,MATCH(VLOOKUP(\"*\"&$AW54,$A$10:$J$11,$J$9,FALSE)&AS$7,AGR!$B$47:$V$47,0),FALSE),\"\")","v":""},{"$f":"IFERROR(VLOOKUP($C54,AGR!$B$50:$V$70,MATCH(VLOOKUP(\"*\"&$AW54,$A$10:$J$11,$J$9,FALSE)&AT$7,AGR!$B$47:$V$47,0),FALSE),\"\")","v":""},{"$f":"AT54","v":""},null,{"$f":"IF(AX53=AGR!$W$72,AW53+1,AW53)","v":2},{"$f":"IF(AW54=AW53,AX53+1,1)","v":19}]
[{"$f":"IF(LEFT(OFFSET(AGR!$A$49,AX55,0),2)=\"\\I\",\"*\",\"\")","v":"*"},{"$f":"IF(A55=\"*\",\"\",VLOOKUP(\"*\"&AW55,$A$9:$B$11,2,FALSE))","v":""},{"$f":"IF($A55=\"*\",\"\",OFFSET(AGR!$B$49,AX55,0))","v":""},{"$f":"IF($A55=\"*\",\"\",LEFT(C55,2))","v":""},"","","-","","",{"$f":"IF(A55=\"*\",\"\",IF(H55=\"UP\",1,0))","v":""},{"$f":"IFERROR(VLOOKUP($C55,AGR!$B$50:$V$70,MATCH(VLOOKUP(\"*\"&$AW55,$A$10:$J$11,$J$9,FALSE)&K$7,AGR!$B$47:$V$47,0),FALSE),\"\")","v":""},{"$f":"IFERROR(VLOOKUP($C55,AGR!$B$50:$V$70,MATCH(VLOOKUP(\"*\"&$AW55,$A$10:$J$11,$J$9,FALSE)&L$7,AGR!$B$47:$V$47,0),FALSE),\"\")","v":""},{"$f":"IFERROR(VLOOKUP($C55,AGR!$B$50:$V$70,MATCH(VLOOKUP(\"*\"&$AW55,$A$10:$J$11,$J$9,FALSE)&M$7,AGR!$B$47:$V$47,0),FALSE),\"\")","v":""},{"$f":"IFERROR(VLOOKUP($C55,AGR!$B$50:$V$70,MATCH(VLOOKUP(\"*\"&$AW55,$A$10:$J$11,$J$9,FALSE)&N$7,AGR!$B$47:$V$47,0),FALSE),\"\")","v":""},{"$f":"IFERROR(VLOOKUP($C55,AGR!$B$50:$V$70,MATCH(VLOOKUP(\"*\"&$AW55,$A$10:$J$11,$J$9,FALSE)&O$7,AGR!$B$47:$V$47,0),FALSE),\"\")","v":""},{"$f":"IFERROR(VLOOKUP($C55,AGR!$B$50:$V$70,MATCH(VLOOKUP(\"*\"&$AW55,$A$10:$J$11,$J$9,FALSE)&P$7,AGR!$B$47:$V$47,0),FALSE),\"\")","v":""},{"$f":"IFERROR(VLOOKUP($C55,AGR!$B$50:$V$70,MATCH(VLOOKUP(\"*\"&$AW55,$A$10:$J$11,$J$9,FALSE)&Q$7,AGR!$B$47:$V$47,0),FALSE),\"\")","v":""},{"$f":"IFERROR(VLOOKUP($C55,AGR!$B$50:$V$70,MATCH(VLOOKUP(\"*\"&$AW55,$A$10:$J$11,$J$9,FALSE)&R$7,AGR!$B$47:$V$47,0),FALSE),\"\")","v":""},{"$f":"IFERROR(VLOOKUP($C55,AGR!$B$50:$V$70,MATCH(VLOOKUP(\"*\"&$AW55,$A$10:$J$11,$J$9,FALSE)&S$7,AGR!$B$47:$V$47,0),FALSE),\"\")","v":""},{"$f":"IFERROR(VLOOKUP($C55,AGR!$B$50:$V$70,MATCH(VLOOKUP(\"*\"&$AW55,$A$10:$J$11,$J$9,FALSE)&T$7,AGR!$B$47:$V$47,0),FALSE),\"\")","v":""},{"$f":"IFERROR(VLOOKUP($C55,AGR!$B$50:$V$70,MATCH(VLOOKUP(\"*\"&$AW55,$A$10:$J$11,$J$9,FALSE)&U$7,AGR!$B$47:$V$47,0),FALSE),\"\")","v":""},{"$f":"IFERROR(VLOOKUP($C55,AGR!$B$50:$V$70,MATCH(VLOOKUP(\"*\"&$AW55,$A$10:$J$11,$J$9,FALSE)&V$7,AGR!$B$47:$V$47,0),FALSE),\"\")","v":""},{"$f":"IFERROR(VLOOKUP($C55,AGR!$B$50:$V$70,MATCH(VLOOKUP(\"*\"&$AW55,$A$10:$J$11,$J$9,FALSE)&W$7,AGR!$B$47:$V$47,0),FALSE),\"\")","v":""},{"$f":"IFERROR(VLOOKUP($C55,AGR!$B$50:$V$70,MATCH(VLOOKUP(\"*\"&$AW55,$A$10:$J$11,$J$9,FALSE)&X$7,AGR!$B$47:$V$47,0),FALSE),\"\")","v":""},{"$f":"IFERROR(VLOOKUP($C55,AGR!$B$50:$V$70,MATCH(VLOOKUP(\"*\"&$AW55,$A$10:$J$11,$J$9,FALSE)&Y$7,AGR!$B$47:$V$47,0),FALSE),\"\")","v":""},{"$f":"IFERROR(VLOOKUP($C55,AGR!$B$50:$V$70,MATCH(VLOOKUP(\"*\"&$AW55,$A$10:$J$11,$J$9,FALSE)&Z$7,AGR!$B$47:$V$47,0),FALSE),\"\")","v":""},{"$f":"IFERROR(VLOOKUP($C55,AGR!$B$50:$V$70,MATCH(VLOOKUP(\"*\"&$AW55,$A$10:$J$11,$J$9,FALSE)&AA$7,AGR!$B$47:$V$47,0),FALSE),\"\")","v":""},{"$f":"IFERROR(VLOOKUP($C55,AGR!$B$50:$V$70,MATCH(VLOOKUP(\"*\"&$AW55,$A$10:$J$11,$J$9,FALSE)&AB$7,AGR!$B$47:$V$47,0),FALSE),\"\")","v":""},{"$f":"IFERROR(VLOOKUP($C55,AGR!$B$50:$V$70,MATCH(VLOOKUP(\"*\"&$AW55,$A$10:$J$11,$J$9,FALSE)&AC$7,AGR!$B$47:$V$47,0),FALSE),\"\")","v":""},{"$f":"IFERROR(VLOOKUP($C55,AGR!$B$50:$V$70,MATCH(VLOOKUP(\"*\"&$AW55,$A$10:$J$11,$J$9,FALSE)&AD$7,AGR!$B$47:$V$47,0),FALSE),\"\")","v":""},{"$f":"IFERROR(VLOOKUP($C55,AGR!$B$50:$V$70,MATCH(VLOOKUP(\"*\"&$AW55,$A$10:$J$11,$J$9,FALSE)&AE$7,AGR!$B$47:$V$47,0),FALSE),\"\")","v":""},{"$f":"IFERROR(VLOOKUP($C55,AGR!$B$50:$V$70,MATCH(VLOOKUP(\"*\"&$AW55,$A$10:$J$11,$J$9,FALSE)&AF$7,AGR!$B$47:$V$47,0),FALSE),\"\")","v":""},{"$f":"IFERROR(VLOOKUP($C55,AGR!$B$50:$V$70,MATCH(VLOOKUP(\"*\"&$AW55,$A$10:$J$11,$J$9,FALSE)&AG$7,AGR!$B$47:$V$47,0),FALSE),\"\")","v":""},{"$f":"IFERROR(VLOOKUP($C55,AGR!$B$50:$V$70,MATCH(VLOOKUP(\"*\"&$AW55,$A$10:$J$11,$J$9,FALSE)&AH$7,AGR!$B$47:$V$47,0),FALSE),\"\")","v":""},null,null,null,null,{"$f":"IFERROR(VLOOKUP($C55,AGR!$B$50:$V$70,MATCH(VLOOKUP(\"*\"&$AW55,$A$10:$J$11,$J$9,FALSE)&AM$7,AGR!$B$47:$V$47,0),FALSE),\"\")","v":""},null,null,null,null,{"$f":"IFERROR(VLOOKUP($C55,AGR!$B$50:$V$70,MATCH(VLOOKUP(\"*\"&$AW55,$A$10:$J$11,$J$9,FALSE)&AR$7,AGR!$B$47:$V$47,0),FALSE),\"\")","v":""},{"$f":"IFERROR(VLOOKUP($C55,AGR!$B$50:$V$70,MATCH(VLOOKUP(\"*\"&$AW55,$A$10:$J$11,$J$9,FALSE)&AS$7,AGR!$B$47:$V$47,0),FALSE),\"\")","v":""},{"$f":"IFERROR(VLOOKUP($C55,AGR!$B$50:$V$70,MATCH(VLOOKUP(\"*\"&$AW55,$A$10:$J$11,$J$9,FALSE)&AT$7,AGR!$B$47:$V$47,0),FALSE),\"\")","v":""},{"$f":"AT55","v":""},null,{"$f":"IF(AX54=AGR!$W$72,AW54+1,AW54)","v":2},{"$f":"IF(AW55=AW54,AX54+1,1)","v":20}]
[{"$f":"IF(LEFT(OFFSET(AGR!$A$49,AX56,0),2)=\"\\I\",\"*\",\"\")","v":""},"FLO_MARK",{"$f":"IF($A56=\"*\",\"\",OFFSET(AGR!$B$49,AX56,0))","v":"AOELC-E"},"AO","-","-","-","LO",0,0,{"$f":"IFERROR(VLOOKUP($C56,AGR!$B$50:$V$70,MATCH(VLOOKUP(\"*\"&$AW56,$A$10:$J$11,$J$9,FALSE)&K$7,AGR!$B$47:$V$47,0),FALSE),\"\")","v":""},{"$f":"IFERROR(VLOOKUP($C56,AGR!$B$50:$V$70,MATCH(VLOOKUP(\"*\"&$AW56,$A$10:$J$11,$J$9,FALSE)&L$7,AGR!$B$47:$V$47,0),FALSE),\"\")","v":""},{"$f":"IFERROR(VLOOKUP($C56,AGR!$B$50:$V$70,MATCH(VLOOKUP(\"*\"&$AW56,$A$10:$J$11,$J$9,FALSE)&M$7,AGR!$B$47:$V$47,0),FALSE),\"\")","v":""},{"$f":"IFERROR(VLOOKUP($C56,AGR!$B$50:$V$70,MATCH(VLOOKUP(\"*\"&$AW56,$A$10:$J$11,$J$9,FALSE)&N$7,AGR!$B$47:$V$47,0),FALSE),\"\")","v":0.5},{"$f":"IFERROR(VLOOKUP($C56,AGR!$B$50:$V$70,MATCH(VLOOKUP(\"*\"&$AW56,$A$10:$J$11,$J$9,FALSE)&O$7,AGR!$B$47:$V$47,0),FALSE),\"\")","v":""},{"$f":"IFERROR(VLOOKUP($C56,AGR!$B$50:$V$70,MATCH(VLOOKUP(\"*\"&$AW56,$A$10:$J$11,$J$9,FALSE)&P$7,AGR!$B$47:$V$47,0),FALSE),\"\")","v":""},{"$f":"IFERROR(VLOOKUP($C56,AGR!$B$50:$V$70,MATCH(VLOOKUP(\"*\"&$AW56,$A$10:$J$11,$J$9,FALSE)&Q$7,AGR!$B$47:$V$47,0),FALSE),\"\")","v":""},{"$f":"IFERROR(VLOOKUP($C56,AGR!$B$50:$V$70,MATCH(VLOOKUP(\"*\"&$AW56,$A$10:$J$11,$J$9,FALSE)&R$7,AGR!$B$47:$V$47,0),FALSE),\"\")","v":""},{"$f":"IFERROR(VLOOKUP($C56,AGR!$B$50:$V$70,MATCH(VLOOKUP(\"*\"&$AW56,$A$10:$J$11,$J$9,FALSE)&S$7,AGR!$B$47:$V$47,0),FALSE),\"\")","v":""},{"$f":"IFERROR(VLOOKUP($C56,AGR!$B$50:$V$70,MATCH(VLOOKUP(\"*\"&$AW56,$A$10:$J$11,$J$9,FALSE)&T$7,AGR!$B$47:$V$47,0),FALSE),\"\")","v":""},{"$f":"IFERROR(VLOOKUP($C56,AGR!$B$50:$V$70,MATCH(VLOOKUP(\"*\"&$AW56,$A$10:$J$11,$J$9,FALSE)&U$7,AGR!$B$47:$V$47,0),FALSE),\"\")","v":""},{"$f":"IFERROR(VLOOKUP($C56,AGR!$B$50:$V$70,MATCH(VLOOKUP(\"*\"&$AW56,$A$10:$J$11,$J$9,FALSE)&V$7,AGR!$B$47:$V$47,0),FALSE),\"\")","v":""},{"$f":"IFERROR(VLOOKUP($C56,AGR!$B$50:$V$70,MATCH(VLOOKUP(\"*\"&$AW56,$A$10:$J$11,$J$9,FALSE)&W$7,AGR!$B$47:$V$47,0),FALSE),\"\")","v":""},{"$f":"IFERROR(VLOOKUP($C56,AGR!$B$50:$V$70,MATCH(VLOOKUP(\"*\"&$AW56,$A$10:$J$11,$J$9,FALSE)&X$7,AGR!$B$47:$V$47,0),FALSE),\"\")","v":""},{"$f":"IFERROR(VLOOKUP($C56,AGR!$B$50:$V$70,MATCH(VLOOKUP(\"*\"&$AW56,$A$10:$J$11,$J$9,FALSE)&Y$7,AGR!$B$47:$V$47,0),FALSE),\"\")","v":""},{"$f":"IFERROR(VLOOKUP($C56,AGR!$B$50:$V$70,MATCH(VLOOKUP(\"*\"&$AW56,$A$10:$J$11,$J$9,FALSE)&Z$7,AGR!$B$47:$V$47,0),FALSE),\"\")","v":""},{"$f":"IFERROR(VLOOKUP($C56,AGR!$B$50:$V$70,MATCH(VLOOKUP(\"*\"&$AW56,$A$10:$J$11,$J$9,FALSE)&AA$7,AGR!$B$47:$V$47,0),FALSE),\"\")","v":""},{"$f":"IFERROR(VLOOKUP($C56,AGR!$B$50:$V$70,MATCH(VLOOKUP(\"*\"&$AW56,$A$10:$J$11,$J$9,FALSE)&AB$7,AGR!$B$47:$V$47,0),FALSE),\"\")","v":""},{"$f":"IFERROR(VLOOKUP($C56,AGR!$B$50:$V$70,MATCH(VLOOKUP(\"*\"&$AW56,$A$10:$J$11,$J$9,FALSE)&AC$7,AGR!$B$47:$V$47,0),FALSE),\"\")","v":""},{"$f":"IFERROR(VLOOKUP($C56,AGR!$B$50:$V$70,MATCH(VLOOKUP(\"*\"&$AW56,$A$10:$J$11,$J$9,FALSE)&AD$7,AGR!$B$47:$V$47,0),FALSE),\"\")","v":""},{"$f":"IFERROR(VLOOKUP($C56,AGR!$B$50:$V$70,MATCH(VLOOKUP(\"*\"&$AW56,$A$10:$J$11,$J$9,FALSE)&AE$7,AGR!$B$47:$V$47,0),FALSE),\"\")","v":""},{"$f":"IFERROR(VLOOKUP($C56,AGR!$B$50:$V$70,MATCH(VLOOKUP(\"*\"&$AW56,$A$10:$J$11,$J$9,FALSE)&AF$7,AGR!$B$47:$V$47,0),FALSE),\"\")","v":""},{"$f":"IFERROR(VLOOKUP($C56,AGR!$B$50:$V$70,MATCH(VLOOKUP(\"*\"&$AW56,$A$10:$J$11,$J$9,FALSE)&AG$7,AGR!$B$47:$V$47,0),FALSE),\"\")","v":""},{"$f":"IFERROR(VLOOKUP($C56,AGR!$B$50:$V$70,MATCH(VLOOKUP(\"*\"&$AW56,$A$10:$J$11,$J$9,FALSE)&AH$7,AGR!$B$47:$V$47,0),FALSE),\"\")","v":0.25},null,null,null,null,{"$f":"IFERROR(VLOOKUP($C56,AGR!$B$50:$V$70,MATCH(VLOOKUP(\"*\"&$AW56,$A$10:$J$11,$J$9,FALSE)&AM$7,AGR!$B$47:$V$47,0),FALSE),\"\")","v":""},null,null,null,null,{"$f":"IFERROR(VLOOKUP($C56,AGR!$B$50:$V$70,MATCH(VLOOKUP(\"*\"&$AW56,$A$10:$J$11,$J$9,FALSE)&AR$7,AGR!$B$47:$V$47,0),FALSE),\"\")","v":""},{"$f":"IFERROR(VLOOKUP($C56,AGR!$B$50:$V$70,MATCH(VLOOKUP(\"*\"&$AW56,$A$10:$J$11,$J$9,FALSE)&AS$7,AGR!$B$47:$V$47,0),FALSE),\"\")","v":""},{"$f":"IFERROR(VLOOKUP($C56,AGR!$B$50:$V$70,MATCH(VLOOKUP(\"*\"&$AW56,$A$10:$J$11,$J$9,FALSE)&AT$7,AGR!$B$47:$V$47,0),FALSE),\"\")","v":0.05},0.05,null,{"$f":"IF(AX55=AGR!$W$72,AW55+1,AW55)","v":2},21]
[{"$f":"IF(LEFT(OFFSET(AGR!$A$49,AX57,0),2)=\"\\I\",\"*\",\"\")","v":"*"},"",{"$f":"IF($A57=\"*\",\"\",OFFSET(AGR!$B$49,AX57,0))","v":""},"","","","-","","","",{"$f":"IFERROR(VLOOKUP($C57,AGR!$B$50:$V$70,MATCH(VLOOKUP(\"*\"&$AW57,$A$10:$J$11,$J$9,FALSE)&K$7,AGR!$B$47:$V$47,0),FALSE),\"\")","v":""},{"$f":"IFERROR(VLOOKUP($C57,AGR!$B$50:$V$70,MATCH(VLOOKUP(\"*\"&$AW57,$A$10:$J$11,$J$9,FALSE)&L$7,AGR!$B$47:$V$47,0),FALSE),\"\")","v":""},{"$f":"IFERROR(VLOOKUP($C57,AGR!$B$50:$V$70,MATCH(VLOOKUP(\"*\"&$AW57,$A$10:$J$11,$J$9,FALSE)&M$7,AGR!$B$47:$V$47,0),FALSE),\"\")","v":""},{"$f":"IFERROR(VLOOKUP($C57,AGR!$B$50:$V$70,MATCH(VLOOKUP(\"*\"&$AW57,$A$10:$J$11,$J$9,FALSE)&N$7,AGR!$B$47:$V$47,0),FALSE),\"\")","v":""},{"$f":"IFERROR(VLOOKUP($C57,AGR!$B$50:$V$70,MATCH(VLOOKUP(\"*\"&$AW57,$A$10:$J$11,$J$9,FALSE)&O$7,AGR!$B$47:$V$47,0),FALSE),\"\")","v":""},{"$f":"IFERROR(VLOOKUP($C57,AGR!$B$50:$V$70,MATCH(VLOOKUP(\"*\"&$AW57,$A$10:$J$11,$J$9,FALSE)&P$7,AGR!$B$47:$V$47,0),FALSE),\"\")","v":""},{"$f":"IFERROR(VLOOKUP($C57,AGR!$B$50:$V$70,MATCH(VLOOKUP(\"*\"&$AW57,$A$10:$J$11,$J$9,FALSE)&Q$7,AGR!$B$47:$V$47,0),FALSE),\"\")","v":""},{"$f":"IFERROR(VLOOKUP($C57,AGR!$B$50:$V$70,MATCH(VLOOKUP(\"*\"&$AW57,$A$10:$J$11,$J$9,FALSE)&R$7,AGR!$B$47:$V$47,0),FALSE),\"\")","v":""},{"$f":"IFERROR(VLOOKUP($C57,AGR!$B$50:$V$70,MATCH(VLOOKUP(\"*\"&$AW57,$A$10:$J$11,$J$9,FALSE)&S$7,AGR!$B$47:$V$47,0),FALSE),\"\")","v":""},{"$f":"IFERROR(VLOOKUP($C57,AGR!$B$50:$V$70,MATCH(VLOOKUP(\"*\"&$AW57,$A$10:$J$11,$J$9,FALSE)&T$7,AGR!$B$47:$V$47,0),FALSE),\"\")","v":""},{"$f":"IFERROR(VLOOKUP($C57,AGR!$B$50:$V$70,MATCH(VLOOKUP(\"*\"&$AW57,$A$10:$J$11,$J$9,FALSE)&U$7,AGR!$B$47:$V$47,0),FALSE),\"\")","v":""},{"$f":"IFERROR(VLOOKUP($C57,AGR!$B$50:$V$70,MATCH(VLOOKUP(\"*\"&$AW57,$A$10:$J$11,$J$9,FALSE)&V$7,AGR!$B$47:$V$47,0),FALSE),\"\")","v":""},{"$f":"IFERROR(VLOOKUP($C57,AGR!$B$50:$V$70,MATCH(VLOOKUP(\"*\"&$AW57,$A$10:$J$11,$J$9,FALSE)&W$7,AGR!$B$47:$V$47,0),FALSE),\"\")","v":""},{"$f":"IFERROR(VLOOKUP($C57,AGR!$B$50:$V$70,MATCH(VLOOKUP(\"*\"&$AW57,$A$10:$J$11,$J$9,FALSE)&X$7,AGR!$B$47:$V$47,0),FALSE),\"\")","v":""},{"$f":"IFERROR(VLOOKUP($C57,AGR!$B$50:$V$70,MATCH(VLOOKUP(\"*\"&$AW57,$A$10:$J$11,$J$9,FALSE)&Y$7,AGR!$B$47:$V$47,0),FALSE),\"\")","v":""},{"$f":"IFERROR(VLOOKUP($C57,AGR!$B$50:$V$70,MATCH(VLOOKUP(\"*\"&$AW57,$A$10:$J$11,$J$9,FALSE)&Z$7,AGR!$B$47:$V$47,0),FALSE),\"\")","v":""},{"$f":"IFERROR(VLOOKUP($C57,AGR!$B$50:$V$70,MATCH(VLOOKUP(\"*\"&$AW57,$A$10:$J$11,$J$9,FALSE)&AA$7,AGR!$B$47:$V$47,0),FALSE),\"\")","v":""},{"$f":"IFERROR(VLOOKUP($C57,AGR!$B$50:$V$70,MATCH(VLOOKUP(\"*\"&$AW57,$A$10:$J$11,$J$9,FALSE)&AB$7,AGR!$B$47:$V$47,0),FALSE),\"\")","v":""},{"$f":"IFERROR(VLOOKUP($C57,AGR!$B$50:$V$70,MATCH(VLOOKUP(\"*\"&$AW57,$A$10:$J$11,$J$9,FALSE)&AC$7,AGR!$B$47:$V$47,0),FALSE),\"\")","v":""},{"$f":"IFERROR(VLOOKUP($C57,AGR!$B$50:$V$70,MATCH(VLOOKUP(\"*\"&$AW57,$A$10:$J$11,$J$9,FALSE)&AD$7,AGR!$B$47:$V$47,0),FALSE),\"\")","v":""},{"$f":"IFERROR(VLOOKUP($C57,AGR!$B$50:$V$70,MATCH(VLOOKUP(\"*\"&$AW57,$A$10:$J$11,$J$9,FALSE)&AE$7,AGR!$B$47:$V$47,0),FALSE),\"\")","v":""},{"$f":"IFERROR(VLOOKUP($C57,AGR!$B$50:$V$70,MATCH(VLOOKUP(\"*\"&$AW57,$A$10:$J$11,$J$9,FALSE)&AF$7,AGR!$B$47:$V$47,0),FALSE),\"\")","v":""},{"$f":"IFERROR(VLOOKUP($C57,AGR!$B$50:$V$70,MATCH(VLOOKUP(\"*\"&$AW57,$A$10:$J$11,$J$9,FALSE)&AG$7,AGR!$B$47:$V$47,0),FALSE),\"\")","v":""},{"$f":"IFERROR(VLOOKUP($C57,AGR!$B$50:$V$70,MATCH(VLOOKUP(\"*\"&$AW57,$A$10:$J$11,$J$9,FALSE)&AH$7,AGR!$B$47:$V$47,0),FALSE),\"\")","v":""},null,null,null,null,{"$f":"IFERROR(VLOOKUP($C57,AGR!$B$50:$V$70,MATCH(VLOOKUP(\"*\"&$AW57,$A$10:$J$11,$J$9,FALSE)&AM$7,AGR!$B$47:$V$47,0),FALSE),\"\")","v":""},null,null,null,null,{"$f":"IFERROR(VLOOKUP($C57,AGR!$B$50:$V$70,MATCH(VLOOKUP(\"*\"&$AW57,$A$10:$J$11,$J$9,FALSE)&AR$7,AGR!$B$47:$V$47,0),FALSE),\"\")","v":""},{"$f":"IFERROR(VLOOKUP($C57,AGR!$B$50:$V$70,MATCH(VLOOKUP(\"*\"&$AW57,$A$10:$J$11,$J$9,FALSE)&AS$7,AGR!$B$47:$V$47,0),FALSE),\"\")","v":""},{"$f":"IFERROR(VLOOKUP($C57,AGR!$B$50:$V$70,MATCH(VLOOKUP(\"*\"&$AW57,$A$10:$J$11,$J$9,FALSE)&AT$7,AGR!$B$47:$V$47,0),FALSE),\"\")","v":""},"",null,{"$f":"IF(AX56=AGR!$W$72,AW56+1,AW56)","v":2},22]
[{"$f":"IF(LEFT(OFFSET(AGR!$A$49,AX58,0),2)=\"\\I\",\"*\",\"\")","v":"*"},"",{"$f":"IF($A58=\"*\",\"\",OFFSET(AGR!$B$49,AX58,0))","v":""},"","","","-","","","",{"$f":"IFERROR(VLOOKUP($C58,AGR!$B$50:$V$70,MATCH(VLOOKUP(\"*\"&$AW58,$A$10:$J$11,$J$9,FALSE)&K$7,AGR!$B$47:$V$47,0),FALSE),\"\")","v":""},{"$f":"IFERROR(VLOOKUP($C58,AGR!$B$50:$V$70,MATCH(VLOOKUP(\"*\"&$AW58,$A$10:$J$11,$J$9,FALSE)&L$7,AGR!$B$47:$V$47,0),FALSE),\"\")","v":""},{"$f":"IFERROR(VLOOKUP($C58,AGR!$B$50:$V$70,MATCH(VLOOKUP(\"*\"&$AW58,$A$10:$J$11,$J$9,FALSE)&M$7,AGR!$B$47:$V$47,0),FALSE),\"\")","v":""},{"$f":"IFERROR(VLOOKUP($C58,AGR!$B$50:$V$70,MATCH(VLOOKUP(\"*\"&$AW58,$A$10:$J$11,$J$9,FALSE)&N$7,AGR!$B$47:$V$47,0),FALSE),\"\")","v":""},{"$f":"IFERROR(VLOOKUP($C58,AGR!$B$50:$V$70,MATCH(VLOOKUP(\"*\"&$AW58,$A$10:$J$11,$J$9,FALSE)&O$7,AGR!$B$47:$V$47,0),FALSE),\"\")","v":""},{"$f":"IFERROR(VLOOKUP($C58,AGR!$B$50:$V$70,MATCH(VLOOKUP(\"*\"&$AW58,$A$10:$J$11,$J$9,FALSE)&P$7,AGR!$B$47:$V$47,0),FALSE),\"\")","v":""},{"$f":"IFERROR(VLOOKUP($C58,AGR!$B$50:$V$70,MATCH(VLOOKUP(\"*\"&$AW58,$A$10:$J$11,$J$9,FALSE)&Q$7,AGR!$B$47:$V$47,0),FALSE),\"\")","v":""},{"$f":"IFERROR(VLOOKUP($C58,AGR!$B$50:$V$70,MATCH(VLOOKUP(\"*\"&$AW58,$A$10:$J$11,$J$9,FALSE)&R$7,AGR!$B$47:$V$47,0),FALSE),\"\")","v":""},{"$f":"IFERROR(VLOOKUP($C58,AGR!$B$50:$V$70,MATCH(VLOOKUP(\"*\"&$AW58,$A$10:$J$11,$J$9,FALSE)&S$7,AGR!$B$47:$V$47,0),FALSE),\"\")","v":""},{"$f":"IFERROR(VLOOKUP($C58,AGR!$B$50:$V$70,MATCH(VLOOKUP(\"*\"&$AW58,$A$10:$J$11,$J$9,FALSE)&T$7,AGR!$B$47:$V$47,0),FALSE),\"\")","v":""},{"$f":"IFERROR(VLOOKUP($C58,AGR!$B$50:$V$70,MATCH(VLOOKUP(\"*\"&$AW58,$A$10:$J$11,$J$9,FALSE)&U$7,AGR!$B$47:$V$47,0),FALSE),\"\")","v":""},{"$f":"IFERROR(VLOOKUP($C58,AGR!$B$50:$V$70,MATCH(VLOOKUP(\"*\"&$AW58,$A$10:$J$11,$J$9,FALSE)&V$7,AGR!$B$47:$V$47,0),FALSE),\"\")","v":""},{"$f":"IFERROR(VLOOKUP($C58,AGR!$B$50:$V$70,MATCH(VLOOKUP(\"*\"&$AW58,$A$10:$J$11,$J$9,FALSE)&W$7,AGR!$B$47:$V$47,0),FALSE),\"\")","v":""},{"$f":"IFERROR(VLOOKUP($C58,AGR!$B$50:$V$70,MATCH(VLOOKUP(\"*\"&$AW58,$A$10:$J$11,$J$9,FALSE)&X$7,AGR!$B$47:$V$47,0),FALSE),\"\")","v":""},{"$f":"IFERROR(VLOOKUP($C58,AGR!$B$50:$V$70,MATCH(VLOOKUP(\"*\"&$AW58,$A$10:$J$11,$J$9,FALSE)&Y$7,AGR!$B$47:$V$47,0),FALSE),\"\")","v":""},{"$f":"IFERROR(VLOOKUP($C58,AGR!$B$50:$V$70,MATCH(VLOOKUP(\"*\"&$AW58,$A$10:$J$11,$J$9,FALSE)&Z$7,AGR!$B$47:$V$47,0),FALSE),\"\")","v":""},{"$f":"IFERROR(VLOOKUP($C58,AGR!$B$50:$V$70,MATCH(VLOOKUP(\"*\"&$AW58,$A$10:$J$11,$J$9,FALSE)&AA$7,AGR!$B$47:$V$47,0),FALSE),\"\")","v":""},{"$f":"IFERROR(VLOOKUP($C58,AGR!$B$50:$V$70,MATCH(VLOOKUP(\"*\"&$AW58,$A$10:$J$11,$J$9,FALSE)&AB$7,AGR!$B$47:$V$47,0),FALSE),\"\")","v":""},{"$f":"IFERROR(VLOOKUP($C58,AGR!$B$50:$V$70,MATCH(VLOOKUP(\"*\"&$AW58,$A$10:$J$11,$J$9,FALSE)&AC$7,AGR!$B$47:$V$47,0),FALSE),\"\")","v":""},{"$f":"IFERROR(VLOOKUP($C58,AGR!$B$50:$V$70,MATCH(VLOOKUP(\"*\"&$AW58,$A$10:$J$11,$J$9,FALSE)&AD$7,AGR!$B$47:$V$47,0),FALSE),\"\")","v":""},{"$f":"IFERROR(VLOOKUP($C58,AGR!$B$50:$V$70,MATCH(VLOOKUP(\"*\"&$AW58,$A$10:$J$11,$J$9,FALSE)&AE$7,AGR!$B$47:$V$47,0),FALSE),\"\")","v":""},{"$f":"IFERROR(VLOOKUP($C58,AGR!$B$50:$V$70,MATCH(VLOOKUP(\"*\"&$AW58,$A$10:$J$11,$J$9,FALSE)&AF$7,AGR!$B$47:$V$47,0),FALSE),\"\")","v":""},{"$f":"IFERROR(VLOOKUP($C58,AGR!$B$50:$V$70,MATCH(VLOOKUP(\"*\"&$AW58,$A$10:$J$11,$J$9,FALSE)&AG$7,AGR!$B$47:$V$47,0),FALSE),\"\")","v":""},{"$f":"IFERROR(VLOOKUP($C58,AGR!$B$50:$V$70,MATCH(VLOOKUP(\"*\"&$AW58,$A$10:$J$11,$J$9,FALSE)&AH$7,AGR!$B$47:$V$47,0),FALSE),\"\")","v":""},null,null,null,null,{"$f":"IFERROR(VLOOKUP($C58,AGR!$B$50:$V$70,MATCH(VLOOKUP(\"*\"&$AW58,$A$10:$J$11,$J$9,FALSE)&AM$7,AGR!$B$47:$V$47,0),FALSE),\"\")","v":""},null,null,null,null,{"$f":"IFERROR(VLOOKUP($C58,AGR!$B$50:$V$70,MATCH(VLOOKUP(\"*\"&$AW58,$A$10:$J$11,$J$9,FALSE)&AR$7,AGR!$B$47:$V$47,0),FALSE),\"\")","v":""},{"$f":"IFERROR(VLOOKUP($C58,AGR!$B$50:$V$70,MATCH(VLOOKUP(\"*\"&$AW58,$A$10:$J$11,$J$9,FALSE)&AS$7,AGR!$B$47:$V$47,0),FALSE),\"\")","v":""},{"$f":"IFERROR(VLOOKUP($C58,AGR!$B$50:$V$70,MATCH(VLOOKUP(\"*\"&$AW58,$A$10:$J$11,$J$9,FALSE)&AT$7,AGR!$B$47:$V$47,0),FALSE),\"\")","v":""},"",null,{"$f":"IF(AX57=AGR!$W$72,AW57+1,AW57)","v":2},23]

{"sheet":"TID DTech","index":15,"n_rows":105,"n_cols":13,"rows_kept":105,"cut":false,"hidden":false,"merged":[]}
["TID DATA","REGION1",null,null,null,null,null,null,null,null,"*","*","*"]
["*",null,null,null,null,null,null,null,null,null,"Parameter #","row #","Col #"]
["*"]
["*"]
["*"]
["*"]
["*","Parameter","Arg1","Arg2","Arg3","Arg4","Arg5","Arg6","Value"]
["*"]
["*1","PRC_ACTUNT","Process","-","CommGroup","-","-","-",1,null,null,null,{"$f":"AGR!$D$48","v":2}]
["*2","PRC_CAPACT","Process","-","-","-","-","-",1]
["*3","TOP-OUT","Process","Commodity","-","-","-","-",1,null,null,null,{"$f":"AGR!$D$48","v":2}]
["*4","TOP-IN","Process","Commodity","-","-","-","-",1,null,null,null,{"$f":"AGR!$C$48","v":1}]
["*"]
[{"$f":"IF(LEFT(OFFSET(AGR!$A$49,L14,0),2)=\"\\I\",\"*\",\"\")","v":""},{"$f":"IF(A14=\"*\",\"\",VLOOKUP(\"*\"&K14,$A$9:$B$14,2,FALSE))","v":"PRC_ACTUNT"},{"$f":"IF($A14=\"*\",\"\",OFFSET(AGR!$B$49,L14,0))","v":"AHCOA-E"},{"$f":"IF($A14=\"*\",\"\",IF(LEFT($B14,3)=\"TOP\",OFFSET(AGR!$B$49,$L14,SUMIF($B$9:$B$12,$B14,$M$9:$M$12)),\"-\"))","v":"-"},{"$f":"IF($A14=\"*\",\"\",IF($B14=\"PRC_ACTUNT\",OFFSET(AGR!$B$49,$L14,SUMIF($B$9:$B$12,$B14,$M$9:$M$12)),\"-\"))","v":"AH"},{"$f":"IF($A14=\"*\",\"\",\"-\")","v":"-"},{"$f":"IF($A14=\"*\",\"\",\"-\")","v":"-"},"-",{"$f":"IF($A14=\"*\",\"\",SUMIF($B$9:$B$12,B14,$I$9:$I$12))","v":1},null,1,1]
[{"$f":"IF(LEFT(OFFSET(AGR!$A$49,L15,0),2)=\"\\I\",\"*\",\"\")","v":""},{"$f":"IF(A15=\"*\",\"\",VLOOKUP(\"*\"&K15,$A$9:$B$14,2,FALSE))","v":"PRC_ACTUNT"},{"$f":"IF($A15=\"*\",\"\",OFFSET(AGR!$B$49,L15,0))","v":"AHOHF-E"},{"$f":"IF($A15=\"*\",\"\",IF(LEFT($B15,3)=\"TOP\",OFFSET(AGR!$B$49,$L15,SUMIF($B$9:$B$12,$B15,$M$9:$M$12)),\"-\"))","v":"-"},{"$f":"IF($A15=\"*\",\"\",IF($B15=\"PRC_ACTUNT\",OFFSET(AGR!$B$49,$L15,SUMIF($B$9:$B$12,$B15,$M$9:$M$12)),\"-\"))","v":"AH"},{"$f":"IF($A15=\"*\",\"\",\"-\")","v":"-"},"-","-",{"$f":"IF($A15=\"*\",\"\",SUMIF($B$9:$B$12,B15,$I$9:$I$12))","v":1},null,{"$f":"IF(L14=AGR!$W$72,K14+1,K14)","v":1},{"$f":"IF(K15=K14,L14+1,1)","v":2}]
[{"$f":"IF(LEFT(OFFSET(AGR!$A$49,L16,0),2)=\"\\I\",\"*\",\"\")","v":""},"PRC_ACTUNT",{"$f":"IF($A16=\"*\",\"\",OFFSET(AGR!$B$49,L16,0))","v":"AHOKE-E"},{"$f":"IF($A16=\"*\",\"\",IF(LEFT($B16,3)=\"TOP\",OFFSET(AGR!$B$49,$L16,SUMIF($B$9:$B$12,$B16,$M$9:$M$12)),\"-\"))","v":"-"},{"$f":"IF($A16=\"*\",\"\",IF($B16=\"PRC_ACTUNT\",OFFSET(AGR!$B$49,$L16,SUMIF($B$9:$B$12,$B16,$M$9:$M$12)),\"-\"))","v":"AH"},"-","-","-",1,null,{"$f":"IF(L15=AGR!$W$72,K15+1,K15)","v":1},{"$f":"IF(K16=K15,L15+1,1)","v":3}]
[{"$f":"IF(LEFT(OFFSET(AGR!$A$49,L17,0),2)=\"\\I\",\"*\",\"\")","v":""},"PRC_ACTUNT",{"$f":"IF($A17=\"*\",\"\",OFFSET(AGR!$B$49,L17,0))","v":"AHOLP-E"},{"$f":"IF($A17=\"*\",\"\",IF(LEFT($B17,3)=\"TOP\",OFFSET(AGR!$B$49,$L17,SUMIF($B$9:$B$12,$B17,$M$9:$M$12)),\"-\"))","v":"-"},{"$f":"IF($A17=\"*\",\"\",IF($B17=\"PRC_ACTUNT\",OFFSET(AGR!$B$49,$L17,SUMIF($B$9:$B$12,$B17,$M$9:$M$12)),\"-\"))","v":"AH"},"-","-","-",1,null,{"$f":"IF(L16=AGR!$W$72,K16+1,K16)","v":1},4]
[{"$f":"IF(LEFT(OFFSET(AGR!$A$49,L18,0),2)=\"\\I\",\"*\",\"\")","v":""},"PRC_ACTUNT",{"$f":"IF($A18=\"*\",\"\",OFFSET(AGR!$B$49,L18,0))","v":"AHELC-E"},{"$f":"IF($A18=\"*\",\"\",IF(LEFT($B18,3)=\"TOP\",OFFSET(AGR!$B$49,$L18,SUMIF($B$9:$B$12,$B18,$M$9:$M$12)),\"-\"))","v":"-"},{"$f":"IF($A18=\"*\",\"\",IF($B18=\"PRC_ACTUNT\",OFFSET(AGR!$B$49,$L18,SUMIF($B$9:$B$12,$B18,$M$9:$M$12)),\"-\"))","v":"AH"},"-","-","-",1,null,{"$f":"IF(L17=AGR!$W$72,K17+1,K17)","v":1},5]
[{"$f":"IF(LEFT(OFFSET(AGR!$A$49,L19,0),2)=\"\\I\",\"*\",\"\")","v":"*"},"",{"$f":"IF($A19=\"*\",\"\",OFFSET(AGR!$B$49,L19,0))","v":""},{"$f":"IF($A19=\"*\",\"\",IF(LEFT($B19,3)=\"TOP\",OFFSET(AGR!$B$49,$L19,SUMIF($B$9:$B$12,$B19,$M$9:$M$12)),\"-\"))","v":""},{"$f":"IF($A19=\"*\",\"\",IF($B19=\"PRC_ACTUNT\",OFFSET(AGR!$B$49,$L19,SUMIF($B$9:$B$12,$B19,$M$9:$M$12)),\"-\"))","v":""},"","","","",null,{"$f":"IF(L18=AGR!$W$72,K18+1,K18)","v":1},6]
[{"$f":"IF(LEFT(OFFSET(AGR!$A$49,L20,0),2)=\"\\I\",\"*\",\"\")","v":"*"},"",{"$f":"IF($A20=\"*\",\"\",OFFSET(AGR!$B$49,L20,0))","v":""},{"$f":"IF($A20=\"*\",\"\",IF(LEFT($B20,3)=\"TOP\",OFFSET(AGR!$B$49,$L20,SUMIF($B$9:$B$12,$B20,$M$9:$M$12)),\"-\"))","v":""},{"$f":"IF($A20=\"*\",\"\",IF($B20=\"PRC_ACTUNT\",OFFSET(AGR!$B$49,$L20,SUMIF($B$9:$B$12,$B20,$M$9:$M$12)),\"-\"))","v":""},"","","","",null,{"$f":"IF(L19=AGR!$W$72,K19+1,K19)","v":1},7]
[{"$f":"IF(LEFT(OFFSET(AGR!$A$49,L21,0),2)=\"\\I\",\"*\",\"\")","v":""},"PRC_ACTUNT",{"$f":"IF($A21=\"*\",\"\",OFFSET(AGR!$B$49,L21,0))","v":"APELC-E"},{"$f":"IF($A21=\"*\",\"\",IF(LEFT($B21,3)=\"TOP\",OFFSET(AGR!$B$49,$L21,SUMIF($B$9:$B$12,$B21,$M$9:$M$12)),\"-\"))","v":"-"},{"$f":"IF($A21=\"*\",\"\",IF($B21=\"PRC_ACTUNT\",OFFSET(AGR!$B$49,$L21,SUMIF($B$9:$B$12,$B21,$M$9:$M$12)),\"-\"))","v":"AP"},"-","-","-",1,null,{"$f":"IF(L20=AGR!$W$72,K20+1,K20)","v":1},8]
[{"$f":"IF(LEFT(OFFSET(AGR!$A$49,L22,0),2)=\"\\I\",\"*\",\"\")","v":"*"},"",{"$f":"IF($A22=\"*\",\"\",OFFSET(AGR!$B$49,L22,0))","v":""},{"$f":"IF($A22=\"*\",\"\",IF(LEFT($B22,3)=\"TOP\",OFFSET(AGR!$B$49,$L22,SUMIF($B$9:$B$12,$B22,$M$9:$M$12)),\"-\"))","v":""},{"$f":"IF($A22=\"*\",\"\",IF($B22=\"PRC_ACTUNT\",OFFSET(AGR!$B$49,$L22,SUMIF($B$9:$B$12,$B22,$M$9:$M$12)),\"-\"))","v":""},"","","","",null,{"$f":"IF(L21=AGR!$W$72,K21+1,K21)","v":1},9]
[{"$f":"IF(LEFT(OFFSET(AGR!$A$49,L23,0),2)=\"\\I\",\"*\",\"\")","v":"*"},"",{"$f":"IF($A23=\"*\",\"\",OFFSET(AGR!$B$49,L23,0))","v":""},{"$f":"IF($A23=\"*\",\"\",IF(LEFT($B23,3)=\"TOP\",OFFSET(AGR!$B$49,$L23,SUMIF($B$9:$B$12,$B23,$M$9:$M$12)),\"-\"))","v":""},{"$f":"IF($A23=\"*\",\"\",IF($B23=\"PRC_ACTUNT\",OFFSET(AGR!$B$49,$L23,SUMIF($B$9:$B$12,$B23,$M$9:$M$12)),\"-\"))","v":""},"","","","",null,{"$f":"IF(L22=AGR!$W$72,K22+1,K22)","v":1},10]
[{"$f":"IF(LEFT(OFFSET(AGR!$A$49,L24,0),2)=\"\\I\",\"*\",\"\")","v":""},"PRC_ACTUNT",{"$f":"IF($A24=\"*\",\"\",OFFSET(AGR!$B$49,L24,0))","v":"ATODS-E"},{"$f":"IF($A24=\"*\",\"\",IF(LEFT($B24,3)=\"TOP\",OFFSET(AGR!$B$49,$L24,SUMIF($B$9:$B$12,$B24,$M$9:$M$12)),\"-\"))","v":"-"},{"$f":"IF($A24=\"*\",\"\",IF($B24=\"PRC_ACTUNT\",OFFSET(AGR!$B$49,$L24,SUMIF($B$9:$B$12,$B24,$M$9:$M$12)),\"-\"))","v":"AT"},"-","-","-",1,null,{"$f":"IF(L23=AGR!$W$72,K23+1,K23)","v":1},11]
[{"$f":"IF(LEFT(OFFSET(AGR!$A$49,L25,0),2)=\"\\I\",\"*\",\"\")","v":""},"PRC_ACTUNT",{"$f":"IF($A25=\"*\",\"\",OFFSET(AGR!$B$49,L25,0))","v":"ATELC-E"},{"$f":"IF($A25=\"*\",\"\",IF(LEFT($B25,3)=\"TOP\",OFFSET(AGR!$B$49,$L25,SUMIF($B$9:$B$12,$B25,$M$9:$M$12)),\"-\"))","v":"-"},{"$f":"IF($A25=\"*\",\"\",IF($B25=\"PRC_ACTUNT\",OFFSET(AGR!$B$49,$L25,SUMIF($B$9:$B$12,$B25,$M$9:$M$12)),\"-\"))","v":"AT"},"-","-","-",1,null,{"$f":"IF(L24=AGR!$W$72,K24+1,K24)","v":1},12]
[{"$f":"IF(LEFT(OFFSET(AGR!$A$49,L26,0),2)=\"\\I\",\"*\",\"\")","v":""},"PRC_ACTUNT",{"$f":"IF($A26=\"*\",\"\",OFFSET(AGR!$B$49,L26,0))","v":"ATOGS-E"},{"$f":"IF($A26=\"*\",\"\",IF(LEFT($B26,3)=\"TOP\",OFFSET(AGR!$B$49,$L26,SUMIF($B$9:$B$12,$B26,$M$9:$M$12)),\"-\"))","v":"-"},{"$f":"IF($A26=\"*\",\"\",IF($B26=\"PRC_ACTUNT\",OFFSET(AGR!$B$49,$L26,SUMIF($B$9:$B$12,$B26,$M$9:$M$12)),\"-\"))","v":"AT"},"-","-","-",1,null,{"$f":"IF(L25=AGR!$W$72,K25+1,K25)","v":1},13]
[{"$f":"IF(LEFT(OFFSET(AGR!$A$49,L27,0),2)=\"\\I\",\"*\",\"\")","v":"*"},"",{"$f":"IF($A27=\"*\",\"\",OFFSET(AGR!$B$49,L27,0))","v":""},{"$f":"IF($A27=\"*\",\"\",IF(LEFT($B27,3)=\"TOP\",OFFSET(AGR!$B$49,$L27,SUMIF($B$9:$B$12,$B27,$M$9:$M$12)),\"-\"))","v":""},{"$f":"IF($A27=\"*\",\"\",IF($B27=\"PRC_ACTUNT\",OFFSET(AGR!$B$49,$L27,SUMIF($B$9:$B$12,$B27,$M$9:$M$12)),\"-\"))","v":""},"","","","",null,{"$f":"IF(L26=AGR!$W$72,K26+1,K26)","v":1},14]
[{"$f":"IF(LEFT(OFFSET(AGR!$A$49,L28,0),2)=\"\\I\",\"*\",\"\")","v":"*"},"",{"$f":"IF($A28=\"*\",\"\",OFFSET(AGR!$B$49,L28,0))","v":""},{"$f":"IF($A28=\"*\",\"\",IF(LEFT($B28,3)=\"TOP\",OFFSET(AGR!$B$49,$L28,SUMIF($B$9:$B$12,$B28,$M$9:$M$12)),\"-\"))","v":""},{"$f":"IF($A28=\"*\",\"\",IF($B28=\"PRC_ACTUNT\",OFFSET(AGR!$B$49,$L28,SUMIF($B$9:$B$12,$B28,$M$9:$M$12)),\"-\"))","v":""},"","","","",null,{"$f":"IF(L27=AGR!$W$72,K27+1,K27)","v":1},15]
[{"$f":"IF(LEFT(OFFSET(AGR!$A$49,L29,0),2)=\"\\I\",\"*\",\"\")","v":""},"PRC_ACTUNT",{"$f":"IF($A29=\"*\",\"\",OFFSET(AGR!$B$49,L29,0))","v":"AIODS-E"},{"$f":"IF($A29=\"*\",\"\",IF(LEFT($B29,3)=\"TOP\",OFFSET(AGR!$B$49,$L29,SUMIF($B$9:$B$12,$B29,$M$9:$M$12)),\"-\"))","v":"-"},{"$f":"IF($A29=\"*\",\"\",IF($B29=\"PRC_ACTUNT\",OFFSET(AGR!$B$49,$L29,SUMIF($B$9:$B$12,$B29,$M$9:$M$12)),\"-\"))","v":"AI"},"-","-","-",1,null,{"$f":"IF(L28=AGR!$W$72,K28+1,K28)","v":1},16]
[{"$f":"IF(LEFT(OFFSET(AGR!$A$49,L30,0),2)=\"\\I\",\"*\",\"\")","v":""},"PRC_ACTUNT",{"$f":"IF($A30=\"*\",\"\",OFFSET(AGR!$B$49,L30,0))","v":"AIELC-E"},{"$f":"IF($A30=\"*\",\"\",IF(LEFT($B30,3)=\"TOP\",OFFSET(AGR!$B$49,$L30,SUMIF($B$9:$B$12,$B30,$M$9:$M$12)),\"-\"))","v":"-"},{"$f":"IF($A30=\"*\",\"\",IF($B30=\"PRC_ACTUNT\",OFFSET(AGR!$B$49,$L30,SUMIF($B$9:$B$12,$B30,$M$9:$M$12)),\"-\"))","v":"AI"},"-","-","-",1,null,{"$f":"IF(L29=AGR!$W$72,K29+1,K29)","v":1},17]
[{"$f":"IF(LEFT(OFFSET(AGR!$A$49,L31,0),2)=\"\\I\",\"*\",\"\")","v":""},"PRC_ACTUNT",{"$f":"IF($A31=\"*\",\"\",OFFSET(AGR!$B$49,L31,0))","v":"AIOGS-E"},{"$f":"IF($A31=\"*\",\"\",IF(LEFT($B31,3)=\"TOP\",OFFSET(AGR!$B$49,$L31,SUMIF($B$9:$B$12,$B31,$M$9:$M$12)),\"-\"))","v":"-"},{"$f":"IF($A31=\"*\",\"\",IF($B31=\"PRC_ACTUNT\",OFFSET(AGR!$B$49,$L31,SUMIF($B$9:$B$12,$B31,$M$9:$M$12)),\"-\"))","v":"AI"},"-","-","-",1,null,{"$f":"IF(L30=AGR!$W$72,K30+1,K30)","v":1},18]
[{"$f":"IF(LEFT(OFFSET(AGR!$A$49,L32,0),2)=\"\\I\",\"*\",\"\")","v":"*"},"",{"$f":"IF($A32=\"*\",\"\",OFFSET(AGR!$B$49,L32,0))","v":""},{"$f":"IF($A32=\"*\",\"\",IF(LEFT($B32,3)=\"TOP\",OFFSET(AGR!$B$49,$L32,SUMIF($B$9:$B$12,$B32,$M$9:$M$12)),\"-\"))","v":""},{"$f":"IF($A32=\"*\",\"\",IF($B32=\"PRC_ACTUNT\",OFFSET(AGR!$B$49,$L32,SUMIF($B$9:$B$12,$B32,$M$9:$M$12)),\"-\"))","v":""},"","","","",null,{"$f":"IF(L31=AGR!$W$72,K31+1,K31)","v":1},19]
[{"$f":"IF(LEFT(OFFSET(AGR!$A$49,L33,0),2)=\"\\I\",\"*\",\"\")","v":"*"},"",{"$f":"IF($A33=\"*\",\"\",OFFSET(AGR!$B$49,L33,0))","v":""},{"$f":"IF($A33=\"*\",\"\",IF(LEFT($B33,3)=\"TOP\",OFFSET(AGR!$B$49,$L33,SUMIF($B$9:$B$12,$B33,$M$9:$M$12)),\"-\"))","v":""},{"$f":"IF($A33=\"*\",\"\",IF($B33=\"PRC_ACTUNT\",OFFSET(AGR!$B$49,$L33,SUMIF($B$9:$B$12,$B33,$M$9:$M$12)),\"-\"))","v":""},"","","","",null,{"$f":"IF(L32=AGR!$W$72,K32+1,K32)","v":1},20]
[{"$f":"IF(LEFT(OFFSET(AGR!$A$49,L34,0),2)=\"\\I\",\"*\",\"\")","v":""},"PRC_ACTUNT",{"$f":"IF($A34=\"*\",\"\",OFFSET(AGR!$B$49,L34,0))","v":"AOELC-E"},{"$f":"IF($A34=\"*\",\"\",IF(LEFT($B34,3)=\"TOP\",OFFSET(AGR!$B$49,$L34,SUMIF($B$9:$B$12,$B34,$M$9:$M$12)),\"-\"))","v":"-"},{"$f":"IF($A34=\"*\",\"\",IF($B34=\"PRC_ACTUNT\",OFFSET(AGR!$B$49,$L34,SUMIF($B$9:$B$12,$B34,$M$9:$M$12)),\"-\"))","v":"AO"},"-","-","-",1,null,{"$f":"IF(L33=AGR!$W$72,K33+1,K33)","v":1},21]
[{"$f":"IF(LEFT(OFFSET(AGR!$A$49,L35,0),2)=\"\\I\",\"*\",\"\")","v":"*"},"",{"$f":"IF($A35=\"*\",\"\",OFFSET(AGR!$B$49,L35,0))","v":""},{"$f":"IF($A35=\"*\",\"\",IF(LEFT($B35,3)=\"TOP\",OFFSET(AGR!$B$49,$L35,SUMIF($B$9:$B$12,$B35,$M$9:$M$12)),\"-\"))","v":""},{"$f":"IF($A35=\"*\",\"\",IF($B35=\"PRC_ACTUNT\",OFFSET(AGR!$B$49,$L35,SUMIF($B$9:$B$12,$B35,$M$9:$M$12)),\"-\"))","v":""},"","","","",null,{"$f":"IF(L34=AGR!$W$72,K34+1,K34)","v":1},22]
[{"$f":"IF(LEFT(OFFSET(AGR!$A$49,L36,0),2)=\"\\I\",\"*\",\"\")","v":"*"},"",{"$f":"IF($A36=\"*\",\"\",OFFSET(AGR!$B$49,L36,0))","v":""},{"$f":"IF($A36=\"*\",\"\",IF(LEFT($B36,3)=\"TOP\",OFFSET(AGR!$B$49,$L36,SUMIF($B$9:$B$12,$B36,$M$9:$M$12)),\"-\"))","v":""},{"$f":"IF($A36=\"*\",\"\",IF($B36=\"PRC_ACTUNT\",OFFSET(AGR!$B$49,$L36,SUMIF($B$9:$B$12,$B36,$M$9:$M$12)),\"-\"))","v":""},"","","","",null,{"$f":"IF(L35=AGR!$W$72,K35+1,K35)","v":1},23]
[{"$f":"IF(LEFT(OFFSET(AGR!$A$49,L37,0),2)=\"\\I\",\"*\",\"\")","v":""},"PRC_CAPACT",{"$f":"IF($A37=\"*\",\"\",OFFSET(AGR!$B$49,L37,0))","v":"AHCOA-E"},{"$f":"IF($A37=\"*\",\"\",IF(LEFT($B37,3)=\"TOP\",OFFSET(AGR!$B$49,$L37,SUMIF($B$9:$B$12,$B37,$M$9:$M$12)),\"-\"))","v":"-"},{"$f":"IF($A37=\"*\",\"\",IF($B37=\"PRC_ACTUNT\",OFFSET(AGR!$B$49,$L37,SUMIF($B$9:$B$12,$B37,$M$9:$M$12)),\"-\"))","v":"-"},"-","-","-",1,null,{"$f":"IF(L36=AGR!$W$72,K36+1,K36)","v":2},1]
[{"$f":"IF(LEFT(OFFSET(AGR!$A$49,L38,0),2)=\"\\I\",\"*\",\"\")","v":""},"PRC_CAPACT",{"$f":"IF($A38=\"*\",\"\",OFFSET(AGR!$B$49,L38,0))","v":"AHOHF-E"},{"$f":"IF($A38=\"*\",\"\",IF(LEFT($B38,3)=\"TOP\",OFFSET(AGR!$B$49,$L38,SUMIF($B$9:$B$12,$B38,$M$9:$M$12)),\"-\"))","v":"-"},{"$f":"IF($A38=\"*\",\"\",IF($B38=\"PRC_ACTUNT\",OFFSET(AGR!$B$49,$L38,SUMIF($B$9:$B$12,$B38,$M$9:$M$12)),\"-\"))","v":"-"},"-","-","-",1,null,{"$f":"IF(L37=AGR!$W$72,K37+1,K37)","v":2},2]
[{"$f":"IF(LEFT(OFFSET(AGR!$A$49,L39,0),2)=\"\\I\",\"*\",\"\")","v":""},"PRC_CAPACT",{"$f":"IF($A39=\"*\",\"\",OFFSET(AGR!$B$49,L39,0))","v":"AHOKE-E"},{"$f":"IF($A39=\"*\",\"\",IF(LEFT($B39,3)=\"TOP\",OFFSET(AGR!$B$49,$L39,SUMIF($B$9:$B$12,$B39,$M$9:$M$12)),\"-\"))","v":"-"},{"$f":"IF($A39=\"*\",\"\",IF($B39=\"PRC_ACTUNT\",OFFSET(AGR!$B$49,$L39,SUMIF($B$9:$B$12,$B39,$M$9:$M$12)),\"-\"))","v":"-"},"-","-","-",1,null,{"$f":"IF(L38=AGR!$W$72,K38+1,K38)","v":2},3]
[{"$f":"IF(LEFT(OFFSET(AGR!$A$49,L40,0),2)=\"\\I\",\"*\",\"\")","v":""},"PRC_CAPACT",{"$f":"IF($A40=\"*\",\"\",OFFSET(AGR!$B$49,L40,0))","v":"AHOLP-E"},{"$f":"IF($A40=\"*\",\"\",IF(LEFT($B40,3)=\"TOP\",OFFSET(AGR!$B$49,$L40,SUMIF($B$9:$B$12,$B40,$M$9:$M$12)),\"-\"))","v":"-"},{"$f":"IF($A40=\"*\",\"\",IF($B40=\"PRC_ACTUNT\",OFFSET(AGR!$B$49,$L40,SUMIF($B$9:$B$12,$B40,$M$9:$M$12)),\"-\"))","v":"-"},"-","-","-",1,null,{"$f":"IF(L39=AGR!$W$72,K39+1,K39)","v":2},4]
[{"$f":"IF(LEFT(OFFSET(AGR!$A$49,L41,0),2)=\"\\I\",\"*\",\"\")","v":""},"PRC_CAPACT",{"$f":"IF($A41=\"*\",\"\",OFFSET(AGR!$B$49,L41,0))","v":"AHELC-E"},{"$f":"IF($A41=\"*\",\"\",IF(LEFT($B41,3)=\"TOP\",OFFSET(AGR!$B$49,$L41,SUMIF($B$9:$B$12,$B41,$M$9:$M$12)),\"-\"))","v":"-"},{"$f":"IF($A41=\"*\",\"\",IF($B41=\"PRC_ACTUNT\",OFFSET(AGR!$B$49,$L41,SUMIF($B$9:$B$12,$B41,$M$9:$M$12)),\"-\"))","v":"-"},"-","-","-",1,null,{"$f":"IF(L40=AGR!$W$72,K40+1,K40)","v":2},5]
[{"$f":"IF(LEFT(OFFSET(AGR!$A$49,L42,0),2)=\"\\I\",\"*\",\"\")","v":"*"},"",{"$f":"IF($A42=\"*\",\"\",OFFSET(AGR!$B$49,L42,0))","v":""},{"$f":"IF($A42=\"*\",\"\",IF(LEFT($B42,3)=\"TOP\",OFFSET(AGR!$B$49,$L42,SUMIF($B$9:$B$12,$B42,$M$9:$M$12)),\"-\"))","v":""},{"$f":"IF($A42=\"*\",\"\",IF($B42=\"PRC_ACTUNT\",OFFSET(AGR!$B$49,$L42,SUMIF($B$9:$B$12,$B42,$M$9:$M$12)),\"-\"))","v":""},"","","","",null,{"$f":"IF(L41=AGR!$W$72,K41+1,K41)","v":2},6]
[{"$f":"IF(LEFT(OFFSET(AGR!$A$49,L43,0),2)=\"\\I\",\"*\",\"\")","v":"*"},"",{"$f":"IF($A43=\"*\",\"\",OFFSET(AGR!$B$49,L43,0))","v":""},{"$f":"IF($A43=\"*\",\"\",IF(LEFT($B43,3)=\"TOP\",OFFSET(AGR!$B$49,$L43,SUMIF($B$9:$B$12,$B43,$M$9:$M$12)),\"-\"))","v":""},{"$f":"IF($A43=\"*\",\"\",IF($B43=\"PRC_ACTUNT\",OFFSET(AGR!$B$49,$L43,SUMIF($B$9:$B$12,$B43,$M$9:$M$12)),\"-\"))","v":""},"","","","",null,{"$f":"IF(L42=AGR!$W$72,K42+1,K42)","v":2},7]
[{"$f":"IF(LEFT(OFFSET(AGR!$A$49,L44,0),2)=\"\\I\",\"*\",\"\")","v":""},"PRC_CAPACT",{"$f":"IF($A44=\"*\",\"\",OFFSET(AGR!$B$49,L44,0))","v":"APELC-E"},{"$f":"IF($A44=\"*\",\"\",IF(LEFT($B44,3)=\"TOP\",OFFSET(AGR!$B$49,$L44,SUMIF($B$9:$B$12,$B44,$M$9:$M$12)),\"-\"))","v":"-"},{"$f":"IF($A44=\"*\",\"\",IF($B44=\"PRC_ACTUNT\",OFFSET(AGR!$B$49,$L44,SUMIF($B$9:$B$12,$B44,$M$9:$M$12)),\"-\"))","v":"-"},"-","-","-",1,null,{"$f":"IF(L43=AGR!$W$72,K43+1,K43)","v":2},8]
[{"$f":"IF(LEFT(OFFSET(AGR!$A$49,L45,0),2)=\"\\I\",\"*\",\"\")","v":"*"},"",{"$f":"IF($A45=\"*\",\"\",OFFSET(AGR!$B$49,L45,0))","v":""},{"$f":"IF($A45=\"*\",\"\",IF(LEFT($B45,3)=\"TOP\",OFFSET(AGR!$B$49,$L45,SUMIF($B$9:$B$12,$B45,$M$9:$M$12)),\"-\"))","v":""},{"$f":"IF($A45=\"*\",\"\",IF($B45=\"PRC_ACTUNT\",OFFSET(AGR!$B$49,$L45,SUMIF($B$9:$B$12,$B45,$M$9:$M$12)),\"-\"))","v":""},"","","","",null,{"$f":"IF(L44=AGR!$W$72,K44+1,K44)","v":2},9]
[{"$f":"IF(LEFT(OFFSET(AGR!$A$49,L46,0),2)=\"\\I\",\"*\",\"\")","v":"*"},"",{"$f":"IF($A46=\"*\",\"\",OFFSET(AGR!$B$49,L46,0))","v":""},{"$f":"IF($A46=\"*\",\"\",IF(LEFT($B46,3)=\"TOP\",OFFSET(AGR!$B$49,$L46,SUMIF($B$9:$B$12,$B46,$M$9:$M$12)),\"-\"))","v":""},{"$f":"IF($A46=\"*\",\"\",IF($B46=\"PRC_ACTUNT\",OFFSET(AGR!$B$49,$L46,SUMIF($B$9:$B$12,$B46,$M$9:$M$12)),\"-\"))","v":""},"","","","",null,{"$f":"IF(L45=AGR!$W$72,K45+1,K45)","v":2},10]
[{"$f":"IF(LEFT(OFFSET(AGR!$A$49,L47,0),2)=\"\\I\",\"*\",\"\")","v":""},"PRC_CAPACT",{"$f":"IF($A47=\"*\",\"\",OFFSET(AGR!$B$49,L47,0))","v":"ATODS-E"},{"$f":"IF($A47=\"*\",\"\",IF(LEFT($B47,3)=\"TOP\",OFFSET(AGR!$B$49,$L47,SUMIF($B$9:$B$12,$B47,$M$9:$M$12)),\"-\"))","v":"-"},{"$f":"IF($A47=\"*\",\"\",IF($B47=\"PRC_ACTUNT\",OFFSET(AGR!$B$49,$L47,SUMIF($B$9:$B$12,$B47,$M$9:$M$12)),\"-\"))","v":"-"},"-","-","-",1,null,{"$f":"IF(L46=AGR!$W$72,K46+1,K46)","v":2},11]
[{"$f":"IF(LEFT(OFFSET(AGR!$A$49,L48,0),2)=\"\\I\",\"*\",\"\")","v":""},"PRC_CAPACT",{"$f":"IF($A48=\"*\",\"\",OFFSET(AGR!$B$49,L48,0))","v":"ATELC-E"},{"$f":"IF($A48=\"*\",\"\",IF(LEFT($B48,3)=\"TOP\",OFFSET(AGR!$B$49,$L48,SUMIF($B$9:$B$12,$B48,$M$9:$M$12)),\"-\"))","v":"-"},{"$f":"IF($A48=\"*\",\"\",IF($B48=\"PRC_ACTUNT\",OFFSET(AGR!$B$49,$L48,SUMIF($B$9:$B$12,$B48,$M$9:$M$12)),\"-\"))","v":"-"},"-","-","-",1,null,{"$f":"IF(L47=AGR!$W$72,K47+1,K47)","v":2},12]
[{"$f":"IF(LEFT(OFFSET(AGR!$A$49,L49,0),2)=\"\\I\",\"*\",\"\")","v":""},"PRC_CAPACT",{"$f":"IF($A49=\"*\",\"\",OFFSET(AGR!$B$49,L49,0))","v":"ATOGS-E"},{"$f":"IF($A49=\"*\",\"\",IF(LEFT($B49,3)=\"TOP\",OFFSET(AGR!$B$49,$L49,SUMIF($B$9:$B$12,$B49,$M$9:$M$12)),\"-\"))","v":"-"},{"$f":"IF($A49=\"*\",\"\",IF($B49=\"PRC_ACTUNT\",OFFSET(AGR!$B$49,$L49,SUMIF($B$9:$B$12,$B49,$M$9:$M$12)),\"-\"))","v":"-"},"-","-","-",1,null,{"$f":"IF(L48=AGR!$W$72,K48+1,K48)","v":2},13]
[{"$f":"IF(LEFT(OFFSET(AGR!$A$49,L50,0),2)=\"\\I\",\"*\",\"\")","v":"*"},"",{"$f":"IF($A50=\"*\",\"\",OFFSET(AGR!$B$49,L50,0))","v":""},{"$f":"IF($A50=\"*\",\"\",IF(LEFT($B50,3)=\"TOP\",OFFSET(AGR!$B$49,$L50,SUMIF($B$9:$B$12,$B50,$M$9:$M$12)),\"-\"))","v":""},{"$f":"IF($A50=\"*\",\"\",IF($B50=\"PRC_ACTUNT\",OFFSET(AGR!$B$49,$L50,SUMIF($B$9:$B$12,$B50,$M$9:$M$12)),\"-\"))","v":""},"","","","",null,{"$f":"IF(L49=AGR!$W$72,K49+1,K49)","v":2},14]
[{"$f":"IF(LEFT(OFFSET(AGR!$A$49,L51,0),2)=\"\\I\",\"*\",\"\")","v":"*"},"",{"$f":"IF($A51=\"*\",\"\",OFFSET(AGR!$B$49,L51,0))","v":""},{"$f":"IF($A51=\"*\",\"\",IF(LEFT($B51,3)=\"TOP\",OFFSET(AGR!$B$49,$L51,SUMIF($B$9:$B$12,$B51,$M$9:$M$12)),\"-\"))","v":""},{"$f":"IF($A51=\"*\",\"\",IF($B51=\"PRC_ACTUNT\",OFFSET(AGR!$B$49,$L51,SUMIF($B$9:$B$12,$B51,$M$9:$M$12)),\"-\"))","v":""},"","","","",null,{"$f":"IF(L50=AGR!$W$72,K50+1,K50)","v":2},15]
[{"$f":"IF(LEFT(OFFSET(AGR!$A$49,L52,0),2)=\"\\I\",\"*\",\"\")","v":""},"PRC_CAPACT",{"$f":"IF($A52=\"*\",\"\",OFFSET(AGR!$B$49,L52,0))","v":"AIODS-E"},{"$f":"IF($A52=\"*\",\"\",IF(LEFT($B52,3)=\"TOP\",OFFSET(AGR!$B$49,$L52,SUMIF($B$9:$B$12,$B52,$M$9:$M$12)),\"-\"))","v":"-"},{"$f":"IF($A52=\"*\",\"\",IF($B52=\"PRC_ACTUNT\",OFFSET(AGR!$B$49,$L52,SUMIF($B$9:$B$12,$B52,$M$9:$M$12)),\"-\"))","v":"-"},"-","-","-",1,null,{"$f":"IF(L51=AGR!$W$72,K51+1,K51)","v":2},16]
[{"$f":"IF(LEFT(OFFSET(AGR!$A$49,L53,0),2)=\"\\I\",\"*\",\"\")","v":""},"PRC_CAPACT",{"$f":"IF($A53=\"*\",\"\",OFFSET(AGR!$B$49,L53,0))","v":"AIELC-E"},{"$f":"IF($A53=\"*\",\"\",IF(LEFT($B53,3)=\"TOP\",OFFSET(AGR!$B$49,$L53,SUMIF($B$9:$B$12,$B53,$M$9:$M$12)),\"-\"))","v":"-"},{"$f":"IF($A53=\"*\",\"\",IF($B53=\"PRC_ACTUNT\",OFFSET(AGR!$B$49,$L53,SUMIF($B$9:$B$12,$B53,$M$9:$M$12)),\"-\"))","v":"-"},"-","-","-",1,null,{"$f":"IF(L52=AGR!$W$72,K52+1,K52)","v":2},17]
[{"$f":"IF(LEFT(OFFSET(AGR!$A$49,L54,0),2)=\"\\I\",\"*\",\"\")","v":""},"PRC_CAPACT",{"$f":"IF($A54=\"*\",\"\",OFFSET(AGR!$B$49,L54,0))","v":"AIOGS-E"},{"$f":"IF($A54=\"*\",\"\",IF(LEFT($B54,3)=\"TOP\",OFFSET(AGR!$B$49,$L54,SUMIF($B$9:$B$12,$B54,$M$9:$M$12)),\"-\"))","v":"-"},{"$f":"IF($A54=\"*\",\"\",IF($B54=\"PRC_ACTUNT\",OFFSET(AGR!$B$49,$L54,SUMIF($B$9:$B$12,$B54,$M$9:$M$12)),\"-\"))","v":"-"},"-","-","-",1,null,{"$f":"IF(L53=AGR!$W$72,K53+1,K53)","v":2},18]
[{"$f":"IF(LEFT(OFFSET(AGR!$A$49,L55,0),2)=\"\\I\",\"*\",\"\")","v":"*"},"",{"$f":"IF($A55=\"*\",\"\",OFFSET(AGR!$B$49,L55,0))","v":""},{"$f":"IF($A55=\"*\",\"\",IF(LEFT($B55,3)=\"TOP\",OFFSET(AGR!$B$49,$L55,SUMIF($B$9:$B$12,$B55,$M$9:$M$12)),\"-\"))","v":""},{"$f":"IF($A55=\"*\",\"\",IF($B55=\"PRC_ACTUNT\",OFFSET(AGR!$B$49,$L55,SUMIF($B$9:$B$12,$B55,$M$9:$M$12)),\"-\"))","v":""},{"$f":"IF($A55=\"*\",\"\",\"-\")","v":""},"","","",null,{"$f":"IF(L54=AGR!$W$72,K54+1,K54)","v":2},19]
[{"$f":"IF(LEFT(OFFSET(AGR!$A$49,L56,0),2)=\"\\I\",\"*\",\"\")","v":"*"},"",{"$f":"IF($A56=\"*\",\"\",OFFSET(AGR!$B$49,L56,0))","v":""},{"$f":"IF($A56=\"*\",\"\",IF(LEFT($B56,3)=\"TOP\",OFFSET(AGR!$B$49,$L56,SUMIF($B$9:$B$12,$B56,$M$9:$M$12)),\"-\"))","v":""},{"$f":"IF($A56=\"*\",\"\",IF($B56=\"PRC_ACTUNT\",OFFSET(AGR!$B$49,$L56,SUMIF($B$9:$B$12,$B56,$M$9:$M$12)),\"-\"))","v":""},"","","","",null,{"$f":"IF(L55=AGR!$W$72,K55+1,K55)","v":2},20]
[{"$f":"IF(LEFT(OFFSET(AGR!$A$49,L57,0),2)=\"\\I\",\"*\",\"\")","v":""},"PRC_CAPACT",{"$f":"IF($A57=\"*\",\"\",OFFSET(AGR!$B$49,L57,0))","v":"AOELC-E"},{"$f":"IF($A57=\"*\",\"\",IF(LEFT($B57,3)=\"TOP\",OFFSET(AGR!$B$49,$L57,SUMIF($B$9:$B$12,$B57,$M$9:$M$12)),\"-\"))","v":"-"},{"$f":"IF($A57=\"*\",\"\",IF($B57=\"PRC_ACTUNT\",OFFSET(AGR!$B$49,$L57,SUMIF($B$9:$B$12,$B57,$M$9:$M$12)),\"-\"))","v":"-"},"-","-","-",1,null,{"$f":"IF(L56=AGR!$W$72,K56+1,K56)","v":2},21]
[{"$f":"IF(LEFT(OFFSET(AGR!$A$49,L58,0),2)=\"\\I\",\"*\",\"\")","v":"*"},"",{"$f":"IF($A58=\"*\",\"\",OFFSET(AGR!$B$49,L58,0))","v":""},{"$f":"IF($A58=\"*\",\"\",IF(LEFT($B58,3)=\"TOP\",OFFSET(AGR!$B$49,$L58,SUMIF($B$9:$B$12,$B58,$M$9:$M$12)),\"-\"))","v":""},{"$f":"IF($A58=\"*\",\"\",IF($B58=\"PRC_ACTUNT\",OFFSET(AGR!$B$49,$L58,SUMIF($B$9:$B$12,$B58,$M$9:$M$12)),\"-\"))","v":""},"","","","",null,{"$f":"IF(L57=AGR!$W$72,K57+1,K57)","v":2},22]
[{"$f":"IF(LEFT(OFFSET(AGR!$A$49,L59,0),2)=\"\\I\",\"*\",\"\")","v":"*"},"",{"$f":"IF($A59=\"*\",\"\",OFFSET(AGR!$B$49,L59,0))","v":""},{"$f":"IF($A59=\"*\",\"\",IF(LEFT($B59,3)=\"TOP\",OFFSET(AGR!$B$49,$L59,SUMIF($B$9:$B$12,$B59,$M$9:$M$12)),\"-\"))","v":""},{"$f":"IF($A59=\"*\",\"\",IF($B59=\"PRC_ACTUNT\",OFFSET(AGR!$B$49,$L59,SUMIF($B$9:$B$12,$B59,$M$9:$M$12)),\"-\"))","v":""},"","","","",null,{"$f":"IF(L58=AGR!$W$72,K58+1,K58)","v":2},23]
[{"$f":"IF(LEFT(OFFSET(AGR!$A$49,L60,0),2)=\"\\I\",\"*\",\"\")","v":""},"TOP-OUT",{"$f":"IF($A60=\"*\",\"\",OFFSET(AGR!$B$49,L60,0))","v":"AHCOA-E"},{"$f":"IF($A60=\"*\",\"\",IF(LEFT($B60,3)=\"TOP\",OFFSET(AGR!$B$49,$L60,SUMIF($B$9:$B$12,$B60,$M$9:$M$12)),\"-\"))","v":"AH"},{"$f":"IF($A60=\"*\",\"\",IF($B60=\"PRC_ACTUNT\",OFFSET(AGR!$B$49,$L60,SUMIF($B$9:$B$12,$B60,$M$9:$M$12)),\"-\"))","v":"-"},"-","-","-",1,null,{"$f":"IF(L59=AGR!$W$72,K59+1,K59)","v":3},1]
[{"$f":"IF(LEFT(OFFSET(AGR!$A$49,L61,0),2)=\"\\I\",\"*\",\"\")","v":""},"TOP-OUT",{"$f":"IF($A61=\"*\",\"\",OFFSET(AGR!$B$49,L61,0))","v":"AHOHF-E"},{"$f":"IF($A61=\"*\",\"\",IF(LEFT($B61,3)=\"TOP\",OFFSET(AGR!$B$49,$L61,SUMIF($B$9:$B$12,$B61,$M$9:$M$12)),\"-\"))","v":"AH"},{"$f":"IF($A61=\"*\",\"\",IF($B61=\"PRC_ACTUNT\",OFFSET(AGR!$B$49,$L61,SUMIF($B$9:$B$12,$B61,$M$9:$M$12)),\"-\"))","v":"-"},"-","-","-",1,null,{"$f":"IF(L60=AGR!$W$72,K60+1,K60)","v":3},2]
[{"$f":"IF(LEFT(OFFSET(AGR!$A$49,L62,0),2)=\"\\I\",\"*\",\"\")","v":""},{"$f":"IF(A62=\"*\",\"\",VLOOKUP(\"*\"&K62,$A$9:$B$14,2,FALSE))","v":"TOP-OUT"},{"$f":"IF($A62=\"*\",\"\",OFFSET(AGR!$B$49,L62,0))","v":"AHOKE-E"},{"$f":"IF($A62=\"*\",\"\",IF(LEFT($B62,3)=\"TOP\",OFFSET(AGR!$B$49,$L62,SUMIF($B$9:$B$12,$B62,$M$9:$M$12)),\"-\"))","v":"AH"},{"$f":"IF($A62=\"*\",\"\",IF($B62=\"PRC_ACTUNT\",OFFSET(AGR!$B$49,$L62,SUMIF($B$9:$B$12,$B62,$M$9:$M$12)),\"-\"))","v":"-"},"-","-","-",{"$f":"IF($A62=\"*\",\"\",SUMIF($B$9:$B$12,B62,$I$9:$I$12))","v":1},null,{"$f":"IF(L61=AGR!$W$72,K61+1,K61)","v":3},3]
[{"$f":"IF(LEFT(OFFSET(AGR!$A$49,L63,0),2)=\"\\I\",\"*\",\"\")","v":""},{"$f":"IF(A63=\"*\",\"\",VLOOKUP(\"*\"&K63,$A$9:$B$14,2,FALSE))","v":"TOP-OUT"},{"$f":"IF($A63=\"*\",\"\",OFFSET(AGR!$B$49,L63,0))","v":"AHOLP-E"},{"$f":"IF($A63=\"*\",\"\",IF(LEFT($B63,3)=\"TOP\",OFFSET(AGR!$B$49,$L63,SUMIF($B$9:$B$12,$B63,$M$9:$M$12)),\"-\"))","v":"AH"},{"$f":"IF($A63=\"*\",\"\",IF($B63=\"PRC_ACTUNT\",OFFSET(AGR!$B$49,$L63,SUMIF($B$9:$B$12,$B63,$M$9:$M$12)),\"-\"))","v":"-"},"-","-","-",{"$f":"IF($A63=\"*\",\"\",SUMIF($B$9:$B$12,B63,$I$9:$I$12))","v":1},null,{"$f":"IF(L62=AGR!$W$72,K62+1,K62)","v":3},4]
[{"$f":"IF(LEFT(OFFSET(AGR!$A$49,L64,0),2)=\"\\I\",\"*\",\"\")","v":""},{"$f":"IF(A64=\"*\",\"\",VLOOKUP(\"*\"&K64,$A$9:$B$14,2,FALSE))","v":"TOP-OUT"},{"$f":"IF($A64=\"*\",\"\",OFFSET(AGR!$B$49,L64,0))","v":"AHELC-E"},{"$f":"IF($A64=\"*\",\"\",IF(LEFT($B64,3)=\"TOP\",OFFSET(AGR!$B$49,$L64,SUMIF($B$9:$B$12,$B64,$M$9:$M$12)),\"-\"))","v":"AH"},{"$f":"IF($A64=\"*\",\"\",IF($B64=\"PRC_ACTUNT\",OFFSET(AGR!$B$49,$L64,SUMIF($B$9:$B$12,$B64,$M$9:$M$12)),\"-\"))","v":"-"},"-","-","-",{"$f":"IF($A64=\"*\",\"\",SUMIF($B$9:$B$12,B64,$I$9:$I$12))","v":1},null,{"$f":"IF(L63=AGR!$W$72,K63+1,K63)","v":3},5]
[{"$f":"IF(LEFT(OFFSET(AGR!$A$49,L65,0),2)=\"\\I\",\"*\",\"\")","v":"*"},{"$f":"IF(A65=\"*\",\"\",VLOOKUP(\"*\"&K65,$A$9:$B$14,2,FALSE))","v":""},{"$f":"IF($A65=\"*\",\"\",OFFSET(AGR!$B$49,L65,0))","v":""},{"$f":"IF($A65=\"*\",\"\",IF(LEFT($B65,3)=\"TOP\",OFFSET(AGR!$B$49,$L65,SUMIF($B$9:$B$12,$B65,$M$9:$M$12)),\"-\"))","v":""},{"$f":"IF($A65=\"*\",\"\",IF($B65=\"PRC_ACTUNT\",OFFSET(AGR!$B$49,$L65,SUMIF($B$9:$B$12,$B65,$M$9:$M$12)),\"-\"))","v":""},"","","",{"$f":"IF($A65=\"*\",\"\",SUMIF($B$9:$B$12,B65,$I$9:$I$12))","v":""},null,{"$f":"IF(L64=AGR!$W$72,K64+1,K64)","v":3},6]
[{"$f":"IF(LEFT(OFFSET(AGR!$A$49,L66,0),2)=\"\\I\",\"*\",\"\")","v":"*"},{"$f":"IF(A66=\"*\",\"\",VLOOKUP(\"*\"&K66,$A$9:$B$14,2,FALSE))","v":""},{"$f":"IF($A66=\"*\",\"\",OFFSET(AGR!$B$49,L66,0))","v":""},{"$f":"IF($A66=\"*\",\"\",IF(LEFT($B66,3)=\"TOP\",OFFSET(AGR!$B$49,$L66,SUMIF($B$9:$B$12,$B66,$M$9:$M$12)),\"-\"))","v":""},{"$f":"IF($A66=\"*\",\"\",IF($B66=\"PRC_ACTUNT\",OFFSET(AGR!$B$49,$L66,SUMIF($B$9:$B$12,$B66,$M$9:$M$12)),\"-\"))","v":""},"","","",{"$f":"IF($A66=\"*\",\"\",SUMIF($B$9:$B$12,B66,$I$9:$I$12))","v":""},null,{"$f":"IF(L65=AGR!$W$72,K65+1,K65)","v":3},7]
[{"$f":"IF(LEFT(OFFSET(AGR!$A$49,L67,0),2)=\"\\I\",\"*\",\"\")","v":""},{"$f":"IF(A67=\"*\",\"\",VLOOKUP(\"*\"&K67,$A$9:$B$14,2,FALSE))","v":"TOP-OUT"},{"$f":"IF($A67=\"*\",\"\",OFFSET(AGR!$B$49,L67,0))","v":"APELC-E"},{"$f":"IF($A67=\"*\",\"\",IF(LEFT($B67,3)=\"TOP\",OFFSET(AGR!$B$49,$L67,SUMIF($B$9:$B$12,$B67,$M$9:$M$12)),\"-\"))","v":"AP"},{"$f":"IF($A67=\"*\",\"\",IF($B67=\"PRC_ACTUNT\",OFFSET(AGR!$B$49,$L67,SUMIF($B$9:$B$12,$B67,$M$9:$M$12)),\"-\"))","v":"-"},"-","-","-",{"$f":"IF($A67=\"*\",\"\",SUMIF($B$9:$B$12,B67,$I$9:$I$12))","v":1},null,{"$f":"IF(L66=AGR!$W$72,K66+1,K66)","v":3},8]
[{"$f":"IF(LEFT(OFFSET(AGR!$A$49,L68,0),2)=\"\\I\",\"*\",\"\")","v":"*"},"",{"$f":"IF($A68=\"*\",\"\",OFFSET(AGR!$B$49,L68,0))","v":""},{"$f":"IF($A68=\"*\",\"\",IF(LEFT($B68,3)=\"TOP\",OFFSET(AGR!$B$49,$L68,SUMIF($B$9:$B$12,$B68,$M$9:$M$12)),\"-\"))","v":""},{"$f":"IF($A68=\"*\",\"\",IF($B68=\"PRC_ACTUNT\",OFFSET(AGR!$B$49,$L68,SUMIF($B$9:$B$12,$B68,$M$9:$M$12)),\"-\"))","v":""},"","","","",null,{"$f":"IF(L67=AGR!$W$72,K67+1,K67)","v":3},9]
[{"$f":"IF(LEFT(OFFSET(AGR!$A$49,L69,0),2)=\"\\I\",\"*\",\"\")","v":"*"},"",{"$f":"IF($A69=\"*\",\"\",OFFSET(AGR!$B$49,L69,0))","v":""},{"$f":"IF($A69=\"*\",\"\",IF(LEFT($B69,3)=\"TOP\",OFFSET(AGR!$B$49,$L69,SUMIF($B$9:$B$12,$B69,$M$9:$M$12)),\"-\"))","v":""},{"$f":"IF($A69=\"*\",\"\",IF($B69=\"PRC_ACTUNT\",OFFSET(AGR!$B$49,$L69,SUMIF($B$9:$B$12,$B69,$M$9:$M$12)),\"-\"))","v":""},"","","","",null,{"$f":"IF(L68=AGR!$W$72,K68+1,K68)","v":3},10]
[{"$f":"IF(LEFT(OFFSET(AGR!$A$49,L70,0),2)=\"\\I\",\"*\",\"\")","v":""},"TOP-OUT",{"$f":"IF($A70=\"*\",\"\",OFFSET(AGR!$B$49,L70,0))","v":"ATODS-E"},{"$f":"IF($A70=\"*\",\"\",IF(LEFT($B70,3)=\"TOP\",OFFSET(AGR!$B$49,$L70,SUMIF($B$9:$B$12,$B70,$M$9:$M$12)),\"-\"))","v":"AT"},{"$f":"IF($A70=\"*\",\"\",IF($B70=\"PRC_ACTUNT\",OFFSET(AGR!$B$49,$L70,SUMIF($B$9:$B$12,$B70,$M$9:$M$12)),\"-\"))","v":"-"},"-","-","-",1,null,{"$f":"IF(L69=AGR!$W$72,K69+1,K69)","v":3},11]
[{"$f":"IF(LEFT(OFFSET(AGR!$A$49,L71,0),2)=\"\\I\",\"*\",\"\")","v":""},"TOP-OUT",{"$f":"IF($A71=\"*\",\"\",OFFSET(AGR!$B$49,L71,0))","v":"ATELC-E"},{"$f":"IF($A71=\"*\",\"\",IF(LEFT($B71,3)=\"TOP\",OFFSET(AGR!$B$49,$L71,SUMIF($B$9:$B$12,$B71,$M$9:$M$12)),\"-\"))","v":"AT"},{"$f":"IF($A71=\"*\",\"\",IF($B71=\"PRC_ACTUNT\",OFFSET(AGR!$B$49,$L71,SUMIF($B$9:$B$12,$B71,$M$9:$M$12)),\"-\"))","v":"-"},{"$f":"IF($A71=\"*\",\"\",\"-\")","v":"-"},"-","-",1,null,{"$f":"IF(L70=AGR!$W$72,K70+1,K70)","v":3},12]
[{"$f":"IF(LEFT(OFFSET(AGR!$A$49,L72,0),2)=\"\\I\",\"*\",\"\")","v":""},"TOP-OUT",{"$f":"IF($A72=\"*\",\"\",OFFSET(AGR!$B$49,L72,0))","v":"ATOGS-E"},{"$f":"IF($A72=\"*\",\"\",IF(LEFT($B72,3)=\"TOP\",OFFSET(AGR!$B$49,$L72,SUMIF($B$9:$B$12,$B72,$M$9:$M$12)),\"-\"))","v":"AT"},{"$f":"IF($A72=\"*\",\"\",IF($B72=\"PRC_ACTUNT\",OFFSET(AGR!$B$49,$L72,SUMIF($B$9:$B$12,$B72,$M$9:$M$12)),\"-\"))","v":"-"},"-","-","-",1,null,{"$f":"IF(L71=AGR!$W$72,K71+1,K71)","v":3},13]
[{"$f":"IF(LEFT(OFFSET(AGR!$A$49,L73,0),2)=\"\\I\",\"*\",\"\")","v":"*"},"",{"$f":"IF($A73=\"*\",\"\",OFFSET(AGR!$B$49,L73,0))","v":""},{"$f":"IF($A73=\"*\",\"\",IF(LEFT($B73,3)=\"TOP\",OFFSET(AGR!$B$49,$L73,SUMIF($B$9:$B$12,$B73,$M$9:$M$12)),\"-\"))","v":""},{"$f":"IF($A73=\"*\",\"\",IF($B73=\"PRC_ACTUNT\",OFFSET(AGR!$B$49,$L73,SUMIF($B$9:$B$12,$B73,$M$9:$M$12)),\"-\"))","v":""},"","","","",null,{"$f":"IF(L72=AGR!$W$72,K72+1,K72)","v":3},14]
[{"$f":"IF(LEFT(OFFSET(AGR!$A$49,L74,0),2)=\"\\I\",\"*\",\"\")","v":"*"},"",{"$f":"IF($A74=\"*\",\"\",OFFSET(AGR!$B$49,L74,0))","v":""},{"$f":"IF($A74=\"*\",\"\",IF(LEFT($B74,3)=\"TOP\",OFFSET(AGR!$B$49,$L74,SUMIF($B$9:$B$12,$B74,$M$9:$M$12)),\"-\"))","v":""},{"$f":"IF($A74=\"*\",\"\",IF($B74=\"PRC_ACTUNT\",OFFSET(AGR!$B$49,$L74,SUMIF($B$9:$B$12,$B74,$M$9:$M$12)),\"-\"))","v":""},"","","","",null,{"$f":"IF(L73=AGR!$W$72,K73+1,K73)","v":3},15]
[{"$f":"IF(LEFT(OFFSET(AGR!$A$49,L75,0),2)=\"\\I\",\"*\",\"\")","v":""},"TOP-OUT",{"$f":"IF($A75=\"*\",\"\",OFFSET(AGR!$B$49,L75,0))","v":"AIODS-E"},{"$f":"IF($A75=\"*\",\"\",IF(LEFT($B75,3)=\"TOP\",OFFSET(AGR!$B$49,$L75,SUMIF($B$9:$B$12,$B75,$M$9:$M$12)),\"-\"))","v":"AI"},{"$f":"IF($A75=\"*\",\"\",IF($B75=\"PRC_ACTUNT\",OFFSET(AGR!$B$49,$L75,SUMIF($B$9:$B$12,$B75,$M$9:$M$12)),\"-\"))","v":"-"},"-","-","-",1,null,{"$f":"IF(L74=AGR!$W$72,K74+1,K74)","v":3},16]
[{"$f":"IF(LEFT(OFFSET(AGR!$A$49,L76,0),2)=\"\\I\",\"*\",\"\")","v":""},"TOP-OUT",{"$f":"IF($A76=\"*\",\"\",OFFSET(AGR!$B$49,L76,0))","v":"AIELC-E"},{"$f":"IF($A76=\"*\",\"\",IF(LEFT($B76,3)=\"TOP\",OFFSET(AGR!$B$49,$L76,SUMIF($B$9:$B$12,$B76,$M$9:$M$12)),\"-\"))","v":"AI"},{"$f":"IF($A76=\"*\",\"\",IF($B76=\"PRC_ACTUNT\",OFFSET(AGR!$B$49,$L76,SUMIF($B$9:$B$12,$B76,$M$9:$M$12)),\"-\"))","v":"-"},"-","-","-",1,null,{"$f":"IF(L75=AGR!$W$72,K75+1,K75)","v":3},17]
[{"$f":"IF(LEFT(OFFSET(AGR!$A$49,L77,0),2)=\"\\I\",\"*\",\"\")","v":""},"TOP-OUT",{"$f":"IF($A77=\"*\",\"\",OFFSET(AGR!$B$49,L77,0))","v":"AIOGS-E"},{"$f":"IF($A77=\"*\",\"\",IF(LEFT($B77,3)=\"TOP\",OFFSET(AGR!$B$49,$L77,SUMIF($B$9:$B$12,$B77,$M$9:$M$12)),\"-\"))","v":"AI"},{"$f":"IF($A77=\"*\",\"\",IF($B77=\"PRC_ACTUNT\",OFFSET(AGR!$B$49,$L77,SUMIF($B$9:$B$12,$B77,$M$9:$M$12)),\"-\"))","v":"-"},"-","-","-",1,null,{"$f":"IF(L76=AGR!$W$72,K76+1,K76)","v":3},18]
[{"$f":"IF(LEFT(OFFSET(AGR!$A$49,L78,0),2)=\"\\I\",\"*\",\"\")","v":"*"},"",{"$f":"IF($A78=\"*\",\"\",OFFSET(AGR!$B$49,L78,0))","v":""},{"$f":"IF($A78=\"*\",\"\",IF(LEFT($B78,3)=\"TOP\",OFFSET(AGR!$B$49,$L78,SUMIF($B$9:$B$12,$B78,$M$9:$M$12)),\"-\"))","v":""},{"$f":"IF($A78=\"*\",\"\",IF($B78=\"PRC_ACTUNT\",OFFSET(AGR!$B$49,$L78,SUMIF($B$9:$B$12,$B78,$M$9:$M$12)),\"-\"))","v":""},"","","","",null,{"$f":"IF(L77=AGR!$W$72,K77+1,K77)","v":3},19]
[{"$f":"IF(LEFT(OFFSET(AGR!$A$49,L79,0),2)=\"\\I\",\"*\",\"\")","v":"*"},"",{"$f":"IF($A79=\"*\",\"\",OFFSET(AGR!$B$49,L79,0))","v":""},{"$f":"IF($A79=\"*\",\"\",IF(LEFT($B79,3)=\"TOP\",OFFSET(AGR!$B$49,$L79,SUMIF($B$9:$B$12,$B79,$M$9:$M$12)),\"-\"))","v":""},{"$f":"IF($A79=\"*\",\"\",IF($B79=\"PRC_ACTUNT\",OFFSET(AGR!$B$49,$L79,SUMIF($B$9:$B$12,$B79,$M$9:$M$12)),\"-\"))","v":""},"","","","",null,{"$f":"IF(L78=AGR!$W$72,K78+1,K78)","v":3},20]
[{"$f":"IF(LEFT(OFFSET(AGR!$A$49,L80,0),2)=\"\\I\",\"*\",\"\")","v":""},"TOP-OUT",{"$f":"IF($A80=\"*\",\"\",OFFSET(AGR!$B$49,L80,0))","v":"AOELC-E"},{"$f":"IF($A80=\"*\",\"\",IF(LEFT($B80,3)=\"TOP\",OFFSET(AGR!$B$49,$L80,SUMIF($B$9:$B$12,$B80,$M$9:$M$12)),\"-\"))","v":"AO"},{"$f":"IF($A80=\"*\",\"\",IF($B80=\"PRC_ACTUNT\",OFFSET(AGR!$B$49,$L80,SUMIF($B$9:$B$12,$B80,$M$9:$M$12)),\"-\"))","v":"-"},"-","-","-",1,null,{"$f":"IF(L79=AGR!$W$72,K79+1,K79)","v":3},{"$f":"IF(K80=K79,L79+1,1)","v":21}]
[{"$f":"IF(LEFT(OFFSET(AGR!$A$49,L81,0),2)=\"\\I\",\"*\",\"\")","v":"*"},"",{"$f":"IF($A81=\"*\",\"\",OFFSET(AGR!$B$49,L81,0))","v":""},{"$f":"IF($A81=\"*\",\"\",IF(LEFT($B81,3)=\"TOP\",OFFSET(AGR!$B$49,$L81,SUMIF($B$9:$B$12,$B81,$M$9:$M$12)),\"-\"))","v":""},{"$f":"IF($A81=\"*\",\"\",IF($B81=\"PRC_ACTUNT\",OFFSET(AGR!$B$49,$L81,SUMIF($B$9:$B$12,$B81,$M$9:$M$12)),\"-\"))","v":""},"","","","",null,{"$f":"IF(L80=AGR!$W$72,K80+1,K80)","v":3},22]
[{"$f":"IF(LEFT(OFFSET(AGR!$A$49,L82,0),2)=\"\\I\",\"*\",\"\")","v":"*"},"",{"$f":"IF($A82=\"*\",\"\",OFFSET(AGR!$B$49,L82,0))","v":""},{"$f":"IF($A82=\"*\",\"\",IF(LEFT($B82,3)=\"TOP\",OFFSET(AGR!$B$49,$L82,SUMIF($B$9:$B$12,$B82,$M$9:$M$12)),\"-\"))","v":""},{"$f":"IF($A82=\"*\",\"\",IF($B82=\"PRC_ACTUNT\",OFFSET(AGR!$B$49,$L82,SUMIF($B$9:$B$12,$B82,$M$9:$M$12)),\"-\"))","v":""},"","","","",null,{"$f":"IF(L81=AGR!$W$72,K81+1,K81)","v":3},23]
[{"$f":"IF(LEFT(OFFSET(AGR!$A$49,L83,0),2)=\"\\I\",\"*\",\"\")","v":""},"TOP-IN",{"$f":"IF($A83=\"*\",\"\",OFFSET(AGR!$B$49,L83,0))","v":"AHCOA-E"},{"$f":"IF($A83=\"*\",\"\",IF(LEFT($B83,3)=\"TOP\",OFFSET(AGR!$B$49,$L83,SUMIF($B$9:$B$12,$B83,$M$9:$M$12)),\"-\"))","v":"AGRCOA"},{"$f":"IF($A83=\"*\",\"\",IF($B83=\"PRC_ACTUNT\",OFFSET(AGR!$B$49,$L83,SUMIF($B$9:$B$12,$B83,$M$9:$M$12)),\"-\"))","v":"-"},"-","-","-",1,null,{"$f":"IF(L82=AGR!$W$72,K82+1,K82)","v":4},1]
[{"$f":"IF(LEFT(OFFSET(AGR!$A$49,L84,0),2)=\"\\I\",\"*\",\"\")","v":""},"TOP-IN",{"$f":"IF($A84=\"*\",\"\",OFFSET(AGR!$B$49,L84,0))","v":"AHOHF-E"},{"$f":"IF($A84=\"*\",\"\",IF(LEFT($B84,3)=\"TOP\",OFFSET(AGR!$B$49,$L84,SUMIF($B$9:$B$12,$B84,$M$9:$M$12)),\"-\"))","v":"AGROHF"},{"$f":"IF($A84=\"*\",\"\",IF($B84=\"PRC_ACTUNT\",OFFSET(AGR!$B$49,$L84,SUMIF($B$9:$B$12,$B84,$M$9:$M$12)),\"-\"))","v":"-"},"-","-","-",1,null,{"$f":"IF(L83=AGR!$W$72,K83+1,K83)","v":4},2]
[{"$f":"IF(LEFT(OFFSET(AGR!$A$49,L85,0),2)=\"\\I\",\"*\",\"\")","v":""},"TOP-IN",{"$f":"IF($A85=\"*\",\"\",OFFSET(AGR!$B$49,L85,0))","v":"AHOKE-E"},{"$f":"IF($A85=\"*\",\"\",IF(LEFT($B85,3)=\"TOP\",OFFSET(AGR!$B$49,$L85,SUMIF($B$9:$B$12,$B85,$M$9:$M$12)),\"-\"))","v":"AGROKE"},{"$f":"IF($A85=\"*\",\"\",IF($B85=\"PRC_ACTUNT\",OFFSET(AGR!$B$49,$L85,SUMIF($B$9:$B$12,$B85,$M$9:$M$12)),\"-\"))","v":"-"},"-","-","-",1,null,{"$f":"IF(L84=AGR!$W$72,K84+1,K84)","v":4},3]
[{"$f":"IF(LEFT(OFFSET(AGR!$A$49,L86,0),2)=\"\\I\",\"*\",\"\")","v":""},"TOP-IN",{"$f":"IF($A86=\"*\",\"\",OFFSET(AGR!$B$49,L86,0))","v":"AHOLP-E"},{"$f":"IF($A86=\"*\",\"\",IF(LEFT($B86,3)=\"TOP\",OFFSET(AGR!$B$49,$L86,SUMIF($B$9:$B$12,$B86,$M$9:$M$12)),\"-\"))","v":"AGROLP"},{"$f":"IF($A86=\"*\",\"\",IF($B86=\"PRC_ACTUNT\",OFFSET(AGR!$B$49,$L86,SUMIF($B$9:$B$12,$B86,$M$9:$M$12)),\"-\"))","v":"-"},"-","-","-",1,null,{"$f":"IF(L85=AGR!$W$72,K85+1,K85)","v":4},4]
[{"$f":"IF(LEFT(OFFSET(AGR!$A$49,L87,0),2)=\"\\I\",\"*\",\"\")","v":""},"TOP-IN",{"$f":"IF($A87=\"*\",\"\",OFFSET(AGR!$B$49,L87,0))","v":"AHELC-E"},{"$f":"IF($A87=\"*\",\"\",IF(LEFT($B87,3)=\"TOP\",OFFSET(AGR!$B$49,$L87,SUMIF($B$9:$B$12,$B87,$M$9:$M$12)),\"-\"))","v":"AGRELC"},{"$f":"IF($A87=\"*\",\"\",IF($B87=\"PRC_ACTUNT\",OFFSET(AGR!$B$49,$L87,SUMIF($B$9:$B$12,$B87,$M$9:$M$12)),\"-\"))","v":"-"},{"$f":"IF($A87=\"*\",\"\",\"-\")","v":"-"},"-","-",1,null,{"$f":"IF(L86=AGR!$W$72,K86+1,K86)","v":4},5]
[{"$f":"IF(LEFT(OFFSET(AGR!$A$49,L88,0),2)=\"\\I\",\"*\",\"\")","v":"*"},"",{"$f":"IF($A88=\"*\",\"\",OFFSET(AGR!$B$49,L88,0))","v":""},{"$f":"IF($A88=\"*\",\"\",IF(LEFT($B88,3)=\"TOP\",OFFSET(AGR!$B$49,$L88,SUMIF($B$9:$B$12,$B88,$M$9:$M$12)),\"-\"))","v":""},{"$f":"IF($A88=\"*\",\"\",IF($B88=\"PRC_ACTUNT\",OFFSET(AGR!$B$49,$L88,SUMIF($B$9:$B$12,$B88,$M$9:$M$12)),\"-\"))","v":""},"","","","",null,{"$f":"IF(L87=AGR!$W$72,K87+1,K87)","v":4},6]
[{"$f":"IF(LEFT(OFFSET(AGR!$A$49,L89,0),2)=\"\\I\",\"*\",\"\")","v":"*"},{"$f":"IF(A89=\"*\",\"\",VLOOKUP(\"*\"&K89,$A$9:$B$14,2,FALSE))","v":""},{"$f":"IF($A89=\"*\",\"\",OFFSET(AGR!$B$49,L89,0))","v":""},{"$f":"IF($A89=\"*\",\"\",IF(LEFT($B89,3)=\"TOP\",OFFSET(AGR!$B$49,$L89,SUMIF($B$9:$B$12,$B89,$M$9:$M$12)),\"-\"))","v":""},{"$f":"IF($A89=\"*\",\"\",IF($B89=\"PRC_ACTUNT\",OFFSET(AGR!$B$49,$L89,SUMIF($B$9:$B$12,$B89,$M$9:$M$12)),\"-\"))","v":""},"","","",{"$f":"IF($A89=\"*\",\"\",SUMIF($B$9:$B$12,B89,$I$9:$I$12))","v":""},null,{"$f":"IF(L88=AGR!$W$72,K88+1,K88)","v":4},{"$f":"IF(K89=K88,L88+1,1)","v":7}]
[{"$f":"IF(LEFT(OFFSET(AGR!$A$49,L90,0),2)=\"\\I\",\"*\",\"\")","v":""},"TOP-IN",{"$f":"IF($A90=\"*\",\"\",OFFSET(AGR!$B$49,L90,0))","v":"APELC-E"},{"$f":"IF($A90=\"*\",\"\",IF(LEFT($B90,3)=\"TOP\",OFFSET(AGR!$B$49,$L90,SUMIF($B$9:$B$12,$B90,$M$9:$M$12)),\"-\"))","v":"AGRELC"},{"$f":"IF($A90=\"*\",\"\",IF($B90=\"PRC_ACTUNT\",OFFSET(AGR!$B$49,$L90,SUMIF($B$9:$B$12,$B90,$M$9:$M$12)),\"-\"))","v":"-"},"-","-","-",1,null,{"$f":"IF(L89=AGR!$W$72,K89+1,K89)","v":4},8]
[{"$f":"IF(LEFT(OFFSET(AGR!$A$49,L91,0),2)=\"\\I\",\"*\",\"\")","v":"*"},"",{"$f":"IF($A91=\"*\",\"\",OFFSET(AGR!$B$49,L91,0))","v":""},{"$f":"IF($A91=\"*\",\"\",IF(LEFT($B91,3)=\"TOP\",OFFSET(AGR!$B$49,$L91,SUMIF($B$9:$B$12,$B91,$M$9:$M$12)),\"-\"))","v":""},{"$f":"IF($A91=\"*\",\"\",IF($B91=\"PRC_ACTUNT\",OFFSET(AGR!$B$49,$L91,SUMIF($B$9:$B$12,$B91,$M$9:$M$12)),\"-\"))","v":""},"","","","",null,{"$f":"IF(L90=AGR!$W$72,K90+1,K90)","v":4},9]
[{"$f":"IF(LEFT(OFFSET(AGR!$A$49,L92,0),2)=\"\\I\",\"*\",\"\")","v":"*"},"",{"$f":"IF($A92=\"*\",\"\",OFFSET(AGR!$B$49,L92,0))","v":""},{"$f":"IF($A92=\"*\",\"\",IF(LEFT($B92,3)=\"TOP\",OFFSET(AGR!$B$49,$L92,SUMIF($B$9:$B$12,$B92,$M$9:$M$12)),\"-\"))","v":""},{"$f":"IF($A92=\"*\",\"\",IF($B92=\"PRC_ACTUNT\",OFFSET(AGR!$B$49,$L92,SUMIF($B$9:$B$12,$B92,$M$9:$M$12)),\"-\"))","v":""},"","","","",null,{"$f":"IF(L91=AGR!$W$72,K91+1,K91)","v":4},10]
[{"$f":"IF(LEFT(OFFSET(AGR!$A$49,L93,0),2)=\"\\I\",\"*\",\"\")","v":""},"TOP-IN",{"$f":"IF($A93=\"*\",\"\",OFFSET(AGR!$B$49,L93,0))","v":"ATODS-E"},{"$f":"IF($A93=\"*\",\"\",IF(LEFT($B93,3)=\"TOP\",OFFSET(AGR!$B$49,$L93,SUMIF($B$9:$B$12,$B93,$M$9:$M$12)),\"-\"))","v":"AGRODS"},{"$f":"IF($A93=\"*\",\"\",IF($B93=\"PRC_ACTUNT\",OFFSET(AGR!$B$49,$L93,SUMIF($B$9:$B$12,$B93,$M$9:$M$12)),\"-\"))","v":"-"},"-","-","-",1,null,{"$f":"IF(L92=AGR!$W$72,K92+1,K92)","v":4},11]
[{"$f":"IF(LEFT(OFFSET(AGR!$A$49,L94,0),2)=\"\\I\",\"*\",\"\")","v":""},"TOP-IN",{"$f":"IF($A94=\"*\",\"\",OFFSET(AGR!$B$49,L94,0))","v":"ATELC-E"},{"$f":"IF($A94=\"*\",\"\",IF(LEFT($B94,3)=\"TOP\",OFFSET(AGR!$B$49,$L94,SUMIF($B$9:$B$12,$B94,$M$9:$M$12)),\"-\"))","v":"AGRELC"},{"$f":"IF($A94=\"*\",\"\",IF($B94=\"PRC_ACTUNT\",OFFSET(AGR!$B$49,$L94,SUMIF($B$9:$B$12,$B94,$M$9:$M$12)),\"-\"))","v":"-"},"-","-","-",1,null,{"$f":"IF(L93=AGR!$W$72,K93+1,K93)","v":4},12]
[{"$f":"IF(LEFT(OFFSET(AGR!$A$49,L95,0),2)=\"\\I\",\"*\",\"\")","v":""},"TOP-IN",{"$f":"IF($A95=\"*\",\"\",OFFSET(AGR!$B$49,L95,0))","v":"ATOGS-E"},{"$f":"IF($A95=\"*\",\"\",IF(LEFT($B95,3)=\"TOP\",OFFSET(AGR!$B$49,$L95,SUMIF($B$9:$B$12,$B95,$M$9:$M$12)),\"-\"))","v":"AGROGS"},{"$f":"IF($A95=\"*\",\"\",IF($B95=\"PRC_ACTUNT\",OFFSET(AGR!$B$49,$L95,SUMIF($B$9:$B$12,$B95,$M$9:$M$12)),\"-\"))","v":"-"},"-","-","-",1,null,{"$f":"IF(L94=AGR!$W$72,K94+1,K94)","v":4},13]
[{"$f":"IF(LEFT(OFFSET(AGR!$A$49,L96,0),2)=\"\\I\",\"*\",\"\")","v":"*"},"",{"$f":"IF($A96=\"*\",\"\",OFFSET(AGR!$B$49,L96,0))","v":""},{"$f":"IF($A96=\"*\",\"\",IF(LEFT($B96,3)=\"TOP\",OFFSET(AGR!$B$49,$L96,SUMIF($B$9:$B$12,$B96,$M$9:$M$12)),\"-\"))","v":""},{"$f":"IF($A96=\"*\",\"\",IF($B96=\"PRC_ACTUNT\",OFFSET(AGR!$B$49,$L96,SUMIF($B$9:$B$12,$B96,$M$9:$M$12)),\"-\"))","v":""},"","","","",null,{"$f":"IF(L95=AGR!$W$72,K95+1,K95)","v":4},14]
[{"$f":"IF(LEFT(OFFSET(AGR!$A$49,L97,0),2)=\"\\I\",\"*\",\"\")","v":"*"},"",{"$f":"IF($A97=\"*\",\"\",OFFSET(AGR!$B$49,L97,0))","v":""},{"$f":"IF($A97=\"*\",\"\",IF(LEFT($B97,3)=\"TOP\",OFFSET(AGR!$B$49,$L97,SUMIF($B$9:$B$12,$B97,$M$9:$M$12)),\"-\"))","v":""},{"$f":"IF($A97=\"*\",\"\",IF($B97=\"PRC_ACTUNT\",OFFSET(AGR!$B$49,$L97,SUMIF($B$9:$B$12,$B97,$M$9:$M$12)),\"-\"))","v":""},"","","","",null,{"$f":"IF(L96=AGR!$W$72,K96+1,K96)","v":4},15]
[{"$f":"IF(LEFT(OFFSET(AGR!$A$49,L98,0),2)=\"\\I\",\"*\",\"\")","v":""},{"$f":"IF(A98=\"*\",\"\",VLOOKUP(\"*\"&K98,$A$9:$B$14,2,FALSE))","v":"TOP-IN"},{"$f":"IF($A98=\"*\",\"\",OFFSET(AGR!$B$49,L98,0))","v":"AIODS-E"},{"$f":"IF($A98=\"*\",\"\",IF(LEFT($B98,3)=\"TOP\",OFFSET(AGR!$B$49,$L98,SUMIF($B$9:$B$12,$B98,$M$9:$M$12)),\"-\"))","v":"AGRODS"},{"$f":"IF($A98=\"*\",\"\",IF($B98=\"PRC_ACTUNT\",OFFSET(AGR!$B$49,$L98,SUMIF($B$9:$B$12,$B98,$M$9:$M$12)),\"-\"))","v":"-"},"-","-","-",{"$f":"IF($A98=\"*\",\"\",SUMIF($B$9:$B$12,B98,$I$9:$I$12))","v":1},null,{"$f":"IF(L97=AGR!$W$72,K97+1,K97)","v":4},{"$f":"IF(K98=K97,L97+1,1)","v":16}]
[{"$f":"IF(LEFT(OFFSET(AGR!$A$49,L99,0),2)=\"\\I\",\"*\",\"\")","v":""},"TOP-IN",{"$f":"IF($A99=\"*\",\"\",OFFSET(AGR!$B$49,L99,0))","v":"AIELC-E"},{"$f":"IF($A99=\"*\",\"\",IF(LEFT($B99,3)=\"TOP\",OFFSET(AGR!$B$49,$L99,SUMIF($B$9:$B$12,$B99,$M$9:$M$12)),\"-\"))","v":"AGRELC"},{"$f":"IF($A99=\"*\",\"\",IF($B99=\"PRC_ACTUNT\",OFFSET(AGR!$B$49,$L99,SUMIF($B$9:$B$12,$B99,$M$9:$M$12)),\"-\"))","v":"-"},"-","-","-",1,null,{"$f":"IF(L98=AGR!$W$72,K98+1,K98)","v":4},17]
[{"$f":"IF(LEFT(OFFSET(AGR!$A$49,L100,0),2)=\"\\I\",\"*\",\"\")","v":""},"TOP-IN",{"$f":"IF($A100=\"*\",\"\",OFFSET(AGR!$B$49,L100,0))","v":"AIOGS-E"},{"$f":"IF($A100=\"*\",\"\",IF(LEFT($B100,3)=\"TOP\",OFFSET(AGR!$B$49,$L100,SUMIF($B$9:$B$12,$B100,$M$9:$M$12)),\"-\"))","v":"AGROGS"},{"$f":"IF($A100=\"*\",\"\",IF($B100=\"PRC_ACTUNT\",OFFSET(AGR!$B$49,$L100,SUMIF($B$9:$B$12,$B100,$M$9:$M$12)),\"-\"))","v":"-"},"-","-","-",1,null,{"$f":"IF(L99=AGR!$W$72,K99+1,K99)","v":4},18]
[{"$f":"IF(LEFT(OFFSET(AGR!$A$49,L101,0),2)=\"\\I\",\"*\",\"\")","v":"*"},"",{"$f":"IF($A101=\"*\",\"\",OFFSET(AGR!$B$49,L101,0))","v":""},{"$f":"IF($A101=\"*\",\"\",IF(LEFT($B101,3)=\"TOP\",OFFSET(AGR!$B$49,$L101,SUMIF($B$9:$B$12,$B101,$M$9:$M$12)),\"-\"))","v":""},{"$f":"IF($A101=\"*\",\"\",IF($B101=\"PRC_ACTUNT\",OFFSET(AGR!$B$49,$L101,SUMIF($B$9:$B$12,$B101,$M$9:$M$12)),\"-\"))","v":""},"","","","",null,{"$f":"IF(L100=AGR!$W$72,K100+1,K100)","v":4},19]
[{"$f":"IF(LEFT(OFFSET(AGR!$A$49,L102,0),2)=\"\\I\",\"*\",\"\")","v":"*"},"",{"$f":"IF($A102=\"*\",\"\",OFFSET(AGR!$B$49,L102,0))","v":""},{"$f":"IF($A102=\"*\",\"\",IF(LEFT($B102,3)=\"TOP\",OFFSET(AGR!$B$49,$L102,SUMIF($B$9:$B$12,$B102,$M$9:$M$12)),\"-\"))","v":""},{"$f":"IF($A102=\"*\",\"\",IF($B102=\"PRC_ACTUNT\",OFFSET(AGR!$B$49,$L102,SUMIF($B$9:$B$12,$B102,$M$9:$M$12)),\"-\"))","v":""},"","","","",null,{"$f":"IF(L101=AGR!$W$72,K101+1,K101)","v":4},20]
[{"$f":"IF(LEFT(OFFSET(AGR!$A$49,L103,0),2)=\"\\I\",\"*\",\"\")","v":""},"TOP-IN",{"$f":"IF($A103=\"*\",\"\",OFFSET(AGR!$B$49,L103,0))","v":"AOELC-E"},{"$f":"IF($A103=\"*\",\"\",IF(LEFT($B103,3)=\"TOP\",OFFSET(AGR!$B$49,$L103,SUMIF($B$9:$B$12,$B103,$M$9:$M$12)),\"-\"))","v":"AGRELC"},{"$f":"IF($A103=\"*\",\"\",IF($B103=\"PRC_ACTUNT\",OFFSET(AGR!$B$49,$L103,SUMIF($B$9:$B$12,$B103,$M$9:$M$12)),\"-\"))","v":"-"},{"$f":"IF($A103=\"*\",\"\",\"-\")","v":"-"},"-","-",1,null,{"$f":"IF(L102=AGR!$W$72,K102+1,K102)","v":4},21]
[{"$f":"IF(LEFT(OFFSET(AGR!$A$49,L104,0),2)=\"\\I\",\"*\",\"\")","v":"*"},"",{"$f":"IF($A104=\"*\",\"\",OFFSET(AGR!$B$49,L104,0))","v":""},{"$f":"IF($A104=\"*\",\"\",IF(LEFT($B104,3)=\"TOP\",OFFSET(AGR!$B$49,$L104,SUMIF($B$9:$B$12,$B104,$M$9:$M$12)),\"-\"))","v":""},{"$f":"IF($A104=\"*\",\"\",IF($B104=\"PRC_ACTUNT\",OFFSET(AGR!$B$49,$L104,SUMIF($B$9:$B$12,$B104,$M$9:$M$12)),\"-\"))","v":""},"","","","",null,{"$f":"IF(L103=AGR!$W$72,K103+1,K103)","v":4},22]
[{"$f":"IF(LEFT(OFFSET(AGR!$A$49,L105,0),2)=\"\\I\",\"*\",\"\")","v":"*"},"",{"$f":"IF($A105=\"*\",\"\",OFFSET(AGR!$B$49,L105,0))","v":""},{"$f":"IF($A105=\"*\",\"\",IF(LEFT($B105,3)=\"TOP\",OFFSET(AGR!$B$49,$L105,SUMIF($B$9:$B$12,$B105,$M$9:$M$12)),\"-\"))","v":""},{"$f":"IF($A105=\"*\",\"\",IF($B105=\"PRC_ACTUNT\",OFFSET(AGR!$B$49,$L105,SUMIF($B$9:$B$12,$B105,$M$9:$M$12)),\"-\"))","v":""},"","","","",null,{"$f":"IF(L104=AGR!$W$72,K104+1,K104)","v":4},23]

{"sheet":"ITEMS_Comm","index":16,"n_rows":14,"n_cols":8,"rows_kept":14,"cut":false,"hidden":false,"merged":[]}
["ITEMS","REGION1",null,null,null,null,null,"* Entry #"]
["*"]
["*"]
["*"]
["*"]
["*"]
["*","Comp","Name","Description","Unit(s)","Set Memberships","Comment"]
["*","Demand Commodities"]
[null,"E",{"$f":"AGR!B36","v":"AH"},{"$f":"AGR!A36","v":"Agriculture - Heating"},"PJ","COM,DEM,DAYNITE,RES"]
[null,"E",{"$f":"AGR!B37","v":"AP"},{"$f":"AGR!A37","v":"Agriculture - Processing"},"PJ","COM,DEM,DAYNITE,RES"]
[null,"E",{"$f":"AGR!B38","v":"AT"},{"$f":"AGR!A38","v":"Agriculture - Traction"},"PJ","COM,DEM,ANNUAL,RES"]
[null,"E",{"$f":"AGR!B39","v":"AI"},{"$f":"AGR!A39","v":"Agriculture - Irrigation"},"PJ","COM,DEM,DAYNITE,RES"]
[null,"E",{"$f":"AGR!B40","v":"AO"},{"$f":"AGR!A40","v":"Agriculture - Other"},"PJ","COM,DEM,DAYNITE,RES"]
["*"]

{"sheet":"TS BYDem","index":17,"n_rows":14,"n_cols":10,"rows_kept":14,"cut":false,"hidden":false,"merged":[]}
["TS DATA","REGION1"]
["*"]
["*"]
["*"]
["*"]
["*"]
["*","Parameter","Arg1","Arg2","Arg3","Arg4","Arg5","Arg6","I/E Opt\nor Value",2006]
["*"]
["*","COM_PROJ","-","Commodity","-","-","-","-",0]
[null,{"$f":"B9","v":"COM_PROJ"},"-",{"$f":"AGR!B36","v":"AH"},"-","-","-","-",{"$f":"I9","v":0},{"$f":"SUMIF(AGR!$D$49:$D$72,D10,AGR!$L$49:$L$72)","v":3.4886478690150002}]
[null,{"$f":"B10","v":"COM_PROJ"},"-",{"$f":"AGR!B37","v":"AP"},"-","-","-","-",{"$f":"I10","v":0},{"$f":"SUMIF(AGR!$D$49:$D$72,D11,AGR!$L$49:$L$72)","v":5.4851590254809359}]
[null,{"$f":"B11","v":"COM_PROJ"},"-",{"$f":"AGR!B38","v":"AT"},"-","-","-","-",{"$f":"I11","v":0},{"$f":"SUMIF(AGR!$D$49:$D$72,D12,AGR!$L$49:$L$72)","v":14.260283492191798}]
[null,{"$f":"B12","v":"COM_PROJ"},"-",{"$f":"AGR!B39","v":"AI"},"-","-","-","-",{"$f":"I12","v":0},{"$f":"SUMIF(AGR!$D$49:$D$72,D13,AGR!$L$49:$L$72)","v":6.8942225938935611}]
[null,{"$f":"B13","v":"COM_PROJ"},"-",{"$f":"AGR!B40","v":"AO"},"-","-","-","-",{"$f":"I13","v":0},{"$f":"SUMIF(AGR!$D$49:$D$72,D14,AGR!$L$49:$L$72)","v":8.6660070567134238}]

{"sheet":"TS COMFR","index":18,"n_rows":109,"n_cols":10,"rows_kept":109,"cut":false,"hidden":false,"merged":[]}
[{"$f":"IF('TS COMFR_10'!A1<>\"\",\"\",\"TS DATA\")","v":""},"REGION1"]
["*"]
["*"]
["*"]
["*"]
["*"]
["*","Parameter","Arg1","Arg2","Arg3","Arg4","Arg5","Arg6","I/E Opt\nor Value",2006]
["*"]
["*","COM_FR","-","Commodity","-","-","TimeSlice","-",0]
[null,"COM_FR","-",{"$f":"'[1]AGR COMFR'!D10","v":"AH"},"-","-",{"$f":"'[1]AGR COMFR'!G10","v":"s1d1b1"},"-",0,{"$f":"'[1]AGR COMFR'!J10","v":5.4890000000000001E-2}]
[null,"COM_FR","-",{"$f":"'[1]AGR COMFR'!D11","v":"AH"},"-","-",{"$f":"'[1]AGR COMFR'!G11","v":"s1d1b2"},"-",0,{"$f":"'[1]AGR COMFR'!J11","v":0.16960000000000011}]
[null,"COM_FR","-",{"$f":"'[1]AGR COMFR'!D12","v":"AH"},"-","-",{"$f":"'[1]AGR COMFR'!G12","v":"s1d1b3"},"-",0,{"$f":"'[1]AGR COMFR'!J12","v":2.503E-2}]
[null,"COM_FR","-",{"$f":"'[1]AGR COMFR'!D13","v":"AH"},"-","-",{"$f":"'[1]AGR COMFR'!G13","v":"s1d2b1"},"-",0,{"$f":"'[1]AGR COMFR'!J13","v":3.7060000000000003E-2}]
[null,"COM_FR","-",{"$f":"'[1]AGR COMFR'!D14","v":"AH"},"-","-",{"$f":"'[1]AGR COMFR'!G14","v":"s1d2b2"},"-",0,{"$f":"'[1]AGR COMFR'!J14","v":5.5059999999999998E-2}]
[null,"COM_FR","-",{"$f":"'[1]AGR COMFR'!D15","v":"AH"},"-","-",{"$f":"'[1]AGR COMFR'!G15","v":"s1d2b3"},"-",0,{"$f":"'[1]AGR COMFR'!J15","v":1.4919999999999999E-2}]
[{"$f":"IF(D16=0,\"*\",\"\")","v":""},"COM_FR","-",{"$f":"'[1]AGR COMFR'!D16","v":"AH"},"-","-",{"$f":"'[1]AGR COMFR'!G16","v":"s2d1b1"},"-",0,{"$f":"'[1]AGR COMFR'!J16","v":4.2380000000000001E-2}]
[{"$f":"IF(D17=0,\"*\",\"\")","v":""},"COM_FR","-",{"$f":"'[1]AGR COMFR'!D17","v":"AH"},"-","-",{"$f":"'[1]AGR COMFR'!G17","v":"s2d1b2"},"-",0,{"$f":"'[1]AGR COMFR'!J17","v":5.3069999999999999E-2}]
[{"$f":"IF(D18=0,\"*\",\"\")","v":""},"COM_FR","-",{"$f":"'[1]AGR COMFR'!D18","v":"AH"},"-","-",{"$f":"'[1]AGR COMFR'!G18","v":"s2d1b3"},"-",0,{"$f":"'[1]AGR COMFR'!J18","v":9.2329999999999995E-2}]
["","COM_FR","-",{"$f":"'[1]AGR COMFR'!D19","v":"AH"},"-","-",{"$f":"'[1]AGR COMFR'!G19","v":"s2d1b4"},"-",0,{"$f":"'[1]AGR COMFR'!J19","v":1.6820000000000002E-2}]
["","COM_FR","-",{"$f":"'[1]AGR COMFR'!D20","v":"AH"},"-","-",{"$f":"'[1]AGR COMFR'!G20","v":"s2d1b5"},"-",0,{"$f":"'[1]AGR COMFR'!J20","v":9.3200000000000002E-3}]
["","COM_FR","-",{"$f":"'[1]AGR COMFR'!D21","v":"AH"},"-","-",{"$f":"'[1]AGR COMFR'!G21","v":"s2d2b1"},"-",0,{"$f":"'[1]AGR COMFR'!J21","v":3.1859999999999999E-2}]
["","COM_FR","-",{"$f":"'[1]AGR COMFR'!D22","v":"AH"},"-","-",{"$f":"'[1]AGR COMFR'!G22","v":"s2d2b2"},"-",0,{"$f":"'[1]AGR COMFR'!J22","v":4.7329999999999997E-2}]
["","COM_FR","-",{"$f":"'[1]AGR COMFR'!D23","v":"AH"},"-","-",{"$f":"'[1]AGR COMFR'!G23","v":"s2d2b3"},"-",0,{"$f":"'[1]AGR COMFR'!J23","v":1.2829999999999999E-2}]
["","COM_FR","-",{"$f":"'[1]AGR COMFR'!D24","v":"AH"},"-","-",{"$f":"'[1]AGR COMFR'!G24","v":"s3d1b1"},"-",0,{"$f":"'[1]AGR COMFR'!J24","v":6.7519999999999997E-2}]
["","COM_FR","-",{"$f":"'[1]AGR COMFR'!D25","v":"AH"},"-","-",{"$f":"'[1]AGR COMFR'!G25","v":"s3d1b2"},"-",0,{"$f":"'[1]AGR COMFR'!J25","v":0.15060999999999999}]
["","COM_FR","-",{"$f":"'[1]AGR COMFR'!D26","v":"AH"},"-","-",{"$f":"'[1]AGR COMFR'!G26","v":"s3d1b3"},"-",0,{"$f":"'[1]AGR COMFR'!J26","v":2.4320000000000001E-2}]
["","COM_FR","-",{"$f":"'[1]AGR COMFR'!D27","v":"AH"},"-","-",{"$f":"'[1]AGR COMFR'!G27","v":"s3d2b1"},"-",0,{"$f":"'[1]AGR COMFR'!J27","v":3.2910000000000002E-2}]
["","COM_FR","-",{"$f":"'[1]AGR COMFR'!D28","v":"AH"},"-","-",{"$f":"'[1]AGR COMFR'!G28","v":"s3d2b2"},"-",0,{"$f":"'[1]AGR COMFR'!J28","v":4.8890000000000003E-2}]
["","COM_FR","-",{"$f":"'[1]AGR COMFR'!D29","v":"AH"},"-","-",{"$f":"'[1]AGR COMFR'!G29","v":"s3d2b3"},"-",0,{"$f":"'[1]AGR COMFR'!J29","v":1.325E-2}]
["","COM_FR","-",{"$f":"'[1]AGR COMFR'!D30","v":"AP"},"-","-",{"$f":"'[1]AGR COMFR'!G30","v":"s1d1b1"},"-",0,{"$f":"'[1]AGR COMFR'!J30","v":6.4519999999999994E-2}]
["","COM_FR","-",{"$f":"'[1]AGR COMFR'!D31","v":"AP"},"-","-",{"$f":"'[1]AGR COMFR'!G31","v":"s1d1b2"},"-",0,{"$f":"'[1]AGR COMFR'!J31","v":0.15222999999999987}]
["","COM_FR","-",{"$f":"'[1]AGR COMFR'!D32","v":"AP"},"-","-",{"$f":"'[1]AGR COMFR'!G32","v":"s1d1b3"},"-",0,{"$f":"'[1]AGR COMFR'!J32","v":3.279E-2}]
["","COM_FR","-",{"$f":"'[1]AGR COMFR'!D33","v":"AP"},"-","-",{"$f":"'[1]AGR COMFR'!G33","v":"s1d2b1"},"-",0,{"$f":"'[1]AGR COMFR'!J33","v":3.7620000000000001E-2}]
["","COM_FR","-",{"$f":"'[1]AGR COMFR'!D34","v":"AP"},"-","-",{"$f":"'[1]AGR COMFR'!G34","v":"s1d2b2"},"-",0,{"$f":"'[1]AGR COMFR'!J34","v":5.321E-2}]
["","COM_FR","-",{"$f":"'[1]AGR COMFR'!D35","v":"AP"},"-","-",{"$f":"'[1]AGR COMFR'!G35","v":"s1d2b3"},"-",0,{"$f":"'[1]AGR COMFR'!J35","v":1.6199999999999999E-2}]
["","COM_FR","-",{"$f":"'[1]AGR COMFR'!D36","v":"AP"},"-","-",{"$f":"'[1]AGR COMFR'!G36","v":"s2d1b1"},"-",0,{"$f":"'[1]AGR COMFR'!J36","v":5.0790000000000002E-2}]
["","COM_FR","-",{"$f":"'[1]AGR COMFR'!D37","v":"AP"},"-","-",{"$f":"'[1]AGR COMFR'!G37","v":"s2d1b2"},"-",0,{"$f":"'[1]AGR COMFR'!J37","v":4.7980000000000002E-2}]
["","COM_FR","-",{"$f":"'[1]AGR COMFR'!D38","v":"AP"},"-","-",{"$f":"'[1]AGR COMFR'!G38","v":"s2d1b3"},"-",0,{"$f":"'[1]AGR COMFR'!J38","v":8.3580000000000002E-2}]
["","COM_FR","-",{"$f":"'[1]AGR COMFR'!D39","v":"AP"},"-","-",{"$f":"'[1]AGR COMFR'!G39","v":"s2d1b4"},"-",0,{"$f":"'[1]AGR COMFR'!J39","v":1.966E-2}]
["","COM_FR","-",{"$f":"'[1]AGR COMFR'!D40","v":"AP"},"-","-",{"$f":"'[1]AGR COMFR'!G40","v":"s2d1b5"},"-",0,{"$f":"'[1]AGR COMFR'!J40","v":1.1900000000000001E-2}]
["","COM_FR","-",{"$f":"'[1]AGR COMFR'!D41","v":"AP"},"-","-",{"$f":"'[1]AGR COMFR'!G41","v":"s2d2b1"},"-",0,{"$f":"'[1]AGR COMFR'!J41","v":3.3829999999999999E-2}]
["","COM_FR","-",{"$f":"'[1]AGR COMFR'!D42","v":"AP"},"-","-",{"$f":"'[1]AGR COMFR'!G42","v":"s2d2b2"},"-",0,{"$f":"'[1]AGR COMFR'!J42","v":4.4670000000000001E-2}]
["","COM_FR","-",{"$f":"'[1]AGR COMFR'!D43","v":"AP"},"-","-",{"$f":"'[1]AGR COMFR'!G43","v":"s2d2b3"},"-",0,{"$f":"'[1]AGR COMFR'!J43","v":1.3520000000000001E-2}]
["","COM_FR","-",{"$f":"'[1]AGR COMFR'!D44","v":"AP"},"-","-",{"$f":"'[1]AGR COMFR'!G44","v":"s3d1b1"},"-",0,{"$f":"'[1]AGR COMFR'!J44","v":7.4759999999999993E-2}]
["","COM_FR","-",{"$f":"'[1]AGR COMFR'!D45","v":"AP"},"-","-",{"$f":"'[1]AGR COMFR'!G45","v":"s3d1b2"},"-",0,{"$f":"'[1]AGR COMFR'!J45","v":0.13583000000000001}]
["","COM_FR","-",{"$f":"'[1]AGR COMFR'!D46","v":"AP"},"-","-",{"$f":"'[1]AGR COMFR'!G46","v":"s3d1b3"},"-",0,{"$f":"'[1]AGR COMFR'!J46","v":3.1859999999999999E-2}]
["","COM_FR","-",{"$f":"'[1]AGR COMFR'!D47","v":"AP"},"-","-",{"$f":"'[1]AGR COMFR'!G47","v":"s3d2b1"},"-",0,{"$f":"'[1]AGR COMFR'!J47","v":3.3410000000000002E-2}]
["","COM_FR","-",{"$f":"'[1]AGR COMFR'!D48","v":"AP"},"-","-",{"$f":"'[1]AGR COMFR'!G48","v":"s3d2b2"},"-",0,{"$f":"'[1]AGR COMFR'!J48","v":4.725E-2}]
["","COM_FR","-",{"$f":"'[1]AGR COMFR'!D49","v":"AP"},"-","-",{"$f":"'[1]AGR COMFR'!G49","v":"s3d2b3"},"-",0,{"$f":"'[1]AGR COMFR'!J49","v":1.439E-2}]
[null,"COM_FR","-",{"$f":"'[1]AGR COMFR'!D50","v":"AT"},"-","-",{"$f":"'[1]AGR COMFR'!G50","v":"s1d1b1"},"-",0,{"$f":"'[1]AGR COMFR'!J50","v":5.6610000000000001E-2}]
[null,"COM_FR","-",{"$f":"'[1]AGR COMFR'!D51","v":"AT"},"-","-",{"$f":"'[1]AGR COMFR'!G51","v":"s1d1b2"},"-",0,{"$f":"'[1]AGR COMFR'!J51","v":0.1235500000000001}]
[null,"COM_FR","-",{"$f":"'[1]AGR COMFR'!D52","v":"AT"},"-","-",{"$f":"'[1]AGR COMFR'!G52","v":"s1d1b3"},"-",0,{"$f":"'[1]AGR COMFR'!J52","v":6.9360000000000005E-2}]
[null,"COM_FR","-",{"$f":"'[1]AGR COMFR'!D53","v":"AT"},"-","-",{"$f":"'[1]AGR COMFR'!G53","v":"s1d2b1"},"-",0,{"$f":"'[1]AGR COMFR'!J53","v":2.9499999999999998E-2}]
[null,"COM_FR","-",{"$f":"'[1]AGR COMFR'!D54","v":"AT"},"-","-",{"$f":"'[1]AGR COMFR'!G54","v":"s1d2b2"},"-",0,{"$f":"'[1]AGR COMFR'!J54","v":4.9419999999999999E-2}]
[null,"COM_FR","-",{"$f":"'[1]AGR COMFR'!D55","v":"AT"},"-","-",{"$f":"'[1]AGR COMFR'!G55","v":"s1d2b3"},"-",0,{"$f":"'[1]AGR COMFR'!J55","v":2.811E-2}]
[null,"COM_FR","-",{"$f":"'[1]AGR COMFR'!D56","v":"AT"},"-","-",{"$f":"'[1]AGR COMFR'!G56","v":"s2d1b1"},"-",0,{"$f":"'[1]AGR COMFR'!J56","v":3.7999999999999999E-2}]
[null,"COM_FR","-",{"$f":"'[1]AGR COMFR'!D57","v":"AT"},"-","-",{"$f":"'[1]AGR COMFR'!G57","v":"s2d1b2"},"-",0,{"$f":"'[1]AGR COMFR'!J57","v":5.0319999999999997E-2}]
[null,"COM_FR","-",{"$f":"'[1]AGR COMFR'!D58","v":"AT"},"-","-",{"$f":"'[1]AGR COMFR'!G58","v":"s2d1b3"},"-",0,{"$f":"'[1]AGR COMFR'!J58","v":5.561E-2}]
[null,"COM_FR","-",{"$f":"'[1]AGR COMFR'!D59","v":"AT"},"-","-",{"$f":"'[1]AGR COMFR'!G59","v":"s2d1b4"},"-",0,{"$f":"'[1]AGR COMFR'!J59","v":4.648E-2}]
[null,"COM_FR","-",{"$f":"'[1]AGR COMFR'!D60","v":"AT"},"-","-",{"$f":"'[1]AGR COMFR'!G60","v":"s2d1b5"},"-",0,{"$f":"'[1]AGR COMFR'!J60","v":2.3519999999999999E-2}]
[null,"COM_FR","-",{"$f":"'[1]AGR COMFR'!D61","v":"AT"},"-","-",{"$f":"'[1]AGR COMFR'!G61","v":"s2d2b1"},"-",0,{"$f":"'[1]AGR COMFR'!J61","v":2.537E-2}]
[null,"COM_FR","-",{"$f":"'[1]AGR COMFR'!D62","v":"AT"},"-","-",{"$f":"'[1]AGR COMFR'!G62","v":"s2d2b2"},"-",0,{"$f":"'[1]AGR COMFR'!J62","v":4.249E-2}]
[null,"COM_FR","-",{"$f":"'[1]AGR COMFR'!D63","v":"AT"},"-","-",{"$f":"'[1]AGR COMFR'!G63","v":"s2d2b3"},"-",0,{"$f":"'[1]AGR COMFR'!J63","v":2.4160000000000001E-2}]
[null,"COM_FR","-",{"$f":"'[1]AGR COMFR'!D64","v":"AT"},"-","-",{"$f":"'[1]AGR COMFR'!G64","v":"s3d1b1"},"-",0,{"$f":"'[1]AGR COMFR'!J64","v":7.0690000000000003E-2}]
[null,"COM_FR","-",{"$f":"'[1]AGR COMFR'!D65","v":"AT"},"-","-",{"$f":"'[1]AGR COMFR'!G65","v":"s3d1b2"},"-",0,{"$f":"'[1]AGR COMFR'!J65","v":0.10437}]
[null,"COM_FR","-",{"$f":"'[1]AGR COMFR'!D66","v":"AT"},"-","-",{"$f":"'[1]AGR COMFR'!G66","v":"s3d1b3"},"-",0,{"$f":"'[1]AGR COMFR'!J66","v":6.7390000000000005E-2}]
[null,"COM_FR","-",{"$f":"'[1]AGR COMFR'!D67","v":"AT"},"-","-",{"$f":"'[1]AGR COMFR'!G67","v":"s3d2b1"},"-",0,{"$f":"'[1]AGR COMFR'!J67","v":2.6200000000000001E-2}]
[null,"COM_FR","-",{"$f":"'[1]AGR COMFR'!D68","v":"AT"},"-","-",{"$f":"'[1]AGR COMFR'!G68","v":"s3d2b2"},"-",0,{"$f":"'[1]AGR COMFR'!J68","v":4.3889999999999998E-2}]
[null,"COM_FR","-",{"$f":"'[1]AGR COMFR'!D69","v":"AT"},"-","-",{"$f":"'[1]AGR COMFR'!G69","v":"s3d2b3"},"-",0,{"$f":"'[1]AGR COMFR'!J69","v":2.496E-2}]
[null,"COM_FR","-",{"$f":"'[1]AGR COMFR'!D70","v":"AI"},"-","-",{"$f":"'[1]AGR COMFR'!G70","v":"s1d1b1"},"-",0,{"$f":"'[1]AGR COMFR'!J70","v":6.1920000000000003E-2}]
[null,"COM_FR","-",{"$f":"'[1]AGR COMFR'!D71","v":"AI"},"-","-",{"$f":"'[1]AGR COMFR'!G71","v":"s1d1b2"},"-",0,{"$f":"'[1]AGR COMFR'!J71","v":0.14323999999999973}]
[null,"COM_FR","-",{"$f":"'[1]AGR COMFR'!D72","v":"AI"},"-","-",{"$f":"'[1]AGR COMFR'!G72","v":"s1d1b3"},"-",0,{"$f":"'[1]AGR COMFR'!J72","v":4.4359999999999997E-2}]
[null,"COM_FR","-",{"$f":"'[1]AGR COMFR'!D73","v":"AI"},"-","-",{"$f":"'[1]AGR COMFR'!G73","v":"s1d2b1"},"-",0,{"$f":"'[1]AGR COMFR'!J73","v":3.0980000000000001E-2}]
[null,"COM_FR","-",{"$f":"'[1]AGR COMFR'!D74","v":"AI"},"-","-",{"$f":"'[1]AGR COMFR'!G74","v":"s1d2b2"},"-",0,{"$f":"'[1]AGR COMFR'!J74","v":5.7020000000000001E-2}]
[null,"COM_FR","-",{"$f":"'[1]AGR COMFR'!D75","v":"AI"},"-","-",{"$f":"'[1]AGR COMFR'!G75","v":"s1d2b3"},"-",0,{"$f":"'[1]AGR COMFR'!J75","v":1.9029999999999998E-2}]
[null,"COM_FR","-",{"$f":"'[1]AGR COMFR'!D76","v":"AI"},"-","-",{"$f":"'[1]AGR COMFR'!G76","v":"s2d1b1"},"-",0,{"$f":"'[1]AGR COMFR'!J76","v":4.4650000000000002E-2}]
[null,"COM_FR","-",{"$f":"'[1]AGR COMFR'!D77","v":"AI"},"-","-",{"$f":"'[1]AGR COMFR'!G77","v":"s2d1b2"},"-",0,{"$f":"'[1]AGR COMFR'!J77","v":4.5690000000000001E-2}]
[null,"COM_FR","-",{"$f":"'[1]AGR COMFR'!D78","v":"AI"},"-","-",{"$f":"'[1]AGR COMFR'!G78","v":"s2d1b3"},"-",0,{"$f":"'[1]AGR COMFR'!J78","v":7.7109999999999998E-2}]
[null,"COM_FR","-",{"$f":"'[1]AGR COMFR'!D79","v":"AI"},"-","-",{"$f":"'[1]AGR COMFR'!G79","v":"s2d1b4"},"-",0,{"$f":"'[1]AGR COMFR'!J79","v":2.895E-2}]
[null,"COM_FR","-",{"$f":"'[1]AGR COMFR'!D80","v":"AI"},"-","-",{"$f":"'[1]AGR COMFR'!G80","v":"s2d1b5"},"-",0,{"$f":"'[1]AGR COMFR'!J80","v":1.7520000000000001E-2}]
[null,"COM_FR","-",{"$f":"'[1]AGR COMFR'!D81","v":"AI"},"-","-",{"$f":"'[1]AGR COMFR'!G81","v":"s2d2b1"},"-",0,{"$f":"'[1]AGR COMFR'!J81","v":2.6630000000000001E-2}]
[null,"COM_FR","-",{"$f":"'[1]AGR COMFR'!D82","v":"AI"},"-","-",{"$f":"'[1]AGR COMFR'!G82","v":"s2d2b2"},"-",0,{"$f":"'[1]AGR COMFR'!J82","v":4.9029999999999997E-2}]
[null,"COM_FR","-",{"$f":"'[1]AGR COMFR'!D83","v":"AI"},"-","-",{"$f":"'[1]AGR COMFR'!G83","v":"s2d2b3"},"-",0,{"$f":"'[1]AGR COMFR'!J83","v":1.636E-2}]
[null,"COM_FR","-",{"$f":"'[1]AGR COMFR'!D84","v":"AI"},"-","-",{"$f":"'[1]AGR COMFR'!G84","v":"s3d1b1"},"-",0,{"$f":"'[1]AGR COMFR'!J84","v":7.0180000000000006E-2}]
[null,"COM_FR","-",{"$f":"'[1]AGR COMFR'!D85","v":"AI"},"-","-",{"$f":"'[1]AGR COMFR'!G85","v":"s3d1b2"},"-",0,{"$f":"'[1]AGR COMFR'!J85","v":0.12917000000000001}]
[null,"COM_FR","-",{"$f":"'[1]AGR COMFR'!D86","v":"AI"},"-","-",{"$f":"'[1]AGR COMFR'!G86","v":"s3d1b3"},"-",0,{"$f":"'[1]AGR COMFR'!J86","v":4.3110000000000002E-2}]
[null,"COM_FR","-",{"$f":"'[1]AGR COMFR'!D87","v":"AI"},"-","-",{"$f":"'[1]AGR COMFR'!G87","v":"s3d2b1"},"-",0,{"$f":"'[1]AGR COMFR'!J87","v":2.751E-2}]
[null,"COM_FR","-",{"$f":"'[1]AGR COMFR'!D88","v":"AI"},"-","-",{"$f":"'[1]AGR COMFR'!G88","v":"s3d2b2"},"-",0,{"$f":"'[1]AGR COMFR'!J88","v":5.0639999999999998E-2}]
[null,"COM_FR","-",{"$f":"'[1]AGR COMFR'!D89","v":"AI"},"-","-",{"$f":"'[1]AGR COMFR'!G89","v":"s3d2b3"},"-",0,{"$f":"'[1]AGR COMFR'!J89","v":1.6899999999999998E-2}]
[null,"COM_FR","-",{"$f":"'[1]AGR COMFR'!D90","v":"AO"},"-","-",{"$f":"'[1]AGR COMFR'!G90","v":"s1d1b1"},"-",0,{"$f":"'[1]AGR COMFR'!J90","v":7.7240000000000003E-2}]
[null,"COM_FR","-",{"$f":"'[1]AGR COMFR'!D91","v":"AO"},"-","-",{"$f":"'[1]AGR COMFR'!G91","v":"s1d1b2"},"-",0,{"$f":"'[1]AGR COMFR'!J91","v":0.13851000000000011}]
[null,"COM_FR","-",{"$f":"'[1]AGR COMFR'!D92","v":"AO"},"-","-",{"$f":"'[1]AGR COMFR'!G92","v":"s1d1b3"},"-",0,{"$f":"'[1]AGR COMFR'!J92","v":3.3770000000000001E-2}]
[null,"COM_FR","-",{"$f":"'[1]AGR COMFR'!D93","v":"AO"},"-","-",{"$f":"'[1]AGR COMFR'!G93","v":"s1d2b1"},"-",0,{"$f":"'[1]AGR COMFR'!J93","v":4.1419999999999998E-2}]
[null,"COM_FR","-",{"$f":"'[1]AGR COMFR'!D94","v":"AO"},"-","-",{"$f":"'[1]AGR COMFR'!G94","v":"s1d2b2"},"-",0,{"$f":"'[1]AGR COMFR'!J94","v":4.9360000000000001E-2}]
[null,"COM_FR","-",{"$f":"'[1]AGR COMFR'!D95","v":"AO"},"-","-",{"$f":"'[1]AGR COMFR'!G95","v":"s1d2b3"},"-",0,{"$f":"'[1]AGR COMFR'!J95","v":1.6250000000000001E-2}]
[null,"COM_FR","-",{"$f":"'[1]AGR COMFR'!D96","v":"AO"},"-","-",{"$f":"'[1]AGR COMFR'!G96","v":"s2d1b1"},"-",0,{"$f":"'[1]AGR COMFR'!J96","v":5.8340000000000003E-2}]
[null,"COM_FR","-",{"$f":"'[1]AGR COMFR'!D97","v":"AO"},"-","-",{"$f":"'[1]AGR COMFR'!G97","v":"s2d1b2"},"-",0,{"$f":"'[1]AGR COMFR'!J97","v":4.3990000000000001E-2}]
[null,"COM_FR","-",{"$f":"'[1]AGR COMFR'!D98","v":"AO"},"-","-",{"$f":"'[1]AGR COMFR'!G98","v":"s2d1b3"},"-",0,{"$f":"'[1]AGR COMFR'!J98","v":7.5999999999999998E-2}]
[null,"COM_FR","-",{"$f":"'[1]AGR COMFR'!D99","v":"AO"},"-","-",{"$f":"'[1]AGR COMFR'!G99","v":"s2d1b4"},"-",0,{"$f":"'[1]AGR COMFR'!J99","v":2.1649999999999999E-2}]
[null,"COM_FR","-",{"$f":"'[1]AGR COMFR'!D100","v":"AO"},"-","-",{"$f":"'[1]AGR COMFR'!G100","v":"s2d1b5"},"-",0,{"$f":"'[1]AGR COMFR'!J100","v":1.3939999999999999E-2}]
[null,"COM_FR","-",{"$f":"'[1]AGR COMFR'!D101","v":"AO"},"-","-",{"$f":"'[1]AGR COMFR'!G101","v":"s2d2b1"},"-",0,{"$f":"'[1]AGR COMFR'!J101","v":3.5490000000000001E-2}]
[null,"COM_FR","-",{"$f":"'[1]AGR COMFR'!D102","v":"AO"},"-","-",{"$f":"'[1]AGR COMFR'!G102","v":"s2d2b2"},"-",0,{"$f":"'[1]AGR COMFR'!J102","v":4.2590000000000003E-2}]
[null,"COM_FR","-",{"$f":"'[1]AGR COMFR'!D103","v":"AO"},"-","-",{"$f":"'[1]AGR COMFR'!G103","v":"s2d2b3"},"-",0,{"$f":"'[1]AGR COMFR'!J103","v":1.3950000000000001E-2}]
[null,"COM_FR","-",{"$f":"'[1]AGR COMFR'!D104","v":"AO"},"-","-",{"$f":"'[1]AGR COMFR'!G104","v":"s3d1b1"},"-",0,{"$f":"'[1]AGR COMFR'!J104","v":8.7169999999999997E-2}]
[null,"COM_FR","-",{"$f":"'[1]AGR COMFR'!D105","v":"AO"},"-","-",{"$f":"'[1]AGR COMFR'!G105","v":"s3d1b2"},"-",0,{"$f":"'[1]AGR COMFR'!J105","v":0.12247}]
[null,"COM_FR","-",{"$f":"'[1]AGR COMFR'!D106","v":"AO"},"-","-",{"$f":"'[1]AGR COMFR'!G106","v":"s3d1b3"},"-",0,{"$f":"'[1]AGR COMFR'!J106","v":3.2809999999999999E-2}]
[null,"COM_FR","-",{"$f":"'[1]AGR COMFR'!D107","v":"AO"},"-","-",{"$f":"'[1]AGR COMFR'!G107","v":"s3d2b1"},"-",0,{"$f":"'[1]AGR COMFR'!J107","v":3.678E-2}]
[null,"COM_FR","-",{"$f":"'[1]AGR COMFR'!D108","v":"AO"},"-","-",{"$f":"'[1]AGR COMFR'!G108","v":"s3d2b2"},"-",0,{"$f":"'[1]AGR COMFR'!J108","v":4.3839999999999997E-2}]
[null,"COM_FR","-",{"$f":"'[1]AGR COMFR'!D109","v":"AO"},"-","-",{"$f":"'[1]AGR COMFR'!G109","v":"s3d2b3"},"-",0,{"$f":"'[1]AGR COMFR'!J109","v":1.443E-2}]

{"sheet":"TS COMFR_10","index":19,"n_rows":109,"n_cols":10,"rows_kept":109,"cut":false,"hidden":false,"merged":[]}
["TS DATA","REGION1"]
["*"]
["*"]
["*"]
["*"]
["*"]
["*","Parameter","Arg1","Arg2","Arg3","Arg4","Arg5","Arg6","I/E Opt\nor Value",2006]
["*"]
["*","COM_FR","-","Commodity","-","-","TimeSlice","-",0]
[{"$f":"IF(D10<>\"\",IF(ISTEXT(D10),\"\",\"*\"))","v":""},"COM_FR","-",{"$f":"'[2]AGR COMFR'!D10","v":"AH"},"-","-",{"$f":"'[2]AGR COMFR'!G10","v":"s1d1b1"},"-",0,{"$f":"'[2]AGR COMFR'!J10","v":0.26507000000000003}]
[{"$f":"IF(D11<>\"\",IF(ISTEXT(D11),\"\",\"*\"))","v":""},"COM_FR","-",{"$f":"'[2]AGR COMFR'!D11","v":"AH"},"-","-",{"$f":"'[2]AGR COMFR'!G11","v":"s1d1b2"},"-",0,{"$f":"'[2]AGR COMFR'!J11","v":0.32396999999999998}]
["","COM_FR","-",{"$f":"'[2]AGR COMFR'!D12","v":"AH"},"-","-",{"$f":"'[2]AGR COMFR'!G12","v":"s1d1b3"},"-",0,{"$f":"'[2]AGR COMFR'!J12","v":0.11781}]
["","COM_FR","-",{"$f":"'[2]AGR COMFR'!D13","v":"AH"},"-","-",{"$f":"'[2]AGR COMFR'!G13","v":"s2d1b1"},"-",0,{"$f":"'[2]AGR COMFR'!J13","v":9.7720000000000001E-2}]
["","COM_FR","-",{"$f":"'[2]AGR COMFR'!D14","v":"AH"},"-","-",{"$f":"'[2]AGR COMFR'!G14","v":"s2d1b2"},"-",0,{"$f":"'[2]AGR COMFR'!J14","v":4.8860000000000001E-2}]
["","COM_FR","-",{"$f":"'[2]AGR COMFR'!D15","v":"AH"},"-","-",{"$f":"'[2]AGR COMFR'!G15","v":"s2d1b3"},"-",0,{"$f":"'[2]AGR COMFR'!J15","v":8.5500000000000007E-2}]
["","COM_FR","-",{"$f":"'[2]AGR COMFR'!D16","v":"AH"},"-","-",{"$f":"'[2]AGR COMFR'!G16","v":"s2d1b4"},"-",0,{"$f":"'[2]AGR COMFR'!J16","v":3.6639999999999999E-2}]
["","COM_FR","-",{"$f":"'[2]AGR COMFR'!D17","v":"AH"},"-","-",{"$f":"'[2]AGR COMFR'!G17","v":"s2d1b5"},"-",0,{"$f":"'[2]AGR COMFR'!J17","v":2.443E-2}]
["","COM_FR","-",{"$f":"'[2]AGR COMFR'!D18","v":"AP"},"-","-",{"$f":"'[2]AGR COMFR'!G18","v":"s1d1b1"},"-",0,{"$f":"'[2]AGR COMFR'!J18","v":0.26507000000000003}]
["","COM_FR","-",{"$f":"'[2]AGR COMFR'!D19","v":"AP"},"-","-",{"$f":"'[2]AGR COMFR'!G19","v":"s1d1b2"},"-",0,{"$f":"'[2]AGR COMFR'!J19","v":0.32396999999999998}]
["","COM_FR","-",{"$f":"'[2]AGR COMFR'!D20","v":"AP"},"-","-",{"$f":"'[2]AGR COMFR'!G20","v":"s1d1b3"},"-",0,{"$f":"'[2]AGR COMFR'!J20","v":0.11781}]
["","COM_FR","-",{"$f":"'[2]AGR COMFR'!D21","v":"AP"},"-","-",{"$f":"'[2]AGR COMFR'!G21","v":"s2d1b1"},"-",0,{"$f":"'[2]AGR COMFR'!J21","v":9.7720000000000001E-2}]
["","COM_FR","-",{"$f":"'[2]AGR COMFR'!D22","v":"AP"},"-","-",{"$f":"'[2]AGR COMFR'!G22","v":"s2d1b2"},"-",0,{"$f":"'[2]AGR COMFR'!J22","v":4.8860000000000001E-2}]
["","COM_FR","-",{"$f":"'[2]AGR COMFR'!D23","v":"AP"},"-","-",{"$f":"'[2]AGR COMFR'!G23","v":"s2d1b3"},"-",0,{"$f":"'[2]AGR COMFR'!J23","v":8.5500000000000007E-2}]
["","COM_FR","-",{"$f":"'[2]AGR COMFR'!D24","v":"AP"},"-","-",{"$f":"'[2]AGR COMFR'!G24","v":"s2d1b4"},"-",0,{"$f":"'[2]AGR COMFR'!J24","v":3.6639999999999999E-2}]
["","COM_FR","-",{"$f":"'[2]AGR COMFR'!D25","v":"AP"},"-","-",{"$f":"'[2]AGR COMFR'!G25","v":"s2d1b5"},"-",0,{"$f":"'[2]AGR COMFR'!J25","v":2.443E-2}]
["","COM_FR","-",{"$f":"'[2]AGR COMFR'!D26","v":"AT"},"-","-",{"$f":"'[2]AGR COMFR'!G26","v":"s1d1b1"},"-",0,{"$f":"'[2]AGR COMFR'!J26","v":0.26507000000000003}]
["","COM_FR","-",{"$f":"'[2]AGR COMFR'!D27","v":"AT"},"-","-",{"$f":"'[2]AGR COMFR'!G27","v":"s1d1b2"},"-",0,{"$f":"'[2]AGR COMFR'!J27","v":0.32396999999999998}]
["","COM_FR","-",{"$f":"'[2]AGR COMFR'!D28","v":"AT"},"-","-",{"$f":"'[2]AGR COMFR'!G28","v":"s1d1b3"},"-",0,{"$f":"'[2]AGR COMFR'!J28","v":0.11781}]
["","COM_FR","-",{"$f":"'[2]AGR COMFR'!D29","v":"AT"},"-","-",{"$f":"'[2]AGR COMFR'!G29","v":"s2d1b1"},"-",0,{"$f":"'[2]AGR COMFR'!J29","v":9.7720000000000001E-2}]
["","COM_FR","-",{"$f":"'[2]AGR COMFR'!D30","v":"AT"},"-","-",{"$f":"'[2]AGR COMFR'!G30","v":"s2d1b2"},"-",0,{"$f":"'[2]AGR COMFR'!J30","v":4.8860000000000001E-2}]
["","COM_FR","-",{"$f":"'[2]AGR COMFR'!D31","v":"AT"},"-","-",{"$f":"'[2]AGR COMFR'!G31","v":"s2d1b3"},"-",0,{"$f":"'[2]AGR COMFR'!J31","v":8.5500000000000007E-2}]
["","COM_FR","-",{"$f":"'[2]AGR COMFR'!D32","v":"AT"},"-","-",{"$f":"'[2]AGR COMFR'!G32","v":"s2d1b4"},"-",0,{"$f":"'[2]AGR COMFR'!J32","v":3.6639999999999999E-2}]
["","COM_FR","-",{"$f":"'[2]AGR COMFR'!D33","v":"AT"},"-","-",{"$f":"'[2]AGR COMFR'!G33","v":"s2d1b5"},"-",0,{"$f":"'[2]AGR COMFR'!J33","v":2.443E-2}]
["","COM_FR","-",{"$f":"'[2]AGR COMFR'!D34","v":"AI"},"-","-",{"$f":"'[2]AGR COMFR'!G34","v":"s1d1b1"},"-",0,{"$f":"'[2]AGR COMFR'!J34","v":0.26507000000000003}]
["","COM_FR","-",{"$f":"'[2]AGR COMFR'!D35","v":"AI"},"-","-",{"$f":"'[2]AGR COMFR'!G35","v":"s1d1b2"},"-",0,{"$f":"'[2]AGR COMFR'!J35","v":0.32396999999999998}]
["","COM_FR","-",{"$f":"'[2]AGR COMFR'!D36","v":"AI"},"-","-",{"$f":"'[2]AGR COMFR'!G36","v":"s1d1b3"},"-",0,{"$f":"'[2]AGR COMFR'!J36","v":0.11781}]
["","COM_FR","-",{"$f":"'[2]AGR COMFR'!D37","v":"AI"},"-","-",{"$f":"'[2]AGR COMFR'!G37","v":"s2d1b1"},"-",0,{"$f":"'[2]AGR COMFR'!J37","v":9.7720000000000001E-2}]
["","COM_FR","-",{"$f":"'[2]AGR COMFR'!D38","v":"AI"},"-","-",{"$f":"'[2]AGR COMFR'!G38","v":"s2d1b2"},"-",0,{"$f":"'[2]AGR COMFR'!J38","v":4.8860000000000001E-2}]
["","COM_FR","-",{"$f":"'[2]AGR COMFR'!D39","v":"AI"},"-","-",{"$f":"'[2]AGR COMFR'!G39","v":"s2d1b3"},"-",0,{"$f":"'[2]AGR COMFR'!J39","v":8.5500000000000007E-2}]
["","COM_FR","-",{"$f":"'[2]AGR COMFR'!D40","v":"AI"},"-","-",{"$f":"'[2]AGR COMFR'!G40","v":"s2d1b4"},"-",0,{"$f":"'[2]AGR COMFR'!J40","v":3.6639999999999999E-2}]
["","COM_FR","-",{"$f":"'[2]AGR COMFR'!D41","v":"AI"},"-","-",{"$f":"'[2]AGR COMFR'!G41","v":"s2d1b5"},"-",0,{"$f":"'[2]AGR COMFR'!J41","v":2.443E-2}]
["","COM_FR","-",{"$f":"'[2]AGR COMFR'!D42","v":"AO"},"-","-",{"$f":"'[2]AGR COMFR'!G42","v":"s1d1b1"},"-",0,{"$f":"'[2]AGR COMFR'!J42","v":0.26507000000000003}]
["","COM_FR","-",{"$f":"'[2]AGR COMFR'!D43","v":"AO"},"-","-",{"$f":"'[2]AGR COMFR'!G43","v":"s1d1b2"},"-",0,{"$f":"'[2]AGR COMFR'!J43","v":0.32396999999999998}]
["","COM_FR","-",{"$f":"'[2]AGR COMFR'!D44","v":"AO"},"-","-",{"$f":"'[2]AGR COMFR'!G44","v":"s1d1b3"},"-",0,{"$f":"'[2]AGR COMFR'!J44","v":0.11781}]
["","COM_FR","-",{"$f":"'[2]AGR COMFR'!D45","v":"AO"},"-","-",{"$f":"'[2]AGR COMFR'!G45","v":"s2d1b1"},"-",0,{"$f":"'[2]AGR COMFR'!J45","v":9.7720000000000001E-2}]
["","COM_FR","-",{"$f":"'[2]AGR COMFR'!D46","v":"AO"},"-","-",{"$f":"'[2]AGR COMFR'!G46","v":"s2d1b2"},"-",0,{"$f":"'[2]AGR COMFR'!J46","v":4.8860000000000001E-2}]
["","COM_FR","-",{"$f":"'[2]AGR COMFR'!D47","v":"AO"},"-","-",{"$f":"'[2]AGR COMFR'!G47","v":"s2d1b3"},"-",0,{"$f":"'[2]AGR COMFR'!J47","v":8.5500000000000007E-2}]
["","COM_FR","-",{"$f":"'[2]AGR COMFR'!D48","v":"AO"},"-","-",{"$f":"'[2]AGR COMFR'!G48","v":"s2d1b4"},"-",0,{"$f":"'[2]AGR COMFR'!J48","v":3.6639999999999999E-2}]
["","COM_FR","-",{"$f":"'[2]AGR COMFR'!D49","v":"AO"},"-","-",{"$f":"'[2]AGR COMFR'!G49","v":"s2d1b5"},"-",0,{"$f":"'[2]AGR COMFR'!J49","v":2.443E-2}]
["*","COM_FR","-",{"$f":"'[2]AGR COMFR'!D50","v":0},"-","-",{"$f":"'[2]AGR COMFR'!G50","v":0},"-",0,{"$f":"'[2]AGR COMFR'!J50","v":0}]
["*","COM_FR","-",{"$f":"'[2]AGR COMFR'!D51","v":0},"-","-",{"$f":"'[2]AGR COMFR'!G51","v":0},"-",0,{"$f":"'[2]AGR COMFR'!J51","v":0}]
["*","COM_FR","-",{"$f":"'[2]AGR COMFR'!D52","v":0},"-","-",{"$f":"'[2]AGR COMFR'!G52","v":0},"-",0,{"$f":"'[2]AGR COMFR'!J52","v":0}]
["*","COM_FR","-",{"$f":"'[2]AGR COMFR'!D53","v":0},"-","-",{"$f":"'[2]AGR COMFR'!G53","v":0},"-",0,{"$f":"'[2]AGR COMFR'!J53","v":0}]
["*","COM_FR","-",{"$f":"'[2]AGR COMFR'!D54","v":0},"-","-",{"$f":"'[2]AGR COMFR'!G54","v":0},"-",0,{"$f":"'[2]AGR COMFR'!J54","v":0}]
["*","COM_FR","-",{"$f":"'[2]AGR COMFR'!D55","v":0},"-","-",{"$f":"'[2]AGR COMFR'!G55","v":0},"-",0,{"$f":"'[2]AGR COMFR'!J55","v":0}]
["*","COM_FR","-",{"$f":"'[2]AGR COMFR'!D56","v":0},"-","-",{"$f":"'[2]AGR COMFR'!G56","v":0},"-",0,{"$f":"'[2]AGR COMFR'!J56","v":0}]
["*","COM_FR","-",{"$f":"'[2]AGR COMFR'!D57","v":0},"-","-",{"$f":"'[2]AGR COMFR'!G57","v":0},"-",0,{"$f":"'[2]AGR COMFR'!J57","v":0}]
["*","COM_FR","-",{"$f":"'[2]AGR COMFR'!D58","v":0},"-","-",{"$f":"'[2]AGR COMFR'!G58","v":0},"-",0,{"$f":"'[2]AGR COMFR'!J58","v":0}]
["*","COM_FR","-",{"$f":"'[2]AGR COMFR'!D59","v":0},"-","-",{"$f":"'[2]AGR COMFR'!G59","v":0},"-",0,{"$f":"'[2]AGR COMFR'!J59","v":0}]
["*","COM_FR","-",{"$f":"'[2]AGR COMFR'!D60","v":0},"-","-",{"$f":"'[2]AGR COMFR'!G60","v":0},"-",0,{"$f":"'[2]AGR COMFR'!J60","v":0}]
["*","COM_FR","-",{"$f":"'[2]AGR COMFR'!D61","v":0},"-","-",{"$f":"'[2]AGR COMFR'!G61","v":0},"-",0,{"$f":"'[2]AGR COMFR'!J61","v":0}]
["*","COM_FR","-",{"$f":"'[2]AGR COMFR'!D62","v":0},"-","-",{"$f":"'[2]AGR COMFR'!G62","v":0},"-",0,{"$f":"'[2]AGR COMFR'!J62","v":0}]
["*","COM_FR","-",{"$f":"'[2]AGR COMFR'!D63","v":0},"-","-",{"$f":"'[2]AGR COMFR'!G63","v":0},"-",0,{"$f":"'[2]AGR COMFR'!J63","v":0}]
["*","COM_FR","-",{"$f":"'[2]AGR COMFR'!D64","v":0},"-","-",{"$f":"'[2]AGR COMFR'!G64","v":0},"-",0,{"$f":"'[2]AGR COMFR'!J64","v":0}]
["*","COM_FR","-",{"$f":"'[2]AGR COMFR'!D65","v":0},"-","-",{"$f":"'[2]AGR COMFR'!G65","v":0},"-",0,{"$f":"'[2]AGR COMFR'!J65","v":0}]
["*","COM_FR","-",{"$f":"'[2]AGR COMFR'!D66","v":0},"-","-",{"$f":"'[2]AGR COMFR'!G66","v":0},"-",0,{"$f":"'[2]AGR COMFR'!J66","v":0}]
["*","COM_FR","-",{"$f":"'[2]AGR COMFR'!D67","v":0},"-","-",{"$f":"'[2]AGR COMFR'!G67","v":0},"-",0,{"$f":"'[2]AGR COMFR'!J67","v":0}]
["*","COM_FR","-",{"$f":"'[2]AGR COMFR'!D68","v":0},"-","-",{"$f":"'[2]AGR COMFR'!G68","v":0},"-",0,{"$f":"'[2]AGR COMFR'!J68","v":0}]
["*","COM_FR","-",{"$f":"'[2]AGR COMFR'!D69","v":0},"-","-",{"$f":"'[2]AGR COMFR'!G69","v":0},"-",0,{"$f":"'[2]AGR COMFR'!J69","v":0}]
["*","COM_FR","-",{"$f":"'[2]AGR COMFR'!D70","v":0},"-","-",{"$f":"'[2]AGR COMFR'!G70","v":0},"-",0,{"$f":"'[2]AGR COMFR'!J70","v":0}]
["*","COM_FR","-",{"$f":"'[2]AGR COMFR'!D71","v":0},"-","-",{"$f":"'[2]AGR COMFR'!G71","v":0},"-",0,{"$f":"'[2]AGR COMFR'!J71","v":0}]
["*","COM_FR","-",{"$f":"'[2]AGR COMFR'!D72","v":0},"-","-",{"$f":"'[2]AGR COMFR'!G72","v":0},"-",0,{"$f":"'[2]AGR COMFR'!J72","v":0}]
["*","COM_FR","-",{"$f":"'[2]AGR COMFR'!D73","v":0},"-","-",{"$f":"'[2]AGR COMFR'!G73","v":0},"-",0,{"$f":"'[2]AGR COMFR'!J73","v":0}]
["*","COM_FR","-",{"$f":"'[2]AGR COMFR'!D74","v":0},"-","-",{"$f":"'[2]AGR COMFR'!G74","v":0},"-",0,{"$f":"'[2]AGR COMFR'!J74","v":0}]
[{"$f":"IF(D75<>\"\",IF(ISTEXT(D75),\"\",\"*\"))","v":"*"},"COM_FR","-",{"$f":"'[2]AGR COMFR'!D75","v":0},"-","-",{"$f":"'[2]AGR COMFR'!G75","v":0},"-",0,{"$f":"'[2]AGR COMFR'!J75","v":0}]
["*","COM_FR","-",{"$f":"'[2]AGR COMFR'!D76","v":0},"-","-",{"$f":"'[2]AGR COMFR'!G76","v":0},"-",0,{"$f":"'[2]AGR COMFR'!J76","v":0}]
["*","COM_FR","-",{"$f":"'[2]AGR COMFR'!D77","v":0},"-","-",{"$f":"'[2]AGR COMFR'!G77","v":0},"-",0,{"$f":"'[2]AGR COMFR'!J77","v":0}]
["*","COM_FR","-",{"$f":"'[2]AGR COMFR'!D78","v":0},"-","-",{"$f":"'[2]AGR COMFR'!G78","v":0},"-",0,{"$f":"'[2]AGR COMFR'!J78","v":0}]
["*","COM_FR","-",{"$f":"'[2]AGR COMFR'!D79","v":0},"-","-",{"$f":"'[2]AGR COMFR'!G79","v":0},"-",0,{"$f":"'[2]AGR COMFR'!J79","v":0}]
["*","COM_FR","-",{"$f":"'[2]AGR COMFR'!D80","v":0},"-","-",{"$f":"'[2]AGR COMFR'!G80","v":0},"-",0,{"$f":"'[2]AGR COMFR'!J80","v":0}]
["*","COM_FR","-",{"$f":"'[2]AGR COMFR'!D81","v":0},"-","-",{"$f":"'[2]AGR COMFR'!G81","v":0},"-",0,{"$f":"'[2]AGR COMFR'!J81","v":0}]
["*","COM_FR","-",{"$f":"'[2]AGR COMFR'!D82","v":0},"-","-",{"$f":"'[2]AGR COMFR'!G82","v":0},"-",0,{"$f":"'[2]AGR COMFR'!J82","v":0}]
["*","COM_FR","-",{"$f":"'[2]AGR COMFR'!D83","v":0},"-","-",{"$f":"'[2]AGR COMFR'!G83","v":0},"-",0,{"$f":"'[2]AGR COMFR'!J83","v":0}]
["*","COM_FR","-",{"$f":"'[2]AGR COMFR'!D84","v":0},"-","-",{"$f":"'[2]AGR COMFR'!G84","v":0},"-",0,{"$f":"'[2]AGR COMFR'!J84","v":0}]
["*","COM_FR","-",{"$f":"'[2]AGR COMFR'!D85","v":0},"-","-",{"$f":"'[2]AGR COMFR'!G85","v":0},"-",0,{"$f":"'[2]AGR COMFR'!J85","v":0}]
["*","COM_FR","-",{"$f":"'[2]AGR COMFR'!D86","v":0},"-","-",{"$f":"'[2]AGR COMFR'!G86","v":0},"-",0,{"$f":"'[2]AGR COMFR'!J86","v":0}]
["*","COM_FR","-",{"$f":"'[2]AGR COMFR'!D87","v":0},"-","-",{"$f":"'[2]AGR COMFR'!G87","v":0},"-",0,{"$f":"'[2]AGR COMFR'!J87","v":0}]
["*","COM_FR","-",{"$f":"'[2]AGR COMFR'!D88","v":0},"-","-",{"$f":"'[2]AGR COMFR'!G88","v":0},"-",0,{"$f":"'[2]AGR COMFR'!J88","v":0}]
["*","COM_FR","-",{"$f":"'[2]AGR COMFR'!D89","v":0},"-","-",{"$f":"'[2]AGR COMFR'!G89","v":0},"-",0,{"$f":"'[2]AGR COMFR'!J89","v":0}]
["*","COM_FR","-",{"$f":"'[2]AGR COMFR'!D90","v":0},"-","-",{"$f":"'[2]AGR COMFR'!G90","v":0},"-",0,{"$f":"'[2]AGR COMFR'!J90","v":0}]
["*","COM_FR","-",{"$f":"'[2]AGR COMFR'!D91","v":0},"-","-",{"$f":"'[2]AGR COMFR'!G91","v":0},"-",0,{"$f":"'[2]AGR COMFR'!J91","v":0}]
["*","COM_FR","-",{"$f":"'[2]AGR COMFR'!D92","v":0},"-","-",{"$f":"'[2]AGR COMFR'!G92","v":0},"-",0,{"$f":"'[2]AGR COMFR'!J92","v":0}]
["*","COM_FR","-",{"$f":"'[2]AGR COMFR'!D93","v":0},"-","-",{"$f":"'[2]AGR COMFR'!G93","v":0},"-",0,{"$f":"'[2]AGR COMFR'!J93","v":0}]
["*","COM_FR","-",{"$f":"'[2]AGR COMFR'!D94","v":0},"-","-",{"$f":"'[2]AGR COMFR'!G94","v":0},"-",0,{"$f":"'[2]AGR COMFR'!J94","v":0}]
["*","COM_FR","-",{"$f":"'[2]AGR COMFR'!D95","v":0},"-","-",{"$f":"'[2]AGR COMFR'!G95","v":0},"-",0,{"$f":"'[2]AGR COMFR'!J95","v":0}]
["*","COM_FR","-",{"$f":"'[2]AGR COMFR'!D96","v":0},"-","-",{"$f":"'[2]AGR COMFR'!G96","v":0},"-",0,{"$f":"'[2]AGR COMFR'!J96","v":0}]
["*","COM_FR","-",{"$f":"'[2]AGR COMFR'!D97","v":0},"-","-",{"$f":"'[2]AGR COMFR'!G97","v":0},"-",0,{"$f":"'[2]AGR COMFR'!J97","v":0}]
["*","COM_FR","-",{"$f":"'[2]AGR COMFR'!D98","v":0},"-","-",{"$f":"'[2]AGR COMFR'!G98","v":0},"-",0,{"$f":"'[2]AGR COMFR'!J98","v":0}]
["*","COM_FR","-",{"$f":"'[2]AGR COMFR'!D99","v":0},"-","-",{"$f":"'[2]AGR COMFR'!G99","v":0},"-",0,{"$f":"'[2]AGR COMFR'!J99","v":0}]
["*","COM_FR","-",{"$f":"'[2]AGR COMFR'!D100","v":0},"-","-",{"$f":"'[2]AGR COMFR'!G100","v":0},"-",0,{"$f":"'[2]AGR COMFR'!J100","v":0}]
["*","COM_FR","-",{"$f":"'[2]AGR COMFR'!D101","v":0},"-","-",{"$f":"'[2]AGR COMFR'!G101","v":0},"-",0,{"$f":"'[2]AGR COMFR'!J101","v":0}]
["*","COM_FR","-",{"$f":"'[2]AGR COMFR'!D102","v":0},"-","-",{"$f":"'[2]AGR COMFR'!G102","v":0},"-",0,{"$f":"'[2]AGR COMFR'!J102","v":0}]
["*","COM_FR","-",{"$f":"'[2]AGR COMFR'!D103","v":0},"-","-",{"$f":"'[2]AGR COMFR'!G103","v":0},"-",0,{"$f":"'[2]AGR COMFR'!J103","v":0}]
["*","COM_FR","-",{"$f":"'[2]AGR COMFR'!D104","v":0},"-","-",{"$f":"'[2]AGR COMFR'!G104","v":0},"-",0,{"$f":"'[2]AGR COMFR'!J104","v":0}]
["*","COM_FR","-",{"$f":"'[2]AGR COMFR'!D105","v":0},"-","-",{"$f":"'[2]AGR COMFR'!G105","v":0},"-",0,{"$f":"'[2]AGR COMFR'!J105","v":0}]
["*","COM_FR","-",{"$f":"'[2]AGR COMFR'!D106","v":0},"-","-",{"$f":"'[2]AGR COMFR'!G106","v":0},"-",0,{"$f":"'[2]AGR COMFR'!J106","v":0}]
["*","COM_FR","-",{"$f":"'[2]AGR COMFR'!D107","v":0},"-","-",{"$f":"'[2]AGR COMFR'!G107","v":0},"-",0,{"$f":"'[2]AGR COMFR'!J107","v":0}]
["*","COM_FR","-",{"$f":"'[2]AGR COMFR'!D108","v":0},"-","-",{"$f":"'[2]AGR COMFR'!G108","v":0},"-",0,{"$f":"'[2]AGR COMFR'!J108","v":0}]
["*","COM_FR","-",{"$f":"'[2]AGR COMFR'!D109","v":0},"-","-",{"$f":"'[2]AGR COMFR'!G109","v":0},"-",0,{"$f":"'[2]AGR COMFR'!J109","v":0}]

{"sheet":"TS FTech","index":20,"n_rows":50,"n_cols":51,"rows_kept":50,"cut":false,"hidden":false,"merged":[]}
[null,"REGION1",null,null,null,null,null,null,null,null,null,null,null,null,null,null,null,null,null,null,null,null,null,null,null,null,null,null,null,null,null,null,null,null,null,null,null,null,null,null,null,null,null,null,null,null,null,null,"*","*","*"]
["*",null,null,null,null,null,null,null,null,null,null,null,null,null,null,null,null,null,null,null,null,null,null,null,null,null,null,null,null,null,null,null,null,null,null,null,null,null,null,null,null,null,null,null,null,null,null,null,"Parameter #","row #","Col #"]
["*"]
["*"]
["*"]
["*"]
["*","Parameter","Arg1","Arg2","Arg3","Arg4","Arg5","Arg6","I/E Opt\nor Value",2006,{"$f":"J7+1","v":2007},{"$f":"K7+1","v":2008},2009,2010,2011,2012,2013,2014,2015,2016,2017,2018,2019,2020,2021,2022,2023,{"$f":"AA7+1","v":2024},2025,2026,2027,2028,2029,2030,{"$f":"AH7+1","v":2031},{"$f":"AI7+1","v":2032},{"$f":"AJ7+1","v":2033},{"$f":"AK7+1","v":2034},{"$f":"AL7+1","v":2035},{"$f":"AM7+1","v":2036},{"$f":"AN7+1","v":2037},{"$f":"AO7+1","v":2038},{"$f":"AP7+1","v":2039},{"$f":"AM7+5","v":2040},{"$f":"AR7+5","v":2045},{"$f":"AS7+5","v":2050},{"$f":"AT7+10","v":2060},2070]
["*"]
["*",1,2,3,4,5,6,7,8,{"$f":"I9+1","v":9}]
["*1","ACT_EFF","Process","-","ACTGRP","-","ANNUAL","-",0,null,null,null,null,null,null,null,null,null,null,null,null,null,null,null,null,null,null,null,null,null,null,null,null,null,null,null,null,null,null,null,null,null,null,null,null,null,null,null,null,null,{"$f":"AGR!$E$48","v":3}]
["*2","NCAP_AFA","Process","-","-","-","-","UP",0,1,null,null,null,null,null,null,null,null,null,null,null,null,null,null,null,null,null,null,null,null,null,null,null,null,null,null,null,null,null,null,null,null,null,null,null,null,null,null,null,null,{"$f":"AGR!$F$48","v":4}]
["*3","NCAP_COST","Process","-","-","-","-","-",0,0.01,null,null,null,null,null,null,null,null,null,null,null,null,null,null,null,null,null,null,null,null,null,null,null,null,null,null,null,null,null,null,null,null,null,null,null,null,null,null,null,null,20]
["*4","NCAP_TLIFE","Process","-","-","-","-","-",0,100,null,null,null,null,null,null,null,null,null,null,null,null,null,null,null,null,null,null,null,null,null,null,null,null,null,null,null,null,null,null,null,null,null,null,null,null,null,null,null,null,{"$f":"AGR!$G$48","v":5}]
["*5","PRC_RESID","Process","-","-","-","-","-",0,null,null,null,null,null,null,null,null,null,null,null,null,null,null,null,null,null,null,null,null,null,null,null,null,null,null,null,null,null,null,null,null,null,null,null,null,null,null,null,null,null,{"$f":"AGR!$H$48","v":6}]
["*"]
[null,{"$f":"IF(A16=\"*\",\"\",VLOOKUP(\"*\"&AW16,$A$9:$B$14,2,FALSE))","v":"ACT_EFF"},{"$f":"IF($A16=\"*\",\"\",\"X\"&OFFSET(AGR!$B$6,0,AX16))","v":"XAGRCOA"},{"$f":"IF($A16=\"*\",\"\",VLOOKUP($B16,$B$10:$I$14,D$9,FALSE))","v":"-"},"ACTGRP","-","ANNUAL","-",0,{"$f":"IF($A16=\"*\",\"\",IF(B16=\"ACT_EFF\",1-SUMIF(AGR!$C$6:$I$6,RIGHT(C16,6),AGR!$C$15:$I$15),IF(B16=\"PRC_RESID\",SUMIF(AGR!$C$6:$I$6,RIGHT(C16,6),AGR!$C$16:$I$16),VLOOKUP($B16,$B$10:$J$14,J$9,FALSE))))","v":1},null,null,null,null,null,null,null,null,null,null,null,null,null,null,null,null,null,null,null,null,null,null,null,null,null,null,null,null,null,null,null,null,null,null,null,null,null,null,1,1]
[null,"ACT_EFF",{"$f":"IF($A17=\"*\",\"\",\"X\"&OFFSET(AGR!$B$6,0,AX17))","v":"XAGRODS"},"-","ACTGRP","-","ANNUAL","-",0,{"$f":"IF($A17=\"*\",\"\",IF(B17=\"ACT_EFF\",1-SUMIF(AGR!$C$6:$I$6,RIGHT(C17,6),AGR!$C$15:$I$15),IF(B17=\"PRC_RESID\",SUMIF(AGR!$C$6:$I$6,RIGHT(C17,6),AGR!$C$16:$I$16),VLOOKUP($B17,$B$10:$J$14,J$9,FALSE))))","v":1},null,null,null,null,null,null,null,null,null,null,null,null,null,null,null,null,null,null,null,null,null,null,null,null,null,null,null,null,null,null,null,null,null,null,null,null,null,null,{"$f":"IF(AX16=AGR!$B$4,AW16+1,AW16)","v":1},{"$f":"IF(AW17=AW16,AX16+1,1)","v":2}]
[null,"ACT_EFF",{"$f":"IF($A18=\"*\",\"\",\"X\"&OFFSET(AGR!$B$6,0,AX18))","v":"XAGRELC"},"-","ACTGRP","-","ANNUAL","-",0,{"$f":"IF($A18=\"*\",\"\",IF(B18=\"ACT_EFF\",1-SUMIF(AGR!$C$6:$I$6,RIGHT(C18,6),AGR!$C$15:$I$15),IF(B18=\"PRC_RESID\",SUMIF(AGR!$C$6:$I$6,RIGHT(C18,6),AGR!$C$16:$I$16),VLOOKUP($B18,$B$10:$J$14,J$9,FALSE))))","v":0.9},null,null,null,null,null,null,null,null,null,null,null,null,null,null,null,null,null,null,null,null,null,null,null,null,null,null,null,null,null,null,null,null,null,null,null,null,null,null,{"$f":"IF(AX17=AGR!$B$4,AW17+1,AW17)","v":1},{"$f":"IF(AW18=AW17,AX17+1,1)","v":3}]
[null,"ACT_EFF",{"$f":"IF($A19=\"*\",\"\",\"X\"&OFFSET(AGR!$B$6,0,AX19))","v":"XAGROGS"},"-","ACTGRP","-","ANNUAL","-",0,{"$f":"IF($A19=\"*\",\"\",IF(B19=\"ACT_EFF\",1-SUMIF(AGR!$C$6:$I$6,RIGHT(C19,6),AGR!$C$15:$I$15),IF(B19=\"PRC_RESID\",SUMIF(AGR!$C$6:$I$6,RIGHT(C19,6),AGR!$C$16:$I$16),VLOOKUP($B19,$B$10:$J$14,J$9,FALSE))))","v":1},null,null,null,null,null,null,null,null,null,null,null,null,null,null,null,null,null,null,null,null,null,null,null,null,null,null,null,null,null,null,null,null,null,null,null,null,null,null,{"$f":"IF(AX18=AGR!$B$4,AW18+1,AW18)","v":1},4]
[null,"ACT_EFF",{"$f":"IF($A20=\"*\",\"\",\"X\"&OFFSET(AGR!$B$6,0,AX20))","v":"XAGROHF"},"-","ACTGRP","-","ANNUAL","-",0,{"$f":"IF($A20=\"*\",\"\",IF(B20=\"ACT_EFF\",1-SUMIF(AGR!$C$6:$I$6,RIGHT(C20,6),AGR!$C$15:$I$15),IF(B20=\"PRC_RESID\",SUMIF(AGR!$C$6:$I$6,RIGHT(C20,6),AGR!$C$16:$I$16),VLOOKUP($B20,$B$10:$J$14,J$9,FALSE))))","v":1},null,null,null,null,null,null,null,null,null,null,null,null,null,null,null,null,null,null,null,null,null,null,null,null,null,null,null,null,null,null,null,null,null,null,null,null,null,null,{"$f":"IF(AX19=AGR!$B$4,AW19+1,AW19)","v":1},5]
[null,"ACT_EFF",{"$f":"IF($A21=\"*\",\"\",\"X\"&OFFSET(AGR!$B$6,0,AX21))","v":"XAGROKE"},"-","ACTGRP","-","ANNUAL","-",0,{"$f":"IF($A21=\"*\",\"\",IF(B21=\"ACT_EFF\",1-SUMIF(AGR!$C$6:$I$6,RIGHT(C21,6),AGR!$C$15:$I$15),IF(B21=\"PRC_RESID\",SUMIF(AGR!$C$6:$I$6,RIGHT(C21,6),AGR!$C$16:$I$16),VLOOKUP($B21,$B$10:$J$14,J$9,FALSE))))","v":1},null,null,null,null,null,null,null,null,null,null,null,null,null,null,null,null,null,null,null,null,null,null,null,null,null,null,null,null,null,null,null,null,null,null,null,null,null,null,{"$f":"IF(AX20=AGR!$B$4,AW20+1,AW20)","v":1},6]
[null,"ACT_EFF",{"$f":"IF($A22=\"*\",\"\",\"X\"&OFFSET(AGR!$B$6,0,AX22))","v":"XAGROLP"},"-","ACTGRP","-","ANNUAL","-",0,{"$f":"IF($A22=\"*\",\"\",IF(B22=\"ACT_EFF\",1-SUMIF(AGR!$C$6:$I$6,RIGHT(C22,6),AGR!$C$15:$I$15),IF(B22=\"PRC_RESID\",SUMIF(AGR!$C$6:$I$6,RIGHT(C22,6),AGR!$C$16:$I$16),VLOOKUP($B22,$B$10:$J$14,J$9,FALSE))))","v":1},null,null,null,null,null,null,null,null,null,null,null,null,null,null,null,null,null,null,null,null,null,null,null,null,null,null,null,null,null,null,null,null,null,null,null,null,null,null,{"$f":"IF(AX21=AGR!$B$4,AW21+1,AW21)","v":1},7]
[null,"NCAP_AFA",{"$f":"IF($A23=\"*\",\"\",\"X\"&OFFSET(AGR!$B$6,0,AX23))","v":"XAGRCOA"},"-","-","-","-","UP",0,{"$f":"IF($A23=\"*\",\"\",IF(B23=\"ACT_EFF\",1-SUMIF(AGR!$C$6:$I$6,RIGHT(C23,6),AGR!$C$15:$I$15),IF(B23=\"PRC_RESID\",SUMIF(AGR!$C$6:$I$6,RIGHT(C23,6),AGR!$C$16:$I$16),VLOOKUP($B23,$B$10:$J$14,J$9,FALSE))))","v":1},null,null,null,null,null,null,null,null,null,null,null,null,null,null,null,null,null,null,null,null,null,null,null,null,null,null,null,null,null,null,null,null,null,null,null,null,null,null,{"$f":"IF(AX22=AGR!$B$4,AW22+1,AW22)","v":2},1]
[null,"NCAP_AFA",{"$f":"IF($A24=\"*\",\"\",\"X\"&OFFSET(AGR!$B$6,0,AX24))","v":"XAGRODS"},"-","-","-","-","UP",0,{"$f":"IF($A24=\"*\",\"\",IF(B24=\"ACT_EFF\",1-SUMIF(AGR!$C$6:$I$6,RIGHT(C24,6),AGR!$C$15:$I$15),IF(B24=\"PRC_RESID\",SUMIF(AGR!$C$6:$I$6,RIGHT(C24,6),AGR!$C$16:$I$16),VLOOKUP($B24,$B$10:$J$14,J$9,FALSE))))","v":1},null,null,null,null,null,null,null,null,null,null,null,null,null,null,null,null,null,null,null,null,null,null,null,null,null,null,null,null,null,null,null,null,null,null,null,null,null,null,{"$f":"IF(AX23=AGR!$B$4,AW23+1,AW23)","v":2},2]
[null,"NCAP_AFA",{"$f":"IF($A25=\"*\",\"\",\"X\"&OFFSET(AGR!$B$6,0,AX25))","v":"XAGRELC"},"-","-","-","-","UP",0,{"$f":"IF($A25=\"*\",\"\",IF(B25=\"ACT_EFF\",1-SUMIF(AGR!$C$6:$I$6,RIGHT(C25,6),AGR!$C$15:$I$15),IF(B25=\"PRC_RESID\",SUMIF(AGR!$C$6:$I$6,RIGHT(C25,6),AGR!$C$16:$I$16),VLOOKUP($B25,$B$10:$J$14,J$9,FALSE))))","v":1},null,null,null,null,null,null,null,null,null,null,null,null,null,null,null,null,null,null,null,null,null,null,null,null,null,null,null,null,null,null,null,null,null,null,null,null,null,null,{"$f":"IF(AX24=AGR!$B$4,AW24+1,AW24)","v":2},3]
[null,"NCAP_AFA",{"$f":"IF($A26=\"*\",\"\",\"X\"&OFFSET(AGR!$B$6,0,AX26))","v":"XAGROGS"},"-","-","-","-","UP",0,{"$f":"IF($A26=\"*\",\"\",IF(B26=\"ACT_EFF\",1-SUMIF(AGR!$C$6:$I$6,RIGHT(C26,6),AGR!$C$15:$I$15),IF(B26=\"PRC_RESID\",SUMIF(AGR!$C$6:$I$6,RIGHT(C26,6),AGR!$C$16:$I$16),VLOOKUP($B26,$B$10:$J$14,J$9,FALSE))))","v":1},null,null,null,null,null,null,null,null,null,null,null,null,null,null,null,null,null,null,null,null,null,null,null,null,null,null,null,null,null,null,null,null,null,null,null,null,null,null,{"$f":"IF(AX25=AGR!$B$4,AW25+1,AW25)","v":2},4]
[null,"NCAP_AFA",{"$f":"IF($A27=\"*\",\"\",\"X\"&OFFSET(AGR!$B$6,0,AX27))","v":"XAGROHF"},"-","-","-","-","UP",0,{"$f":"IF($A27=\"*\",\"\",IF(B27=\"ACT_EFF\",1-SUMIF(AGR!$C$6:$I$6,RIGHT(C27,6),AGR!$C$15:$I$15),IF(B27=\"PRC_RESID\",SUMIF(AGR!$C$6:$I$6,RIGHT(C27,6),AGR!$C$16:$I$16),VLOOKUP($B27,$B$10:$J$14,J$9,FALSE))))","v":1},null,null,null,null,null,null,null,null,null,null,null,null,null,null,null,null,null,null,null,null,null,null,null,null,null,null,null,null,null,null,null,null,null,null,null,null,null,null,{"$f":"IF(AX26=AGR!$B$4,AW26+1,AW26)","v":2},5]
[null,"NCAP_AFA",{"$f":"IF($A28=\"*\",\"\",\"X\"&OFFSET(AGR!$B$6,0,AX28))","v":"XAGROKE"},"-","-","-","-","UP",0,{"$f":"IF($A28=\"*\",\"\",IF(B28=\"ACT_EFF\",1-SUMIF(AGR!$C$6:$I$6,RIGHT(C28,6),AGR!$C$15:$I$15),IF(B28=\"PRC_RESID\",SUMIF(AGR!$C$6:$I$6,RIGHT(C28,6),AGR!$C$16:$I$16),VLOOKUP($B28,$B$10:$J$14,J$9,FALSE))))","v":1},null,null,null,null,null,null,null,null,null,null,null,null,null,null,null,null,null,null,null,null,null,null,null,null,null,null,null,null,null,null,null,null,null,null,null,null,null,null,{"$f":"IF(AX27=AGR!$B$4,AW27+1,AW27)","v":2},6]
[null,"NCAP_AFA",{"$f":"IF($A29=\"*\",\"\",\"X\"&OFFSET(AGR!$B$6,0,AX29))","v":"XAGROLP"},"-","-","-","-","UP",0,{"$f":"IF($A29=\"*\",\"\",IF(B29=\"ACT_EFF\",1-SUMIF(AGR!$C$6:$I$6,RIGHT(C29,6),AGR!$C$15:$I$15),IF(B29=\"PRC_RESID\",SUMIF(AGR!$C$6:$I$6,RIGHT(C29,6),AGR!$C$16:$I$16),VLOOKUP($B29,$B$10:$J$14,J$9,FALSE))))","v":1},null,null,null,null,null,null,null,null,null,null,null,null,null,null,null,null,null,null,null,null,null,null,null,null,null,null,null,null,null,null,null,null,null,null,null,null,null,null,{"$f":"IF(AX28=AGR!$B$4,AW28+1,AW28)","v":2},7]
[null,"NCAP_COST",{"$f":"IF($A30=\"*\",\"\",\"X\"&OFFSET(AGR!$B$6,0,AX30))","v":"XAGRCOA"},"-","-","-","-","-",0,{"$f":"IF($A30=\"*\",\"\",IF(B30=\"ACT_EFF\",1-SUMIF(AGR!$C$6:$I$6,RIGHT(C30,6),AGR!$C$15:$I$15),IF(B30=\"PRC_RESID\",SUMIF(AGR!$C$6:$I$6,RIGHT(C30,6),AGR!$C$16:$I$16),VLOOKUP($B30,$B$10:$J$14,J$9,FALSE))))","v":0.01},null,null,null,null,null,null,null,null,null,null,null,null,null,null,null,null,null,null,null,null,null,null,null,null,null,null,null,null,null,null,null,null,null,null,null,null,null,null,{"$f":"IF(AX29=AGR!$B$4,AW29+1,AW29)","v":3},1]
[null,"NCAP_COST",{"$f":"IF($A31=\"*\",\"\",\"X\"&OFFSET(AGR!$B$6,0,AX31))","v":"XAGRODS"},"-","-","-","-","-",0,{"$f":"IF($A31=\"*\",\"\",IF(B31=\"ACT_EFF\",1-SUMIF(AGR!$C$6:$I$6,RIGHT(C31,6),AGR!$C$15:$I$15),IF(B31=\"PRC_RESID\",SUMIF(AGR!$C$6:$I$6,RIGHT(C31,6),AGR!$C$16:$I$16),VLOOKUP($B31,$B$10:$J$14,J$9,FALSE))))","v":0.01},null,null,null,null,null,null,null,null,null,null,null,null,null,null,null,null,null,null,null,null,null,null,null,null,null,null,null,null,null,null,null,null,null,null,null,null,null,null,{"$f":"IF(AX30=AGR!$B$4,AW30+1,AW30)","v":3},2]
[null,"NCAP_COST",{"$f":"IF($A32=\"*\",\"\",\"X\"&OFFSET(AGR!$B$6,0,AX32))","v":"XAGRELC"},{"$f":"IF($A32=\"*\",\"\",VLOOKUP($B32,$B$10:$I$14,D$9,FALSE))","v":"-"},"-","-","-","-",0,{"$f":"IF($A32=\"*\",\"\",IF(B32=\"ACT_EFF\",1-SUMIF(AGR!$C$6:$I$6,RIGHT(C32,6),AGR!$C$15:$I$15),IF(B32=\"PRC_RESID\",SUMIF(AGR!$C$6:$I$6,RIGHT(C32,6),AGR!$C$16:$I$16),VLOOKUP($B32,$B$10:$J$14,J$9,FALSE))))","v":0.01},null,null,null,null,null,null,null,null,null,null,null,null,null,null,null,null,null,null,null,null,null,null,null,null,null,null,null,null,null,null,null,null,null,null,null,null,null,null,{"$f":"IF(AX31=AGR!$B$4,AW31+1,AW31)","v":3},3]
[null,"NCAP_COST",{"$f":"IF($A33=\"*\",\"\",\"X\"&OFFSET(AGR!$B$6,0,AX33))","v":"XAGROGS"},"-","-","-","-","-",0,{"$f":"IF($A33=\"*\",\"\",IF(B33=\"ACT_EFF\",1-SUMIF(AGR!$C$6:$I$6,RIGHT(C33,6),AGR!$C$15:$I$15),IF(B33=\"PRC_RESID\",SUMIF(AGR!$C$6:$I$6,RIGHT(C33,6),AGR!$C$16:$I$16),VLOOKUP($B33,$B$10:$J$14,J$9,FALSE))))","v":0.01},null,null,null,null,null,null,null,null,null,null,null,null,null,null,null,null,null,null,null,null,null,null,null,null,null,null,null,null,null,null,null,null,null,null,null,null,null,null,{"$f":"IF(AX32=AGR!$B$4,AW32+1,AW32)","v":3},4]
[null,"NCAP_COST",{"$f":"IF($A34=\"*\",\"\",\"X\"&OFFSET(AGR!$B$6,0,AX34))","v":"XAGROHF"},"-","-","-","-","-",0,{"$f":"IF($A34=\"*\",\"\",IF(B34=\"ACT_EFF\",1-SUMIF(AGR!$C$6:$I$6,RIGHT(C34,6),AGR!$C$15:$I$15),IF(B34=\"PRC_RESID\",SUMIF(AGR!$C$6:$I$6,RIGHT(C34,6),AGR!$C$16:$I$16),VLOOKUP($B34,$B$10:$J$14,J$9,FALSE))))","v":0.01},null,null,null,null,null,null,null,null,null,null,null,null,null,null,null,null,null,null,null,null,null,null,null,null,null,null,null,null,null,null,null,null,null,null,null,null,null,null,{"$f":"IF(AX33=AGR!$B$4,AW33+1,AW33)","v":3},5]
[null,"NCAP_COST",{"$f":"IF($A35=\"*\",\"\",\"X\"&OFFSET(AGR!$B$6,0,AX35))","v":"XAGROKE"},"-","-","-","-","-",0,{"$f":"IF($A35=\"*\",\"\",IF(B35=\"ACT_EFF\",1-SUMIF(AGR!$C$6:$I$6,RIGHT(C35,6),AGR!$C$15:$I$15),IF(B35=\"PRC_RESID\",SUMIF(AGR!$C$6:$I$6,RIGHT(C35,6),AGR!$C$16:$I$16),VLOOKUP($B35,$B$10:$J$14,J$9,FALSE))))","v":0.01},null,null,null,null,null,null,null,null,null,null,null,null,null,null,null,null,null,null,null,null,null,null,null,null,null,null,null,null,null,null,null,null,null,null,null,null,null,null,{"$f":"IF(AX34=AGR!$B$4,AW34+1,AW34)","v":3},6]
[null,"NCAP_COST",{"$f":"IF($A36=\"*\",\"\",\"X\"&OFFSET(AGR!$B$6,0,AX36))","v":"XAGROLP"},"-","-","-","-","-",0,{"$f":"IF($A36=\"*\",\"\",IF(B36=\"ACT_EFF\",1-SUMIF(AGR!$C$6:$I$6,RIGHT(C36,6),AGR!$C$15:$I$15),IF(B36=\"PRC_RESID\",SUMIF(AGR!$C$6:$I$6,RIGHT(C36,6),AGR!$C$16:$I$16),VLOOKUP($B36,$B$10:$J$14,J$9,FALSE))))","v":0.01},null,null,null,null,null,null,null,null,null,null,null,null,null,null,null,null,null,null,null,null,null,null,null,null,null,null,null,null,null,null,null,null,null,null,null,null,null,null,{"$f":"IF(AX35=AGR!$B$4,AW35+1,AW35)","v":3},7]
[null,"NCAP_TLIFE",{"$f":"IF($A37=\"*\",\"\",\"X\"&OFFSET(AGR!$B$6,0,AX37))","v":"XAGRCOA"},"-","-","-","-","-",0,{"$f":"IF($A37=\"*\",\"\",IF(B37=\"ACT_EFF\",1-SUMIF(AGR!$C$6:$I$6,RIGHT(C37,6),AGR!$C$15:$I$15),IF(B37=\"PRC_RESID\",SUMIF(AGR!$C$6:$I$6,RIGHT(C37,6),AGR!$C$16:$I$16),VLOOKUP($B37,$B$10:$J$14,J$9,FALSE))))","v":100},null,null,null,null,null,null,null,null,null,null,null,null,null,null,null,null,null,null,null,null,null,null,null,null,null,null,null,null,null,null,null,null,null,null,null,null,null,null,{"$f":"IF(AX36=AGR!$B$4,AW36+1,AW36)","v":4},1]
[null,"NCAP_TLIFE",{"$f":"IF($A38=\"*\",\"\",\"X\"&OFFSET(AGR!$B$6,0,AX38))","v":"XAGRODS"},"-","-","-","-","-",0,{"$f":"IF($A38=\"*\",\"\",IF(B38=\"ACT_EFF\",1-SUMIF(AGR!$C$6:$I$6,RIGHT(C38,6),AGR!$C$15:$I$15),IF(B38=\"PRC_RESID\",SUMIF(AGR!$C$6:$I$6,RIGHT(C38,6),AGR!$C$16:$I$16),VLOOKUP($B38,$B$10:$J$14,J$9,FALSE))))","v":100},null,null,null,null,null,null,null,null,null,null,null,null,null,null,null,null,null,null,null,null,null,null,null,null,null,null,null,null,null,null,null,null,null,null,null,null,null,null,{"$f":"IF(AX37=AGR!$B$4,AW37+1,AW37)","v":4},2]
[null,"NCAP_TLIFE",{"$f":"IF($A39=\"*\",\"\",\"X\"&OFFSET(AGR!$B$6,0,AX39))","v":"XAGRELC"},"-","-","-","-","-",0,{"$f":"IF($A39=\"*\",\"\",IF(B39=\"ACT_EFF\",1-SUMIF(AGR!$C$6:$I$6,RIGHT(C39,6),AGR!$C$15:$I$15),IF(B39=\"PRC_RESID\",SUMIF(AGR!$C$6:$I$6,RIGHT(C39,6),AGR!$C$16:$I$16),VLOOKUP($B39,$B$10:$J$14,J$9,FALSE))))","v":100},null,null,null,null,null,null,null,null,null,null,null,null,null,null,null,null,null,null,null,null,null,null,null,null,null,null,null,null,null,null,null,null,null,null,null,null,null,null,{"$f":"IF(AX38=AGR!$B$4,AW38+1,AW38)","v":4},3]
[null,"NCAP_TLIFE",{"$f":"IF($A40=\"*\",\"\",\"X\"&OFFSET(AGR!$B$6,0,AX40))","v":"XAGROGS"},"-","-","-","-","-",0,{"$f":"IF($A40=\"*\",\"\",IF(B40=\"ACT_EFF\",1-SUMIF(AGR!$C$6:$I$6,RIGHT(C40,6),AGR!$C$15:$I$15),IF(B40=\"PRC_RESID\",SUMIF(AGR!$C$6:$I$6,RIGHT(C40,6),AGR!$C$16:$I$16),VLOOKUP($B40,$B$10:$J$14,J$9,FALSE))))","v":100},null,null,null,null,null,null,null,null,null,null,null,null,null,null,null,null,null,null,null,null,null,null,null,null,null,null,null,null,null,null,null,null,null,null,null,null,null,null,{"$f":"IF(AX39=AGR!$B$4,AW39+1,AW39)","v":4},4]
[null,"NCAP_TLIFE",{"$f":"IF($A41=\"*\",\"\",\"X\"&OFFSET(AGR!$B$6,0,AX41))","v":"XAGROHF"},"-","-","-","-","-",0,{"$f":"IF($A41=\"*\",\"\",IF(B41=\"ACT_EFF\",1-SUMIF(AGR!$C$6:$I$6,RIGHT(C41,6),AGR!$C$15:$I$15),IF(B41=\"PRC_RESID\",SUMIF(AGR!$C$6:$I$6,RIGHT(C41,6),AGR!$C$16:$I$16),VLOOKUP($B41,$B$10:$J$14,J$9,FALSE))))","v":100},null,null,null,null,null,null,null,null,null,null,null,null,null,null,null,null,null,null,null,null,null,null,null,null,null,null,null,null,null,null,null,null,null,null,null,null,null,null,{"$f":"IF(AX40=AGR!$B$4,AW40+1,AW40)","v":4},5]
[null,"NCAP_TLIFE",{"$f":"IF($A42=\"*\",\"\",\"X\"&OFFSET(AGR!$B$6,0,AX42))","v":"XAGROKE"},"-","-","-","-","-",0,{"$f":"IF($A42=\"*\",\"\",IF(B42=\"ACT_EFF\",1-SUMIF(AGR!$C$6:$I$6,RIGHT(C42,6),AGR!$C$15:$I$15),IF(B42=\"PRC_RESID\",SUMIF(AGR!$C$6:$I$6,RIGHT(C42,6),AGR!$C$16:$I$16),VLOOKUP($B42,$B$10:$J$14,J$9,FALSE))))","v":100},null,null,null,null,null,null,null,null,null,null,null,null,null,null,null,null,null,null,null,null,null,null,null,null,null,null,null,null,null,null,null,null,null,null,null,null,null,null,{"$f":"IF(AX41=AGR!$B$4,AW41+1,AW41)","v":4},6]
[null,"NCAP_TLIFE",{"$f":"IF($A43=\"*\",\"\",\"X\"&OFFSET(AGR!$B$6,0,AX43))","v":"XAGROLP"},"-","-","-","-","-",0,{"$f":"IF($A43=\"*\",\"\",IF(B43=\"ACT_EFF\",1-SUMIF(AGR!$C$6:$I$6,RIGHT(C43,6),AGR!$C$15:$I$15),IF(B43=\"PRC_RESID\",SUMIF(AGR!$C$6:$I$6,RIGHT(C43,6),AGR!$C$16:$I$16),VLOOKUP($B43,$B$10:$J$14,J$9,FALSE))))","v":100},null,null,null,null,null,null,null,null,null,null,null,null,null,null,null,null,null,null,null,null,null,null,null,null,null,null,null,null,null,null,null,null,null,null,null,null,null,null,{"$f":"IF(AX42=AGR!$B$4,AW42+1,AW42)","v":4},7]
[null,"PRC_RESID",{"$f":"IF($A44=\"*\",\"\",\"X\"&OFFSET(AGR!$B$6,0,AX44))","v":"XAGRCOA"},"-","-","-","-","-",0,{"$f":"IF($A44=\"*\",\"\",IF(B44=\"ACT_EFF\",1-SUMIF(AGR!$C$6:$I$6,RIGHT(C44,6),AGR!$C$15:$I$15),IF(B44=\"PRC_RESID\",SUMIF(AGR!$C$6:$I$6,RIGHT(C44,6),AGR!$C$16:$I$16),VLOOKUP($B44,$B$10:$J$14,J$9,FALSE))))","v":1.3844784724488592},null,null,null,null,null,null,null,null,null,null,null,null,null,null,null,null,null,null,null,null,null,null,null,null,null,null,null,null,null,null,null,null,null,null,null,null,null,null,{"$f":"IF(AX43=AGR!$B$4,AW43+1,AW43)","v":5},1]
[null,"PRC_RESID",{"$f":"IF($A45=\"*\",\"\",\"X\"&OFFSET(AGR!$B$6,0,AX45))","v":"XAGRODS"},"-","-","-","-","-",0,{"$f":"IF($A45=\"*\",\"\",IF(B45=\"ACT_EFF\",1-SUMIF(AGR!$C$6:$I$6,RIGHT(C45,6),AGR!$C$15:$I$15),IF(B45=\"PRC_RESID\",SUMIF(AGR!$C$6:$I$6,RIGHT(C45,6),AGR!$C$16:$I$16),VLOOKUP($B45,$B$10:$J$14,J$9,FALSE))))","v":49.172857137857498},null,null,null,null,null,null,null,null,null,null,null,null,null,null,null,null,null,null,null,null,null,null,null,null,null,null,null,null,null,null,null,null,null,null,null,null,null,null,{"$f":"IF(AX44=AGR!$B$4,AW44+1,AW44)","v":5},2]
[null,"PRC_RESID",{"$f":"IF($A46=\"*\",\"\",\"X\"&OFFSET(AGR!$B$6,0,AX46))","v":"XAGRELC"},"-","-","-","-","-",0,{"$f":"IF($A46=\"*\",\"\",IF(B46=\"ACT_EFF\",1-SUMIF(AGR!$C$6:$I$6,RIGHT(C46,6),AGR!$C$15:$I$15),IF(B46=\"PRC_RESID\",SUMIF(AGR!$C$6:$I$6,RIGHT(C46,6),AGR!$C$16:$I$16),VLOOKUP($B46,$B$10:$J$14,J$9,FALSE))))","v":24.079563879890596},null,null,null,null,null,null,null,null,null,null,null,null,null,null,null,null,null,null,null,null,null,null,null,null,null,null,null,null,null,null,null,null,null,null,null,null,null,null,{"$f":"IF(AX45=AGR!$B$4,AW45+1,AW45)","v":5},3]
[null,"PRC_RESID",{"$f":"IF($A47=\"*\",\"\",\"X\"&OFFSET(AGR!$B$6,0,AX47))","v":"XAGROGS"},"-","-","-","-","-",0,{"$f":"IF($A47=\"*\",\"\",IF(B47=\"ACT_EFF\",1-SUMIF(AGR!$C$6:$I$6,RIGHT(C47,6),AGR!$C$15:$I$15),IF(B47=\"PRC_RESID\",SUMIF(AGR!$C$6:$I$6,RIGHT(C47,6),AGR!$C$16:$I$16),VLOOKUP($B47,$B$10:$J$14,J$9,FALSE))))","v":6.3724400866372495},null,null,null,null,null,null,null,null,null,null,null,null,null,null,null,null,null,null,null,null,null,null,null,null,null,null,null,null,null,null,null,null,null,null,null,null,null,null,{"$f":"IF(AX46=AGR!$B$4,AW46+1,AW46)","v":5},4]
[null,"PRC_RESID",{"$f":"IF($A48=\"*\",\"\",\"X\"&OFFSET(AGR!$B$6,0,AX48))","v":"XAGROHF"},"-","-","-","-","-",0,{"$f":"IF($A48=\"*\",\"\",IF(B48=\"ACT_EFF\",1-SUMIF(AGR!$C$6:$I$6,RIGHT(C48,6),AGR!$C$15:$I$15),IF(B48=\"PRC_RESID\",SUMIF(AGR!$C$6:$I$6,RIGHT(C48,6),AGR!$C$16:$I$16),VLOOKUP($B48,$B$10:$J$14,J$9,FALSE))))","v":3.1993706240904332},null,null,null,null,null,null,null,null,null,null,null,null,null,null,null,null,null,null,null,null,null,null,null,null,null,null,null,null,null,null,null,null,null,null,null,null,null,null,{"$f":"IF(AX47=AGR!$B$4,AW47+1,AW47)","v":5},5]
[null,"PRC_RESID",{"$f":"IF($A49=\"*\",\"\",\"X\"&OFFSET(AGR!$B$6,0,AX49))","v":"XAGROKE"},"-","-","-","-","-",0,{"$f":"IF($A49=\"*\",\"\",IF(B49=\"ACT_EFF\",1-SUMIF(AGR!$C$6:$I$6,RIGHT(C49,6),AGR!$C$15:$I$15),IF(B49=\"PRC_RESID\",SUMIF(AGR!$C$6:$I$6,RIGHT(C49,6),AGR!$C$16:$I$16),VLOOKUP($B49,$B$10:$J$14,J$9,FALSE))))","v":4.5524684234737096},null,null,null,null,null,null,null,null,null,null,null,null,null,null,null,null,null,null,null,null,null,null,null,null,null,null,null,null,null,null,null,null,null,null,null,null,null,null,{"$f":"IF(AX48=AGR!$B$4,AW48+1,AW48)","v":5},6]
[null,"PRC_RESID",{"$f":"IF($A50=\"*\",\"\",\"X\"&OFFSET(AGR!$B$6,0,AX50))","v":"XAGROLP"},"-","-","-","-","-",0,{"$f":"IF($A50=\"*\",\"\",IF(B50=\"ACT_EFF\",1-SUMIF(AGR!$C$6:$I$6,RIGHT(C50,6),AGR!$C$15:$I$15),IF(B50=\"PRC_RESID\",SUMIF(AGR!$C$6:$I$6,RIGHT(C50,6),AGR!$C$16:$I$16),VLOOKUP($B50,$B$10:$J$14,J$9,FALSE))))","v":2.4540133526190413E-3},null,null,null,null,null,null,null,null,null,null,null,null,null,null,null,null,null,null,null,null,null,null,null,null,null,null,null,null,null,null,null,null,null,null,null,null,null,null,{"$f":"IF(AX49=AGR!$B$4,AW49+1,AW49)","v":5},7]

{"sheet":"TID FTech","index":21,"n_rows":41,"n_cols":12,"rows_kept":41,"cut":false,"hidden":false,"merged":[]}
[null,"REGION1",null,null,null,null,null,null,null,null,"*","*"]
["*",null,null,null,null,null,null,null,null,null,"Parameter #","row #"]
["*"]
["*"]
["*"]
["*"]
["*","Parameter","Arg1","Arg2","Arg3","Arg4","Arg5","Arg6","Value"]
["*"]
["*1","PRC_ACTUNT","Process","-","CommGroup","-","-","-",1]
["*2","PRC_CAPACT","Process","-","-","-","-","-",1]
["*3","TOP-OUT","Process","Commodity","-","-","-","-",1]
["*4","TOP-IN","Process","Commodity","-","-","-","-",1]
["*"]
[null,{"$f":"IF(A14=\"*\",\"\",VLOOKUP(\"*\"&K14,$A$9:$B$14,2,FALSE))","v":"PRC_ACTUNT"},{"$f":"IF($A14=\"*\",\"\",\"X\"&OFFSET(AGR!$B$6,0,L14))","v":"XAGRCOA"},{"$f":"IF($A14=\"*\",\"\",IF($B14=\"TOP-OUT\",RIGHT(C14,6),IF($B14=\"TOP-IN\",RIGHT(C14,3),\"-\")))","v":"-"},{"$f":"IF($A14=\"*\",\"\",IF($B14=\"PRC_ACTUNT\",RIGHT(C14,6),\"-\"))","v":"AGRCOA"},{"$f":"IF($A14=\"*\",\"\",\"-\")","v":"-"},{"$f":"IF($A14=\"*\",\"\",\"-\")","v":"-"},"-",{"$f":"IF($A14=\"*\",\"\",SUMIF($B$9:$B$12,B14,$I$9:$I$12))","v":1},null,1,1]
[null,{"$f":"IF(A15=\"*\",\"\",VLOOKUP(\"*\"&K15,$A$9:$B$14,2,FALSE))","v":"PRC_ACTUNT"},{"$f":"IF($A15=\"*\",\"\",\"X\"&OFFSET(AGR!$B$6,0,L15))","v":"XAGRODS"},{"$f":"IF($A15=\"*\",\"\",IF($B15=\"TOP-OUT\",RIGHT(C15,6),IF($B15=\"TOP-IN\",RIGHT(C15,3),\"-\")))","v":"-"},{"$f":"IF($A15=\"*\",\"\",IF($B15=\"PRC_ACTUNT\",RIGHT(C15,6),\"-\"))","v":"AGRODS"},{"$f":"IF($A15=\"*\",\"\",\"-\")","v":"-"},"-","-",{"$f":"IF($A15=\"*\",\"\",SUMIF($B$9:$B$12,B15,$I$9:$I$12))","v":1},null,{"$f":"IF(L14=AGR!$B$4,K14+1,K14)","v":1},{"$f":"IF(K15=K14,L14+1,1)","v":2}]
[null,"PRC_ACTUNT",{"$f":"IF($A16=\"*\",\"\",\"X\"&OFFSET(AGR!$B$6,0,L16))","v":"XAGRELC"},"-","AGRELC","-","-","-",1,null,{"$f":"IF(L15=AGR!$B$4,K15+1,K15)","v":1},3]
[null,"PRC_ACTUNT",{"$f":"IF($A17=\"*\",\"\",\"X\"&OFFSET(AGR!$B$6,0,L17))","v":"XAGROGS"},"-","AGROGS","-","-","-",1,null,{"$f":"IF(L16=AGR!$B$4,K16+1,K16)","v":1},4]
[null,"PRC_ACTUNT",{"$f":"IF($A18=\"*\",\"\",\"X\"&OFFSET(AGR!$B$6,0,L18))","v":"XAGROHF"},"-","AGROHF","-","-","-",1,null,{"$f":"IF(L17=AGR!$B$4,K17+1,K17)","v":1},5]
[null,"PRC_ACTUNT",{"$f":"IF($A19=\"*\",\"\",\"X\"&OFFSET(AGR!$B$6,0,L19))","v":"XAGROKE"},"-","AGROKE","-","-","-",1,null,{"$f":"IF(L18=AGR!$B$4,K18+1,K18)","v":1},6]
[null,"PRC_ACTUNT",{"$f":"IF($A20=\"*\",\"\",\"X\"&OFFSET(AGR!$B$6,0,L20))","v":"XAGROLP"},"-","AGROLP","-","-","-",1,null,{"$f":"IF(L19=AGR!$B$4,K19+1,K19)","v":1},7]
[null,"PRC_CAPACT",{"$f":"IF($A21=\"*\",\"\",\"X\"&OFFSET(AGR!$B$6,0,L21))","v":"XAGRCOA"},"-","-","-","-","-",1,null,{"$f":"IF(L20=AGR!$B$4,K20+1,K20)","v":2},1]
[null,"PRC_CAPACT",{"$f":"IF($A22=\"*\",\"\",\"X\"&OFFSET(AGR!$B$6,0,L22))","v":"XAGRODS"},"-","-","-","-","-",1,null,{"$f":"IF(L21=AGR!$B$4,K21+1,K21)","v":2},2]
[null,"PRC_CAPACT",{"$f":"IF($A23=\"*\",\"\",\"X\"&OFFSET(AGR!$B$6,0,L23))","v":"XAGRELC"},"-","-","-","-","-",1,null,{"$f":"IF(L22=AGR!$B$4,K22+1,K22)","v":2},3]
[null,"PRC_CAPACT",{"$f":"IF($A24=\"*\",\"\",\"X\"&OFFSET(AGR!$B$6,0,L24))","v":"XAGROGS"},"-","-","-","-","-",1,null,{"$f":"IF(L23=AGR!$B$4,K23+1,K23)","v":2},4]
[null,"PRC_CAPACT",{"$f":"IF($A25=\"*\",\"\",\"X\"&OFFSET(AGR!$B$6,0,L25))","v":"XAGROHF"},"-","-","-","-","-",1,null,{"$f":"IF(L24=AGR!$B$4,K24+1,K24)","v":2},5]
[null,"PRC_CAPACT",{"$f":"IF($A26=\"*\",\"\",\"X\"&OFFSET(AGR!$B$6,0,L26))","v":"XAGROKE"},"-","-","-","-","-",1,null,{"$f":"IF(L25=AGR!$B$4,K25+1,K25)","v":2},6]
[null,"PRC_CAPACT",{"$f":"IF($A27=\"*\",\"\",\"X\"&OFFSET(AGR!$B$6,0,L27))","v":"XAGROLP"},"-","-","-","-","-",1,null,{"$f":"IF(L26=AGR!$B$4,K26+1,K26)","v":2},7]
[null,"TOP-OUT",{"$f":"IF($A28=\"*\",\"\",\"X\"&OFFSET(AGR!$B$6,0,L28))","v":"XAGRCOA"},"AGRCOA","-","-","-","-",1,null,{"$f":"IF(L27=AGR!$B$4,K27+1,K27)","v":3},1]
[null,"TOP-OUT",{"$f":"IF($A29=\"*\",\"\",\"X\"&OFFSET(AGR!$B$6,0,L29))","v":"XAGRODS"},"AGRODS","-","-","-","-",1,null,{"$f":"IF(L28=AGR!$B$4,K28+1,K28)","v":3},2]
[null,"TOP-OUT",{"$f":"IF($A30=\"*\",\"\",\"X\"&OFFSET(AGR!$B$6,0,L30))","v":"XAGRELC"},"AGRELC","-","-","-","-",1,null,{"$f":"IF(L29=AGR!$B$4,K29+1,K29)","v":3},3]
[null,"TOP-OUT",{"$f":"IF($A31=\"*\",\"\",\"X\"&OFFSET(AGR!$B$6,0,L31))","v":"XAGROGS"},"AGROGS","-","-","-","-",1,null,{"$f":"IF(L30=AGR!$B$4,K30+1,K30)","v":3},4]
[null,"TOP-OUT",{"$f":"IF($A32=\"*\",\"\",\"X\"&OFFSET(AGR!$B$6,0,L32))","v":"XAGROHF"},"AGROHF","-","-","-","-",1,null,{"$f":"IF(L31=AGR!$B$4,K31+1,K31)","v":3},5]
[null,"TOP-OUT",{"$f":"IF($A33=\"*\",\"\",\"X\"&OFFSET(AGR!$B$6,0,L33))","v":"XAGROKE"},"AGROKE","-","-","-","-",1,null,{"$f":"IF(L32=AGR!$B$4,K32+1,K32)","v":3},6]
[null,"TOP-OUT",{"$f":"IF($A34=\"*\",\"\",\"X\"&OFFSET(AGR!$B$6,0,L34))","v":"XAGROLP"},"AGROLP","-","-","-","-",1,null,{"$f":"IF(L33=AGR!$B$4,K33+1,K33)","v":3},7]
[null,"TOP-IN",{"$f":"IF($A35=\"*\",\"\",\"X\"&OFFSET(AGR!$B$6,0,L35))","v":"XAGRCOA"},"COA","-","-","-","-",1,null,{"$f":"IF(L34=AGR!$B$4,K34+1,K34)","v":4},1]
[null,"TOP-IN",{"$f":"IF($A36=\"*\",\"\",\"X\"&OFFSET(AGR!$B$6,0,L36))","v":"XAGRODS"},"ODS","-","-","-","-",1,null,{"$f":"IF(L35=AGR!$B$4,K35+1,K35)","v":4},2]
[null,"TOP-IN",{"$f":"IF($A37=\"*\",\"\",\"X\"&OFFSET(AGR!$B$6,0,L37))","v":"XAGRELC"},"ELC","-","-","-","-",1,null,{"$f":"IF(L36=AGR!$B$4,K36+1,K36)","v":4},3]
[null,"TOP-IN",{"$f":"IF($A38=\"*\",\"\",\"X\"&OFFSET(AGR!$B$6,0,L38))","v":"XAGROGS"},"OGS","-","-","-","-",1,null,{"$f":"IF(L37=AGR!$B$4,K37+1,K37)","v":4},4]
[null,"TOP-IN",{"$f":"IF($A39=\"*\",\"\",\"X\"&OFFSET(AGR!$B$6,0,L39))","v":"XAGROHF"},"OHF","-","-","-","-",1,null,{"$f":"IF(L38=AGR!$B$4,K38+1,K38)","v":4},5]
[null,"TOP-IN",{"$f":"IF($A40=\"*\",\"\",\"X\"&OFFSET(AGR!$B$6,0,L40))","v":"XAGROKE"},"OKE","-","-","-","-",1,null,{"$f":"IF(L39=AGR!$B$4,K39+1,K39)","v":4},6]
[null,"TOP-IN",{"$f":"IF($A41=\"*\",\"\",\"X\"&OFFSET(AGR!$B$6,0,L41))","v":"XAGROLP"},"OLP","-","-","-","-",1,null,{"$f":"IF(L40=AGR!$B$4,K40+1,K40)","v":4},7]

{"sheet":"TS Emiss","index":22,"n_rows":51,"n_cols":45,"rows_kept":51,"cut":false,"hidden":false,"merged":[]}
[null,"REGION1",null,null,null,null,null,null,null,null,null,null,null,null,null,null,null,null,null,null,null,null,null,null,null,null,null,null,null,null,null,null,null,null,null,null,null,null,null,null,null,null,"*","*","*"]
["*",null,null,null,null,null,null,null,null,null,null,null,null,null,null,null,null,null,null,null,null,null,null,null,null,null,null,null,null,null,null,null,null,null,null,null,null,null,null,null,null,null,"Parameter #","row #","Col #"]
["*"]
["*"]
["*"]
["*"]
["*","Parameter","Arg1","Arg2","Arg3","Arg4","Arg5","Arg6","I/E Opt\nor Value",2006]
["*"]
["*",1,2,3,4,5,6,7,8,{"$f":"I9+1","v":9}]
["*1","FLO_EMIS","Process",{"$f":"AGR!B$6&AGR!B9","v":"AGRCO2"},"CommGroup","-","ANNUAL","-",0]
["*2","FLO_EMIS","Process",{"$f":"AGR!B$6&AGR!B10","v":"AGRCH4"},"CommGroup","-","ANNUAL","-",0]
["*3","FLO_EMIS","Process",{"$f":"AGR!B$6&AGR!B11","v":"AGRN2O"},"CommGroup","-","ANNUAL","-",0]
["*4","FLO_EMIS","Process",{"$f":"AGR!B$6&AGR!B12","v":"AGRSOX"},"CommGroup","-","ANNUAL","-",0]
["*5","FLO_EMIS","Process",{"$f":"AGR!B$6&AGR!B13","v":"AGRNOX"},"CommGroup","-","ANNUAL","-",0]
["*"]
[{"$f":"IF(J16=0,\"*\",\"\")","v":""},{"$f":"IF(A16=\"*\",\"\",VLOOKUP(\"*\"&AQ16,$A$10:$B$48,2,FALSE))","v":"FLO_EMIS"},{"$f":"IF($A16=\"*\",\"\",\"X\"&OFFSET(AGR!$B$6,0,AR16))","v":"XAGRCOA"},{"$f":"IF(A16=\"*\",\"\",VLOOKUP(\"*\"&AQ16,$A$10:$D$14,4,FALSE))","v":"AGRCO2"},{"$f":"IF(A16=\"*\",\"\",RIGHT(C16,6))","v":"AGRCOA"},{"$f":"IF($A16=\"*\",\"\",\"-\")","v":"-"},{"$f":"IF(A16=\"*\",\"\",\"ANNUAL\")","v":"ANNUAL"},{"$f":"IF($A16=\"*\",\"\",\"-\")","v":"-"},{"$f":"IF($A16=\"*\",\"\",\"0\")","v":"0"},{"$f":"OFFSET(AGR!$B$8,AQ16,AR16)","v":94.1},null,null,null,null,null,null,null,null,null,null,null,null,null,null,null,null,null,null,null,null,null,null,null,null,null,null,null,null,null,null,null,null,1,1]
[{"$f":"IF(J17=0,\"*\",\"\")","v":""},{"$f":"IF(A17=\"*\",\"\",VLOOKUP(\"*\"&AQ17,$A$10:$B$48,2,FALSE))","v":"FLO_EMIS"},{"$f":"IF($A17=\"*\",\"\",\"X\"&OFFSET(AGR!$B$6,0,AR17))","v":"XAGRODS"},{"$f":"IF(A17=\"*\",\"\",VLOOKUP(\"*\"&AQ17,$A$10:$D$14,4,FALSE))","v":"AGRCO2"},{"$f":"IF(A17=\"*\",\"\",RIGHT(C17,6))","v":"AGRODS"},{"$f":"IF($A17=\"*\",\"\",\"-\")","v":"-"},{"$f":"IF(A17=\"*\",\"\",\"ANNUAL\")","v":"ANNUAL"},{"$f":"IF($A17=\"*\",\"\",\"-\")","v":"-"},{"$f":"IF($A17=\"*\",\"\",\"0\")","v":"0"},{"$f":"OFFSET(AGR!$B$8,AQ17,AR17)","v":74.099999999999994},null,null,null,null,null,null,null,null,null,null,null,null,null,null,null,null,null,null,null,null,null,null,null,null,null,null,null,null,null,null,null,null,{"$f":"IF(AR16=AGR!$B$4,AQ16+1,AQ16)","v":1},{"$f":"IF(AQ17=AQ16,AR16+1,1)","v":2}]
["*",{"$f":"IF(A18=\"*\",\"\",VLOOKUP(\"*\"&AQ18,$A$10:$B$48,2,FALSE))","v":""},{"$f":"IF($A18=\"*\",\"\",\"X\"&OFFSET(AGR!$B$6,0,AR18))","v":""},"",{"$f":"IF(A18=\"*\",\"\",RIGHT(C18,6))","v":""},"",{"$f":"IF(A18=\"*\",\"\",\"ANNUAL\")","v":""},"","",{"$f":"OFFSET(AGR!$B$8,AQ18,AR18)","v":0},null,null,null,null,null,null,null,null,null,null,null,null,null,null,null,null,null,null,null,null,null,null,null,null,null,null,null,null,null,null,null,null,{"$f":"IF(AR17=AGR!$B$4,AQ17+1,AQ17)","v":1},{"$f":"IF(AQ18=AQ17,AR17+1,1)","v":3}]
["","FLO_EMIS",{"$f":"IF($A19=\"*\",\"\",\"X\"&OFFSET(AGR!$B$6,0,AR19))","v":"XAGROGS"},"AGRCO2","AGROGS","-","ANNUAL","-","0",{"$f":"OFFSET(AGR!$B$8,AQ19,AR19)","v":69.3},null,null,null,null,null,null,null,null,null,null,null,null,null,null,null,null,null,null,null,null,null,null,null,null,null,null,null,null,null,null,null,null,{"$f":"IF(AR18=AGR!$B$4,AQ18+1,AQ18)","v":1},4]
["","FLO_EMIS",{"$f":"IF($A20=\"*\",\"\",\"X\"&OFFSET(AGR!$B$6,0,AR20))","v":"XAGROHF"},"AGRCO2","AGROHF","-","ANNUAL","-","0",{"$f":"OFFSET(AGR!$B$8,AQ20,AR20)","v":77.400000000000006},null,null,null,null,null,null,null,null,null,null,null,null,null,null,null,null,null,null,null,null,null,null,null,null,null,null,null,null,null,null,null,null,{"$f":"IF(AR19=AGR!$B$4,AQ19+1,AQ19)","v":1},5]
["","FLO_EMIS",{"$f":"IF($A21=\"*\",\"\",\"X\"&OFFSET(AGR!$B$6,0,AR21))","v":"XAGROKE"},"AGRCO2","AGROKE","-","ANNUAL","-","0",{"$f":"OFFSET(AGR!$B$8,AQ21,AR21)","v":71.900000000000006},null,null,null,null,null,null,null,null,null,null,null,null,null,null,null,null,null,null,null,null,null,null,null,null,null,null,null,null,null,null,null,null,{"$f":"IF(AR20=AGR!$B$4,AQ20+1,AQ20)","v":1},6]
["","FLO_EMIS",{"$f":"IF($A22=\"*\",\"\",\"X\"&OFFSET(AGR!$B$6,0,AR22))","v":"XAGROLP"},"AGRCO2","AGROLP","-","ANNUAL","-","0",{"$f":"OFFSET(AGR!$B$8,AQ22,AR22)","v":63.1},null,null,null,null,null,null,null,null,null,null,null,null,null,null,null,null,null,null,null,null,null,null,null,null,null,null,null,null,null,null,null,null,{"$f":"IF(AR21=AGR!$B$4,AQ21+1,AQ21)","v":1},7]
["","FLO_EMIS",{"$f":"IF($A23=\"*\",\"\",\"X\"&OFFSET(AGR!$B$6,0,AR23))","v":"XAGRCOA"},"AGRCH4","AGRCOA","-","ANNUAL","-","0",{"$f":"OFFSET(AGR!$B$8,AQ23,AR23)","v":1E-3},null,null,null,null,null,null,null,null,null,null,null,null,null,null,null,null,null,null,null,null,null,null,null,null,null,null,null,null,null,null,null,null,{"$f":"IF(AR22=AGR!$B$4,AQ22+1,AQ22)","v":2},1]
["","FLO_EMIS",{"$f":"IF($A24=\"*\",\"\",\"X\"&OFFSET(AGR!$B$6,0,AR24))","v":"XAGRODS"},"AGRCH4","AGRODS","-","ANNUAL","-","0",{"$f":"OFFSET(AGR!$B$8,AQ24,AR24)","v":3.0000000000000001E-3},null,null,null,null,null,null,null,null,null,null,null,null,null,null,null,null,null,null,null,null,null,null,null,null,null,null,null,null,null,null,null,null,{"$f":"IF(AR23=AGR!$B$4,AQ23+1,AQ23)","v":2},2]
["*","",{"$f":"IF($A25=\"*\",\"\",\"X\"&OFFSET(AGR!$B$6,0,AR25))","v":""},"","","","","","",{"$f":"OFFSET(AGR!$B$8,AQ25,AR25)","v":0},null,null,null,null,null,null,null,null,null,null,null,null,null,null,null,null,null,null,null,null,null,null,null,null,null,null,null,null,null,null,null,null,{"$f":"IF(AR24=AGR!$B$4,AQ24+1,AQ24)","v":2},3]
["","FLO_EMIS",{"$f":"IF($A26=\"*\",\"\",\"X\"&OFFSET(AGR!$B$6,0,AR26))","v":"XAGROGS"},"AGRCH4","AGROGS","-","ANNUAL","-","0",{"$f":"OFFSET(AGR!$B$8,AQ26,AR26)","v":3.0000000000000001E-3},null,null,null,null,null,null,null,null,null,null,null,null,null,null,null,null,null,null,null,null,null,null,null,null,null,null,null,null,null,null,null,null,{"$f":"IF(AR25=AGR!$B$4,AQ25+1,AQ25)","v":2},4]
["","FLO_EMIS",{"$f":"IF($A27=\"*\",\"\",\"X\"&OFFSET(AGR!$B$6,0,AR27))","v":"XAGROHF"},"AGRCH4","AGROHF","-","ANNUAL","-","0",{"$f":"OFFSET(AGR!$B$8,AQ27,AR27)","v":3.0000000000000001E-3},null,null,null,null,null,null,null,null,null,null,null,null,null,null,null,null,null,null,null,null,null,null,null,null,null,null,null,null,null,null,null,null,{"$f":"IF(AR26=AGR!$B$4,AQ26+1,AQ26)","v":2},5]
["","FLO_EMIS",{"$f":"IF($A28=\"*\",\"\",\"X\"&OFFSET(AGR!$B$6,0,AR28))","v":"XAGROKE"},"AGRCH4","AGROKE","-","ANNUAL","-","0",{"$f":"OFFSET(AGR!$B$8,AQ28,AR28)","v":3.0000000000000001E-3},null,null,null,null,null,null,null,null,null,null,null,null,null,null,null,null,null,null,null,null,null,null,null,null,null,null,null,null,null,null,null,null,{"$f":"IF(AR27=AGR!$B$4,AQ27+1,AQ27)","v":2},6]
["","FLO_EMIS",{"$f":"IF($A29=\"*\",\"\",\"X\"&OFFSET(AGR!$B$6,0,AR29))","v":"XAGROLP"},"AGRCH4","AGROLP","-","ANNUAL","-","0",{"$f":"OFFSET(AGR!$B$8,AQ29,AR29)","v":1E-3},null,null,null,null,null,null,null,null,null,null,null,null,null,null,null,null,null,null,null,null,null,null,null,null,null,null,null,null,null,null,null,null,{"$f":"IF(AR28=AGR!$B$4,AQ28+1,AQ28)","v":2},7]
["","FLO_EMIS",{"$f":"IF($A30=\"*\",\"\",\"X\"&OFFSET(AGR!$B$6,0,AR30))","v":"XAGRCOA"},"AGRN2O","AGRCOA","-","ANNUAL","-","0",{"$f":"OFFSET(AGR!$B$8,AQ30,AR30)","v":1.4999999999999999E-2},null,null,null,null,null,null,null,null,null,null,null,null,null,null,null,null,null,null,null,null,null,null,null,null,null,null,null,null,null,null,null,null,{"$f":"IF(AR29=AGR!$B$4,AQ29+1,AQ29)","v":3},1]
["","FLO_EMIS",{"$f":"IF($A31=\"*\",\"\",\"X\"&OFFSET(AGR!$B$6,0,AR31))","v":"XAGRODS"},"AGRN2O","AGRODS","-","ANNUAL","-","0",{"$f":"OFFSET(AGR!$B$8,AQ31,AR31)","v":5.9999999999999995E-4},null,null,null,null,null,null,null,null,null,null,null,null,null,null,null,null,null,null,null,null,null,null,null,null,null,null,null,null,null,null,null,null,{"$f":"IF(AR30=AGR!$B$4,AQ30+1,AQ30)","v":3},2]
["*","",{"$f":"IF($A32=\"*\",\"\",\"X\"&OFFSET(AGR!$B$6,0,AR32))","v":""},"","","","","","",{"$f":"OFFSET(AGR!$B$8,AQ32,AR32)","v":0},null,null,null,null,null,null,null,null,null,null,null,null,null,null,null,null,null,null,null,null,null,null,null,null,null,null,null,null,null,null,null,null,{"$f":"IF(AR31=AGR!$B$4,AQ31+1,AQ31)","v":3},3]
["","FLO_EMIS",{"$f":"IF($A33=\"*\",\"\",\"X\"&OFFSET(AGR!$B$6,0,AR33))","v":"XAGROGS"},"AGRN2O","AGROGS","-","ANNUAL","-","0",{"$f":"OFFSET(AGR!$B$8,AQ33,AR33)","v":5.9999999999999995E-4},null,null,null,null,null,null,null,null,null,null,null,null,null,null,null,null,null,null,null,null,null,null,null,null,null,null,null,null,null,null,null,null,{"$f":"IF(AR32=AGR!$B$4,AQ32+1,AQ32)","v":3},4]
["","FLO_EMIS",{"$f":"IF($A34=\"*\",\"\",\"X\"&OFFSET(AGR!$B$6,0,AR34))","v":"XAGROHF"},"AGRN2O","AGROHF","-","ANNUAL","-","0",{"$f":"OFFSET(AGR!$B$8,AQ34,AR34)","v":5.9999999999999995E-4},null,null,null,null,null,null,null,null,null,null,null,null,null,null,null,null,null,null,null,null,null,null,null,null,null,null,null,null,null,null,null,null,{"$f":"IF(AR33=AGR!$B$4,AQ33+1,AQ33)","v":3},5]
["","FLO_EMIS",{"$f":"IF($A35=\"*\",\"\",\"X\"&OFFSET(AGR!$B$6,0,AR35))","v":"XAGROKE"},"AGRN2O","AGROKE","-","ANNUAL","-","0",{"$f":"OFFSET(AGR!$B$8,AQ35,AR35)","v":5.9999999999999995E-4},null,null,null,null,null,null,null,null,null,null,null,null,null,null,null,null,null,null,null,null,null,null,null,null,null,null,null,null,null,null,null,null,{"$f":"IF(AR34=AGR!$B$4,AQ34+1,AQ34)","v":3},6]
["","FLO_EMIS",{"$f":"IF($A36=\"*\",\"\",\"X\"&OFFSET(AGR!$B$6,0,AR36))","v":"XAGROLP"},"AGRN2O","AGROLP","-","ANNUAL","-","0",{"$f":"OFFSET(AGR!$B$8,AQ36,AR36)","v":1E-4},null,null,null,null,null,null,null,null,null,null,null,null,null,null,null,null,null,null,null,null,null,null,null,null,null,null,null,null,null,null,null,null,{"$f":"IF(AR35=AGR!$B$4,AQ35+1,AQ35)","v":3},7]
["","FLO_EMIS",{"$f":"IF($A37=\"*\",\"\",\"X\"&OFFSET(AGR!$B$6,0,AR37))","v":"XAGRCOA"},"AGRSOX","AGRCOA","-","ANNUAL","-","0",{"$f":"OFFSET(AGR!$B$8,AQ37,AR37)","v":0.45440000000000003},null,null,null,null,null,null,null,null,null,null,null,null,null,null,null,null,null,null,null,null,null,null,null,null,null,null,null,null,null,null,null,null,{"$f":"IF(AR36=AGR!$B$4,AQ36+1,AQ36)","v":4},1]
["","FLO_EMIS",{"$f":"IF($A38=\"*\",\"\",\"X\"&OFFSET(AGR!$B$6,0,AR38))","v":"XAGRODS"},"AGRSOX","AGRODS","-","ANNUAL","-","0",{"$f":"OFFSET(AGR!$B$8,AQ38,AR38)","v":0.25290000000000001},null,null,null,null,null,null,null,null,null,null,null,null,null,null,null,null,null,null,null,null,null,null,null,null,null,null,null,null,null,null,null,null,{"$f":"IF(AR37=AGR!$B$4,AQ37+1,AQ37)","v":4},2]
["*","",{"$f":"IF($A39=\"*\",\"\",\"X\"&OFFSET(AGR!$B$6,0,AR39))","v":""},"","","","","","",{"$f":"OFFSET(AGR!$B$8,AQ39,AR39)","v":0},null,null,null,null,null,null,null,null,null,null,null,null,null,null,null,null,null,null,null,null,null,null,null,null,null,null,null,null,null,null,null,null,{"$f":"IF(AR38=AGR!$B$4,AQ38+1,AQ38)","v":4},3]
["","FLO_EMIS",{"$f":"IF($A40=\"*\",\"\",\"X\"&OFFSET(AGR!$B$6,0,AR40))","v":"XAGROGS"},"AGRSOX","AGROGS","-","ANNUAL","-","0",{"$f":"OFFSET(AGR!$B$8,AQ40,AR40)","v":4.6699999999999998E-2},null,null,null,null,null,null,null,null,null,null,null,null,null,null,null,null,null,null,null,null,null,null,null,null,null,null,null,null,null,null,null,null,{"$f":"IF(AR39=AGR!$B$4,AQ39+1,AQ39)","v":4},4]
["","FLO_EMIS",{"$f":"IF($A41=\"*\",\"\",\"X\"&OFFSET(AGR!$B$6,0,AR41))","v":"XAGROHF"},"AGRSOX","AGROHF","-","ANNUAL","-","0",{"$f":"OFFSET(AGR!$B$8,AQ41,AR41)","v":1.5290999999999999},null,null,null,null,null,null,null,null,null,null,null,null,null,null,null,null,null,null,null,null,null,null,null,null,null,null,null,null,null,null,null,null,{"$f":"IF(AR40=AGR!$B$4,AQ40+1,AQ40)","v":4},5]
["*","",{"$f":"IF($A42=\"*\",\"\",\"X\"&OFFSET(AGR!$B$6,0,AR42))","v":""},"","","","","","",{"$f":"OFFSET(AGR!$B$8,AQ42,AR42)","v":0},null,null,null,null,null,null,null,null,null,null,null,null,null,null,null,null,null,null,null,null,null,null,null,null,null,null,null,null,null,null,null,null,{"$f":"IF(AR41=AGR!$B$4,AQ41+1,AQ41)","v":4},6]
["*","",{"$f":"IF($A43=\"*\",\"\",\"X\"&OFFSET(AGR!$B$6,0,AR43))","v":""},"","","","","","",{"$f":"OFFSET(AGR!$B$8,AQ43,AR43)","v":0},null,null,null,null,null,null,null,null,null,null,null,null,null,null,null,null,null,null,null,null,null,null,null,null,null,null,null,null,null,null,null,null,{"$f":"IF(AR42=AGR!$B$4,AQ42+1,AQ42)","v":4},7]
["","FLO_EMIS",{"$f":"IF($A44=\"*\",\"\",\"X\"&OFFSET(AGR!$B$6,0,AR44))","v":"XAGRCOA"},"AGRNOX","AGRCOA","-","ANNUAL","-","0",{"$f":"OFFSET(AGR!$B$8,AQ44,AR44)","v":0.1},null,null,null,null,null,null,null,null,null,null,null,null,null,null,null,null,null,null,null,null,null,null,null,null,null,null,null,null,null,null,null,null,{"$f":"IF(AR43=AGR!$B$4,AQ43+1,AQ43)","v":5},1]
["","FLO_EMIS",{"$f":"IF($A45=\"*\",\"\",\"X\"&OFFSET(AGR!$B$6,0,AR45))","v":"XAGRODS"},"AGRNOX","AGRODS","-","ANNUAL","-","0",{"$f":"OFFSET(AGR!$B$8,AQ45,AR45)","v":0.1},null,null,null,null,null,null,null,null,null,null,null,null,null,null,null,null,null,null,null,null,null,null,null,null,null,null,null,null,null,null,null,null,{"$f":"IF(AR44=AGR!$B$4,AQ44+1,AQ44)","v":5},2]
["*",{"$f":"IF(A46=\"*\",\"\",VLOOKUP(\"*\"&AQ46,$A$10:$B$48,2,FALSE))","v":""},{"$f":"IF($A46=\"*\",\"\",\"X\"&OFFSET(AGR!$B$6,0,AR46))","v":""},"",{"$f":"IF(A46=\"*\",\"\",RIGHT(C46,6))","v":""},"",{"$f":"IF(A46=\"*\",\"\",\"ANNUAL\")","v":""},"","",{"$f":"OFFSET(AGR!$B$8,AQ46,AR46)","v":0},null,null,null,null,null,null,null,null,null,null,null,null,null,null,null,null,null,null,null,null,null,null,null,null,null,null,null,null,null,null,null,null,{"$f":"IF(AR45=AGR!$B$4,AQ45+1,AQ45)","v":5},3]
["",{"$f":"IF(A47=\"*\",\"\",VLOOKUP(\"*\"&AQ47,$A$10:$B$48,2,FALSE))","v":"FLO_EMIS"},{"$f":"IF($A47=\"*\",\"\",\"X\"&OFFSET(AGR!$B$6,0,AR47))","v":"XAGROGS"},"AGRNOX",{"$f":"IF(A47=\"*\",\"\",RIGHT(C47,6))","v":"AGROGS"},"-",{"$f":"IF(A47=\"*\",\"\",\"ANNUAL\")","v":"ANNUAL"},"-","0",{"$f":"OFFSET(AGR!$B$8,AQ47,AR47)","v":0.1},null,null,null,null,null,null,null,null,null,null,null,null,null,null,null,null,null,null,null,null,null,null,null,null,null,null,null,null,null,null,null,null,{"$f":"IF(AR46=AGR!$B$4,AQ46+1,AQ46)","v":5},4]
["","FLO_EMIS",{"$f":"IF($A48=\"*\",\"\",\"X\"&OFFSET(AGR!$B$6,0,AR48))","v":"XAGROHF"},"AGRNOX","AGROHF","-","ANNUAL","-","0",{"$f":"OFFSET(AGR!$B$8,AQ48,AR48)","v":0.1},null,null,null,null,null,null,null,null,null,null,null,null,null,null,null,null,null,null,null,null,null,null,null,null,null,null,null,null,null,null,null,null,{"$f":"IF(AR47=AGR!$B$4,AQ47+1,AQ47)","v":5},5]
["*","",{"$f":"IF($A49=\"*\",\"\",\"X\"&OFFSET(AGR!$B$6,0,AR49))","v":""},{"$f":"IF(A49=\"*\",\"\",VLOOKUP(\"*\"&AQ49,$A$10:$D$14,4,FALSE))","v":""},"","","","","",{"$f":"OFFSET(AGR!$B$8,AQ49,AR49)","v":0},null,null,null,null,null,null,null,null,null,null,null,null,null,null,null,null,null,null,null,null,null,null,null,null,null,null,null,null,null,null,null,null,{"$f":"IF(AR48=AGR!$B$4,AQ48+1,AQ48)","v":5},6]
["*","",{"$f":"IF($A50=\"*\",\"\",\"X\"&OFFSET(AGR!$B$6,0,AR50))","v":""},{"$f":"IF(A50=\"*\",\"\",VLOOKUP(\"*\"&AQ50,$A$10:$D$14,4,FALSE))","v":""},"","","","","",{"$f":"OFFSET(AGR!$B$8,AQ50,AR50)","v":0},null,null,null,null,null,null,null,null,null,null,null,null,null,null,null,null,null,null,null,null,null,null,null,null,null,null,null,null,null,null,null,null,{"$f":"IF(AR49=AGR!$B$4,AQ49+1,AQ49)","v":5},7]
["*"]

{"sheet":"TID Emiss","index":23,"n_rows":43,"n_cols":13,"rows_kept":43,"cut":false,"hidden":false,"merged":[]}
[null,"REGION1",null,null,null,null,null,null,null,"*","*","*","*"]
["*",null,null,null,null,null,null,null,null,"checkValue","Parameter #","row #","Col #"]
["*"]
["*"]
["*"]
["*"]
["*","Parameter","Arg1","Arg2","Arg3","Arg4","Arg5","Arg6","Value",2006]
["*"]
["*",1,2,3,4,5,6,7]
["*1","TOP-OUT","Process",{"$f":"AGR!B$6&AGR!B9","v":"AGRCO2"},"-","-","-","-"]
["*2","TOP-OUT","Process",{"$f":"AGR!B$6&AGR!B10","v":"AGRCH4"},"-","-","-","-"]
["*3","TOP-OUT","Process",{"$f":"AGR!B$6&AGR!B12","v":"AGRSOX"},"-","-","-","-"]
["*4","TOP-OUT","Process",{"$f":"AGR!B$6&AGR!B13","v":"AGRNOX"},"-","-","-","-"]
["*"]
[{"$f":"IF(J15=0,\"*\",\"\")","v":""},{"$f":"IF(A15=\"*\",\"\",VLOOKUP(\"*\"&K15,$A$10:$B$43,2,FALSE))","v":"TOP-OUT"},{"$f":"IF($A15=\"*\",\"\",\"X\"&OFFSET(AGR!$B$6,0,L15))","v":"XAGRCOA"},{"$f":"IF(A15=\"*\",\"\",VLOOKUP(\"*\"&K15,$A$10:$D$13,4,FALSE))","v":"AGRCO2"},{"$f":"IF($A15=\"*\",\"\",\"-\")","v":"-"},{"$f":"IF($A15=\"*\",\"\",\"-\")","v":"-"},"-","-",{"$f":"IF($A15=\"*\",\"\",\"1\")","v":"1"},{"$f":"OFFSET(AGR!$B$8,K15,L15)","v":94.1},1,1]
[{"$f":"IF(J16=0,\"*\",\"\")","v":""},"TOP-OUT",{"$f":"IF($A16=\"*\",\"\",\"X\"&OFFSET(AGR!$B$6,0,L16))","v":"XAGRODS"},"AGRCO2",{"$f":"IF($A16=\"*\",\"\",\"-\")","v":"-"},"-","-","-",{"$f":"IF($A16=\"*\",\"\",\"1\")","v":"1"},{"$f":"OFFSET(AGR!$B$8,K16,L16)","v":74.099999999999994},{"$f":"IF(L15=AGR!$B$4,K15+1,K15)","v":1},{"$f":"IF(K16=K15,L15+1,1)","v":2}]
["*","",{"$f":"IF($A17=\"*\",\"\",\"X\"&OFFSET(AGR!$B$6,0,L17))","v":""},"","","","","","",{"$f":"OFFSET(AGR!$B$8,K17,L17)","v":0},{"$f":"IF(L16=AGR!$B$4,K16+1,K16)","v":1},{"$f":"IF(K17=K16,L16+1,1)","v":3}]
["","TOP-OUT",{"$f":"IF($A18=\"*\",\"\",\"X\"&OFFSET(AGR!$B$6,0,L18))","v":"XAGROGS"},"AGRCO2","-","-","-","-","1",{"$f":"OFFSET(AGR!$B$8,K18,L18)","v":69.3},{"$f":"IF(L17=AGR!$B$4,K17+1,K17)","v":1},4]
["","TOP-OUT",{"$f":"IF($A19=\"*\",\"\",\"X\"&OFFSET(AGR!$B$6,0,L19))","v":"XAGROHF"},"AGRCO2","-","-","-","-","1",{"$f":"OFFSET(AGR!$B$8,K19,L19)","v":77.400000000000006},{"$f":"IF(L18=AGR!$B$4,K18+1,K18)","v":1},5]
["","TOP-OUT",{"$f":"IF($A20=\"*\",\"\",\"X\"&OFFSET(AGR!$B$6,0,L20))","v":"XAGROKE"},"AGRCO2","-","-","-","-","1",{"$f":"OFFSET(AGR!$B$8,K20,L20)","v":71.900000000000006},{"$f":"IF(L19=AGR!$B$4,K19+1,K19)","v":1},6]
["","TOP-OUT",{"$f":"IF($A21=\"*\",\"\",\"X\"&OFFSET(AGR!$B$6,0,L21))","v":"XAGROLP"},"AGRCO2","-","-","-","-","1",{"$f":"OFFSET(AGR!$B$8,K21,L21)","v":63.1},{"$f":"IF(L20=AGR!$B$4,K20+1,K20)","v":1},7]
["","TOP-OUT",{"$f":"IF($A22=\"*\",\"\",\"X\"&OFFSET(AGR!$B$6,0,L22))","v":"XAGRCOA"},"AGRCH4","-","-","-","-","1",{"$f":"OFFSET(AGR!$B$8,K22,L22)","v":1E-3},{"$f":"IF(L21=AGR!$B$4,K21+1,K21)","v":2},1]
["","TOP-OUT",{"$f":"IF($A23=\"*\",\"\",\"X\"&OFFSET(AGR!$B$6,0,L23))","v":"XAGRODS"},"AGRCH4","-","-","-","-","1",{"$f":"OFFSET(AGR!$B$8,K23,L23)","v":3.0000000000000001E-3},{"$f":"IF(L22=AGR!$B$4,K22+1,K22)","v":2},2]
["*","",{"$f":"IF($A24=\"*\",\"\",\"X\"&OFFSET(AGR!$B$6,0,L24))","v":""},"","","","","","",{"$f":"OFFSET(AGR!$B$8,K24,L24)","v":0},{"$f":"IF(L23=AGR!$B$4,K23+1,K23)","v":2},3]
["","TOP-OUT",{"$f":"IF($A25=\"*\",\"\",\"X\"&OFFSET(AGR!$B$6,0,L25))","v":"XAGROGS"},"AGRCH4","-","-","-","-","1",{"$f":"OFFSET(AGR!$B$8,K25,L25)","v":3.0000000000000001E-3},{"$f":"IF(L24=AGR!$B$4,K24+1,K24)","v":2},4]
["","TOP-OUT",{"$f":"IF($A26=\"*\",\"\",\"X\"&OFFSET(AGR!$B$6,0,L26))","v":"XAGROHF"},"AGRCH4","-","-","-","-","1",{"$f":"OFFSET(AGR!$B$8,K26,L26)","v":3.0000000000000001E-3},{"$f":"IF(L25=AGR!$B$4,K25+1,K25)","v":2},5]
["","TOP-OUT",{"$f":"IF($A27=\"*\",\"\",\"X\"&OFFSET(AGR!$B$6,0,L27))","v":"XAGROKE"},"AGRCH4","-","-","-","-","1",{"$f":"OFFSET(AGR!$B$8,K27,L27)","v":3.0000000000000001E-3},{"$f":"IF(L26=AGR!$B$4,K26+1,K26)","v":2},6]
["","TOP-OUT",{"$f":"IF($A28=\"*\",\"\",\"X\"&OFFSET(AGR!$B$6,0,L28))","v":"XAGROLP"},"AGRCH4","-","-","-","-","1",{"$f":"OFFSET(AGR!$B$8,K28,L28)","v":1E-3},{"$f":"IF(L27=AGR!$B$4,K27+1,K27)","v":2},7]
["","TOP-OUT",{"$f":"IF($A29=\"*\",\"\",\"X\"&OFFSET(AGR!$B$6,0,L29))","v":"XAGRCOA"},"AGRSOX","-","-","-","-","1",{"$f":"OFFSET(AGR!$B$8,K29,L29)","v":1.4999999999999999E-2},{"$f":"IF(L28=AGR!$B$4,K28+1,K28)","v":3},1]
["","TOP-OUT",{"$f":"IF($A30=\"*\",\"\",\"X\"&OFFSET(AGR!$B$6,0,L30))","v":"XAGRODS"},"AGRSOX","-","-","-","-","1",{"$f":"OFFSET(AGR!$B$8,K30,L30)","v":5.9999999999999995E-4},{"$f":"IF(L29=AGR!$B$4,K29+1,K29)","v":3},2]
["*","",{"$f":"IF($A31=\"*\",\"\",\"X\"&OFFSET(AGR!$B$6,0,L31))","v":""},"","","","","","",{"$f":"OFFSET(AGR!$B$8,K31,L31)","v":0},{"$f":"IF(L30=AGR!$B$4,K30+1,K30)","v":3},3]
["","TOP-OUT",{"$f":"IF($A32=\"*\",\"\",\"X\"&OFFSET(AGR!$B$6,0,L32))","v":"XAGROGS"},"AGRSOX","-","-","-","-","1",{"$f":"OFFSET(AGR!$B$8,K32,L32)","v":5.9999999999999995E-4},{"$f":"IF(L31=AGR!$B$4,K31+1,K31)","v":3},4]
["","TOP-OUT",{"$f":"IF($A33=\"*\",\"\",\"X\"&OFFSET(AGR!$B$6,0,L33))","v":"XAGROHF"},"AGRSOX","-","-","-","-","1",{"$f":"OFFSET(AGR!$B$8,K33,L33)","v":5.9999999999999995E-4},{"$f":"IF(L32=AGR!$B$4,K32+1,K32)","v":3},5]
["","TOP-OUT",{"$f":"IF($A34=\"*\",\"\",\"X\"&OFFSET(AGR!$B$6,0,L34))","v":"XAGROKE"},"AGRSOX","-","-","-","-","1",{"$f":"OFFSET(AGR!$B$8,K34,L34)","v":5.9999999999999995E-4},{"$f":"IF(L33=AGR!$B$4,K33+1,K33)","v":3},6]
["","TOP-OUT",{"$f":"IF($A35=\"*\",\"\",\"X\"&OFFSET(AGR!$B$6,0,L35))","v":"XAGROLP"},"AGRSOX","-","-","-","-","1",{"$f":"OFFSET(AGR!$B$8,K35,L35)","v":1E-4},{"$f":"IF(L34=AGR!$B$4,K34+1,K34)","v":3},7]
["","TOP-OUT",{"$f":"IF($A36=\"*\",\"\",\"X\"&OFFSET(AGR!$B$6,0,L36))","v":"XAGRCOA"},"AGRNOX","-","-","-","-","1",{"$f":"OFFSET(AGR!$B$8,K36,L36)","v":0.45440000000000003},{"$f":"IF(L35=AGR!$B$4,K35+1,K35)","v":4},1]
["","TOP-OUT",{"$f":"IF($A37=\"*\",\"\",\"X\"&OFFSET(AGR!$B$6,0,L37))","v":"XAGRODS"},"AGRNOX","-","-","-","-","1",{"$f":"OFFSET(AGR!$B$8,K37,L37)","v":0.25290000000000001},{"$f":"IF(L36=AGR!$B$4,K36+1,K36)","v":4},2]
["*","",{"$f":"IF($A38=\"*\",\"\",\"X\"&OFFSET(AGR!$B$6,0,L38))","v":""},"","","","","","",{"$f":"OFFSET(AGR!$B$8,K38,L38)","v":0},{"$f":"IF(L37=AGR!$B$4,K37+1,K37)","v":4},3]
["","TOP-OUT",{"$f":"IF($A39=\"*\",\"\",\"X\"&OFFSET(AGR!$B$6,0,L39))","v":"XAGROGS"},"AGRNOX","-","-","-","-","1",{"$f":"OFFSET(AGR!$B$8,K39,L39)","v":4.6699999999999998E-2},{"$f":"IF(L38=AGR!$B$4,K38+1,K38)","v":4},4]
["","TOP-OUT",{"$f":"IF($A40=\"*\",\"\",\"X\"&OFFSET(AGR!$B$6,0,L40))","v":"XAGROHF"},"AGRNOX","-","-","-","-","1",{"$f":"OFFSET(AGR!$B$8,K40,L40)","v":1.5290999999999999},{"$f":"IF(L39=AGR!$B$4,K39+1,K39)","v":4},5]
["*","",{"$f":"IF($A41=\"*\",\"\",\"X\"&OFFSET(AGR!$B$6,0,L41))","v":""},"","","","","","",{"$f":"OFFSET(AGR!$B$8,K41,L41)","v":0},{"$f":"IF(L40=AGR!$B$4,K40+1,K40)","v":4},6]
["*","",{"$f":"IF($A42=\"*\",\"\",\"X\"&OFFSET(AGR!$B$6,0,L42))","v":""},"","","","","","",{"$f":"OFFSET(AGR!$B$8,K42,L42)","v":0},{"$f":"IF(L41=AGR!$B$4,K41+1,K41)","v":4},7]
["*","",{"$f":"IF($A43=\"*\",\"\",\"X\"&OFFSET(AGR!$B$6,0,L43))","v":""},{"$f":"IF(A43=\"*\",\"\",VLOOKUP(\"*\"&K43,$A$10:$D$13,4,FALSE))","v":""},"","","","",""]

{"sheet":"NameConv","index":24,"n_rows":9,"n_cols":6,"rows_kept":9,"cut":false,"hidden":false,"merged":[]}
[null,null,null,null,"eps",1E-8]
[]
[null,null,null,"Coal","COA","Coal"]
[null,null,null,"Electricity","ELC","Electricity"]
[null,null,null,"Oil Diesel","ODS","Oil Diesel"]
[null,null,null,"Oil Gasoline","OGS","Oil Gasoline"]
[null,null,null,"Oil HFO","OHF","Oil HFO"]
[null,null,null,"Oil LPG","OLP","Oil LPG"]
[null,null,null,"Oil Paraffin","OKE","Oil Paraffin"]

{"sheet":"AFA","index":25,"n_rows":16,"n_cols":6,"rows_kept":16,"cut":false,"hidden":false,"merged":[]}
[]
[]
[null,{"$f":"'[1]Load Calibration'!BL3","v":"AH"},{"$f":"'[1]Load Calibration'!BM3","v":"AP"},{"$f":"'[1]Load Calibration'!BN3","v":"AT"},{"$f":"'[1]Load Calibration'!BO3","v":"AI"},{"$f":"'[1]Load Calibration'!BP3","v":"AO"}]
[null,{"$f":"IF('TS COMFR_10'!$A$1<>\"\",AFA!B7,AFA!B6)","v":0.55130000000000001},{"$f":"IF('TS COMFR_10'!$A$1<>\"\",AFA!C7,AFA!C6)","v":0.74760000000000004},{"$f":"IF('TS COMFR_10'!$A$1<>\"\",AFA!D7,AFA!D6)","v":0.77659999999999996},{"$f":"IF('TS COMFR_10'!$A$1<>\"\",AFA!E7,AFA!E6)","v":0.81399999999999995},{"$f":"IF('TS COMFR_10'!$A$1<>\"\",AFA!F7,AFA!F6)","v":1}]
[]
["20 timeslices",{"$f":"'[1]Load Calibration'!BL156","v":0.62809999999999999},{"$f":"'[1]Load Calibration'!BM156","v":0.69469999999999998},{"$f":"'[1]Load Calibration'!BN156","v":0.53790000000000004},{"$f":"'[1]Load Calibration'!BO156","v":0.72960000000000003},{"$f":"'[1]Load Calibration'!BP156","v":0.75770000000000004}]
["shortened",{"$f":"[2]AFA!AM5","v":0.55130000000000001},{"$f":"[2]AFA!AN5","v":0.74760000000000004},{"$f":"[2]AFA!AO5","v":0.77659999999999996},{"$f":"[2]AFA!AP5","v":0.81399999999999995},{"$f":"[2]AFA!AQ5","v":1}]
[]
[]
[]
[]
[]
[]
[]
[]
["aa"]